{"text_format":"1","workbook":"xlsx","n_sheets":30,"sheets":["Instruction PPAP","PPAP Elements","Instruction","PSW","Design record","Eng. Change","Cust. Eng. approval","DFMEA","Process flow Diagram","PFMEA","ControlPlan","MSA","AIAG GR&R","Graphical Summary","Numerical Summary","Calculations","Dimensional results","Material-performance test","Initial Process Studies","Input measurements","result graph","graph","Qual. Lab. Doc.","Appearance approval","Sample prod. part (Run@rate)","Data Entry","Master Sample","Checking Aids","Customer Specific","Others"],"not_rendered":{"charts":15,"images":1,"macros":1,"external_links":0,"defined_names":158,"comments":3,"pivot_tables":0},"unopened":[],"bounds":{"document_bytes":16777216,"sheet_cells":100000,"rows_first":2000,"rows_last":500,"rows_between":2000,"halvings":0,"cell_chars":16384,"cell_head_chars":4096},"cells_cut":0,"cells_raw":0,"read":"whole","date_system":"1900"}

{"sheet":"Instruction PPAP","index":0,"n_rows":33,"n_cols":5,"rows_kept":33,"cut":false,"hidden":false,"merged":[[0,2,0,3],[1,2,1,3],[2,2,2,3],[3,3,3,4],[4,0,4,2],[4,3,4,4]]}
[null,"Reference:","21.3.8",null,"QS-ExC1-299"]
[null,"Document type:","Template",null,"Release 3.0"]
[null,"Document title:","Template for 'Production Part Approval Process' "]
["© Philips Lighting B.V. The Netherlands",null,null,"Last modified: 2017-01-28"]
["All rights reserved. Reproduction in whole or in part is\nprohibited without the written consent of the copyright owner",null,null,"Document owner: Head of Supplier Quality"]
[]
["PPAP element",null,"Level 4.1","Level 4.2","Level 4.3"]
[1,"Design records. (drawing)","X","X","X"]
[2,"Engineering Change Documents",null,null,"X"]
[3,"Customer engineering approval",null,null,"X"]
[4,"Design FMEA",null,null,"X"]
[5,"Process flow diagram",null,"X","X"]
[6,"Process FMEA",null,"X","X"]
[7,"Control plan",null,"X","X"]
[8,"Measurement system analyses ",null,"X","X"]
[9,"Dimensional  results (Fit)","X","X","X"]
[10,"Material & Performance test results (Function)","X","X","X"]
[11,"Initial process study (Statistic)","X","X","X"]
[12,"Quality Laboratory Documentation","X","X","X"]
[13,"Appearance approval record (Form)","X","X","X"]
[14,"Sample of the product submitted (Run@rate, Pilot Run)","X","X","X"]
[15,"Master sample product submitted",null,null,"X"]
[16,"Checking aids",null,null,"X"]
[17,"Customer specific requirements","X","X","X"]
[18,"Part submission warrant","X","X","X"]
[]
["Version Control"]
[]
["This version","Status","Date","Changes"]
[1,"Released",null,"initial version; \n"]
[2,"Released","2016-09-02","New document identification and link into the Quality System Portal"]
[3,"Released","2017-01-28","Process Flow Diagram - add one more column (Operation) in front of decision, for the flow chart session.\nRemove worksheet \"Instruction\" & \"Numerical Summary\" for \"MSA\"."]
[4,null,"2019-02-14","Add dummy data \"0\" in MSA template to eliminate unnecesary error message."]

{"sheet":"PPAP Elements","index":1,"n_rows":56,"n_cols":1,"rows_kept":56,"cut":false,"hidden":false,"merged":[]}
["PPAP Approval"]
[]
["The result of the PPAP process is a series of documents gathered in one specific location (a binder or electronically) called the \"PPAP Package\". The PPAP package is a series of documents which need a formal approval by the supplier and customer. The form that summarizes this package is called PSW (Part Submission Warrant). The approval of the PSW indicates that the supplier responsible person (usually the Quality Engineer) has reviewed this package and that the customer has not identified any issues that would prevent its approbation."]
[]
["The documentation on the PPAP package is closely related to the Advanced Product Quality Planning process (APQP) used during the design and development of new vehicles and component systems to reduce the risk of unexpected failure due to errors in design and manufacture. The PPAP manual is published by the Automotive Industry Action Group (AIAG), [www.aiag.org] and specifies generic requirements for obtaining PPAP approvals. Additional customer specific requirements may be imposed by particular clients (vehicle manufacturers) and incorporated in the purchasing contracts. Details of 'customer specific' requirements may be found on the International Automotive Task Force IATF website www.iatfglobaloversight.org. or supplier portals provided by the vehicle manufacturers."]
[]
["Suppliers are required to obtain PPAP approval from the vehicle manufacturers whenever a new or modified component is introduced to production, or the manufacturing process is changed. Obtaining approval requires the supplier to provide sample parts and documentary evidence showing that:"]
[]
["1) The clients requirements have been understood"]
["2) The product supplied meets those requirements"]
["3) The process (including sub suppliers) is capable of producing conforming product"]
["4) The production control plan and quality management system will prevent non-conforming product reaching the client or compromising the safety and reliability of finished vehicles"]
[]
["Production Part Approval Process (PPAP) may be required for all components and materials incorporated in the finished product, and may also be required if components are processed by external sub-contractors."]
[]
["PPAP Elements"]
[]
["Below is the list of all 18 elements, and a brief description of them."]
[]
["1. Part Submission Warrant (PSW) This is the form that summarizes the whole PPAP package. This form shows the reason for submission (design change, annual revalidation, etc) and the level of documents submitted to the customer. There is a section that asks for \"results meeting all drawing and specification requirements: yes/no\" refers to the whole package. If there is any deviations the supplier should note on the warrant or inform that PPAP cannot be submitted. good document"]
[]
["2. Design Records A copy of the drawing. If the customer is design responsible this is a copy of customer drawing that is sent together with the Purchase Order (PO). If supplier is design responsible this is a released drawing in supplier's release system."]
[]
["3. Authorized Engineering Change(note) Documents A document that shows the detailed description of the change. Usually this document is called \"Engineering Change Notice\", but it may be covered by the customer PO or any other engineering authorization."]
[]
["4. Engineering Approval This approval is usually the Engineering trial with production parts performed at the customer plant. A \"temporary deviation\" usually is required to send parts to customer before PPAP. Customer may require other \"Engineering Approvals\"."]
[]
["5. DFMEA A copy of the Design Failure Mode and Effect Analysis (DFMEA), reviewed and signed-off by supplier and customer. If customer is design responsible, usually customer may not share this document with the supplier. However, the list of all critical or high impact product characteristics should be shared with the supplier, so they can be addressed on the PFMEA and Control Plan."]
[]
["6. Process Flow Diagram A copy of the Process Flow, indicating all steps and sequence in the fabrication process, including incoming components."]
[]
["7. PFMEA A copy of the Process Failure Mode and Effect Analyis (PFMEA), reviewed and signed-off by supplier and customer. The PFMEA follows the Process Flow steps, and indicate \"what could go wrong\" during the fabrication and assembly of each component."]
[]
["8. Control Plan A copy of the Control Plan, reviewed and signed-off by supplier and customer. The Control Plan follows the PFMEA steps, and provides more details on how the \"potential issues\" are checked in the incoming quality, assembly process or during inspections of finished products."]
[]
["9. Measurement System Analysis Studies (MSA)) MSA usually contains the Gage R&R for the critical or high impact characteristics, and a confirmation that gauges used to measure these characteristics are calibrated."]
[]
["10. Dimensional Results A list of every dimension noted on the ballooned drawing. This list shows the product characteristic, specification, the measurement results and the assessment showing if this dimension is \"ok\" or \"not ok\". Usually a minimum of 10 pieces is reported per product/process combination."]
[]
["11. Records of Material / Performance Tests A summary of every test performed on the part. This summary is usually on a form of DVP&R (Design Verification Plan and Report), which lists each individual test, when it was performed, the specification, results and the assessment pass/fail. If there is an Engineering Specification, usually it is noted on the print. The DVP&R shall be reviewed and signed off by both customer and supplier engineering groups. The quality engineer will look for a customer signature on this document."]
[]
["In addition, this section lists all material certifications (steel, plastics, plating, etc), as specified on the print. The material certification shall show compliance to the specific call on the print."]
[]
["12. Initial Process Studies Usually this section shows all Statistical Process Control charts affecting the most critical characteristics. The intent is to demonstrate that critical processes have stable variability and that is running near the intended nominal value."]
[]
["13. Qualified Laboratory Documentation Copy of all laboratory certifications (e.g. A2LA, TS) of the laboratories that performed the tests reported on section 10."]
[]
["14. Appearance Approval Report A copy of the AAI (Appearance Approval Inspection) form signed by the customer. Applicable for components affecting appearance only."]
[]
["15. Sample Production Parts A sample from the same lot of initial production run. The PPAP package usually shows a picture of the sample and where it is kept (customer or supplier)."]
[]
["16. Master Sample A sample signed off by customer and supplier, that usually is used to train operators on subjective inspections such as visual or for noise."]
[]
["17. Checking Aids When there are special tools for checking parts, this section shows a picture of the tool and calibration records, including dimensional report of the tool."]
[]
["18. Customer Specific Requirements Each customer may have specific requirements to be included on the PPAP package. It is a good practice to ask the customer for PPAP expectations before even quoting for a job. North America auto makers OEM (Original Equipment Manufacturer) requirements are listed on www.iatfglobaloversight.org. website."]

{"sheet":"Instruction","index":2,"n_rows":14,"n_cols":2,"rows_kept":14,"cut":false,"hidden":false,"merged":[[1,1,1,12],[3,1,10,12],[0,1,0,2]]}
[null,"Cover sheet"]
[null,"INSTRUCTION SHEET TO FILL IN PPAP REPORT"]
[null,"Reason of filling in and how to fill in this report"]
[null,"In case new products are developed or significant process and/or products changes are introduced, supplier will initiate an PPAP report containing the data requested by Signify. Based on the given data as reply on the requested info, the products can be released, or partly released with an appropriate improvement plan. In the cover sheet you can find\n- reasons for which a initial sample report has to be made up (see reason for PPAP report)\n- info which has to be delivered by supplier (see sheets to fill in or data needed to be supplied by SUPPLIER) is indicated with a marked box\nBy clicking on the name (in blue) next to the marked box you come to the tab where you have to put the requested info\nOnly the white fields in each tab has to be filled in by supplier.\nIn the left upper corner of each tab you can find back the link to the cover sheet \nIn this way you have to fill in all the requested data"]
[]
[]
[]
[]
[]
[]
[]
[]
[]
[null,"Don not change anything to the file format"]

{"sheet":"PSW","index":3,"n_rows":114,"n_cols":37,"rows_kept":114,"cut":false,"hidden":false,"merged":[[10,3,10,7],[10,9,10,10],[11,3,11,7],[11,9,11,10],[12,3,12,7],[12,8,13,8],[12,9,13,10],[13,3,13,7],[1,1,1,11],[4,3,4,7],[4,8,4,9],[5,3,5,4],[6,3,6,4],[7,3,7,4],[7,9,7,10],[28,2,28,3],[28,5,28,6],[28,8,28,10],[29,2,29,3],[29,5,29,6],[29,8,29,10],[16,2,22,10],[25,2,25,3],[25,5,25,6],[25,8,25,10],[26,2,26,10],[27,2,27,3],[27,5,27,6],[27,8,27,10],[32,2,32,3],[32,5,32,6],[32,8,32,10],[33,2,33,3],[33,5,33,6],[33,8,33,10],[30,2,30,3],[30,5,30,6],[30,8,30,10],[31,2,31,3],[31,5,31,6],[31,8,31,10],[36,2,36,3],[36,5,36,6],[36,8,36,10],[37,2,37,3],[37,5,37,6],[37,8,37,10],[34,2,34,3],[34,5,34,6],[34,8,34,10],[35,2,35,3],[35,5,35,6],[35,8,35,10],[42,2,42,3],[43,2,43,3],[44,2,44,10],[45,2,45,3],[45,5,45,6],[45,8,45,10],[38,2,38,3],[38,5,38,6],[38,8,38,10],[39,2,39,3],[40,2,40,3],[41,2,41,3],[48,2,48,3],[48,5,48,6],[48,8,48,10],[51,2,51,8],[51,9,52,10],[52,2,52,8],[46,2,46,3],[46,5,46,6],[46,8,46,10],[47,2,47,3],[47,5,47,6],[47,8,47,10],[56,2,56,5],[56,6,56,10],[57,2,57,5],[57,6,57,10],[60,2,60,3],[60,4,60,5],[60,6,60,7],[60,8,60,9],[53,2,53,8],[53,9,53,10],[54,2,54,8],[54,9,54,10],[55,2,55,8],[55,9,55,10],[69,2,69,4],[69,5,69,7],[69,9,69,10],[72,2,72,5],[72,6,72,10],[74,3,76,10],[61,2,61,6],[61,7,61,10],[62,3,62,10],[65,2,65,10],[67,2,67,10],[68,3,68,4],[68,6,68,7],[68,9,68,10],[77,7,77,8],[79,2,80,5],[79,6,80,7],[79,8,79,10],[80,8,80,10],[81,2,82,5],[81,6,82,7],[81,8,81,10],[82,8,82,10]]}
[]
[null,"P R O D U C T  S U B M I S S I O N  W A R R A N T",null,null,null,null,null,null,null,null,null,null,null,null,null,null,null,null,3]
[]
[null,null,"SECTION 1: PRODUCT INFORMATION"]
[null,null,"Product name/description:",null,null,null,null,null,"Product Submission Doc. No: "]
[null,null,"Philips Lighting 12NC: ",null,null,"Revision date: ",null,"Revision no:",null,"Purchase order no:  "]
[null,null,"Drawing: ",null,null,"Revision date: ",null,"Revision no:",null,"Project Name: "]
[null,null,"Supplier product no (if applicable): ",null,null,"Revision date: ",null,"Revision no:",null,"Safety / Regulated item?"]
[]
[null,null,"SECTION 2: SUPPLIER / MANUFACTURING SITE INFORMATION"]
[null,null,"Supplier / Manufacturing site name: ",null,null,null,null,null,"Contact person:"]
[null,null,"Supplier code:",null,null,null,null,null,"Phone no:"]
[null,null,"Street Address:",null,null,null,null,null,"Other: "]
[null,null,"City / State / Country:"]
[]
[null,null,"SECTION 3: REASON(S) FOR SUBMISSION (please tick all that apply)"]
[]
[]
[]
[]
[]
[]
[]
[]
[null,null,"SECTION 4: ITEMS / DELIVERABLES FOR SUBMISSION"]
[null,null,"Items / deliverables for PSW approval",null,"Applicable?","Checked By",null,"Signature","Reference to evidence, explanations and remarks"]
[null,null,"PPAP deliverables (wih Element #) : "]
[null,null,"Design records / specifications (Element # 1)"]
[null,null,"Engineering Change Documents (Element # 2)"]
[null,null,"Customer engineering approval (Element # 3)"]
[null,null,"Design FMEA (Element # 4)"]
[null,null,"Process flow chart (Element # 5)"]
[null,null,"Process FMEA (Element # 6)"]
[null,null,"Control plan (Element # 7)"]
[null,null,"Measurement system analysis (Element # 8)"]
[null,null,"Dimensional  results (Element # 9)"]
[null,null,"Material & Performance test results (Element # 10)"]
[null,null,"Initial process study (Element # 11)"]
[null,null,"Quality Laboratory Documentation (Element # 12)"]
[null,null,"Appearance approval record (Element  # 13)"]
[null,null,"Sample of the product submitted (Run@rate Element # 14)"]
[null,null,"Master sample product submitted (Element # 15)"]
[null,null,"Checking aids (Element # 16)"]
[null,null,"Customer specific requirements (Element # 17)"]
[null,null,"Non PPAP Deliverables:(optional)"]
[null,null,"Non-compliance records / corrective actions"]
[null,null,"Joint application review"]
[null,null,"Service package"]
[null,null,"Other, please specify ______________________________"]
[]
[null,null,"SECTION 5: SUSTAINABILITY & RESTRICTED SUBSTANCES"]
[null,null,"Does this part/product/component meet Signify Sustainability requirements and has it been declared in BOMCheck?"]
[null,null,"http://www.philips.com/shared/global/assets/Sustainability/rsl.pdf"]
[null,null,"Please specify DUNS?"]
[null,null,"Do ISO/UL marking codes apply for plastic parts/ components? "]
[null,null,"Please advise Product Factory Sustainability audit or EICC status?"]
[null,null,"Any Major, Critical or Zero Tolerance issue still remain open? If yes, please specify:"]
[null,null,"Please specify corrective actions with action owner and due date for issue above?"]
[]
[null,null,"SECTION 6: SUBMISSION RESULTS"]
[null,null,"Results for:",null,"dimensional \nmeasurements",null," functional and \nmaterial tests",null," appearance \ncriteria",null," statistical process \npackage"]
[null,null,"These results meet all drawing and specification requirements",null,null,null,null,"                                (if “No” explanation and CA-PLan is required)"]
[null,null,"Explanation:      "]
[]
[null,null,"SECTION 7: DECLARATION"]
[null,null,"I hereby affirm the __________(# of samples) samples represented by this warrant are representative of our products and have been made to the applicable product and process requirements as agreed with Signify company. I further warrant that these samples were produced at the agreed production rate under conditions representative to future production. I have noted any deviations from this declaration below:"]
[]
[null,null,"EXPLANATIONS/COMMENTS:      "]
[null,null,"Print Name:",null,null,"Title:",null,null,"Phone No: "]
[null,null,"Supplier/Manufacturing site (authorized) signature:",null,null,null,null,null,"Date:"]
[]
[null,null,"SECTION 8: APPROVAL"]
[null,null,"Signify Approval:",null,null,null,"Remarks: <None>"]
[]
[null,null,"              Submission Approved","Regardless of the fact that the product is released and in compliance with any applicable (safety) norm at the time of approval, in the event that the product appears or turns out not to be safe or in any other aspect not fulfilling the specified requirements, supplier shall remain liable for the damages incurred to Signify and its affiliates as agreed in the GPA or Signify Purchasing Terms and Conditions"]
[]
[null,null,"               Submission Rejectedl  "]
[]
[null,null,null,null,null,null,"     "]
[null,null,"Signify Supply Quality:\n<Name>",null,null,null,"Signify Signature:",null,"Job Title:       "]
[null,null,null,null,null,null,null,null,"Date: "]
[null,null,"Signify Project Manager (optional):\n<Name>",null,null,null,"Signify Signature:",null,"Job Title:       "]
[null,null,"<Name>",null,null,null,null,null,"Date:  "]
[]
[]
[]
[]
[]
[]
[]
[]
[]
[]
[]
[]
[]
[]
[]
[]
[]
[]
[]
[]
[]
[]
[]
[]
[]
[]
[]
[]
[null,null,null,null,null,null,null,null,null,null,null,null,null,null,null,null,null,null,null,null,null,null,null,null,null,null,null,null,null,null,null,null,null,null,null,null,"Acceptable (Audit  Score   ≥90)"]
[null,null,null,null,null,null,null,null,null,null,null,null,null,null,null,null,null,null,null,null,null,null,null,null,null,null,null,null,null,null,null,null,null,null,null,null,"Improvement Required (Audit Score    ≥ 80 and < 90)"]
[null,null,null,null,null,null,null,null,null,null,null,null,null,null,null,null,null,null,null,null,null,null,null,null,null,null,null,null,null,null,null,null,null,null,null,null,"Not Acceptable (Audit Score < 80)"]

{"sheet":"Design record","index":4,"n_rows":4,"n_cols":2,"rows_kept":4,"cut":false,"hidden":false,"merged":[[1,0,1,8]]}
[null,"Cover sheet"]
["Design Record (Drawing of product)"]
[]
[null,"Attach drawing of product in this sheet"]

{"sheet":"Eng. Change","index":5,"n_rows":11,"n_cols":29,"rows_kept":11,"cut":false,"hidden":false,"merged":[[1,0,1,8],[2,0,4,8]]}
[null,"Cover sheet"]
["Authorized Engineering Change(note) Document"]
["A document that shows the detailed description of the change. Usually this document is called \"Engineering Change Notice\" (ECN),"]
[]
[]
["No.","ECN Number","ECN Origin","Subject","Documents involve","Signify resp.","Supplier resp."]
[null,null,null,null,null,null,null,null,null,null,null,null,null,null,null,null,null,null,null,null,null,null,null,null,null,null,null,"Supplier","BOM"]
[null,null,null,null,null,null,null,null,null,null,null,null,null,null,null,null,null,null,null,null,null,null,null,null,null,null,null,"Philips","Dimension"]
[null,null,null,null,null,null,null,null,null,null,null,null,null,null,null,null,null,null,null,null,null,null,null,null,null,null,null,null,"Function"]
[null,null,null,null,null,null,null,null,null,null,null,null,null,null,null,null,null,null,null,null,null,null,null,null,null,null,null,null,"CTQ's"]
[null,null,null,null,null,null,null,null,null,null,null,null,null,null,null,null,null,null,null,null,null,null,null,null,null,null,null,null,"CTP's"]

{"sheet":"Cust. Eng. approval","index":6,"n_rows":6,"n_cols":6,"rows_kept":6,"cut":false,"hidden":false,"merged":[[1,0,1,7],[2,0,4,7]]}
[null,"Cover sheet"]
["Engineering Approval"]
["This approval is usually the Engineering trial with production parts performed at the customer plant. A \"temporary deviation\" usually is required to send parts to customer before PPAP. Customer may require other \"Engineering Approvals\". Usually last minute change that are undesired."]
[]
[]
["No.","Deviation","Deviation \nOrigin","Subject","Signify resp.","Supplier resp."]

{"sheet":"DFMEA","index":7,"n_rows":103,"n_cols":20,"rows_kept":103,"cut":false,"hidden":false,"merged":[[1,0,1,19],[2,0,2,19],[9,7,10,7],[9,8,9,11],[9,12,10,12],[9,13,10,13],[9,14,10,14],[9,15,9,19],[5,5,5,6],[6,1,6,2],[7,5,7,6],[9,0,10,0],[9,1,10,1],[9,2,10,2],[9,3,10,3],[9,5,10,5],[9,6,10,6]]}
["Cover sheet"]
["Design Failure Mode and Effect Analysis (DFMEA)"]
["(Design FMEA)"]
["System : "]
["Subsystem:",null,null,null,null,null,null,null,null,null,null,null,null,"FMEA Version :","V0.1"]
["Component : ",null,null,null,null,"Design Responsibility :",null,null,null,null,null,null,null,"Page:"]
["Model Year (s)/ Program(s) :",null,null,null,null,null,null,null,null,null,null,null,null,"Prepared by:"]
["Core Team :",null,null,null,null,"Key Date :",null,null,null,null,null,null,null,"FMEA Date (Orig.) :"]
[]
["Item / Function","Requirement","Potential Failure Mode","Potential Effect(s) of Failure",null,"Severity","Classification","Potential Cause(s) of Failure","Current Design ",null,null,null,"RPN","Recommended Action","Responsibility & Target Completion Date","Action Results"]
[null,null,null,null,null,null,null,null,"Controls Prevention","Occurrence","Controls Detection","Detection",null,null,null,"Actions Taken Completion Date","Severity","Occurrence","Detection","RPN"]
[null,null,null,null,null,null,null,null,null,null,null,null,{"$f":"IF(F12*J12*L12=0,\"\",F12*J12*L12)","v":""},null,null,null,null,null,null,{"$f":"IF(Q12*R12*S12=0,\"\",Q12*R12*S12)","v":""}]
[null,null,null,null,null,null,null,null,null,null,null,null,"",null,null,null,null,null,null,{"$f":"IF(Q13*R13*S13=0,\"\",Q13*R13*S13)","v":""}]
[null,null,null,null,null,null,null,null,null,null,null,null,"",null,null,null,null,null,null,""]
[null,null,null,null,null,null,null,null,null,null,null,null,"",null,null,null,null,null,null,""]
[null,null,null,null,null,null,null,null,null,null,null,null,"",null,null,null,null,null,null,""]
[null,null,null,null,null,null,null,null,null,null,null,null,"",null,null,null,null,null,null,""]
[null,null,null,null,null,null,null,null,null,null,null,null,"",null,null,null,null,null,null,""]
[null,null,null,null,null,null,null,null,null,null,null,null,"",null,null,null,null,null,null,""]
[null,null,null,null,null,null,null,null,null,null,null,null,"",null,null,null,null,null,null,""]
[null,null,null,null,null,null,null,null,null,null,null,null,"",null,null,null,null,null,null,""]
[null,null,null,null,null,null,null,null,null,null,null,null,"",null,null,null,null,null,null,""]
[null,null,null,null,null,null,null,null,null,null,null,null,"",null,null,null,null,null,null,""]
[null,null,null,null,null,null,null,null,null,null,null,null,"",null,null,null,null,null,null,""]
[null,null,null,null,null,null,null,null,null,null,null,null,"",null,null,null,null,null,null,""]
[null,null,null,null,null,null,null,null,null,null,null,null,"",null,null,null,null,null,null,""]
[null,null,null,null,null,null,null,null,null,null,null,null,"",null,null,null,null,null,null,""]
[null,null,null,null,null,null,null,null,null,null,null,null,"",null,null,null,null,null,null,""]
[null,null,null,null,null,null,null,null,null,null,null,null,"",null,null,null,null,null,null,""]
[null,null,null,null,null,null,null,null,null,null,null,null,"",null,null,null,null,null,null,""]
[null,null,null,null,null,null,null,null,null,null,null,null,"",null,null,null,null,null,null,""]
[null,null,null,null,null,null,null,null,null,null,null,null,"",null,null,null,null,null,null,""]
[null,null,null,null,null,null,null,null,null,null,null,null,"",null,null,null,null,null,null,""]
[null,null,null,null,null,null,null,null,null,null,null,null,"",null,null,null,null,null,null,""]
[null,null,null,null,null,null,null,null,null,null,null,null,"",null,null,null,null,null,null,""]
[null,null,null,null,null,null,null,null,null,null,null,null,"",null,null,null,null,null,null,""]
[null,null,null,null,null,null,null,null,null,null,null,null,"",null,null,null,null,null,null,""]
[null,null,null,null,null,null,null,null,null,null,null,null,"",null,null,null,null,null,null,""]
[null,null,null,null,null,null,null,null,null,null,null,null,"",null,null,null,null,null,null,""]
[null,null,null,null,null,null,null,null,null,null,null,null,"",null,null,null,null,null,null,""]
[null,null,null,null,null,null,null,null,null,null,null,null,"",null,null,null,null,null,null,""]
[null,null,null,null,null,null,null,null,null,null,null,null,"",null,null,null,null,null,null,""]
[null,null,null,null,null,null,null,null,null,null,null,null,"",null,null,null,null,null,null,""]
[null,null,null,null,null,null,null,null,null,null,null,null,"",null,null,null,null,null,null,""]
[null,null,null,null,null,null,null,null,null,null,null,null,"",null,null,null,null,null,null,""]
[null,null,null,null,null,null,null,null,null,null,null,null,"",null,null,null,null,null,null,""]
[null,null,null,null,null,null,null,null,null,null,null,null,"",null,null,null,null,null,null,""]
[null,null,null,null,null,null,null,null,null,null,null,null,"",null,null,null,null,null,null,""]
[null,null,null,null,null,null,null,null,null,null,null,null,"",null,null,null,null,null,null,""]
[null,null,null,null,null,null,null,null,null,null,null,null,"",null,null,null,null,null,null,""]
[null,null,null,null,null,null,null,null,null,null,null,null,"",null,null,null,null,null,null,""]
[null,null,null,null,null,null,null,null,null,null,null,null,"",null,null,null,null,null,null,""]
[null,null,null,null,null,null,null,null,null,null,null,null,"",null,null,null,null,null,null,""]
[null,null,null,null,null,null,null,null,null,null,null,null,"",null,null,null,null,null,null,""]
[null,null,null,null,null,null,null,null,null,null,null,null,"",null,null,null,null,null,null,""]
[null,null,null,null,null,null,null,null,null,null,null,null,"",null,null,null,null,null,null,""]
[null,null,null,null,null,null,null,null,null,null,null,null,"",null,null,null,null,null,null,""]
[null,null,null,null,null,null,null,null,null,null,null,null,"",null,null,null,null,null,null,""]
[null,null,null,null,null,null,null,null,null,null,null,null,"",null,null,null,null,null,null,""]
[null,null,null,null,null,null,null,null,null,null,null,null,"",null,null,null,null,null,null,""]
[null,null,null,null,null,null,null,null,null,null,null,null,"",null,null,null,null,null,null,""]
[null,null,null,null,null,null,null,null,null,null,null,null,"",null,null,null,null,null,null,""]
[null,null,null,null,null,null,null,null,null,null,null,null,"",null,null,null,null,null,null,""]
[null,null,null,null,null,null,null,null,null,null,null,null,"",null,null,null,null,null,null,""]
[null,null,null,null,null,null,null,null,null,null,null,null,"",null,null,null,null,null,null,""]
[null,null,null,null,null,null,null,null,null,null,null,null,"",null,null,null,null,null,null,""]
[null,null,null,null,null,null,null,null,null,null,null,null,"",null,null,null,null,null,null,""]
[null,null,null,null,null,null,null,null,null,null,null,null,"",null,null,null,null,null,null,""]
[null,null,null,null,null,null,null,null,null,null,null,null,"",null,null,null,null,null,null,""]
[null,null,null,null,null,null,null,null,null,null,null,null,"",null,null,null,null,null,null,""]
[null,null,null,null,null,null,null,null,null,null,null,null,"",null,null,null,null,null,null,""]
[null,null,null,null,null,null,null,null,null,null,null,null,"",null,null,null,null,null,null,""]
[null,null,null,null,null,null,null,null,null,null,null,null,"",null,null,null,null,null,null,""]
[null,null,null,null,null,null,null,null,null,null,null,null,"",null,null,null,null,null,null,""]
[null,null,null,null,null,null,null,null,null,null,null,null,"",null,null,null,null,null,null,""]
[null,null,null,null,null,null,null,null,null,null,null,null,"",null,null,null,null,null,null,""]
[null,null,null,null,null,null,null,null,null,null,null,null,"",null,null,null,null,null,null,{"$f":"IF(Q77*R77*S77=0,\"\",Q77*R77*S77)","v":""}]
[null,null,null,null,null,null,null,null,null,null,null,null,"",null,null,null,null,null,null,""]
[null,null,null,null,null,null,null,null,null,null,null,null,"",null,null,null,null,null,null,""]
[null,null,null,null,null,null,null,null,null,null,null,null,"",null,null,null,null,null,null,""]
[null,null,null,null,null,null,null,null,null,null,null,null,"",null,null,null,null,null,null,""]
[null,null,null,null,null,null,null,null,null,null,null,null,"",null,null,null,null,null,null,""]
[null,null,null,null,null,null,null,null,null,null,null,null,"",null,null,null,null,null,null,""]
[null,null,null,null,null,null,null,null,null,null,null,null,"",null,null,null,null,null,null,""]
[null,null,null,null,null,null,null,null,null,null,null,null,"",null,null,null,null,null,null,""]
[null,null,null,null,null,null,null,null,null,null,null,null,"",null,null,null,null,null,null,""]
[null,null,null,null,null,null,null,null,null,null,null,null,"",null,null,null,null,null,null,""]
[null,null,null,null,null,null,null,null,null,null,null,null,"",null,null,null,null,null,null,""]
[null,null,null,null,null,null,null,null,null,null,null,null,"",null,null,null,null,null,null,""]
[null,null,null,null,null,null,null,null,null,null,null,null,"",null,null,null,null,null,null,""]
[null,null,null,null,null,null,null,null,null,null,null,null,"",null,null,null,null,null,null,""]
[null,null,null,null,null,null,null,null,null,null,null,null,"",null,null,null,null,null,null,""]
[null,null,null,null,null,null,null,null,null,null,null,null,"",null,null,null,null,null,null,""]
[null,null,null,null,null,null,null,null,null,null,null,null,"",null,null,null,null,null,null,""]
[null,null,null,null,null,null,null,null,null,null,null,null,"",null,null,null,null,null,null,""]
[null,null,null,null,null,null,null,null,null,null,null,null,"",null,null,null,null,null,null,""]
[null,null,null,null,null,null,null,null,null,null,null,null,"",null,null,null,null,null,null,""]
[null,null,null,null,null,null,null,null,null,null,null,null,"",null,null,null,null,null,null,""]
[null,null,null,null,null,null,null,null,null,null,null,null,"",null,null,null,null,null,null,""]
[null,null,null,null,null,null,null,null,null,null,null,null,"",null,null,null,null,null,null,""]
[null,null,null,null,null,null,null,null,null,null,null,null,"",null,null,null,null,null,null,""]
[null,null,null,null,null,null,null,null,null,null,null,null,"",null,null,null,null,null,null,""]
[null,null,null,null,null,null,null,null,null,null,null,null,"",null,null,null,null,null,null,""]

{"sheet":"Process flow Diagram","index":8,"n_rows":9,"n_cols":14,"rows_kept":9,"cut":false,"hidden":false,"merged":[[6,1,6,10],[7,3,7,9],[7,10,7,12],[1,0,1,13],[2,0,3,13],[4,3,4,10],[4,12,4,13],[5,3,5,10],[5,12,5,13]]}
["Cover sheet"]
["Process flow Diagram"]
["Process Flow Document (PFD)"]
[]
["Item",null,"Process Responsibility",null,null,null,null,null,null,null,null,"Process Identification"]
["Product Name & Model",null,"Key Date",null,null,null,null,null,null,null,null,"Prepared by"]
["Core Team",null,null,null,null,null,null,null,null,null,null,"Date (Original)",null,"Date (Revised) : "]
[null,null,null,"Process Flow Diagram"]
["Operation Sequence Number","Operation Description \n(Do this, to this, with this)","Incoming Source of Variation","Operation","Decision","Transport/Move","Store/Get","Inspect","Rework","Scrap/ Contain","Changeover","Significant Product Characteristics \n(Outputs)","Significant Process Characteristics\n(Inputs)","Comments/Notes"]

{"sheet":"PFMEA","index":9,"n_rows":102,"n_cols":20,"rows_kept":102,"cut":false,"hidden":false,"merged":[[6,15,6,19],[1,0,1,19],[6,6,7,6],[6,7,7,7],[6,8,6,11],[6,12,7,12],[6,13,7,13],[6,14,7,14],[6,0,7,0],[6,1,7,1],[6,2,7,2],[6,3,7,3],[6,4,7,4],[6,5,7,5],[4,0,4,1],[4,2,4,3],[4,5,4,12],[4,14,4,19],[5,0,5,1],[5,2,5,12],[5,16,5,19],[2,0,2,19],[3,0,3,1],[3,2,3,3],[3,5,3,12],[3,14,3,19]]}
["Cover sheet"]
["Process Failure Mode and Effect Analysis (PFMEA)"]
["                                POTENTIAL FAILURE MODE AND EFFECTS ANALYSIS (PROCESS FMEA) "]
["Item",null,null,null,"Process Responsibility",null,null,null,null,null,null,null,null,"PFMEA Number"]
["Product Name & Model",null,null,null,"Key Date",null,null,null,null,null,null,null,null,"Prepared by"]
["Core Team",null,null,null,null,null,null,null,null,null,null,null,null,"Date (Original)",null,"Date (Revised) "]
["Op Seq #","Process Function/ Requirment","Product Characteristics ID/Description","Potential Failure Mode","Potential Effect(s) of Failure","Severity","Classification","Potential Cause(s) of Failure","Current Process",null,null,null,"RPN","Recommended Action","Responsibility Completion Date","Action Results"]
[null,null,null,null,null,null,null,null,"Controls Prevention","Occurance","Controls Detection","Detection",null,null,null,"Actions Taken & Completion date","Severity","Occurrence","Detection","RPN"]
[null,null,null,null,null,null,null,null,null,null,null,null,{"$f":"IF(F9*J9*L9=0,\"\",F9*J9*L9)","v":""},null,null,null,null,null,null,{"$f":"IF(Q9*R9*S9=0,\"\",Q9*R9*S9)","v":""}]
[null,null,null,null,null,null,null,null,null,null,null,null,{"$f":"IF(F10*J10*L10=0,\"\",F10*J10*L10)","v":""},null,null,null,null,null,null,{"$f":"IF(Q10*R10*S10=0,\"\",Q10*R10*S10)","v":""}]
[null,null,null,null,null,null,null,null,null,null,null,null,"",null,null,null,null,null,null,""]
[null,null,null,null,null,null,null,null,null,null,null,null,"",null,null,null,null,null,null,""]
[null,null,null,null,null,null,null,null,null,null,null,null,"",null,null,null,null,null,null,""]
[null,null,null,null,null,null,null,null,null,null,null,null,"",null,null,null,null,null,null,""]
[null,null,null,null,null,null,null,null,null,null,null,null,"",null,null,null,null,null,null,""]
[null,null,null,null,null,null,null,null,null,null,null,null,"",null,null,null,null,null,null,""]
[null,null,null,null,null,null,null,null,null,null,null,null,"",null,null,null,null,null,null,""]
[null,null,null,null,null,null,null,null,null,null,null,null,"",null,null,null,null,null,null,""]
[null,null,null,null,null,null,null,null,null,null,null,null,"",null,null,null,null,null,null,""]
[null,null,null,null,null,null,null,null,null,null,null,null,"",null,null,null,null,null,null,""]
[null,null,null,null,null,null,null,null,null,null,null,null,"",null,null,null,null,null,null,""]
[null,null,null,null,null,null,null,null,null,null,null,null,"",null,null,null,null,null,null,""]
[null,null,null,null,null,null,null,null,null,null,null,null,"",null,null,null,null,null,null,""]
[null,null,null,null,null,null,null,null,null,null,null,null,"",null,null,null,null,null,null,""]
[null,null,null,null,null,null,null,null,null,null,null,null,"",null,null,null,null,null,null,""]
[null,null,null,null,null,null,null,null,null,null,null,null,"",null,null,null,null,null,null,""]
[null,null,null,null,null,null,null,null,null,null,null,null,"",null,null,null,null,null,null,""]
[null,null,null,null,null,null,null,null,null,null,null,null,"",null,null,null,null,null,null,""]
[null,null,null,null,null,null,null,null,null,null,null,null,"",null,null,null,null,null,null,""]
[null,null,null,null,null,null,null,null,null,null,null,null,"",null,null,null,null,null,null,""]
[null,null,null,null,null,null,null,null,null,null,null,null,"",null,null,null,null,null,null,""]
[null,null,null,null,null,null,null,null,null,null,null,null,"",null,null,null,null,null,null,""]
[null,null,null,null,null,null,null,null,null,null,null,null,"",null,null,null,null,null,null,""]
[null,null,null,null,null,null,null,null,null,null,null,null,"",null,null,null,null,null,null,""]
[null,null,null,null,null,null,null,null,null,null,null,null,"",null,null,null,null,null,null,""]
[null,null,null,null,null,null,null,null,null,null,null,null,"",null,null,null,null,null,null,""]
[null,null,null,null,null,null,null,null,null,null,null,null,"",null,null,null,null,null,null,""]
[null,null,null,null,null,null,null,null,null,null,null,null,"",null,null,null,null,null,null,""]
[null,null,null,null,null,null,null,null,null,null,null,null,"",null,null,null,null,null,null,""]
[null,null,null,null,null,null,null,null,null,null,null,null,"",null,null,null,null,null,null,""]
[null,null,null,null,null,null,null,null,null,null,null,null,"",null,null,null,null,null,null,""]
[null,null,null,null,null,null,null,null,null,null,null,null,"",null,null,null,null,null,null,""]
[null,null,null,null,null,null,null,null,null,null,null,null,"",null,null,null,null,null,null,""]
[null,null,null,null,null,null,null,null,null,null,null,null,"",null,null,null,null,null,null,""]
[null,null,null,null,null,null,null,null,null,null,null,null,"",null,null,null,null,null,null,""]
[null,null,null,null,null,null,null,null,null,null,null,null,"",null,null,null,null,null,null,""]
[null,null,null,null,null,null,null,null,null,null,null,null,"",null,null,null,null,null,null,""]
[null,null,null,null,null,null,null,null,null,null,null,null,"",null,null,null,null,null,null,""]
[null,null,null,null,null,null,null,null,null,null,null,null,"",null,null,null,null,null,null,""]
[null,null,null,null,null,null,null,null,null,null,null,null,"",null,null,null,null,null,null,""]
[null,null,null,null,null,null,null,null,null,null,null,null,"",null,null,null,null,null,null,""]
[null,null,null,null,null,null,null,null,null,null,null,null,"",null,null,null,null,null,null,""]
[null,null,null,null,null,null,null,null,null,null,null,null,"",null,null,null,null,null,null,""]
[null,null,null,null,null,null,null,null,null,null,null,null,"",null,null,null,null,null,null,""]
[null,null,null,null,null,null,null,null,null,null,null,null,"",null,null,null,null,null,null,""]
[null,null,null,null,null,null,null,null,null,null,null,null,"",null,null,null,null,null,null,""]
[null,null,null,null,null,null,null,null,null,null,null,null,"",null,null,null,null,null,null,""]
[null,null,null,null,null,null,null,null,null,null,null,null,"",null,null,null,null,null,null,""]
[null,null,null,null,null,null,null,null,null,null,null,null,"",null,null,null,null,null,null,""]
[null,null,null,null,null,null,null,null,null,null,null,null,"",null,null,null,null,null,null,""]
[null,null,null,null,null,null,null,null,null,null,null,null,"",null,null,null,null,null,null,""]
[null,null,null,null,null,null,null,null,null,null,null,null,"",null,null,null,null,null,null,""]
[null,null,null,null,null,null,null,null,null,null,null,null,"",null,null,null,null,null,null,""]
[null,null,null,null,null,null,null,null,null,null,null,null,"",null,null,null,null,null,null,""]
[null,null,null,null,null,null,null,null,null,null,null,null,"",null,null,null,null,null,null,""]
[null,null,null,null,null,null,null,null,null,null,null,null,"",null,null,null,null,null,null,""]
[null,null,null,null,null,null,null,null,null,null,null,null,"",null,null,null,null,null,null,""]
[null,null,null,null,null,null,null,null,null,null,null,null,"",null,null,null,null,null,null,""]
[null,null,null,null,null,null,null,null,null,null,null,null,"",null,null,null,null,null,null,""]
[null,null,null,null,null,null,null,null,null,null,null,null,"",null,null,null,null,null,null,""]
[null,null,null,null,null,null,null,null,null,null,null,null,"",null,null,null,null,null,null,""]
[null,null,null,null,null,null,null,null,null,null,null,null,"",null,null,null,null,null,null,""]
[null,null,null,null,null,null,null,null,null,null,null,null,"",null,null,null,null,null,null,""]
[null,null,null,null,null,null,null,null,null,null,null,null,{"$f":"IF(F74*J74*L74=0,\"\",F74*J74*L74)","v":""},null,null,null,null,null,null,{"$f":"IF(Q74*R74*S74=0,\"\",Q74*R74*S74)","v":""}]
[null,null,null,null,null,null,null,null,null,null,null,null,"",null,null,null,null,null,null,""]
[null,null,null,null,null,null,null,null,null,null,null,null,"",null,null,null,null,null,null,""]
[null,null,null,null,null,null,null,null,null,null,null,null,"",null,null,null,null,null,null,""]
[null,null,null,null,null,null,null,null,null,null,null,null,"",null,null,null,null,null,null,""]
[null,null,null,null,null,null,null,null,null,null,null,null,"",null,null,null,null,null,null,""]
[null,null,null,null,null,null,null,null,null,null,null,null,"",null,null,null,null,null,null,""]
[null,null,null,null,null,null,null,null,null,null,null,null,"",null,null,null,null,null,null,""]
[null,null,null,null,null,null,null,null,null,null,null,null,"",null,null,null,null,null,null,""]
[null,null,null,null,null,null,null,null,null,null,null,null,"",null,null,null,null,null,null,""]
[null,null,null,null,null,null,null,null,null,null,null,null,"",null,null,null,null,null,null,""]
[null,null,null,null,null,null,null,null,null,null,null,null,"",null,null,null,null,null,null,""]
[null,null,null,null,null,null,null,null,null,null,null,null,"",null,null,null,null,null,null,""]
[null,null,null,null,null,null,null,null,null,null,null,null,"",null,null,null,null,null,null,""]
[null,null,null,null,null,null,null,null,null,null,null,null,"",null,null,null,null,null,null,""]
[null,null,null,null,null,null,null,null,null,null,null,null,"",null,null,null,null,null,null,""]
[null,null,null,null,null,null,null,null,null,null,null,null,"",null,null,null,null,null,null,""]
[null,null,null,null,null,null,null,null,null,null,null,null,"",null,null,null,null,null,null,""]
[null,null,null,null,null,null,null,null,null,null,null,null,"",null,null,null,null,null,null,""]
[null,null,null,null,null,null,null,null,null,null,null,null,"",null,null,null,null,null,null,""]
[null,null,null,null,null,null,null,null,null,null,null,null,"",null,null,null,null,null,null,""]
[null,null,null,null,null,null,null,null,null,null,null,null,"",null,null,null,null,null,null,""]
[null,null,null,null,null,null,null,null,null,null,null,null,"",null,null,null,null,null,null,""]
[null,null,null,null,null,null,null,null,null,null,null,null,"",null,null,null,null,null,null,""]
[null,null,null,null,null,null,null,null,null,null,null,null,"",null,null,null,null,null,null,""]
[null,null,null,null,null,null,null,null,null,null,null,null,"",null,null,null,null,null,null,""]
[null,null,null,null,null,null,null,null,null,null,null,null,"",null,null,null,null,null,null,""]
[null,null,null,null,null,null,null,null,null,null,null,null,"",null,null,null,null,null,null,""]
[null,null,null,null,null,null,null,null,null,null,null,null,"",null,null,null,null,null,null,""]

{"sheet":"ControlPlan","index":10,"n_rows":13,"n_cols":13,"rows_kept":13,"cut":false,"hidden":false,"merged":[[10,7,10,11],[10,12,12,12],[11,3,12,3],[11,4,12,4],[11,5,12,5],[11,7,12,7],[11,8,12,8],[11,9,11,10],[11,11,12,11],[10,0,12,0],[10,1,12,1],[10,2,12,2],[10,3,10,5],[10,6,12,6],[6,11,6,12],[8,0,8,1],[8,3,8,5],[8,6,8,8],[8,9,8,11],[7,0,7,1],[7,3,7,5],[7,6,7,8],[7,9,7,11],[6,0,6,1],[6,3,6,5],[6,6,6,8],[6,9,6,10],[1,0,1,12],[2,0,3,12],[4,0,4,12],[5,0,5,1],[5,3,5,5],[5,6,5,8],[5,9,5,10],[5,11,5,12]]}
["Cover sheet"]
["Control plan"]
["Prcess Control Plan (PCP)"]
[]
["Prototype                   Pre-Launch                 Production"]
["Control Plan Number",null,null,"Key Contact& Phone",null,null,null,null,null,"Date (Original)",null,"Date (Revised)"]
["Part Number/Latest change level",null,null,"Core Team"]
["Part Name/Description",null,null,"Supplier/Plant approval date",null,null,null,null,null,"Customer Engineering Aprroval date (if required)"]
["Supplier/Plant",null,null,"Supplier Code",null,null,null,null,null,"Customer Quality Approval date (if required)"]
[]
["Op Seq #","Operation Description                   (Do this, to this, with this) ","Machine Device/Jig/tools for manufacturing","Characteristics",null,null,"Class","Methods",null,null,null,null,"Reaction Plan"]
[null,null,null,"No","Product","Process",null,"Prodcut/Process specification Tolerance","Evaluation Measurement technique","Sample",null,"Control Methods"]
[null,null,null,null,null,null,null,null,null,"Size","Frequency"]

{"sheet":"MSA","index":11,"n_rows":13,"n_cols":2,"rows_kept":13,"cut":false,"hidden":false,"merged":[[1,0,1,8]]}
[null,"Cover sheet"]
["Measurement system analysis"]
[]
[null,"The first gage-r-r-with-anova-xbarr-analysis (contain three worksheets which each seperately name AIAG GR&-"]
["R, Graphical Summary & Numerical Summary) is already prepared for your convenient to calculate the Repeatability & Repr-"]
["roducability of your measuring and test equipment. Should you need more than just one gage to be checked, you may click"]
["the following \"Add Gage\"."]
[]
["* We advise to check only measuring gages that are related to Product & Processes CTQ."]
[]
[]
[]
["Detail instructions can be found in the following worksheet \"Instruction for MSA\"."]

{"sheet":"AIAG GR&R","index":12,"n_rows":127,"n_cols":14,"rows_kept":127,"cut":false,"hidden":false,"merged":[[18,12,18,13],[69,9,70,9],[69,11,70,11],[69,13,70,13],[70,7,70,8],[31,0,31,13],[26,0,27,1],[26,2,27,2],[26,3,27,3],[26,4,27,4],[26,5,27,5],[26,6,27,6],[26,7,27,7],[26,8,27,8],[69,4,70,4],[70,0,70,1],[32,2,32,4],[101,0,101,7],[32,7,32,9],[72,7,72,8],[73,7,73,8],[74,7,74,8],[75,7,75,8],[77,7,77,10],[72,0,72,1],[73,0,73,1],[85,0,85,1],[86,0,86,1],[87,0,87,1],[88,0,88,1],[101,8,101,13],[83,0,83,1],[34,2,34,4],[34,7,34,9],[40,0,40,7],[40,8,40,13],[92,0,92,13],[71,0,71,1],[84,0,84,1],[76,0,76,1],[77,0,77,1],[79,0,79,2],[95,2,95,4],[95,7,95,9],[69,2,70,2],[77,11,77,13],[32,12,32,13],[33,2,33,4],[33,7,33,9],[33,12,33,13],[71,7,71,8],[69,6,70,6],[93,2,93,4],[93,7,93,9],[93,12,93,13],[94,2,94,4],[94,7,94,9],[94,12,94,13],[21,12,21,13],[22,12,22,13],[23,12,23,13],[26,9,27,9],[26,10,27,10],[26,11,27,11],[13,12,13,13],[16,12,16,13],[17,12,17,13],[3,0,3,1],[5,0,5,1],[6,0,6,1],[7,0,7,1],[9,0,10,1],[9,2,9,11],[9,12,10,13],[11,12,11,13],[12,12,12,13],[3,7,3,9],[3,2,3,4],[2,0,2,1],[0,0,0,13],[1,0,1,1],[2,2,2,4],[1,2,1,4],[2,7,2,9],[1,7,1,9],[2,12,2,13],[1,12,1,13]]}
["Gage Repeatability and Reproducibility Data Collection Sheet"]
["Part No. & Name: ",null,0,null,null,null,null,0,null,null,null,null,"00:00:00"]
["Characteristics: ",null,0,null,null,null,null,0,null,null,null,null,0]
["Specifications: ",null,0,null,null,null,null,0]
[]
["Upper Spec",null,0,null,"# of Trials = ",{"$f":"3-COUNTIF(C12:C14,\"\")","v":3},"K 1 = ",{"$f":"IF(F6=2,0.8862,IF(F6=3,0.5908,\"\"))","v":0.59079999999999999},null,"Xbar diff = ",{"$f":"(MAX(N15,N20,N25)-MIN(N15,N20,N25))","v":0},"D 4 = ",{"$f":"IF(F6=2,3.27,IF(F6=3,2.58,\"\"))","v":2.58}]
["Lower Spec",null,0,null,"# of appraisers = ",{"$f":"SUM((1-COUNTBLANK(C12)),(1-COUNTBLANK(C17)),(1-COUNTBLANK(C22)))","v":3},"K 2 = ",{"$f":"IF(F7=2,0.7071,IF(F7=3,0.5231,\"\"))","v":0.52310000000000001},null,"Rbarbar = ",{"$f":"N29","v":0},"R p = ",{"$f":"N28","v":0}]
["Total Tol",null,{"$f":"MAX(C6:C7)-MIN(C6:C7)","v":0},null,"# of parts = ",{"$f":"10-COUNTIF(C12:L12,\"\")","v":10},"K 3 = ",{"$f":"VLOOKUP(F8,G58:H66,2)","v":0.31459999999999999}]
[]
["Appraiser/Trial #",null,"Part",null,null,null,null,null,null,null,null,null,"Average"]
[null,null,1,2,3,4,5,6,7,8,9,10]
["A",1,0,0,0,0,0,0,0,0,0,0,{"$f":"IF(C12=\"\",\"\",IF($F$6<1,\"\",AVERAGE(C12:L12)))","v":0}]
[null,2,0,0,0,0,0,0,0,0,0,0,{"$f":"IF(C13=\"\",\"\",IF($F$6<1,\"\",AVERAGE(C13:L13)))","v":0}]
[null,3,0,0,0,0,0,0,0,0,0,0,{"$f":"IF(C14=\"\",\"\",IF($F$6<1,\"\",AVERAGE(C14:L14)))","v":0}]
[null,"Average",{"$f":"IF($F$7<1,\"\",IF($F$8<C11,\"\",AVERAGE(C12:C14)))","v":0},{"$f":"IF($F$7<1,\"\",IF($F$8<D11,\"\",AVERAGE(D12:D14)))","v":0},0,0,0,0,0,0,0,0,"Xbar a = ",{"$f":"IF(C15=\"\",\"\",AVERAGE(C15:L15))","v":0}]
[null,"Range",{"$f":"IF($F$7<1,\"\",IF($F$8<C11,\"\",MAX(C12:C14)-MIN(C12:C14)))","v":0},{"$f":"IF($F$7<1,\"\",IF($F$8<D11,\"\",MAX(D12:D14)-MIN(D12:D14)))","v":0},0,0,0,0,0,0,0,0,"Rbar a = ",{"$f":"IF(C16=\"\",\"\",AVERAGE(C16:L16))","v":0}]
["B",1,0,0,0,0,0,0,0,0,0,0,{"$f":"IF(C17=\"\",\"\",IF($F$6<1,\"\",AVERAGE(C17:L17)))","v":0}]
[null,2,0,0,0,0,0,0,0,0,0,0,{"$f":"IF(C18=\"\",\"\",IF($F$6<1,\"\",AVERAGE(C18:L18)))","v":0}]
[null,3,0,0,0,0,0,0,0,0,0,0,{"$f":"IF(C19=\"\",\"\",IF($F$6<1,\"\",AVERAGE(C19:L19)))","v":0}]
[null,"Average",{"$f":"IF($F$7<2,\"\",IF($F$8<C11,\"\",AVERAGE(C17:C19)))","v":0},{"$f":"IF($F$7<2,\"\",IF($F$8<D11,\"\",AVERAGE(D17:D19)))","v":0},0,0,0,0,0,0,0,0,"Xbar b = ",{"$f":"IF(C20=\"\",\"\",AVERAGE(C20:L20))","v":0}]
[null,"Range",{"$f":"IF($F$7<2,\"\",IF($F$8<C11,\"\",MAX(C17:C19)-MIN(C17:C19)))","v":0},{"$f":"IF($F$7<2,\"\",IF($F$8<D11,\"\",MAX(D17:D19)-MIN(D17:D19)))","v":0},0,0,0,0,0,0,0,0,"Rbar b = ",{"$f":"IF(C21=\"\",\"\",AVERAGE(C21:L21))","v":0}]
["C",1,0,0,0,0,0,0,0,0,0,0,{"$f":"IF(C22=\"\",\"\",IF($F$6<1,\"\",AVERAGE(C22:L22)))","v":0}]
[null,2,0,0,0,0,0,0,0,0,0,0,{"$f":"IF(C23=\"\",\"\",IF($F$6<1,\"\",AVERAGE(C23:L23)))","v":0}]
[null,3,0,0,0,0,0,0,0,0,0,0,{"$f":"IF(C24=\"\",\"\",IF($F$6<1,\"\",AVERAGE(C24:L24)))","v":0}]
[null,"Average",{"$f":"IF($F$7<3,\"\",IF($F$8<C11,\"\",AVERAGE(C22:C24)))","v":0},{"$f":"IF($F$7<3,\"\",IF($F$8<D11,\"\",AVERAGE(D22:D24)))","v":0},0,0,0,0,0,0,0,0,"Xbar c = ",{"$f":"IF(C25=\"\",\"\",AVERAGE(C25:L25))","v":0}]
[null,"Range",{"$f":"IF($F$7<3,\"\",IF($F$8<C11,\"\",MAX(C22:C24)-MIN(C22:C24)))","v":0},{"$f":"IF($F$7<3,\"\",IF($F$8<D11,\"\",MAX(D22:D24)-MIN(D22:D24)))","v":0},0,0,0,0,0,0,0,0,"Rbar c = ",{"$f":"IF(C26=\"\",\"\",AVERAGE(C26:L26))","v":0}]
["Part Average",null,{"$f":"IF($F$8<C11,\"\",AVERAGE(C12:C14,C17:C19,C22:C24))","v":0},{"$f":"IF($F$8<D11,\"\",AVERAGE(D12:D14,D17:D19,D22:D24))","v":0},0,0,0,0,0,0,0,0,"Xbarbar =",{"$f":"AVERAGE(M12:N14,M17:N19,M22:N24)","v":0}]
[null,null,null,null,null,null,null,null,null,null,null,null,"Rp = ",{"$f":"MAX(C27:L28)-MIN(C27:L28)","v":0}]
[{"$f":"CONCATENATE(\"[\",\"(\",M16,N16,\" + \",M21,N21,\" + \",M26,N26,\")\",\" / \",E7,F7,\"]\",\" = Rbarbar\")","v":"[(Rbar a = 0 + Rbar b = 0 + Rbar c = 0) / # of appraisers = 3] = Rbarbar"},null,null,null,null,null,null,null,null,null,null,null,"Rbarbar = ",{"$f":"AVERAGE(N16,N21,N26)","v":0}]
[{"$f":"CONCATENATE(\"(\",\"Max Xbar = \",MAX(N15,N20,N25),\")\",\" - \",\"Min Xbar = \",MIN(N15,N20,N25),\") = Xbar diff\",)","v":"(Max Xbar = 0) - Min Xbar = 0) = Xbar diff"},null,null,null,null,null,null,null,null,null,null,null,"Xbar diff  =",{"$f":"MAX(N15,N20,N25)-MIN(N15,N20,N25)","v":0}]
[{"$f":"CONCATENATE(\"(\",M29,N29,\")\",\" x (D4 = \",IF(F6=2,3.27,IF(F6=3,2.58,\"\")),\") = UCL R\")","v":"(Rbarbar = 0) x (D4 = 2.58) = UCL R"},null,null,null,null,null,null,null,null,null,null,null,"UCL R    =",{"$f":"IF(F6=2,3.27,IF(F6=3,2.58,\"\"))*N29","v":0}]
["Gage Repeatability and Reproducibility Report - % VARIATION"]
[null,"Part No. & Name: ",{"$f":"IF(C2=\"\",\"\",C2)","v":0},null,null,null,"Gage Name: ",{"$f":"IF(H2=\"\",\"\",H2)","v":0},null,null,null,"Date: ",{"$f":"IF(M2=\"\",\"\",M2)","v":"00:00:00"}]
[null,"Characteristics: ",{"$f":"IF(C3=\"\",\"\",C3)","v":0},null,null,null,"Gage Number:",{"$f":"IF(H3=\"\",\"\",H3)","v":0},null,null,null,"Performed by: ",{"$f":"IF(M3=\"\",\"\",M3)","v":0}]
[null,"Specifications: ",{"$f":"IF(C4=\"\",\"\",C4)","v":0},null,null,null,"Gage Type: ",{"$f":"IF(H4=\"\",\"\",H4)","v":0}]
[]
[null,"Upper Spec",{"$f":"C6","v":0},null,"# of Trials = ",{"$f":"F6","v":3},"K1 = ",{"$f":"H6","v":0.59079999999999999},null,"Xbar diff = ",{"$f":"K6","v":0},"D4 = ",{"$f":"M6","v":2.58}]
[null,"Lower Spec",{"$f":"C7","v":0},null,"# of appraisers = ",{"$f":"F7","v":3},"K2 = ",{"$f":"H7","v":0.52310000000000001},null,"Rbarbar = ",{"$f":"K7","v":0},"Rp = ",{"$f":"M7","v":0}]
[null,"Total Tol",{"$f":"C8","v":0},null,"# of parts = ",{"$f":"F8","v":10},"K3 = ",{"$f":"H8","v":0.31459999999999999}]
[]
["Measurement Unit Analysis",null,null,null,null,null,null,null,"% Total Variation"]
["Repeatability - Equipment Variation (EV)",null,null,null,null,null,null,null,"Percent Equipment Variation"]
[null,"EV               =","(Rbarbar) x (K1)",null,null,null,null,null,null,"%EV     =","100 [ EV / TV ]"]
[null,"                   =",{"$f":"IF(H6=\"\",0,CONCATENATE(\"(\",N29,\")\",\" x (\",H6,\")\"))","v":"(0) x (0.5908)"},null,null,null,"Trials","K1",null,"             =",{"$f":"CONCATENATE(\"100 [\",C45,\" / \",C64,\" ]\")","v":"100 [0 / 0 ]"}]
[null,"                   =",{"$f":"IF(H6=\"\",0,ROUND((N29*H6),5-LEN(INT((N29*H6)))))","v":0},null,null,null,2,0.88619999999999999,null,"             =",{"$f":"100*(C45/C64)","v":{"$error":"#DIV/0!"}},"%"]
[null,null,null,null,null,null,3,0.59079999999999999]
["Reproducibility - Appraiser Variation (AV)",null,null,null,null,null,null,null,"Percent Appraiser Variation"]
[null,"AV               =",{"$f":"CONCATENATE(\"SQRT{(\",\"Xbar diff\",\" x \",\"K 2\",\")^2 - (\",\"EV\",\"/[(\",\"# parts)\",\" x \",\"(# trials\",\")])}\")","v":"SQRT{(Xbar diff x K 2)^2 - (EV/[(# parts) x (# trials)])}"},null,null,null,null,null,null,"%AV     =","100 [ AV / TV ]"]
[null,"                   =",{"$f":"IF(H7=\"\",0,CONCATENATE(\"SQRT(\",ROUND((K37*H38)^2,5-LEN(INT((K37*H38)^2))),\" - \",ROUND((N29*H6)^2/(F8*F6),5-LEN(INT((N29*H6)^2/(F8*F6)))),\")\"))","v":"SQRT(0 - 0)"},null,null,null,null,null,null,"             =",{"$f":"CONCATENATE(\"100 [\",C50,\" / \",C64,\" ]\")","v":"100 [0 / 0 ]"}]
[null,"                   =",{"$f":"IF(H7=\"\",0,ROUND(SQRT((K37*H38)^2-(N29*H6)^2/(F8*F6)),5-LEN(INT((SQRT((K37*H38)^2-(N29*H6)^2/(F8*F6)))))))","v":0},null,null,"Appraisers",2,3,null,"             =",{"$f":"100*(C50/C64)","v":{"$error":"#DIV/0!"}},"%"]
[null,null,null,null,null,"K2",0.70709999999999995,0.52310000000000001]
["Repeatability & Reproducibility (GRR)",null,null,null,null,null,null,null,"Percent Gage Repeatability & Reproducibility Variation"]
[null,"GRR            =","SQRT[ (EV^2) + (AV^2) ]",null,null,null,null,null,null,"%GRR   =","100 [ GRR / TV ]"]
[null,"                  =",{"$f":"CONCATENATE(\"SQRT [ \",ROUND((C45)^2,5-LEN(INT((C45)^2))),\" + \",ROUND((C50^2),5-LEN(INT((C50^2)))),\" ]\")","v":"SQRT [ 0 + 0 ]"},null,null,null,null,null,null,"             =",{"$f":"CONCATENATE(\"100 [\",C55,\" / \",C64,\" ]\")","v":"100 [0 / 0 ]"}]
[null,"                  =",{"$f":"ROUND(SQRT((C45^2)+(C50^2)),5-LEN(INT((SQRT((C45^2)+(C50^2))))))","v":0},null,null,null,null,null,null,"             =",{"$f":"100*(C55/C64)","v":{"$error":"#DIV/0!"}},"%"]
[]
["Part Variation (PV)",null,null,null,null,null,"Parts","K3","Percent Part Variation"]
[null,"PV              =","Rp x K3",null,null,null,2,0.70709999999999995,null,"%PV    =","100 [ PV / TV ]"]
[null,"                   =",{"$f":"ROUND((M7*H8),5-LEN(INT(((M7*H8)))))","v":0},null,null,null,3,0.52310000000000001,null,"            =",{"$f":"CONCATENATE(\"100 [\",C59,\" / \",C64,\" ]\")","v":"100 [0 / 0 ]"}]
[null,null,null,null,null,null,4,0.44669999999999999,null,"            =",{"$f":"100*(C59/C64)","v":{"$error":"#DIV/0!"}},"%"]
["Total Variation (TV)",null,null,null,null,null,5,0.40300000000000002]
[null,"TV               =","SQRT[ (GRR^2) + (PV^2) ]",null,null,null,6,0.37419999999999998,"Number of Distinct Categories that can be Distinguished"]
[null,"                   =",{"$f":"CONCATENATE(\"SQRT [\",ROUND((C55)^2,5-LEN(INT((C55)^2))),\" + \",ROUND((C59^2),5-LEN(INT((C59^2)))),\" ]\")","v":"SQRT [0 + 0 ]"},null,null,null,7,0.35339999999999999,null,"ndc       =","1.41( PV / GRR )"]
[null,"                   =",{"$f":"ROUND(SQRT((C55^2)+(C59^2)),5-LEN(INT(SQRT((C55^2)+(C59^2)))))","v":0},null,null,null,8,0.33750000000000002,null,"            =",{"$f":"CONCATENATE(\"1.41 (\",C59,\" / \",C55,\" )\")","v":"1.41 (0 / 0 )"}]
[null,null,null,null,null,null,9,0.32490000000000002,null,"            =",{"$f":"1.41*(C59/C55)","v":{"$error":"#DIV/0!"}},"or approximately:",null,{"$f":"ROUNDDOWN(K65,0)","v":{"$error":"#DIV/0!"}}]
[null,null,null,null,null,null,10,0.31459999999999999]
["GR&R Study-ANOVA Method",null,null,null,null,null,null,"GR&R Study- Xbar-R Method"]
["Gage R&R Using 6.0 Standard Deviations (99.7%)",null,null,null,null,null,null,"Gage R&R Using 6.0 Standard Deviations (99.7%)"]
[]
[null,null,{"$f":"'Numerical Summary'!D36","v":"Study Variation"},null,{"$f":"'Numerical Summary'!F36","v":"% Study Variation"},null,{"$f":"'Numerical Summary'!H36","v":"% of Tolerance"},null,null,{"$f":"'Numerical Summary'!M36","v":"Study Variation"},null,{"$f":"'Numerical Summary'!O36","v":"% Study Variation"},null,{"$f":"'Numerical Summary'!Q36","v":"% of Tolerance"}]
[{"$f":"'Numerical Summary'!B37","v":"Source"},null,null,null,null,null,null,{"$f":"'Numerical Summary'!K37","v":"Source"}]
[{"$f":"'Numerical Summary'!B38","v":"Total Gage R&R"},null,{"$f":"'Numerical Summary'!D38","v":0},null,{"$f":"'Numerical Summary'!F38","v":{"$error":"#DIV/0!"}},null,{"$f":"'Numerical Summary'!H38","v":{"$error":"#DIV/0!"}},{"$f":"'Numerical Summary'!K38","v":"Total Gage R&R"},null,{"$f":"'Numerical Summary'!M38","v":0},null,{"$f":"'Numerical Summary'!O38","v":{"$error":"#DIV/0!"}},null,{"$f":"'Numerical Summary'!Q38","v":{"$error":"#DIV/0!"}}]
[{"$f":"'Numerical Summary'!B39","v":"   Repeatability"},null,{"$f":"'Numerical Summary'!D39","v":0},null,{"$f":"'Numerical Summary'!F39","v":{"$error":"#DIV/0!"}},null,{"$f":"'Numerical Summary'!H39","v":{"$error":"#DIV/0!"}},{"$f":"'Numerical Summary'!K39","v":"   Repeatability"},null,{"$f":"'Numerical Summary'!M39","v":0},null,{"$f":"'Numerical Summary'!O39","v":{"$error":"#DIV/0!"}},null,{"$f":"'Numerical Summary'!Q39","v":{"$error":"#DIV/0!"}}]
[{"$f":"'Numerical Summary'!B40","v":"   Reproducibility"},null,{"$f":"'Numerical Summary'!D40","v":0},null,{"$f":"'Numerical Summary'!F40","v":{"$error":"#DIV/0!"}},null,{"$f":"'Numerical Summary'!H40","v":{"$error":"#DIV/0!"}},{"$f":"'Numerical Summary'!K40","v":"   Reproducibility"},null,{"$f":"'Numerical Summary'!M40","v":0},null,{"$f":"'Numerical Summary'!O40","v":{"$error":"#DIV/0!"}},null,{"$f":"'Numerical Summary'!Q40","v":{"$error":"#DIV/0!"}}]
[null,{"$f":"'Numerical Summary'!C41","v":"Operator"},{"$f":"'Numerical Summary'!D41","v":0},null,{"$f":"'Numerical Summary'!F41","v":{"$error":"#DIV/0!"}},null,{"$f":"'Numerical Summary'!H41","v":{"$error":"#DIV/0!"}},{"$f":"'Numerical Summary'!K41","v":"Part to Part"},null,{"$f":"'Numerical Summary'!M41","v":0},null,{"$f":"'Numerical Summary'!O41","v":{"$error":"#DIV/0!"}},null,{"$f":"'Numerical Summary'!Q41","v":{"$error":"#DIV/0!"}}]
[null,{"$f":"'Numerical Summary'!C42","v":"Operator*Part"},{"$f":"'Numerical Summary'!D42","v":0},null,{"$f":"'Numerical Summary'!F42","v":{"$error":"#DIV/0!"}},null,{"$f":"'Numerical Summary'!H42","v":{"$error":"#DIV/0!"}},{"$f":"'Numerical Summary'!K42","v":"Total Variation"},null,{"$f":"'Numerical Summary'!M42","v":0},null,{"$f":"'Numerical Summary'!O42","v":{"$error":"#DIV/0!"}},null,{"$f":"'Numerical Summary'!Q42","v":{"$error":"#DIV/0!"}}]
[{"$f":"'Numerical Summary'!B43","v":"Part to Part"},null,{"$f":"'Numerical Summary'!D43","v":0},null,{"$f":"'Numerical Summary'!F43","v":{"$error":"#DIV/0!"}},null,{"$f":"'Numerical Summary'!H43","v":{"$error":"#DIV/0!"}}]
[{"$f":"'Numerical Summary'!B44","v":"Total Variation"},null,{"$f":"'Numerical Summary'!D44","v":0},null,{"$f":"'Numerical Summary'!F44","v":{"$error":"#DIV/0!"}},null,{"$f":"'Numerical Summary'!H44","v":{"$error":"#DIV/0!"}},"Number of Distinct Categories =",null,null,null,{"$f":"N65","v":{"$error":"#DIV/0!"}}]
[]
[{"$f":"'Numerical Summary'!B46","v":"Number of Distinct Categories ="},null,null,{"$f":"'Numerical Summary'!$E$46","v":{"$error":"#DIV/0!"}}]
[]
["Analysis of Variance (ANOVA) Table"]
[]
["Source",null,"DF","SS","MS","F","p"]
["Part ",null,{"$f":"'Numerical Summary'!D51","v":9},{"$f":"'Numerical Summary'!E51","v":0},{"$f":"'Numerical Summary'!F51","v":0},{"$f":"'Numerical Summary'!G51","v":{"$error":"#DIV/0!"}},{"$f":"'Numerical Summary'!H51","v":{"$error":"#DIV/0!"}}]
["Operator",null,{"$f":"'Numerical Summary'!D52","v":2},{"$f":"'Numerical Summary'!E52","v":0},{"$f":"'Numerical Summary'!F52","v":0},{"$f":"'Numerical Summary'!G52","v":{"$error":"#DIV/0!"}},{"$f":"'Numerical Summary'!H52","v":{"$error":"#DIV/0!"}}]
["Op.x Part Interaction",null,{"$f":"'Numerical Summary'!D53","v":18},{"$f":"'Numerical Summary'!E53","v":0},{"$f":"'Numerical Summary'!F53","v":0},{"$f":"'Numerical Summary'!G53","v":{"$error":"#DIV/0!"}},{"$f":"'Numerical Summary'!H53","v":{"$error":"#DIV/0!"}}]
["Gage (error)",null,{"$f":"'Numerical Summary'!D54","v":60},{"$f":"'Numerical Summary'!E54","v":0},{"$f":"'Numerical Summary'!F54","v":0},{"$f":"'Numerical Summary'!G54","v":0},{"$f":"'Numerical Summary'!H54","v":0}]
["Total ",null,{"$f":"'Numerical Summary'!D55","v":89},{"$f":"'Numerical Summary'!E55","v":0},{"$f":"'Numerical Summary'!F55","v":0},{"$f":"'Numerical Summary'!G55","v":0},{"$f":"'Numerical Summary'!H55","v":0}]
[]
["p value for Op. x Part Interaction as error term = 0.25"]
[]
["Gage Repeatability and Reproducibility Report - % TOLERANCE (5.15 Sigma)"]
[null,"Part No. & Name: ",{"$f":"IF(C2=\"\",\"\",C2)","v":0},null,null,null,"Gage Name: ",{"$f":"IF(H2=\"\",\"\",H2)","v":0},null,null,null,"Date: ",{"$f":"IF(M2=\"\",\"\",M2)","v":"00:00:00"}]
[null,"Characteristics: ",{"$f":"IF(C3=\"\",\"\",C3)","v":0},null,null,null,"Gage Number:",{"$f":"IF(H3=\"\",\"\",H3)","v":0},null,null,null,"Performed by: ",{"$f":"IF(M3=\"\",\"\",M3)","v":0}]
[null,"Specifications: ",{"$f":"IF(C4=\"\",\"\",C4)","v":0},null,null,null,"Gage Type: ",{"$f":"IF(H4=\"\",\"\",H4)","v":0}]
[]
[null,"Upper Spec",{"$f":"C6","v":0},null,"# of Trials = ",{"$f":"F6","v":3},"K1 = ",{"$f":"H6","v":0.59079999999999999},null,"Xbar diff = ",{"$f":"K6","v":0},"D4 = ",{"$f":"M6","v":2.58}]
[null,"Lower Spec",{"$f":"C7","v":0},null,"# of appraisers = ",{"$f":"F7","v":3},"K2 = ",{"$f":"H7","v":0.52310000000000001},null,"Rbarbar = ",{"$f":"K7","v":0},"Rp = ",{"$f":"M7","v":0}]
[null,"Total Tol",{"$f":"C8","v":0},null,"# of parts = ",{"$f":"F8","v":10},"K3 = ",{"$f":"H8","v":0.31459999999999999}]
[]
["Measurement Unit Analysis",null,null,null,null,null,null,null,"% Total Tolerance"]
["Repeatability - Equipment Variation (EV)",null,null,null,null,null,null,null,"Percent Equipment Variation"]
[null,"EV               =","(Rbarbar) x (K1) x (5.1 Sigma)",null,null,null,null,null,null,"%EV     =","100 [ EV / Total Tol ]"]
[null,"                   =",{"$f":"IF(H6=\"\",0,CONCATENATE(\"(\",N29,\")\",\" x (\",H6,\")\",\" x (5.1)\"))","v":"(0) x (0.5908) x (5.1)"},null,null,null,"Trials","K1",null,"             =",{"$f":"CONCATENATE(\"100 [\",C106,\" / \",C100,\" ]\")","v":"100 [0 / 0 ]"}]
[null,"                   =",{"$f":"IF(H6=\"\",0,ROUND((N29*H6*5.1),5-LEN(INT((N29*H6*5.1)))))","v":0},null,null,null,2,0.88619999999999999,null,"             =",{"$f":"IF(OR(COUNTBLANK(C6)=1,COUNTBLANK(C7)=1),\"Enter Tol\",100*(C106/C100))","v":{"$error":"#DIV/0!"}},"%"]
[null,null,null,null,null,null,3,0.59079999999999999]
["Reproducibility - Appraiser Variation (AV)",null,null,null,null,null,null,null,"Percent Appraiser Variation"]
[null,"AV               =",{"$f":"CONCATENATE(\"(5.1 Sigma) x SQRT{(\",\"Xbar diff\",\" x \",\"K 2\",\")^2 - (\",\"EV\",\"/[(\",\"# parts)\",\" x \",\"(# trials\",\")])}\")","v":"(5.1 Sigma) x SQRT{(Xbar diff x K 2)^2 - (EV/[(# parts) x (# trials)])}"},null,null,null,null,null,null,"%AV     =","100 [ AV / Total Tol ]"]
[null,"                   =",{"$f":"IF(H7=\"\",0,CONCATENATE(\"(5.1) x SQRT(\",ROUND((K98*H99)^2,5-LEN(INT((K98*H99)^2))),\" - \",ROUND((N29*H6)^2/(F8*F6),5-LEN(INT((N29*H6)^2/(F8*F6)))),\")\"))","v":"(5.1) x SQRT(0 - 0)"},null,null,null,null,null,null,"             =",{"$f":"CONCATENATE(\"100 [\",C111,\" / \",C100,\" ]\")","v":"100 [0 / 0 ]"}]
[null,"                   =",{"$f":"IF(H7=\"\",0,ROUND(5.1*SQRT((K98*H99)^2-(N29*H6)^2/(F8*F6)),5-LEN(INT((5.1*SQRT((K98*H99)^2-(N29*H6)^2/(F8*F6)))))))","v":0},null,null,"Appraisers",2,3,null,"             =",{"$f":"IF(OR(COUNTBLANK(C6)=1,COUNTBLANK(C7)=1),\"Enter Tol\",100*(C111/C100))","v":{"$error":"#DIV/0!"}},"%"]
[null,null,null,null,null,"K2",0.70709999999999995,0.52310000000000001]
["Repeatability & Reproducibility (GRR)",null,null,null,null,null,null,null,"Percent Gage Repeatability & Reproducibility Variation"]
[null,"GRR            =","SQRT[ (EV^2) + (AV^2) ]",null,null,null,null,null,null,"%GRR   =","100 [ GRR / Total Tol ]"]
[null,"                  =",{"$f":"CONCATENATE(\"SQRT [ \",ROUND((C106)^2,5-LEN(INT((C106)^2))),\" + \",ROUND((C111^2),5-LEN(INT((C111^2)))),\" ]\")","v":"SQRT [ 0 + 0 ]"},null,null,null,null,null,null,"             =",{"$f":"CONCATENATE(\"100 [\",C116,\" / \",C100,\" ]\")","v":"100 [0 / 0 ]"}]
[null,"                  =",{"$f":"ROUND(SQRT((C106^2)+(C111^2)),5-LEN(INT((SQRT((C106^2)+(C111^2))))))","v":0},null,null,null,null,null,null,"             =",{"$f":"IF(OR(COUNTBLANK(C6)=1,COUNTBLANK(C7)=1),\"Enter Tol\",100*(C116/C100))","v":{"$error":"#DIV/0!"}},"%"]
[]
["Part Variation (PV)",null,null,null,null,null,"Parts","K3","Percent Part Variation"]
[null,"PV              =","(Rp) x (K3) x (5.1 Sigma)",null,null,null,2,0.70709999999999995,null,"%PV    =","100 [ PV / Total Tol ]"]
[null,"                   =",{"$f":"CONCATENATE(\"(\",N28,\") x (\",H8,\") x (\",5.1,\")\")","v":"(0) x (0.3146) x (5.1)"},null,null,null,3,0.52310000000000001,null,"            =",{"$f":"CONCATENATE(\"100 [\",C121,\" / \",C100,\" ]\")","v":"100 [0 / 0 ]"}]
[null,"                   =",{"$f":"5.1*ROUND((M7*H8),5-LEN(INT(((M7*H8)))))","v":0},null,null,null,4,0.44669999999999999,null,"            =",{"$f":"IF(OR(COUNTBLANK(C6)=1,COUNTBLANK(C7)=1),\"Enter Tol\",100*(C121/C100))","v":{"$error":"#DIV/0!"}},"%"]
[null,null,null,null,null,null,5,0.40300000000000002]
["Total Tolerance (Total Tol)",null,null,null,null,null,6,0.37419999999999998,"Number of Distinct Categories that can be Distinguished"]
[null,"TV               =","Upper Spec - Lower Spec",null,null,null,7,0.35339999999999999,null,"ndc       =","1.41( PV / GRR )"]
[null,"                   =",{"$f":"CONCATENATE(C6, \" - \",C7)","v":"0 - 0"},null,null,null,8,0.33750000000000002,null,"            =",{"$f":"CONCATENATE(\"1.41 (\",C121,\" / \",C116,\" )\")","v":"1.41 (0 / 0 )"}]
[null,"                   =",{"$f":"C6-C7","v":0},null,null,null,9,0.32490000000000002,null,"            =",{"$f":"1.41*(C121/C116)","v":{"$error":"#DIV/0!"}},"or approximately:",null,{"$f":"ROUNDDOWN(K126,0)","v":{"$error":"#DIV/0!"}}]
[null,null,null,null,null,null,10,0.31459999999999999]

{"sheet":"Graphical Summary","index":13,"n_rows":4,"n_cols":16,"rows_kept":4,"cut":false,"hidden":false,"merged":[[3,15,3,16],[2,1,2,2],[2,3,2,5],[2,7,2,8],[2,9,2,11],[2,13,2,14],[2,15,2,16],[3,1,3,2],[3,3,3,5],[3,7,3,8],[3,9,3,11],[3,13,3,14],[1,15,1,16],[1,1,1,2],[1,3,1,5],[1,7,1,8],[1,9,1,11],[1,13,1,14]]}
[{"$f":"CONCATENATE(\"Gage R&R for \",'AIAG GR&R'!C3)","v":"Gage R&R for 0"}]
[null,"Gage Name:",null,{"$f":"IF('AIAG GR&R'!$H$2=\"\",\"\",'AIAG GR&R'!$H$2)","v":0},null,null,null,"Part No. & Name:",null,{"$f":"IF('AIAG GR&R'!C2=\"\",\"\",'AIAG GR&R'!C2)","v":0},null,null,null,"Upper Tolerance:",null,{"$f":"IF('AIAG GR&R'!C6=\"\",\"\",'AIAG GR&R'!C6)","v":0}]
[null,"Date:",null,{"$f":"IF('AIAG GR&R'!$M$2=\"\",\"\",'AIAG GR&R'!$M$2)","v":"00:00:00"},null,null,null,"Gage No.",null,{"$f":"IF('AIAG GR&R'!H3=\"\",\"\",'AIAG GR&R'!H3)","v":0},null,null,null,"Lower Tolerance:",null,{"$f":"IF('AIAG GR&R'!C7=\"\",\"\",'AIAG GR&R'!C7)","v":0}]
[null,"Performed by:",null,{"$f":"IF('AIAG GR&R'!$M$3=\"\",\"\",'AIAG GR&R'!$M$3)","v":0},null,null,null,"Gage Type:",null,{"$f":"IF('AIAG GR&R'!H4=\"\",\"\",'AIAG GR&R'!H4)","v":0},null,null,null,"Total Tolerance:",null,{"$f":"IF('AIAG GR&R'!C8=\"\",\"\",'AIAG GR&R'!C8)","v":0}]

{"sheet":"Numerical Summary","index":14,"n_rows":57,"n_cols":17,"rows_kept":57,"cut":false,"hidden":true,"merged":[[54,1,54,2],[45,1,45,3],[49,1,49,2],[50,1,50,2],[51,1,51,2],[52,1,52,2],[53,1,53,2],[43,1,43,2],[43,10,43,12],[36,10,36,11],[37,1,37,2],[37,10,37,11],[38,1,38,2],[38,10,38,11],[35,3,36,3],[35,5,36,5],[35,7,36,7],[35,12,36,12],[39,1,39,2],[39,10,39,11],[40,10,40,11],[41,10,41,11],[42,1,42,2],[35,14,36,14],[35,16,36,16],[27,1,27,2],[27,10,27,11],[28,10,28,11],[29,10,29,11],[30,1,30,2],[31,1,31,2],[36,1,36,2],[25,1,25,2],[25,10,25,11],[26,1,26,2],[26,10,26,11],[23,3,24,3],[23,5,24,5],[23,7,24,7],[23,12,24,12],[23,14,24,14],[23,16,24,16],[14,10,14,11],[15,10,15,11],[24,10,24,11],[16,1,16,2],[17,1,17,2],[17,10,17,11],[19,1,19,2],[24,1,24,2],[11,1,11,2],[11,10,11,11],[12,1,12,2],[12,10,12,11],[13,1,13,2],[13,10,13,11],[6,1,6,7],[6,10,6,16],[9,7,10,7],[9,16,10,16],[10,1,10,2],[10,10,10,11],[3,15,3,17],[2,1,2,2],[2,3,2,5],[2,7,2,8],[2,9,2,11],[2,13,2,14],[2,15,2,17],[3,1,3,2],[3,3,3,5],[3,7,3,8],[3,9,3,11],[3,13,3,14],[1,15,1,17],[1,1,1,2],[1,3,1,5],[1,7,1,8],[1,9,1,11],[1,13,1,14]]}
[{"$f":"CONCATENATE(\"Gage R&R for \",'AIAG GR&R'!C3)","v":"Gage R&R for 0"}]
[null,"Gage Name:",null,{"$f":"IF('AIAG GR&R'!$H$2=\"\",\"\",'AIAG GR&R'!$H$2)","v":0},null,null,null,"Part No. & Name:",null,{"$f":"IF('AIAG GR&R'!C2=\"\",\"\",'AIAG GR&R'!C2)","v":0},null,null,null,"Upper Tolerance:",null,{"$f":"IF('AIAG GR&R'!C6=\"\",\"\",'AIAG GR&R'!C6)","v":0}]
[null,"Date:",null,{"$f":"IF('AIAG GR&R'!$M$2=\"\",\"\",'AIAG GR&R'!$M$2)","v":"00:00:00"},null,null,null,"Gage No.",null,{"$f":"IF('AIAG GR&R'!H3=\"\",\"\",'AIAG GR&R'!H3)","v":0},null,null,null,"Lower Tolerance:",null,{"$f":"IF('AIAG GR&R'!C7=\"\",\"\",'AIAG GR&R'!C7)","v":0}]
[null,"Performed by:",null,{"$f":"IF('AIAG GR&R'!$M$3=\"\",\"\",'AIAG GR&R'!$M$3)","v":0},null,null,null,"Gage Type:",null,{"$f":"IF('AIAG GR&R'!H4=\"\",\"\",'AIAG GR&R'!H4)","v":0},null,null,null,"Total Tolerance:",null,{"$f":"IF('AIAG GR&R'!C8=\"\",\"\",'AIAG GR&R'!C8)","v":0}]
[]
[]
[null,"Gage R&R Study - ANOVA Method",null,null,null,null,null,null,null,null,"Gage R&R Study - Xbar/Range Method"]
[]
[null,"Variance and Standard Deviation Components",null,null,null,null,null,null,null,null,"Variance and Standard Deviation Components"]
[null,null,null,null,null,null,null,"% of Variance",null,null,null,null,null,null,null,null,"% of Variance"]
[null,"Source",null,"St. Dev.",null,"Variance",null,null,null,null,"Source",null,"St. Dev.",null,"Variance"]
[null,"Total Gage R&R",null,{"$f":"IF(F12<0,0,SQRT(F12))","v":0},null,{"$f":"IF(Calculations!Z3<0,0,Calculations!Z3)","v":0},null,{"$f":"F12/$F$18","v":{"$error":"#DIV/0!"}},null,null,"Total Gage R&R",null,{"$f":"'AIAG GR&R'!C55","v":0},null,{"$f":"M12^2","v":0},null,{"$f":"O12/$O$16","v":{"$error":"#DIV/0!"}}]
[null,"   Repeatability",null,{"$f":"IF(F13<0,0,SQRT(F13))","v":0},null,{"$f":"IF(Calculations!Z4<0,0,Calculations!Z4)","v":0},null,{"$error":"#DIV/0!"},null,null,"   Repeatability",null,{"$f":"'AIAG GR&R'!C45","v":0},null,{"$f":"M13^2","v":0},null,{"$f":"O13/$O$16","v":{"$error":"#DIV/0!"}}]
[null,"   Reproducibility",null,0,null,{"$f":"IF(Calculations!Z5<0,0,Calculations!Z5)","v":0},null,{"$error":"#DIV/0!"},null,null,"   Reproducibility",null,{"$f":"'AIAG GR&R'!C50","v":0},null,{"$f":"M14^2","v":0},null,{"$f":"O14/$O$16","v":{"$error":"#DIV/0!"}}]
[null,null,"Operator",0,null,{"$f":"IF(Calculations!Z6<0,0,Calculations!Z6)","v":0},null,{"$error":"#DIV/0!"},null,null,"Part to Part",null,{"$f":"'AIAG GR&R'!C59","v":0},null,{"$f":"M15^2","v":0},null,{"$f":"O15/$O$16","v":{"$error":"#DIV/0!"}}]
[null,null,"Operator*Part",0,null,{"$f":"IF(Calculations!Z7<0,0,Calculations!Z7)","v":0},null,{"$error":"#DIV/0!"},null,null,"Total Variation",null,{"$f":"'AIAG GR&R'!C64","v":0},null,{"$f":"M16^2","v":0},null,{"$f":"O16/$O$16","v":{"$error":"#DIV/0!"}}]
[null,"Part to Part",null,0,null,{"$f":"IF(Calculations!Z8<0,0,Calculations!Z8)","v":0},null,{"$error":"#DIV/0!"}]
[null,"Total Variation",null,0,null,{"$f":"IF(Calculations!Z9<0,0,Calculations!Z9)","v":0},null,{"$error":"#DIV/0!"},null,null,"Process Tolerance =",null,{"$f":"'AIAG GR&R'!C8","v":0}]
[]
[null,"Process Tolerance =",null,{"$f":"M18","v":0}]
[]
[null,"Gage R&R Using 5.15 Standard Deviations (99%)",null,null,null,null,null,null,null,null,"Gage R&R Using 5.15 Standard Deviations (99%)"]
[]
[null,null,null,"Study Variation",null,"% Study Variation",null,"% of Tolerance",null,null,null,null,"Study Variation",null,"% Study Variation",null,"% of Tolerance"]
[null,"Source",null,null,null,null,null,null,null,null,"Source"]
[null,"Total Gage R&R",null,{"$f":"D12*5.15","v":0},null,{"$f":"D26/$D$32","v":{"$error":"#DIV/0!"}},null,{"$f":"D26/$D$20","v":{"$error":"#DIV/0!"}},null,null,"Total Gage R&R",null,{"$f":"M12*5.15","v":0},null,{"$f":"(M26/$M$30)","v":{"$error":"#DIV/0!"}},null,{"$f":"M26/$M$18","v":{"$error":"#DIV/0!"}}]
[null,"   Repeatability",null,{"$f":"D13*5.15","v":0},null,{"$error":"#DIV/0!"},null,{"$error":"#DIV/0!"},null,null,"   Repeatability",null,{"$f":"M13*5.15","v":0},null,{"$f":"(M27/$M$30)","v":{"$error":"#DIV/0!"}},null,{"$f":"M27/$M$18","v":{"$error":"#DIV/0!"}}]
[null,"   Reproducibility",null,0,null,{"$error":"#DIV/0!"},null,{"$error":"#DIV/0!"},null,null,"   Reproducibility",null,{"$f":"M14*5.15","v":0},null,{"$f":"(M28/$M$30)","v":{"$error":"#DIV/0!"}},null,{"$f":"M28/$M$18","v":{"$error":"#DIV/0!"}}]
[null,null,"Operator",0,null,{"$error":"#DIV/0!"},null,{"$error":"#DIV/0!"},null,null,"Part to Part",null,{"$f":"M15*5.15","v":0},null,{"$f":"(M29/$M$30)","v":{"$error":"#DIV/0!"}},null,{"$f":"M29/$M$18","v":{"$error":"#DIV/0!"}}]
[null,null,"Operator*Part",0,null,{"$error":"#DIV/0!"},null,{"$error":"#DIV/0!"},null,null,"Total Variation",null,{"$f":"M16*5.15","v":0},null,{"$f":"(M30/$M$30)","v":{"$error":"#DIV/0!"}},null,{"$f":"M30/$M$18","v":{"$error":"#DIV/0!"}}]
[null,"Part to Part",null,0,null,{"$error":"#DIV/0!"},null,{"$error":"#DIV/0!"}]
[null,"Total Variation",null,0,null,{"$error":"#DIV/0!"},null,{"$error":"#DIV/0!"}]
[]
[null,"Gage R&R Using 6.0 Standard Deviations (99.7%)",null,null,null,null,null,null,null,null,"Gage R&R Using 6.0 Standard Deviations (99.7%)"]
[]
[null,null,null,"Study Variation",null,"% Study Variation",null,"% of Tolerance",null,null,null,null,"Study Variation",null,"% Study Variation",null,"% of Tolerance"]
[null,"Source",null,null,null,null,null,null,null,null,"Source"]
[null,"Total Gage R&R",null,{"$f":"D12*6","v":0},null,{"$f":"D38/$D$44","v":{"$error":"#DIV/0!"}},null,{"$f":"D38/$D$20","v":{"$error":"#DIV/0!"}},null,null,"Total Gage R&R",null,{"$f":"M12*6","v":0},null,{"$f":"(M38/$M$42)","v":{"$error":"#DIV/0!"}},null,{"$f":"M38/$M$18","v":{"$error":"#DIV/0!"}}]
[null,"   Repeatability",null,{"$f":"D13*6","v":0},null,{"$error":"#DIV/0!"},null,{"$error":"#DIV/0!"},null,null,"   Repeatability",null,{"$f":"M13*6","v":0},null,{"$f":"(M39/$M$42)","v":{"$error":"#DIV/0!"}},null,{"$f":"M39/$M$18","v":{"$error":"#DIV/0!"}}]
[null,"   Reproducibility",null,0,null,{"$error":"#DIV/0!"},null,{"$error":"#DIV/0!"},null,null,"   Reproducibility",null,{"$f":"M14*6","v":0},null,{"$f":"(M40/$M$42)","v":{"$error":"#DIV/0!"}},null,{"$f":"M40/$M$18","v":{"$error":"#DIV/0!"}}]
[null,null,"Operator",0,null,{"$error":"#DIV/0!"},null,{"$error":"#DIV/0!"},null,null,"Part to Part",null,{"$f":"M15*6","v":0},null,{"$f":"(M41/$M$42)","v":{"$error":"#DIV/0!"}},null,{"$f":"M41/$M$18","v":{"$error":"#DIV/0!"}}]
[null,null,"Operator*Part",0,null,{"$error":"#DIV/0!"},null,{"$error":"#DIV/0!"},null,null,"Total Variation",null,{"$f":"M16*6","v":0},null,{"$f":"(M42/$M$42)","v":{"$error":"#DIV/0!"}},null,{"$f":"M42/$M$18","v":{"$error":"#DIV/0!"}}]
[null,"Part to Part",null,0,null,{"$error":"#DIV/0!"},null,{"$error":"#DIV/0!"}]
[null,"Total Variation",null,0,null,{"$error":"#DIV/0!"},null,{"$error":"#DIV/0!"},null,null,"Number of Distinct Categories =",null,null,{"$f":"'AIAG GR&R'!N65","v":{"$error":"#DIV/0!"}}]
[]
[null,"Number of Distinct Categories =",null,null,{"$f":"ROUNDDOWN(1.41*(D17/D12),0)","v":{"$error":"#DIV/0!"}}]
[]
[null,"Analysis of Variance (ANOVA) Table"]
[]
[null,"Source",null,"DF","SS","MS","F","p"]
[null,"Part ",null,{"$f":"Calculations!S3","v":9},{"$f":"Calculations!T3","v":0},{"$f":"Calculations!U3","v":0},{"$f":"Calculations!V3","v":{"$error":"#DIV/0!"}},{"$f":"Calculations!W3","v":{"$error":"#DIV/0!"}}]
[null,"Operator",null,{"$f":"Calculations!S4","v":2},{"$f":"Calculations!T4","v":0},{"$f":"Calculations!U4","v":0},{"$f":"Calculations!V4","v":{"$error":"#DIV/0!"}},{"$f":"Calculations!W4","v":{"$error":"#DIV/0!"}}]
[null,"Op.x Part Interaction",null,{"$f":"Calculations!S5","v":18},{"$f":"Calculations!T5","v":0},{"$f":"Calculations!U5","v":0},{"$f":"Calculations!V5","v":{"$error":"#DIV/0!"}},{"$f":"Calculations!W5","v":{"$error":"#DIV/0!"}}]
[null,"Gage (error)",null,{"$f":"Calculations!S6","v":60},{"$f":"Calculations!T6","v":0},{"$f":"Calculations!U6","v":0}]
[null,"Total ",null,{"$f":"Calculations!S7","v":89},{"$f":"Calculations!T7","v":0}]
[]
[null,"p value for Op. x Part Interaction as error term = 0.25"]

{"sheet":"Calculations","index":15,"n_rows":164,"n_cols":84,"rows_kept":164,"cut":false,"hidden":true,"merged":[[39,14,39,16],[39,17,39,19],[39,41,39,43],[39,46,39,48],[39,49,39,51],[39,33,39,35],[39,30,39,32],[39,22,39,24],[39,25,39,27],[39,38,39,40],[38,14,38,19],[38,22,38,27],[38,30,38,35],[38,38,38,43],[38,46,38,51],[38,70,38,75],[38,78,38,83],[38,54,38,59],[39,65,39,67],[39,70,39,72],[39,73,39,75],[39,78,39,80],[39,81,39,83],[39,54,39,56],[39,57,39,59],[39,62,39,64],[38,62,38,67],[104,14,104,19],[106,14,106,16],[106,17,106,19],[106,27,106,29],[71,14,71,19],[71,22,71,27],[72,14,72,16],[72,17,72,19],[72,22,72,24],[72,25,72,27]]}
["Part (P)",null,null,"Technician (T)",null,null,null,null,null,null,"Cell Interaction Squares",null,null,null,null,null,null,"ANOVA Table"]
["No.",null,"A","B","C","Sum","n","Avg","RowSqs","A","B","C",null,null,"X2",null,null,"Source","DF","SS","MS","F","P",null,"Source","Variance"]
[null,1,{"$f":"Calculations!G41","v":0},{"$f":"Calculations!G51","v":0},{"$f":"Calculations!G61","v":0},null,null,null,null,null,null,null,null,{"$f":"IF(C3=\"\",\"\",C3^2)","v":0},{"$f":"IF(D3=\"\",\"\",D3^2)","v":0},{"$f":"IF(E3=\"\",\"\",E3^2)","v":0},null,"Part ",{"$f":"Calculations!X13-1","v":9},{"$f":"C43","v":0},{"$f":"T3/S3","v":0},{"$f":"IF(W5<0.25,U3/U5,U3/U6)","v":{"$error":"#DIV/0!"}},{"$f":"IF(W5<0.25,FDIST(V3,S3,$S$5),FDIST(V3,S3,$S$6))","v":{"$error":"#DIV/0!"}},null,"Total GR&R",{"$f":"Z4+Z5","v":0}]
[1,2,{"$f":"Calculations!H41","v":0},{"$f":"Calculations!H51","v":0},{"$f":"Calculations!H61","v":0},{"$f":"SUM(C3:E5)","v":0},{"$f":"COUNT(Calculations!G41:I41,Calculations!G51:I51,Calculations!G61:I61)","v":9},{"$f":"IF(Calculations!G41=\"\",0,AVERAGE(Calculations!G41:I41,Calculations!G51:I51,Calculations!G61:I61))","v":0},{"$f":"IF(F4=0,0,F4^2/G4)","v":0},{"$f":"IF(COUNT(Calculations!G41:I41)=0,0,(SUM(Calculations!G41:I41)^2/COUNT(Calculations!G41:I41)))","v":0},{"$f":"IF(COUNT(Calculations!G51:I51)=0,0,(SUM(Calculations!G51:I51)^2)/COUNT(Calculations!G51:I51))","v":0},{"$f":"IF(COUNT(Calculations!G61:I61)=0,0,(SUM(Calculations!G61:I61)^2)/COUNT(Calculations!G61:I61))","v":0},null,{"$f":"IF(C4=\"\",\"\",C4^2)","v":0},0,0,null,"Operator",{"$f":"Calculations!X12-1","v":2},{"$f":"C42","v":0},{"$f":"T4/S4","v":0},{"$f":"IF(W5<0.25,U4/U5,U4/U6)","v":{"$error":"#DIV/0!"}},{"$f":"IF(W5<0.25,FDIST(V4,S4,$S$5),FDIST(V4,S4,$S$6))","v":{"$error":"#DIV/0!"}},null,"Repeatability",{"$f":"U6","v":0}]
[null,3,{"$f":"Calculations!I41","v":0},{"$f":"Calculations!I51","v":0},{"$f":"Calculations!I61","v":0},null,null,null,null,null,null,null,null,0,0,0,null,"Op.x Part Interaction",{"$f":"S4*S3","v":18},{"$f":"C44","v":0},{"$f":"T5/S5","v":0},{"$f":"U5/$U$6","v":{"$error":"#DIV/0!"}},{"$f":"FDIST(V5,S5,$S$6)","v":{"$error":"#DIV/0!"}},null,"Reproducibility",{"$f":"Z6+Z7","v":0}]
[null,1,{"$f":"Calculations!G42","v":0},{"$f":"Calculations!G52","v":0},{"$f":"Calculations!G62","v":0},null,null,null,null,null,null,null,null,0,0,0,null,"Gage (error)",{"$f":"(C39-1)-S4-S3-S5","v":60},{"$f":"C45","v":0},{"$f":"T6/S6","v":0},null,null,null,"Operator",{"$f":"(U4-U5)/(X11*X13)","v":0}]
[2,2,{"$f":"Calculations!H42","v":0},{"$f":"Calculations!H52","v":0},{"$f":"Calculations!H62","v":0},{"$f":"SUM(C6:E8)","v":0},{"$f":"COUNT(Calculations!G42:I42,Calculations!G52:I52,Calculations!G62:I62)","v":9},{"$f":"IF(Calculations!G42=\"\",0,AVERAGE(Calculations!G42:I42,Calculations!G52:I52,Calculations!G62:I62))","v":0},{"$f":"IF(F7=0,0,F7^2/G7)","v":0},{"$f":"IF(COUNT(Calculations!G42:I42)=0,0,(SUM(Calculations!G42:I42)^2/COUNT(Calculations!G42:I42)))","v":0},{"$f":"IF(COUNT(Calculations!G52:I52)=0,0,(SUM(Calculations!G52:I52)^2)/COUNT(Calculations!G52:I52))","v":0},{"$f":"IF(COUNT(Calculations!G62:I62)=0,0,(SUM(Calculations!G62:I62)^2)/COUNT(Calculations!G62:I62))","v":0},null,0,0,0,null,"Total ",{"$f":"SUM(S3:S6)","v":89},{"$f":"SUM(T3:T6)","v":0},null,null,null,null,"Operator*Part",{"$f":"(U5-U6)/X11","v":0}]
[null,3,{"$f":"Calculations!I42","v":0},{"$f":"Calculations!I52","v":0},{"$f":"Calculations!I62","v":0},null,null,null,null,null,null,null,null,0,0,0,null,null,null,null,null,null,null,null,"Part-Part",{"$f":"(U3-U5)/(X11*X12)","v":0}]
[null,1,{"$f":"Calculations!G43","v":0},{"$f":"Calculations!G53","v":0},{"$f":"Calculations!G63","v":0},null,null,null,null,null,null,null,null,0,0,0,null,null,null,null,null,null,null,null,"Total Variation",{"$f":"Z4+Z5+Z8","v":0}]
[3,2,{"$f":"Calculations!H43","v":0},{"$f":"Calculations!H53","v":0},{"$f":"Calculations!H63","v":0},{"$f":"SUM(C9:E11)","v":0},{"$f":"COUNT(Calculations!G43:I43,Calculations!G53:I53,Calculations!G63:I63)","v":9},{"$f":"IF(Calculations!G43=\"\",0,AVERAGE(Calculations!G43:I43,Calculations!G53:I53,Calculations!G63:I63))","v":0},{"$f":"IF(F10=0,0,F10^2/G10)","v":0},{"$f":"IF(COUNT(Calculations!G43:I43)=0,0,(SUM(Calculations!G43:I43)^2/COUNT(Calculations!G43:I43)))","v":0},{"$f":"IF(COUNT(Calculations!G53:I53)=0,0,(SUM(Calculations!G53:I53)^2)/COUNT(Calculations!G53:I53))","v":0},{"$f":"IF(COUNT(Calculations!G63:I63)=0,0,(SUM(Calculations!G63:I63)^2)/COUNT(Calculations!G63:I63))","v":0},null,0,0,0]
[null,3,{"$f":"Calculations!I43","v":0},{"$f":"Calculations!I53","v":0},{"$f":"Calculations!I63","v":0},null,null,null,null,null,null,null,null,0,0,0,null,null,"Gage R&R","Repeat","Reprod","Part-Part",null,{"$f":"'AIAG GR&R'!F6","v":3},"Trials"]
[null,1,{"$f":"Calculations!G44","v":0},{"$f":"Calculations!G54","v":0},{"$f":"Calculations!G64","v":0},null,null,null,null,null,null,null,null,0,0,0,null,"% Contribution",{"$f":"'Numerical Summary'!Q12","v":{"$error":"#DIV/0!"}},{"$f":"'Numerical Summary'!Q13","v":{"$error":"#DIV/0!"}},{"$f":"'Numerical Summary'!Q14","v":{"$error":"#DIV/0!"}},{"$f":"'Numerical Summary'!Q15","v":{"$error":"#DIV/0!"}},null,{"$f":"'AIAG GR&R'!F7","v":3},"Operators"]
[4,2,{"$f":"Calculations!H44","v":0},{"$f":"Calculations!H54","v":0},{"$f":"Calculations!H64","v":0},{"$f":"SUM(C12:E14)","v":0},{"$f":"COUNT(Calculations!G44:I44,Calculations!G54:I54,Calculations!G64:I64)","v":9},{"$f":"IF(Calculations!G44=\"\",0,AVERAGE(Calculations!G44:I44,Calculations!G54:I54,Calculations!G64:I64))","v":0},{"$f":"IF(F13=0,0,F13^2/G13)","v":0},{"$f":"IF(COUNT(Calculations!G44:I44)=0,0,(SUM(Calculations!G44:I44)^2/COUNT(Calculations!G44:I44)))","v":0},{"$f":"IF(COUNT(Calculations!G54:I54)=0,0,(SUM(Calculations!G54:I54)^2)/COUNT(Calculations!G54:I54))","v":0},{"$f":"IF(COUNT(Calculations!G64:I64)=0,0,(SUM(Calculations!G64:I64)^2)/COUNT(Calculations!G64:I64))","v":0},null,0,0,0,null,"% Study Variation",{"$f":"'Numerical Summary'!O26","v":{"$error":"#DIV/0!"}},{"$f":"'Numerical Summary'!O27","v":{"$error":"#DIV/0!"}},{"$f":"'Numerical Summary'!O28","v":{"$error":"#DIV/0!"}},{"$f":"'Numerical Summary'!O29","v":{"$error":"#DIV/0!"}},null,{"$f":"'AIAG GR&R'!F8","v":10},"Parts"]
[null,3,{"$f":"Calculations!I44","v":0},{"$f":"Calculations!I54","v":0},{"$f":"Calculations!I64","v":0},null,null,null,null,null,null,null,null,0,0,0,null,"% Tol (5.15 SD)",{"$f":"'Numerical Summary'!Q26","v":{"$error":"#DIV/0!"}},{"$f":"'Numerical Summary'!Q27","v":{"$error":"#DIV/0!"}},{"$f":"'Numerical Summary'!Q28","v":{"$error":"#DIV/0!"}},{"$f":"'Numerical Summary'!Q29","v":{"$error":"#DIV/0!"}}]
[null,1,{"$f":"Calculations!G45","v":0},{"$f":"Calculations!G55","v":0},{"$f":"Calculations!G65","v":0},null,null,null,null,null,null,null,null,0,0,0,null,"% Tol (6.0 SD)",{"$f":"'Numerical Summary'!Q38","v":{"$error":"#DIV/0!"}},{"$f":"'Numerical Summary'!Q39","v":{"$error":"#DIV/0!"}},{"$f":"'Numerical Summary'!Q40","v":{"$error":"#DIV/0!"}},{"$f":"'Numerical Summary'!Q41","v":{"$error":"#DIV/0!"}}]
[5,2,{"$f":"Calculations!H45","v":0},{"$f":"Calculations!H55","v":0},{"$f":"Calculations!H65","v":0},{"$f":"SUM(C15:E17)","v":0},{"$f":"COUNT(Calculations!G45:I45,Calculations!G55:I55,Calculations!G65:I65)","v":9},{"$f":"IF(Calculations!G45=\"\",0,AVERAGE(Calculations!G45:I45,Calculations!G55:I55,Calculations!G65:I65))","v":0},{"$f":"IF(F16=0,0,F16^2/G16)","v":0},{"$f":"IF(COUNT(Calculations!G45:I45)=0,0,(SUM(Calculations!G45:I45)^2/COUNT(Calculations!G45:I45)))","v":0},{"$f":"IF(COUNT(Calculations!G55:I55)=0,0,(SUM(Calculations!G55:I55)^2)/COUNT(Calculations!G55:I55))","v":0},{"$f":"IF(COUNT(Calculations!G65:I65)=0,0,(SUM(Calculations!G65:I65)^2)/COUNT(Calculations!G65:I65))","v":0},null,0,0,0]
[null,3,{"$f":"Calculations!I45","v":0},{"$f":"Calculations!I55","v":0},{"$f":"Calculations!I65","v":0},null,null,null,null,null,null,null,null,0,0,0]
[null,1,{"$f":"Calculations!G46","v":0},{"$f":"Calculations!G56","v":0},{"$f":"Calculations!G66","v":0},null,null,null,null,null,null,null,null,0,0,0,null,"% Contribution",{"$f":"'Numerical Summary'!H12","v":{"$error":"#DIV/0!"}},{"$f":"'Numerical Summary'!H13","v":{"$error":"#DIV/0!"}},{"$f":"'Numerical Summary'!H14","v":{"$error":"#DIV/0!"}},{"$f":"'Numerical Summary'!H17","v":{"$error":"#DIV/0!"}}]
[6,2,{"$f":"Calculations!H46","v":0},{"$f":"Calculations!H56","v":0},{"$f":"Calculations!H66","v":0},{"$f":"SUM(C18:E20)","v":0},{"$f":"COUNT(Calculations!G46:I46,Calculations!G56:I56,Calculations!G66:I66)","v":9},{"$f":"IF(Calculations!G46=\"\",0,AVERAGE(Calculations!G46:I46,Calculations!G56:I56,Calculations!G66:I66))","v":0},{"$f":"IF(F19=0,0,F19^2/G19)","v":0},{"$f":"IF(COUNT(Calculations!G46:I46)=0,0,(SUM(Calculations!G46:I46)^2/COUNT(Calculations!G46:I46)))","v":0},{"$f":"IF(COUNT(Calculations!G56:I56)=0,0,(SUM(Calculations!G56:I56)^2)/COUNT(Calculations!G56:I56))","v":0},{"$f":"IF(COUNT(Calculations!G66:I66)=0,0,(SUM(Calculations!G66:I66)^2)/COUNT(Calculations!G66:I66))","v":0},null,0,0,0,null,"% Study Variation",{"$f":"'Numerical Summary'!F26","v":{"$error":"#DIV/0!"}},{"$f":"'Numerical Summary'!F27","v":{"$error":"#DIV/0!"}},{"$f":"'Numerical Summary'!F28","v":{"$error":"#DIV/0!"}},{"$f":"'Numerical Summary'!F43","v":{"$error":"#DIV/0!"}}]
[null,3,{"$f":"Calculations!I46","v":0},{"$f":"Calculations!I56","v":0},{"$f":"Calculations!I66","v":0},null,null,null,null,null,null,null,null,0,0,0,null,"% Tol (5.15 SD)",{"$f":"'Numerical Summary'!H26","v":{"$error":"#DIV/0!"}},{"$f":"'Numerical Summary'!H27","v":{"$error":"#DIV/0!"}},{"$f":"'Numerical Summary'!H28","v":{"$error":"#DIV/0!"}},{"$f":"'Numerical Summary'!H31","v":{"$error":"#DIV/0!"}}]
[null,1,{"$f":"Calculations!G47","v":0},{"$f":"Calculations!G57","v":0},{"$f":"Calculations!G67","v":0},null,null,null,null,null,null,null,null,0,0,0,null,"% Tol (6.0 SD)",{"$f":"'Numerical Summary'!H38","v":{"$error":"#DIV/0!"}},{"$f":"'Numerical Summary'!H39","v":{"$error":"#DIV/0!"}},{"$f":"'Numerical Summary'!H40","v":{"$error":"#DIV/0!"}},{"$f":"'Numerical Summary'!H43","v":{"$error":"#DIV/0!"}}]
[7,2,{"$f":"Calculations!H47","v":0},{"$f":"Calculations!H57","v":0},{"$f":"Calculations!H67","v":0},{"$f":"SUM(C21:E23)","v":0},{"$f":"COUNT(Calculations!G47:I47,Calculations!G57:I57,Calculations!G67:I67)","v":9},{"$f":"IF(Calculations!G47=\"\",0,AVERAGE(Calculations!G47:I47,Calculations!G57:I57,Calculations!G67:I67))","v":0},{"$f":"IF(F22=0,0,F22^2/G22)","v":0},{"$f":"IF(COUNT(Calculations!G47:I47)=0,0,(SUM(Calculations!G47:I47)^2/COUNT(Calculations!G47:I47)))","v":0},{"$f":"IF(COUNT(Calculations!G57:I57)=0,0,(SUM(Calculations!G57:I57)^2)/COUNT(Calculations!G57:I57))","v":0},{"$f":"IF(COUNT(Calculations!G67:I67)=0,0,(SUM(Calculations!G67:I67)^2)/COUNT(Calculations!G67:I67))","v":0},null,0,0,0]
[null,3,{"$f":"Calculations!I47","v":0},{"$f":"Calculations!I57","v":0},{"$f":"Calculations!I67","v":0},null,null,null,null,null,null,null,null,0,0,0]
[null,1,{"$f":"Calculations!G48","v":0},{"$f":"Calculations!G58","v":0},{"$f":"Calculations!G68","v":0},null,null,null,null,null,null,null,null,0,0,0]
[8,2,{"$f":"Calculations!H48","v":0},{"$f":"Calculations!H58","v":0},{"$f":"Calculations!H68","v":0},{"$f":"SUM(C24:E26)","v":0},{"$f":"COUNT(Calculations!G48:I48,Calculations!G58:I58,Calculations!G68:I68)","v":9},{"$f":"IF(Calculations!G48=\"\",0,AVERAGE(Calculations!G48:I48,Calculations!G58:I58,Calculations!G68:I68))","v":0},{"$f":"IF(F25=0,0,F25^2/G25)","v":0},{"$f":"IF(COUNT(Calculations!G48:I48)=0,0,(SUM(Calculations!G48:I48)^2/COUNT(Calculations!G48:I48)))","v":0},{"$f":"IF(COUNT(Calculations!G58:I58)=0,0,(SUM(Calculations!G58:I58)^2)/COUNT(Calculations!G58:I58))","v":0},{"$f":"IF(COUNT(Calculations!G68:I68)=0,0,(SUM(Calculations!G68:I68)^2)/COUNT(Calculations!G68:I68))","v":0},null,0,0,0]
[null,3,{"$f":"Calculations!I48","v":0},{"$f":"Calculations!I58","v":0},{"$f":"Calculations!I68","v":0},null,null,null,null,null,null,null,null,0,{"$f":"IF(D26=\"\",\"\",D26^2)","v":0},0]
[null,1,{"$f":"Calculations!G49","v":0},{"$f":"Calculations!G59","v":0},{"$f":"Calculations!G69","v":0},null,null,null,null,null,null,null,null,0,0,0]
[9,2,{"$f":"Calculations!H49","v":0},{"$f":"Calculations!H59","v":0},{"$f":"Calculations!H69","v":0},{"$f":"SUM(C27:E29)","v":0},{"$f":"COUNT(Calculations!G49:I49,Calculations!G59:I59,Calculations!G69:I69)","v":9},{"$f":"IF(Calculations!G49=\"\",0,AVERAGE(Calculations!G49:I49,Calculations!G59:I59,Calculations!G69:I69))","v":0},{"$f":"IF(F28=0,0,F28^2/G28)","v":0},{"$f":"IF(COUNT(Calculations!G49:I49)=0,0,(SUM(Calculations!G49:I49)^2/COUNT(Calculations!G49:I49)))","v":0},{"$f":"IF(COUNT(Calculations!G59:I59)=0,0,(SUM(Calculations!G59:I59)^2)/COUNT(Calculations!G59:I59))","v":0},{"$f":"IF(COUNT(Calculations!G69:I69)=0,0,(SUM(Calculations!G69:I69)^2)/COUNT(Calculations!G69:I69))","v":0},null,0,0,0]
[null,3,{"$f":"Calculations!I49","v":0},{"$f":"Calculations!I59","v":0},{"$f":"Calculations!I69","v":0},null,null,null,null,null,null,null,null,0,0,0]
[null,1,{"$f":"Calculations!G50","v":0},{"$f":"Calculations!G60","v":0},{"$f":"Calculations!G70","v":0},null,null,null,null,null,null,null,null,0,0,0]
[10,2,{"$f":"Calculations!H50","v":0},{"$f":"Calculations!H60","v":0},{"$f":"Calculations!H70","v":0},{"$f":"SUM(C30:E32)","v":0},{"$f":"COUNT(Calculations!G50:I50,Calculations!G60:I60,Calculations!G70:I70)","v":9},{"$f":"IF(Calculations!G50=\"\",0,AVERAGE(Calculations!G50:I50,Calculations!G60:I60,Calculations!G70:I70))","v":0},{"$f":"IF(F31=0,0,F31^2/G31)","v":0},{"$f":"IF(COUNT(Calculations!G50:I50)=0,0,(SUM(Calculations!G50:I50)^2/COUNT(Calculations!G50:I50)))","v":0},{"$f":"IF(COUNT(Calculations!G60:I60)=0,0,(SUM(Calculations!G60:I60)^2)/COUNT(Calculations!G60:I60))","v":0},{"$f":"IF(COUNT(Calculations!G70:I70)=0,0,(SUM(Calculations!G70:I70)^2)/COUNT(Calculations!G70:I70))","v":0},null,0,0,0]
[null,3,{"$f":"Calculations!I50","v":0},{"$f":"Calculations!I60","v":0},{"$f":"Calculations!I70","v":0},null,null,null,null,null,null,null,null,0,0,0]
["Sum",null,{"$f":"SUM(C3:C32)","v":0},{"$f":"SUM(D3:D32)","v":0},{"$f":"SUM(E3:E32)","v":0},{"$f":"SUM(C33:E33)","v":0}]
["n",null,{"$f":"COUNT(Calculations!G41:I50)","v":30},{"$f":"COUNT(Calculations!G51:I60)","v":30},{"$f":"COUNT(Calculations!G61:I70)","v":30},null,{"$f":"SUM(G3:G32)","v":90}]
["Avg",null,{"$f":"IF(COUNT(Calculations!G41:I50)=0,0,AVERAGE(Calculations!G41:I50))","v":0},{"$f":"IF(COUNT(Calculations!G51:I60)=0,0,AVERAGE(Calculations!G51:I60))","v":0},{"$f":"IF(COUNT(Calculations!G61:I70)=0,0,AVERAGE(Calculations!G61:I70))","v":0},null,null,null,{"$f":"SUM(I3:I32)","v":0},null,{"$f":"SUM(J3:L32)","v":0}]
["ColSqs",null,{"$f":"IF(C34=0,0,C33^2/C34)","v":0},{"$f":"IF(D34=0,0,D33^2/D34)","v":0},{"$f":"IF(E34=0,0,E33^2/E34)","v":0},{"$f":"SUM(C36:E36)","v":0},"Sum T Sqs",null,"Sum P Sqs",null,"Sum Cell Sqs"]
["Sum X",null,{"$f":"SUM(Calculations!G41:I50,Calculations!G51:I60,Calculations!G61:I70)","v":0}]
["Sum X2",null,{"$f":"SUM(N3:P32)","v":0},null,null,null,null,null,null,null,null,null,null,null,10,null,null,null,null,null,null,null,{"$f":"O38-1","v":9},null,null,null,null,null,null,null,{"$f":"W38-1","v":8},null,null,null,null,null,null,null,{"$f":"AE38-1","v":7},null,null,null,null,null,null,null,{"$f":"AM38-1","v":6},null,null,null,null,null,null,null,{"$f":"AU38-1","v":5},null,null,null,null,null,null,null,{"$f":"BC38-1","v":4},null,null,null,null,null,null,null,{"$f":"BK38-1","v":3},null,null,null,null,null,null,null,{"$f":"BS38-1","v":2}]
["n",null,{"$f":"COUNT(Calculations!G41:I50,Calculations!G51:I60,Calculations!G61:I70)","v":90},null,null,null,null,null,null,null,null,null,null,null,"Ten",null,null,null,null,null,null,null,"Nine",null,null,null,null,null,null,null,"Eight",null,null,null,null,null,null,null,"Seven",null,null,null,null,null,null,null,"Six",null,null,null,null,null,null,null,"Five",null,null,null,null,null,null,null,"Four",null,null,null,null,null,null,null,"Three",null,null,null,null,null,null,null,"Two"]
["CM",null,{"$f":"C37^2/C39","v":0},null,null,"Part",1,2,3,null,"Xbar","R",null,null,"Average",null,null,"Range",null,null,null,null,"Average",null,null,"Range",null,null,null,null,"Average",null,null,"Range",null,null,null,null,"Average",null,null,"Range",null,null,null,null,"Average",null,null,"Range",null,null,null,null,"Average",null,null,"Range",null,null,null,null,"Average",null,null,"Range",null,null,null,null,"Average",null,null,"Range",null,null,null,null,"Average",null,null,"Range"]
["TotSS",null,{"$f":"C38-C40","v":0},null,"Op. A",1,{"$f":"IF('AIAG GR&R'!C12=\"\",\"\",'AIAG GR&R'!C12)","v":0},{"$f":"IF('AIAG GR&R'!C13=\"\",\"\",'AIAG GR&R'!C13)","v":0},{"$f":"IF('AIAG GR&R'!C14=\"\",\"\",'AIAG GR&R'!C14)","v":0},"Op. A & Op. B",{"$f":"IF(G41=\"\",\"\",AVERAGE(G41:I41))","v":0},{"$f":"IF(G41=\"\",\"\",MAX(G41:I41)-MIN(G41:I41))","v":0},"Op. A",1,{"$f":"IF(G41=\"\",NA(),K41)","v":0},{"$f":"NA()","v":{"$error":"#N/A"}},{"$f":"NA()","v":{"$error":"#N/A"}},{"$f":"IF(G41=\"\",NA(),L41)","v":0},{"$f":"NA()","v":{"$error":"#N/A"}},{"$f":"NA()","v":{"$error":"#N/A"}},"Op. A",1,{"$f":"O41","v":0},{"$error":"#N/A"},{"$error":"#N/A"},0,{"$error":"#N/A"},{"$error":"#N/A"},"Op. A",1,{"$f":"O41","v":0},{"$error":"#N/A"},{"$error":"#N/A"},0,{"$error":"#N/A"},{"$error":"#N/A"},"Op. A",1,{"$f":"O41","v":0},{"$error":"#N/A"},{"$error":"#N/A"},0,{"$error":"#N/A"},{"$error":"#N/A"},"Op. A",1,{"$f":"O41","v":0},{"$error":"#N/A"},{"$error":"#N/A"},0,{"$error":"#N/A"},{"$error":"#N/A"},"Op. A",1,{"$f":"O41","v":0},{"$error":"#N/A"},{"$error":"#N/A"},0,{"$error":"#N/A"},{"$error":"#N/A"},"Op. A",1,{"$f":"O41","v":0},{"$error":"#N/A"},{"$error":"#N/A"},0,{"$error":"#N/A"},{"$error":"#N/A"},"Op. A",1,{"$f":"O41","v":0},{"$error":"#N/A"},{"$error":"#N/A"},0,{"$error":"#N/A"},{"$error":"#N/A"},"Op. A",1,{"$f":"O41","v":0},{"$error":"#N/A"},{"$error":"#N/A"},0,{"$error":"#N/A"},{"$error":"#N/A"}]
["TechSS",null,{"$f":"F36-C40","v":0},null,null,2,{"$f":"IF('AIAG GR&R'!D12=\"\",\"\",'AIAG GR&R'!D12)","v":0},{"$f":"IF('AIAG GR&R'!D13=\"\",\"\",'AIAG GR&R'!D13)","v":0},{"$f":"IF('AIAG GR&R'!D14=\"\",\"\",'AIAG GR&R'!D14)","v":0},"Op. A & Op. C",{"$f":"IF(G42=\"\",\"\",AVERAGE(G42:I42))","v":0},{"$f":"IF(G42=\"\",\"\",MAX(G42:I42)-MIN(G42:I42))","v":0},null,2,0,{"$f":"NA()","v":{"$error":"#N/A"}},{"$f":"NA()","v":{"$error":"#N/A"}},0,{"$f":"NA()","v":{"$error":"#N/A"}},{"$f":"NA()","v":{"$error":"#N/A"}},null,2,0,{"$error":"#N/A"},{"$error":"#N/A"},0,{"$error":"#N/A"},{"$error":"#N/A"},null,2,0,{"$error":"#N/A"},{"$error":"#N/A"},0,{"$error":"#N/A"},{"$error":"#N/A"},null,2,0,{"$error":"#N/A"},{"$error":"#N/A"},0,{"$error":"#N/A"},{"$error":"#N/A"},null,2,0,{"$error":"#N/A"},{"$error":"#N/A"},0,{"$error":"#N/A"},{"$error":"#N/A"},null,2,0,{"$error":"#N/A"},{"$error":"#N/A"},0,{"$error":"#N/A"},{"$error":"#N/A"},null,2,0,{"$error":"#N/A"},{"$error":"#N/A"},0,{"$error":"#N/A"},{"$error":"#N/A"},null,2,0,{"$error":"#N/A"},{"$error":"#N/A"},0,{"$error":"#N/A"},{"$error":"#N/A"},null,2,0,{"$error":"#N/A"},{"$error":"#N/A"},0,{"$error":"#N/A"},{"$error":"#N/A"}]
["PartSS",null,{"$f":"I35-C40","v":0},null,null,3,{"$f":"IF('AIAG GR&R'!E12=\"\",\"\",'AIAG GR&R'!E12)","v":0},{"$f":"IF('AIAG GR&R'!E13=\"\",\"\",'AIAG GR&R'!E13)","v":0},{"$f":"IF('AIAG GR&R'!E14=\"\",\"\",'AIAG GR&R'!E14)","v":0},"Op. B & Op. C",0,0,null,3,0,{"$f":"NA()","v":{"$error":"#N/A"}},{"$f":"NA()","v":{"$error":"#N/A"}},0,{"$f":"NA()","v":{"$error":"#N/A"}},{"$f":"NA()","v":{"$error":"#N/A"}},null,3,0,{"$error":"#N/A"},{"$error":"#N/A"},0,{"$error":"#N/A"},{"$error":"#N/A"},null,3,0,{"$error":"#N/A"},{"$error":"#N/A"},0,{"$error":"#N/A"},{"$error":"#N/A"},null,3,0,{"$error":"#N/A"},{"$error":"#N/A"},0,{"$error":"#N/A"},{"$error":"#N/A"},null,3,0,{"$error":"#N/A"},{"$error":"#N/A"},0,{"$error":"#N/A"},{"$error":"#N/A"},null,3,0,{"$error":"#N/A"},{"$error":"#N/A"},0,{"$error":"#N/A"},{"$error":"#N/A"},null,3,0,{"$error":"#N/A"},{"$error":"#N/A"},0,{"$error":"#N/A"},{"$error":"#N/A"},null,3,0,{"$error":"#N/A"},{"$error":"#N/A"},0,{"$error":"#N/A"},{"$error":"#N/A"},"Op. B",1,{"$f":"O51","v":{"$error":"#N/A"}},0,{"$error":"#N/A"},{"$error":"#N/A"},0,{"$error":"#N/A"}]
["InterSS",null,{"$f":"K35-C40-C42-C43","v":0},null,null,4,{"$f":"IF('AIAG GR&R'!F12=\"\",\"\",'AIAG GR&R'!F12)","v":0},{"$f":"IF('AIAG GR&R'!F13=\"\",\"\",'AIAG GR&R'!F13)","v":0},{"$f":"IF('AIAG GR&R'!F14=\"\",\"\",'AIAG GR&R'!F14)","v":0},null,0,0,null,4,0,{"$f":"NA()","v":{"$error":"#N/A"}},{"$f":"NA()","v":{"$error":"#N/A"}},0,{"$f":"NA()","v":{"$error":"#N/A"}},{"$f":"NA()","v":{"$error":"#N/A"}},null,4,0,{"$error":"#N/A"},{"$error":"#N/A"},0,{"$error":"#N/A"},{"$error":"#N/A"},null,4,0,{"$error":"#N/A"},{"$error":"#N/A"},0,{"$error":"#N/A"},{"$error":"#N/A"},null,4,0,{"$error":"#N/A"},{"$error":"#N/A"},0,{"$error":"#N/A"},{"$error":"#N/A"},null,4,0,{"$error":"#N/A"},{"$error":"#N/A"},0,{"$error":"#N/A"},{"$error":"#N/A"},null,4,0,{"$error":"#N/A"},{"$error":"#N/A"},0,{"$error":"#N/A"},{"$error":"#N/A"},null,4,0,{"$error":"#N/A"},{"$error":"#N/A"},0,{"$error":"#N/A"},{"$error":"#N/A"},"Op. B",1,{"$f":"O51","v":{"$error":"#N/A"}},0,{"$error":"#N/A"},{"$error":"#N/A"},0,{"$error":"#N/A"},null,2,{"$error":"#N/A"},0,{"$error":"#N/A"},{"$error":"#N/A"},0,{"$error":"#N/A"}]
["ErrorSS",null,{"$f":"C41-C42-C43-C44","v":0},null,null,5,{"$f":"IF('AIAG GR&R'!G12=\"\",\"\",'AIAG GR&R'!G12)","v":0},{"$f":"IF('AIAG GR&R'!G13=\"\",\"\",'AIAG GR&R'!G13)","v":0},{"$f":"IF('AIAG GR&R'!G14=\"\",\"\",'AIAG GR&R'!G14)","v":0},null,0,0,null,5,0,{"$f":"NA()","v":{"$error":"#N/A"}},{"$f":"NA()","v":{"$error":"#N/A"}},0,{"$f":"NA()","v":{"$error":"#N/A"}},{"$f":"NA()","v":{"$error":"#N/A"}},null,5,0,{"$error":"#N/A"},{"$error":"#N/A"},0,{"$error":"#N/A"},{"$error":"#N/A"},null,5,0,{"$error":"#N/A"},{"$error":"#N/A"},0,{"$error":"#N/A"},{"$error":"#N/A"},null,5,0,{"$error":"#N/A"},{"$error":"#N/A"},0,{"$error":"#N/A"},{"$error":"#N/A"},null,5,0,{"$error":"#N/A"},{"$error":"#N/A"},0,{"$error":"#N/A"},{"$error":"#N/A"},null,5,0,{"$error":"#N/A"},{"$error":"#N/A"},0,{"$error":"#N/A"},{"$error":"#N/A"},"Op. B",1,{"$f":"O51","v":{"$error":"#N/A"}},0,{"$error":"#N/A"},{"$error":"#N/A"},0,{"$error":"#N/A"},null,2,{"$error":"#N/A"},0,{"$error":"#N/A"},{"$error":"#N/A"},0,{"$error":"#N/A"},"Op. C",1,{"$f":"O61","v":{"$error":"#N/A"}},{"$error":"#N/A"},0,{"$error":"#N/A"},{"$error":"#N/A"},0]
[null,null,null,null,null,6,{"$f":"IF('AIAG GR&R'!H12=\"\",\"\",'AIAG GR&R'!H12)","v":0},{"$f":"IF('AIAG GR&R'!H13=\"\",\"\",'AIAG GR&R'!H13)","v":0},{"$f":"IF('AIAG GR&R'!H14=\"\",\"\",'AIAG GR&R'!H14)","v":0},null,0,0,null,6,0,{"$f":"NA()","v":{"$error":"#N/A"}},{"$f":"NA()","v":{"$error":"#N/A"}},0,{"$f":"NA()","v":{"$error":"#N/A"}},{"$f":"NA()","v":{"$error":"#N/A"}},null,6,0,{"$error":"#N/A"},{"$error":"#N/A"},0,{"$error":"#N/A"},{"$error":"#N/A"},null,6,0,{"$error":"#N/A"},{"$error":"#N/A"},0,{"$error":"#N/A"},{"$error":"#N/A"},null,6,0,{"$error":"#N/A"},{"$error":"#N/A"},0,{"$error":"#N/A"},{"$error":"#N/A"},null,6,0,{"$error":"#N/A"},{"$error":"#N/A"},0,{"$error":"#N/A"},{"$error":"#N/A"},"Op. B",1,{"$f":"O51","v":{"$error":"#N/A"}},0,{"$error":"#N/A"},{"$error":"#N/A"},0,{"$error":"#N/A"},null,2,{"$error":"#N/A"},0,{"$error":"#N/A"},{"$error":"#N/A"},0,{"$error":"#N/A"},null,3,{"$error":"#N/A"},0,{"$error":"#N/A"},{"$error":"#N/A"},0,{"$error":"#N/A"},null,2,{"$error":"#N/A"},{"$error":"#N/A"},0,{"$error":"#N/A"},{"$error":"#N/A"},0]
[null,null,null,null,null,7,{"$f":"IF('AIAG GR&R'!I12=\"\",\"\",'AIAG GR&R'!I12)","v":0},{"$f":"IF('AIAG GR&R'!I13=\"\",\"\",'AIAG GR&R'!I13)","v":0},{"$f":"IF('AIAG GR&R'!I14=\"\",\"\",'AIAG GR&R'!I14)","v":0},null,0,0,null,7,0,{"$f":"NA()","v":{"$error":"#N/A"}},{"$f":"NA()","v":{"$error":"#N/A"}},0,{"$f":"NA()","v":{"$error":"#N/A"}},{"$f":"NA()","v":{"$error":"#N/A"}},null,7,0,{"$error":"#N/A"},{"$error":"#N/A"},0,{"$error":"#N/A"},{"$error":"#N/A"},null,7,0,{"$error":"#N/A"},{"$error":"#N/A"},0,{"$error":"#N/A"},{"$error":"#N/A"},null,7,0,{"$error":"#N/A"},{"$error":"#N/A"},0,{"$error":"#N/A"},{"$error":"#N/A"},"Op. B",1,{"$f":"O51","v":{"$error":"#N/A"}},0,{"$error":"#N/A"},{"$error":"#N/A"},0,{"$error":"#N/A"},null,2,{"$error":"#N/A"},0,{"$error":"#N/A"},{"$error":"#N/A"},0,{"$error":"#N/A"},null,3,{"$error":"#N/A"},0,{"$error":"#N/A"},{"$error":"#N/A"},0,{"$error":"#N/A"},"Op. C",1,{"$f":"O61","v":{"$error":"#N/A"}},{"$error":"#N/A"},0,{"$error":"#N/A"},{"$error":"#N/A"},0,null,null,{"$f":"NA()","v":{"$error":"#N/A"}},{"$f":"NA()","v":{"$error":"#N/A"}},{"$f":"NA()","v":{"$error":"#N/A"}},{"$f":"NA()","v":{"$error":"#N/A"}},{"$f":"NA()","v":{"$error":"#N/A"}},{"$f":"NA()","v":{"$error":"#N/A"}}]
[null,null,null,null,null,8,{"$f":"IF('AIAG GR&R'!J12=\"\",\"\",'AIAG GR&R'!J12)","v":0},{"$f":"IF('AIAG GR&R'!J13=\"\",\"\",'AIAG GR&R'!J13)","v":0},{"$f":"IF('AIAG GR&R'!J14=\"\",\"\",'AIAG GR&R'!J14)","v":0},null,0,0,null,8,0,{"$f":"NA()","v":{"$error":"#N/A"}},{"$f":"NA()","v":{"$error":"#N/A"}},0,{"$f":"NA()","v":{"$error":"#N/A"}},{"$f":"NA()","v":{"$error":"#N/A"}},null,8,0,{"$error":"#N/A"},{"$error":"#N/A"},0,{"$error":"#N/A"},{"$error":"#N/A"},null,8,0,{"$error":"#N/A"},{"$error":"#N/A"},0,{"$error":"#N/A"},{"$error":"#N/A"},"Op. B",1,{"$f":"O51","v":{"$error":"#N/A"}},0,{"$error":"#N/A"},{"$error":"#N/A"},0,{"$error":"#N/A"},null,2,{"$error":"#N/A"},0,{"$error":"#N/A"},{"$error":"#N/A"},0,{"$error":"#N/A"},null,3,{"$error":"#N/A"},0,{"$error":"#N/A"},{"$error":"#N/A"},0,{"$error":"#N/A"},null,4,{"$error":"#N/A"},0,{"$error":"#N/A"},{"$error":"#N/A"},0,{"$error":"#N/A"},null,2,{"$error":"#N/A"},{"$error":"#N/A"},0,{"$error":"#N/A"},{"$error":"#N/A"},0,null,null,{"$f":"NA()","v":{"$error":"#N/A"}},{"$f":"NA()","v":{"$error":"#N/A"}},{"$f":"NA()","v":{"$error":"#N/A"}},{"$f":"NA()","v":{"$error":"#N/A"}},{"$f":"NA()","v":{"$error":"#N/A"}},{"$f":"NA()","v":{"$error":"#N/A"}}]
[null,null,null,null,null,9,{"$f":"IF('AIAG GR&R'!K12=\"\",\"\",'AIAG GR&R'!K12)","v":0},{"$f":"IF('AIAG GR&R'!K13=\"\",\"\",'AIAG GR&R'!K13)","v":0},{"$f":"IF('AIAG GR&R'!K14=\"\",\"\",'AIAG GR&R'!K14)","v":0},null,0,0,null,9,0,{"$f":"NA()","v":{"$error":"#N/A"}},{"$f":"NA()","v":{"$error":"#N/A"}},0,{"$f":"NA()","v":{"$error":"#N/A"}},{"$f":"NA()","v":{"$error":"#N/A"}},null,9,0,{"$error":"#N/A"},{"$error":"#N/A"},0,{"$error":"#N/A"},{"$error":"#N/A"},"Op. B",1,{"$f":"O51","v":{"$error":"#N/A"}},0,{"$error":"#N/A"},{"$error":"#N/A"},0,{"$error":"#N/A"},null,2,{"$error":"#N/A"},0,{"$error":"#N/A"},{"$error":"#N/A"},0,{"$error":"#N/A"},null,3,{"$error":"#N/A"},0,{"$error":"#N/A"},{"$error":"#N/A"},0,{"$error":"#N/A"},null,4,{"$error":"#N/A"},0,{"$error":"#N/A"},{"$error":"#N/A"},0,{"$error":"#N/A"},"Op. C",1,{"$f":"O61","v":{"$error":"#N/A"}},{"$error":"#N/A"},0,{"$error":"#N/A"},{"$error":"#N/A"},0,null,3,{"$error":"#N/A"},{"$error":"#N/A"},0,{"$error":"#N/A"},{"$error":"#N/A"},0,null,null,{"$f":"NA()","v":{"$error":"#N/A"}},{"$f":"NA()","v":{"$error":"#N/A"}},{"$f":"NA()","v":{"$error":"#N/A"}},{"$f":"NA()","v":{"$error":"#N/A"}},{"$f":"NA()","v":{"$error":"#N/A"}},{"$f":"NA()","v":{"$error":"#N/A"}}]
[null,null,null,null,null,10,{"$f":"IF('AIAG GR&R'!L12=\"\",\"\",'AIAG GR&R'!L12)","v":0},{"$f":"IF('AIAG GR&R'!L13=\"\",\"\",'AIAG GR&R'!L13)","v":0},{"$f":"IF('AIAG GR&R'!L14=\"\",\"\",'AIAG GR&R'!L14)","v":0},null,0,0,null,10,0,{"$f":"NA()","v":{"$error":"#N/A"}},{"$f":"NA()","v":{"$error":"#N/A"}},0,{"$f":"NA()","v":{"$error":"#N/A"}},{"$f":"NA()","v":{"$error":"#N/A"}},"Op. B",1,{"$f":"O51","v":{"$error":"#N/A"}},0,{"$error":"#N/A"},{"$error":"#N/A"},0,{"$error":"#N/A"},null,2,{"$error":"#N/A"},0,{"$error":"#N/A"},{"$error":"#N/A"},0,{"$error":"#N/A"},null,3,{"$error":"#N/A"},0,{"$error":"#N/A"},{"$error":"#N/A"},0,{"$error":"#N/A"},null,4,{"$error":"#N/A"},0,{"$error":"#N/A"},{"$error":"#N/A"},0,{"$error":"#N/A"},null,5,{"$error":"#N/A"},0,{"$error":"#N/A"},{"$error":"#N/A"},0,{"$error":"#N/A"},null,2,{"$error":"#N/A"},{"$error":"#N/A"},0,{"$error":"#N/A"},{"$error":"#N/A"},0,null,null,{"$f":"NA()","v":{"$error":"#N/A"}},{"$f":"NA()","v":{"$error":"#N/A"}},{"$f":"NA()","v":{"$error":"#N/A"}},{"$f":"NA()","v":{"$error":"#N/A"}},{"$f":"NA()","v":{"$error":"#N/A"}},{"$f":"NA()","v":{"$error":"#N/A"}},null,null,{"$f":"NA()","v":{"$error":"#N/A"}},{"$f":"NA()","v":{"$error":"#N/A"}},{"$f":"NA()","v":{"$error":"#N/A"}},{"$f":"NA()","v":{"$error":"#N/A"}},{"$f":"NA()","v":{"$error":"#N/A"}},{"$f":"NA()","v":{"$error":"#N/A"}}]
[null,null,null,null,"Op. B",1,{"$f":"IF('AIAG GR&R'!C17=\"\",\"\",'AIAG GR&R'!C17)","v":0},{"$f":"IF('AIAG GR&R'!C18=\"\",\"\",'AIAG GR&R'!C18)","v":0},{"$f":"IF('AIAG GR&R'!C19=\"\",\"\",'AIAG GR&R'!C19)","v":0},null,0,0,"Op. B",1,{"$f":"NA()","v":{"$error":"#N/A"}},{"$f":"IF(G51=\"\",NA(),K51)","v":0},{"$f":"NA()","v":{"$error":"#N/A"}},{"$f":"NA()","v":{"$error":"#N/A"}},{"$f":"IF(G51=\"\",NA(),L51)","v":0},{"$f":"NA()","v":{"$error":"#N/A"}},null,2,{"$error":"#N/A"},0,{"$error":"#N/A"},{"$error":"#N/A"},0,{"$error":"#N/A"},null,3,{"$error":"#N/A"},0,{"$error":"#N/A"},{"$error":"#N/A"},0,{"$error":"#N/A"},null,4,{"$error":"#N/A"},0,{"$error":"#N/A"},{"$error":"#N/A"},0,{"$error":"#N/A"},null,5,{"$error":"#N/A"},0,{"$error":"#N/A"},{"$error":"#N/A"},0,{"$error":"#N/A"},"Op. C",1,{"$f":"O61","v":{"$error":"#N/A"}},{"$error":"#N/A"},0,{"$error":"#N/A"},{"$error":"#N/A"},0,null,3,{"$error":"#N/A"},{"$error":"#N/A"},0,{"$error":"#N/A"},{"$error":"#N/A"},0,null,null,{"$f":"NA()","v":{"$error":"#N/A"}},{"$f":"NA()","v":{"$error":"#N/A"}},{"$f":"NA()","v":{"$error":"#N/A"}},{"$f":"NA()","v":{"$error":"#N/A"}},{"$f":"NA()","v":{"$error":"#N/A"}},{"$f":"NA()","v":{"$error":"#N/A"}},null,null,{"$f":"NA()","v":{"$error":"#N/A"}},{"$f":"NA()","v":{"$error":"#N/A"}},{"$f":"NA()","v":{"$error":"#N/A"}},{"$f":"NA()","v":{"$error":"#N/A"}},{"$f":"NA()","v":{"$error":"#N/A"}},{"$f":"NA()","v":{"$error":"#N/A"}}]
[null,null,null,null,null,2,{"$f":"IF('AIAG GR&R'!D17=\"\",\"\",'AIAG GR&R'!D17)","v":0},{"$f":"IF('AIAG GR&R'!D18=\"\",\"\",'AIAG GR&R'!D18)","v":0},{"$f":"IF('AIAG GR&R'!D19=\"\",\"\",'AIAG GR&R'!D19)","v":0},null,0,0,null,2,{"$f":"NA()","v":{"$error":"#N/A"}},0,{"$f":"NA()","v":{"$error":"#N/A"}},{"$f":"NA()","v":{"$error":"#N/A"}},0,{"$f":"NA()","v":{"$error":"#N/A"}},null,3,{"$error":"#N/A"},0,{"$error":"#N/A"},{"$error":"#N/A"},0,{"$error":"#N/A"},null,4,{"$error":"#N/A"},0,{"$error":"#N/A"},{"$error":"#N/A"},0,{"$error":"#N/A"},null,5,{"$error":"#N/A"},0,{"$error":"#N/A"},{"$error":"#N/A"},0,{"$error":"#N/A"},null,6,{"$error":"#N/A"},0,{"$error":"#N/A"},{"$error":"#N/A"},0,{"$error":"#N/A"},null,2,{"$error":"#N/A"},{"$error":"#N/A"},0,{"$error":"#N/A"},{"$error":"#N/A"},0,null,4,{"$error":"#N/A"},{"$error":"#N/A"},0,{"$error":"#N/A"},{"$error":"#N/A"},0,null,null,{"$f":"NA()","v":{"$error":"#N/A"}},{"$f":"NA()","v":{"$error":"#N/A"}},{"$f":"NA()","v":{"$error":"#N/A"}},{"$f":"NA()","v":{"$error":"#N/A"}},{"$f":"NA()","v":{"$error":"#N/A"}},{"$f":"NA()","v":{"$error":"#N/A"}},null,null,{"$f":"NA()","v":{"$error":"#N/A"}},{"$f":"NA()","v":{"$error":"#N/A"}},{"$f":"NA()","v":{"$error":"#N/A"}},{"$f":"NA()","v":{"$error":"#N/A"}},{"$f":"NA()","v":{"$error":"#N/A"}},{"$f":"NA()","v":{"$error":"#N/A"}}]
[null,null,null,null,null,3,{"$f":"IF('AIAG GR&R'!E17=\"\",\"\",'AIAG GR&R'!E17)","v":0},{"$f":"IF('AIAG GR&R'!E18=\"\",\"\",'AIAG GR&R'!E18)","v":0},{"$f":"IF('AIAG GR&R'!E19=\"\",\"\",'AIAG GR&R'!E19)","v":0},null,0,0,null,3,{"$f":"NA()","v":{"$error":"#N/A"}},0,{"$f":"NA()","v":{"$error":"#N/A"}},{"$f":"NA()","v":{"$error":"#N/A"}},0,{"$f":"NA()","v":{"$error":"#N/A"}},null,4,{"$error":"#N/A"},0,{"$error":"#N/A"},{"$error":"#N/A"},0,{"$error":"#N/A"},null,5,{"$error":"#N/A"},0,{"$error":"#N/A"},{"$error":"#N/A"},0,{"$error":"#N/A"},null,6,{"$error":"#N/A"},0,{"$error":"#N/A"},{"$error":"#N/A"},0,{"$error":"#N/A"},"Op. C",1,{"$f":"O61","v":{"$error":"#N/A"}},{"$error":"#N/A"},0,{"$error":"#N/A"},{"$error":"#N/A"},0,null,3,{"$error":"#N/A"},{"$error":"#N/A"},0,{"$error":"#N/A"},{"$error":"#N/A"},0,null,null,{"$f":"NA()","v":{"$error":"#N/A"}},{"$f":"NA()","v":{"$error":"#N/A"}},{"$f":"NA()","v":{"$error":"#N/A"}},{"$f":"NA()","v":{"$error":"#N/A"}},{"$f":"NA()","v":{"$error":"#N/A"}},{"$f":"NA()","v":{"$error":"#N/A"}},null,null,{"$f":"NA()","v":{"$error":"#N/A"}},{"$f":"NA()","v":{"$error":"#N/A"}},{"$f":"NA()","v":{"$error":"#N/A"}},{"$f":"NA()","v":{"$error":"#N/A"}},{"$f":"NA()","v":{"$error":"#N/A"}},{"$f":"NA()","v":{"$error":"#N/A"}},null,null,{"$f":"NA()","v":{"$error":"#N/A"}},{"$f":"NA()","v":{"$error":"#N/A"}},{"$f":"NA()","v":{"$error":"#N/A"}},{"$f":"NA()","v":{"$error":"#N/A"}},{"$f":"NA()","v":{"$error":"#N/A"}},{"$f":"NA()","v":{"$error":"#N/A"}}]
[null,null,null,null,null,4,{"$f":"IF('AIAG GR&R'!F17=\"\",\"\",'AIAG GR&R'!F17)","v":0},{"$f":"IF('AIAG GR&R'!F18=\"\",\"\",'AIAG GR&R'!F18)","v":0},{"$f":"IF('AIAG GR&R'!F19=\"\",\"\",'AIAG GR&R'!F19)","v":0},null,0,0,null,4,{"$f":"NA()","v":{"$error":"#N/A"}},0,{"$f":"NA()","v":{"$error":"#N/A"}},{"$f":"NA()","v":{"$error":"#N/A"}},0,{"$f":"NA()","v":{"$error":"#N/A"}},null,5,{"$error":"#N/A"},0,{"$error":"#N/A"},{"$error":"#N/A"},0,{"$error":"#N/A"},null,6,{"$error":"#N/A"},0,{"$error":"#N/A"},{"$error":"#N/A"},0,{"$error":"#N/A"},null,7,{"$error":"#N/A"},0,{"$error":"#N/A"},{"$error":"#N/A"},0,{"$error":"#N/A"},null,2,{"$error":"#N/A"},{"$error":"#N/A"},0,{"$error":"#N/A"},{"$error":"#N/A"},0,null,4,{"$error":"#N/A"},{"$error":"#N/A"},0,{"$error":"#N/A"},{"$error":"#N/A"},0,null,null,{"$f":"NA()","v":{"$error":"#N/A"}},{"$f":"NA()","v":{"$error":"#N/A"}},{"$f":"NA()","v":{"$error":"#N/A"}},{"$f":"NA()","v":{"$error":"#N/A"}},{"$f":"NA()","v":{"$error":"#N/A"}},{"$f":"NA()","v":{"$error":"#N/A"}},null,null,{"$f":"NA()","v":{"$error":"#N/A"}},{"$f":"NA()","v":{"$error":"#N/A"}},{"$f":"NA()","v":{"$error":"#N/A"}},{"$f":"NA()","v":{"$error":"#N/A"}},{"$f":"NA()","v":{"$error":"#N/A"}},{"$f":"NA()","v":{"$error":"#N/A"}},null,null,{"$f":"NA()","v":{"$error":"#N/A"}},{"$f":"NA()","v":{"$error":"#N/A"}},{"$f":"NA()","v":{"$error":"#N/A"}},{"$f":"NA()","v":{"$error":"#N/A"}},{"$f":"NA()","v":{"$error":"#N/A"}},{"$f":"NA()","v":{"$error":"#N/A"}}]
[null,null,null,null,null,5,{"$f":"IF('AIAG GR&R'!G17=\"\",\"\",'AIAG GR&R'!G17)","v":0},{"$f":"IF('AIAG GR&R'!G18=\"\",\"\",'AIAG GR&R'!G18)","v":0},{"$f":"IF('AIAG GR&R'!G19=\"\",\"\",'AIAG GR&R'!G19)","v":0},null,0,0,null,5,{"$f":"NA()","v":{"$error":"#N/A"}},0,{"$f":"NA()","v":{"$error":"#N/A"}},{"$f":"NA()","v":{"$error":"#N/A"}},0,{"$f":"NA()","v":{"$error":"#N/A"}},null,6,{"$error":"#N/A"},0,{"$error":"#N/A"},{"$error":"#N/A"},0,{"$error":"#N/A"},null,7,{"$error":"#N/A"},0,{"$error":"#N/A"},{"$error":"#N/A"},0,{"$error":"#N/A"},"Op. C",1,{"$f":"O61","v":{"$error":"#N/A"}},{"$error":"#N/A"},0,{"$error":"#N/A"},{"$error":"#N/A"},0,null,3,{"$error":"#N/A"},{"$error":"#N/A"},0,{"$error":"#N/A"},{"$error":"#N/A"},0,null,5,{"$error":"#N/A"},{"$error":"#N/A"},0,{"$error":"#N/A"},{"$error":"#N/A"},0,null,null,{"$f":"NA()","v":{"$error":"#N/A"}},{"$f":"NA()","v":{"$error":"#N/A"}},{"$f":"NA()","v":{"$error":"#N/A"}},{"$f":"NA()","v":{"$error":"#N/A"}},{"$f":"NA()","v":{"$error":"#N/A"}},{"$f":"NA()","v":{"$error":"#N/A"}},null,null,{"$f":"NA()","v":{"$error":"#N/A"}},{"$f":"NA()","v":{"$error":"#N/A"}},{"$f":"NA()","v":{"$error":"#N/A"}},{"$f":"NA()","v":{"$error":"#N/A"}},{"$f":"NA()","v":{"$error":"#N/A"}},{"$f":"NA()","v":{"$error":"#N/A"}},null,null,{"$f":"NA()","v":{"$error":"#N/A"}},{"$f":"NA()","v":{"$error":"#N/A"}},{"$f":"NA()","v":{"$error":"#N/A"}},{"$f":"NA()","v":{"$error":"#N/A"}},{"$f":"NA()","v":{"$error":"#N/A"}},{"$f":"NA()","v":{"$error":"#N/A"}}]
[null,null,null,null,null,6,{"$f":"IF('AIAG GR&R'!H17=\"\",\"\",'AIAG GR&R'!H17)","v":0},{"$f":"IF('AIAG GR&R'!H18=\"\",\"\",'AIAG GR&R'!H18)","v":0},{"$f":"IF('AIAG GR&R'!H19=\"\",\"\",'AIAG GR&R'!H19)","v":0},null,0,0,null,6,{"$f":"NA()","v":{"$error":"#N/A"}},0,{"$f":"NA()","v":{"$error":"#N/A"}},{"$f":"NA()","v":{"$error":"#N/A"}},0,{"$f":"NA()","v":{"$error":"#N/A"}},null,7,{"$error":"#N/A"},0,{"$error":"#N/A"},{"$error":"#N/A"},0,{"$error":"#N/A"},null,8,{"$error":"#N/A"},0,{"$error":"#N/A"},{"$error":"#N/A"},0,{"$error":"#N/A"},null,2,{"$error":"#N/A"},{"$error":"#N/A"},0,{"$error":"#N/A"},{"$error":"#N/A"},0,null,4,{"$error":"#N/A"},{"$error":"#N/A"},0,{"$error":"#N/A"},{"$error":"#N/A"},0,null,null,{"$f":"NA()","v":{"$error":"#N/A"}},{"$f":"NA()","v":{"$error":"#N/A"}},{"$f":"NA()","v":{"$error":"#N/A"}},{"$f":"NA()","v":{"$error":"#N/A"}},{"$f":"NA()","v":{"$error":"#N/A"}},{"$f":"NA()","v":{"$error":"#N/A"}},null,null,{"$f":"NA()","v":{"$error":"#N/A"}},{"$f":"NA()","v":{"$error":"#N/A"}},{"$f":"NA()","v":{"$error":"#N/A"}},{"$f":"NA()","v":{"$error":"#N/A"}},{"$f":"NA()","v":{"$error":"#N/A"}},{"$f":"NA()","v":{"$error":"#N/A"}},null,null,{"$f":"NA()","v":{"$error":"#N/A"}},{"$f":"NA()","v":{"$error":"#N/A"}},{"$f":"NA()","v":{"$error":"#N/A"}},{"$f":"NA()","v":{"$error":"#N/A"}},{"$f":"NA()","v":{"$error":"#N/A"}},{"$f":"NA()","v":{"$error":"#N/A"}},null,null,{"$f":"NA()","v":{"$error":"#N/A"}},{"$f":"NA()","v":{"$error":"#N/A"}},{"$f":"NA()","v":{"$error":"#N/A"}},{"$f":"NA()","v":{"$error":"#N/A"}},{"$f":"NA()","v":{"$error":"#N/A"}},{"$f":"NA()","v":{"$error":"#N/A"}}]
[null,null,null,null,null,7,{"$f":"IF('AIAG GR&R'!I17=\"\",\"\",'AIAG GR&R'!I17)","v":0},{"$f":"IF('AIAG GR&R'!I18=\"\",\"\",'AIAG GR&R'!I18)","v":0},{"$f":"IF('AIAG GR&R'!I19=\"\",\"\",'AIAG GR&R'!I19)","v":0},null,0,0,null,7,{"$f":"NA()","v":{"$error":"#N/A"}},0,{"$f":"NA()","v":{"$error":"#N/A"}},{"$f":"NA()","v":{"$error":"#N/A"}},0,{"$f":"NA()","v":{"$error":"#N/A"}},null,8,{"$error":"#N/A"},0,{"$error":"#N/A"},{"$error":"#N/A"},0,{"$error":"#N/A"},"Op. C",1,{"$f":"O61","v":{"$error":"#N/A"}},{"$error":"#N/A"},0,{"$error":"#N/A"},{"$error":"#N/A"},0,null,3,{"$error":"#N/A"},{"$error":"#N/A"},0,{"$error":"#N/A"},{"$error":"#N/A"},0,null,5,{"$error":"#N/A"},{"$error":"#N/A"},0,{"$error":"#N/A"},{"$error":"#N/A"},0,null,null,{"$f":"NA()","v":{"$error":"#N/A"}},{"$f":"NA()","v":{"$error":"#N/A"}},{"$f":"NA()","v":{"$error":"#N/A"}},{"$f":"NA()","v":{"$error":"#N/A"}},{"$f":"NA()","v":{"$error":"#N/A"}},{"$f":"NA()","v":{"$error":"#N/A"}},null,null,{"$f":"NA()","v":{"$error":"#N/A"}},{"$f":"NA()","v":{"$error":"#N/A"}},{"$f":"NA()","v":{"$error":"#N/A"}},{"$f":"NA()","v":{"$error":"#N/A"}},{"$f":"NA()","v":{"$error":"#N/A"}},{"$f":"NA()","v":{"$error":"#N/A"}},null,null,{"$f":"NA()","v":{"$error":"#N/A"}},{"$f":"NA()","v":{"$error":"#N/A"}},{"$f":"NA()","v":{"$error":"#N/A"}},{"$f":"NA()","v":{"$error":"#N/A"}},{"$f":"NA()","v":{"$error":"#N/A"}},{"$f":"NA()","v":{"$error":"#N/A"}},null,null,{"$f":"NA()","v":{"$error":"#N/A"}},{"$f":"NA()","v":{"$error":"#N/A"}},{"$f":"NA()","v":{"$error":"#N/A"}},{"$f":"NA()","v":{"$error":"#N/A"}},{"$f":"NA()","v":{"$error":"#N/A"}},{"$f":"NA()","v":{"$error":"#N/A"}}]
[null,null,null,null,null,8,{"$f":"IF('AIAG GR&R'!J17=\"\",\"\",'AIAG GR&R'!J17)","v":0},{"$f":"IF('AIAG GR&R'!J18=\"\",\"\",'AIAG GR&R'!J18)","v":0},{"$f":"IF('AIAG GR&R'!J19=\"\",\"\",'AIAG GR&R'!J19)","v":0},null,0,0,null,8,{"$f":"NA()","v":{"$error":"#N/A"}},0,{"$f":"NA()","v":{"$error":"#N/A"}},{"$f":"NA()","v":{"$error":"#N/A"}},0,{"$f":"NA()","v":{"$error":"#N/A"}},null,9,{"$error":"#N/A"},0,{"$error":"#N/A"},{"$error":"#N/A"},0,{"$error":"#N/A"},null,2,{"$error":"#N/A"},{"$error":"#N/A"},0,{"$error":"#N/A"},{"$error":"#N/A"},0,null,4,{"$error":"#N/A"},{"$error":"#N/A"},0,{"$error":"#N/A"},{"$error":"#N/A"},0,null,6,{"$error":"#N/A"},{"$error":"#N/A"},0,{"$error":"#N/A"},{"$error":"#N/A"},0,null,null,{"$f":"NA()","v":{"$error":"#N/A"}},{"$f":"NA()","v":{"$error":"#N/A"}},{"$f":"NA()","v":{"$error":"#N/A"}},{"$f":"NA()","v":{"$error":"#N/A"}},{"$f":"NA()","v":{"$error":"#N/A"}},{"$f":"NA()","v":{"$error":"#N/A"}},null,null,{"$f":"NA()","v":{"$error":"#N/A"}},{"$f":"NA()","v":{"$error":"#N/A"}},{"$f":"NA()","v":{"$error":"#N/A"}},{"$f":"NA()","v":{"$error":"#N/A"}},{"$f":"NA()","v":{"$error":"#N/A"}},{"$f":"NA()","v":{"$error":"#N/A"}},null,null,{"$f":"NA()","v":{"$error":"#N/A"}},{"$f":"NA()","v":{"$error":"#N/A"}},{"$f":"NA()","v":{"$error":"#N/A"}},{"$f":"NA()","v":{"$error":"#N/A"}},{"$f":"NA()","v":{"$error":"#N/A"}},{"$f":"NA()","v":{"$error":"#N/A"}},null,null,{"$f":"NA()","v":{"$error":"#N/A"}},{"$f":"NA()","v":{"$error":"#N/A"}},{"$f":"NA()","v":{"$error":"#N/A"}},{"$f":"NA()","v":{"$error":"#N/A"}},{"$f":"NA()","v":{"$error":"#N/A"}},{"$f":"NA()","v":{"$error":"#N/A"}}]
[null,null,null,null,null,9,{"$f":"IF('AIAG GR&R'!K17=\"\",\"\",'AIAG GR&R'!K17)","v":0},{"$f":"IF('AIAG GR&R'!K18=\"\",\"\",'AIAG GR&R'!K18)","v":0},{"$f":"IF('AIAG GR&R'!K19=\"\",\"\",'AIAG GR&R'!K19)","v":0},null,0,0,null,9,{"$f":"NA()","v":{"$error":"#N/A"}},0,{"$f":"NA()","v":{"$error":"#N/A"}},{"$f":"NA()","v":{"$error":"#N/A"}},0,{"$f":"NA()","v":{"$error":"#N/A"}},"Op. C",1,{"$f":"O61","v":{"$error":"#N/A"}},{"$error":"#N/A"},0,{"$error":"#N/A"},{"$error":"#N/A"},0,null,3,{"$error":"#N/A"},{"$error":"#N/A"},0,{"$error":"#N/A"},{"$error":"#N/A"},0,null,5,{"$error":"#N/A"},{"$error":"#N/A"},0,{"$error":"#N/A"},{"$error":"#N/A"},0,null,null,{"$f":"NA()","v":{"$error":"#N/A"}},{"$f":"NA()","v":{"$error":"#N/A"}},{"$f":"NA()","v":{"$error":"#N/A"}},{"$f":"NA()","v":{"$error":"#N/A"}},{"$f":"NA()","v":{"$error":"#N/A"}},{"$f":"NA()","v":{"$error":"#N/A"}},null,null,{"$f":"NA()","v":{"$error":"#N/A"}},{"$f":"NA()","v":{"$error":"#N/A"}},{"$f":"NA()","v":{"$error":"#N/A"}},{"$f":"NA()","v":{"$error":"#N/A"}},{"$f":"NA()","v":{"$error":"#N/A"}},{"$f":"NA()","v":{"$error":"#N/A"}},null,null,{"$f":"NA()","v":{"$error":"#N/A"}},{"$f":"NA()","v":{"$error":"#N/A"}},{"$f":"NA()","v":{"$error":"#N/A"}},{"$f":"NA()","v":{"$error":"#N/A"}},{"$f":"NA()","v":{"$error":"#N/A"}},{"$f":"NA()","v":{"$error":"#N/A"}},null,null,{"$f":"NA()","v":{"$error":"#N/A"}},{"$f":"NA()","v":{"$error":"#N/A"}},{"$f":"NA()","v":{"$error":"#N/A"}},{"$f":"NA()","v":{"$error":"#N/A"}},{"$f":"NA()","v":{"$error":"#N/A"}},{"$f":"NA()","v":{"$error":"#N/A"}},null,null,{"$f":"NA()","v":{"$error":"#N/A"}},{"$f":"NA()","v":{"$error":"#N/A"}},{"$f":"NA()","v":{"$error":"#N/A"}},{"$f":"NA()","v":{"$error":"#N/A"}},{"$f":"NA()","v":{"$error":"#N/A"}},{"$f":"NA()","v":{"$error":"#N/A"}}]
[null,null,null,null,null,10,{"$f":"IF('AIAG GR&R'!L17=\"\",\"\",'AIAG GR&R'!L17)","v":0},{"$f":"IF('AIAG GR&R'!L18=\"\",\"\",'AIAG GR&R'!L18)","v":0},{"$f":"IF('AIAG GR&R'!L19=\"\",\"\",'AIAG GR&R'!L19)","v":0},null,0,0,null,10,{"$f":"NA()","v":{"$error":"#N/A"}},0,{"$f":"NA()","v":{"$error":"#N/A"}},{"$f":"NA()","v":{"$error":"#N/A"}},0,{"$f":"NA()","v":{"$error":"#N/A"}},null,2,{"$error":"#N/A"},{"$error":"#N/A"},0,{"$error":"#N/A"},{"$error":"#N/A"},0,null,4,{"$error":"#N/A"},{"$error":"#N/A"},0,{"$error":"#N/A"},{"$error":"#N/A"},0,null,6,{"$error":"#N/A"},{"$error":"#N/A"},0,{"$error":"#N/A"},{"$error":"#N/A"},0,null,null,{"$f":"NA()","v":{"$error":"#N/A"}},{"$f":"NA()","v":{"$error":"#N/A"}},{"$f":"NA()","v":{"$error":"#N/A"}},{"$f":"NA()","v":{"$error":"#N/A"}},{"$f":"NA()","v":{"$error":"#N/A"}},{"$f":"NA()","v":{"$error":"#N/A"}},null,null,{"$f":"NA()","v":{"$error":"#N/A"}},{"$f":"NA()","v":{"$error":"#N/A"}},{"$f":"NA()","v":{"$error":"#N/A"}},{"$f":"NA()","v":{"$error":"#N/A"}},{"$f":"NA()","v":{"$error":"#N/A"}},{"$f":"NA()","v":{"$error":"#N/A"}},null,null,{"$f":"NA()","v":{"$error":"#N/A"}},{"$f":"NA()","v":{"$error":"#N/A"}},{"$f":"NA()","v":{"$error":"#N/A"}},{"$f":"NA()","v":{"$error":"#N/A"}},{"$f":"NA()","v":{"$error":"#N/A"}},{"$f":"NA()","v":{"$error":"#N/A"}},null,null,{"$f":"NA()","v":{"$error":"#N/A"}},{"$f":"NA()","v":{"$error":"#N/A"}},{"$f":"NA()","v":{"$error":"#N/A"}},{"$f":"NA()","v":{"$error":"#N/A"}},{"$f":"NA()","v":{"$error":"#N/A"}},{"$f":"NA()","v":{"$error":"#N/A"}},null,null,{"$f":"NA()","v":{"$error":"#N/A"}},{"$f":"NA()","v":{"$error":"#N/A"}},{"$f":"NA()","v":{"$error":"#N/A"}},{"$f":"NA()","v":{"$error":"#N/A"}},{"$f":"NA()","v":{"$error":"#N/A"}},{"$f":"NA()","v":{"$error":"#N/A"}}]
[null,null,null,null,"Op. C",1,{"$f":"IF('AIAG GR&R'!C22=\"\",\"\",'AIAG GR&R'!C22)","v":0},{"$f":"IF('AIAG GR&R'!C23=\"\",\"\",'AIAG GR&R'!C23)","v":0},{"$f":"IF('AIAG GR&R'!C24=\"\",\"\",'AIAG GR&R'!C24)","v":0},null,0,0,"Op. C",1,{"$f":"NA()","v":{"$error":"#N/A"}},{"$f":"NA()","v":{"$error":"#N/A"}},{"$f":"IF(G61=\"\",NA(),K61)","v":0},{"$f":"NA()","v":{"$error":"#N/A"}},{"$f":"NA()","v":{"$error":"#N/A"}},{"$f":"IF(G61=\"\",NA(),L61)","v":0},null,3,{"$error":"#N/A"},{"$error":"#N/A"},0,{"$error":"#N/A"},{"$error":"#N/A"},0,null,5,{"$error":"#N/A"},{"$error":"#N/A"},0,{"$error":"#N/A"},{"$error":"#N/A"},0,null,7,{"$error":"#N/A"},{"$error":"#N/A"},0,{"$error":"#N/A"},{"$error":"#N/A"},0,null,null,{"$f":"NA()","v":{"$error":"#N/A"}},{"$f":"NA()","v":{"$error":"#N/A"}},{"$f":"NA()","v":{"$error":"#N/A"}},{"$f":"NA()","v":{"$error":"#N/A"}},{"$f":"NA()","v":{"$error":"#N/A"}},{"$f":"NA()","v":{"$error":"#N/A"}},null,null,{"$f":"NA()","v":{"$error":"#N/A"}},{"$f":"NA()","v":{"$error":"#N/A"}},{"$f":"NA()","v":{"$error":"#N/A"}},{"$f":"NA()","v":{"$error":"#N/A"}},{"$f":"NA()","v":{"$error":"#N/A"}},{"$f":"NA()","v":{"$error":"#N/A"}},null,null,{"$f":"NA()","v":{"$error":"#N/A"}},{"$f":"NA()","v":{"$error":"#N/A"}},{"$f":"NA()","v":{"$error":"#N/A"}},{"$f":"NA()","v":{"$error":"#N/A"}},{"$f":"NA()","v":{"$error":"#N/A"}},{"$f":"NA()","v":{"$error":"#N/A"}},null,null,{"$f":"NA()","v":{"$error":"#N/A"}},{"$f":"NA()","v":{"$error":"#N/A"}},{"$f":"NA()","v":{"$error":"#N/A"}},{"$f":"NA()","v":{"$error":"#N/A"}},{"$f":"NA()","v":{"$error":"#N/A"}},{"$f":"NA()","v":{"$error":"#N/A"}},null,null,{"$f":"NA()","v":{"$error":"#N/A"}},{"$f":"NA()","v":{"$error":"#N/A"}},{"$f":"NA()","v":{"$error":"#N/A"}},{"$f":"NA()","v":{"$error":"#N/A"}},{"$f":"NA()","v":{"$error":"#N/A"}},{"$f":"NA()","v":{"$error":"#N/A"}}]
[null,null,null,null,null,2,{"$f":"IF('AIAG GR&R'!D22=\"\",\"\",'AIAG GR&R'!D22)","v":0},{"$f":"IF('AIAG GR&R'!D23=\"\",\"\",'AIAG GR&R'!D23)","v":0},{"$f":"IF('AIAG GR&R'!D24=\"\",\"\",'AIAG GR&R'!D24)","v":0},null,0,0,null,2,{"$f":"NA()","v":{"$error":"#N/A"}},{"$f":"NA()","v":{"$error":"#N/A"}},0,{"$f":"NA()","v":{"$error":"#N/A"}},{"$f":"NA()","v":{"$error":"#N/A"}},0,null,4,{"$error":"#N/A"},{"$error":"#N/A"},0,{"$error":"#N/A"},{"$error":"#N/A"},0,null,6,{"$error":"#N/A"},{"$error":"#N/A"},0,{"$error":"#N/A"},{"$error":"#N/A"},0,null,null,{"$f":"NA()","v":{"$error":"#N/A"}},{"$f":"NA()","v":{"$error":"#N/A"}},{"$f":"NA()","v":{"$error":"#N/A"}},{"$f":"NA()","v":{"$error":"#N/A"}},{"$f":"NA()","v":{"$error":"#N/A"}},{"$f":"NA()","v":{"$error":"#N/A"}},null,null,{"$f":"NA()","v":{"$error":"#N/A"}},{"$f":"NA()","v":{"$error":"#N/A"}},{"$f":"NA()","v":{"$error":"#N/A"}},{"$f":"NA()","v":{"$error":"#N/A"}},{"$f":"NA()","v":{"$error":"#N/A"}},{"$f":"NA()","v":{"$error":"#N/A"}},null,null,{"$f":"NA()","v":{"$error":"#N/A"}},{"$f":"NA()","v":{"$error":"#N/A"}},{"$f":"NA()","v":{"$error":"#N/A"}},{"$f":"NA()","v":{"$error":"#N/A"}},{"$f":"NA()","v":{"$error":"#N/A"}},{"$f":"NA()","v":{"$error":"#N/A"}},null,null,{"$f":"NA()","v":{"$error":"#N/A"}},{"$f":"NA()","v":{"$error":"#N/A"}},{"$f":"NA()","v":{"$error":"#N/A"}},{"$f":"NA()","v":{"$error":"#N/A"}},{"$f":"NA()","v":{"$error":"#N/A"}},{"$f":"NA()","v":{"$error":"#N/A"}},null,null,{"$f":"NA()","v":{"$error":"#N/A"}},{"$f":"NA()","v":{"$error":"#N/A"}},{"$f":"NA()","v":{"$error":"#N/A"}},{"$f":"NA()","v":{"$error":"#N/A"}},{"$f":"NA()","v":{"$error":"#N/A"}},{"$f":"NA()","v":{"$error":"#N/A"}},null,null,{"$f":"NA()","v":{"$error":"#N/A"}},{"$f":"NA()","v":{"$error":"#N/A"}},{"$f":"NA()","v":{"$error":"#N/A"}},{"$f":"NA()","v":{"$error":"#N/A"}},{"$f":"NA()","v":{"$error":"#N/A"}},{"$f":"NA()","v":{"$error":"#N/A"}}]
[null,null,null,null,null,3,{"$f":"IF('AIAG GR&R'!E22=\"\",\"\",'AIAG GR&R'!E22)","v":0},{"$f":"IF('AIAG GR&R'!E23=\"\",\"\",'AIAG GR&R'!E23)","v":0},{"$f":"IF('AIAG GR&R'!E24=\"\",\"\",'AIAG GR&R'!E24)","v":0},null,0,0,null,3,{"$f":"NA()","v":{"$error":"#N/A"}},{"$f":"NA()","v":{"$error":"#N/A"}},0,{"$f":"NA()","v":{"$error":"#N/A"}},{"$f":"NA()","v":{"$error":"#N/A"}},0,null,5,{"$error":"#N/A"},{"$error":"#N/A"},0,{"$error":"#N/A"},{"$error":"#N/A"},0,null,7,{"$error":"#N/A"},{"$error":"#N/A"},0,{"$error":"#N/A"},{"$error":"#N/A"},0,null,null,{"$f":"NA()","v":{"$error":"#N/A"}},{"$f":"NA()","v":{"$error":"#N/A"}},{"$f":"NA()","v":{"$error":"#N/A"}},{"$f":"NA()","v":{"$error":"#N/A"}},{"$f":"NA()","v":{"$error":"#N/A"}},{"$f":"NA()","v":{"$error":"#N/A"}},null,null,{"$f":"NA()","v":{"$error":"#N/A"}},{"$f":"NA()","v":{"$error":"#N/A"}},{"$f":"NA()","v":{"$error":"#N/A"}},{"$f":"NA()","v":{"$error":"#N/A"}},{"$f":"NA()","v":{"$error":"#N/A"}},{"$f":"NA()","v":{"$error":"#N/A"}},null,null,{"$f":"NA()","v":{"$error":"#N/A"}},{"$f":"NA()","v":{"$error":"#N/A"}},{"$f":"NA()","v":{"$error":"#N/A"}},{"$f":"NA()","v":{"$error":"#N/A"}},{"$f":"NA()","v":{"$error":"#N/A"}},{"$f":"NA()","v":{"$error":"#N/A"}},null,null,{"$f":"NA()","v":{"$error":"#N/A"}},{"$f":"NA()","v":{"$error":"#N/A"}},{"$f":"NA()","v":{"$error":"#N/A"}},{"$f":"NA()","v":{"$error":"#N/A"}},{"$f":"NA()","v":{"$error":"#N/A"}},{"$f":"NA()","v":{"$error":"#N/A"}},null,null,{"$f":"NA()","v":{"$error":"#N/A"}},{"$f":"NA()","v":{"$error":"#N/A"}},{"$f":"NA()","v":{"$error":"#N/A"}},{"$f":"NA()","v":{"$error":"#N/A"}},{"$f":"NA()","v":{"$error":"#N/A"}},{"$f":"NA()","v":{"$error":"#N/A"}},null,null,{"$f":"NA()","v":{"$error":"#N/A"}},{"$f":"NA()","v":{"$error":"#N/A"}},{"$f":"NA()","v":{"$error":"#N/A"}},{"$f":"NA()","v":{"$error":"#N/A"}},{"$f":"NA()","v":{"$error":"#N/A"}},{"$f":"NA()","v":{"$error":"#N/A"}}]
[null,null,null,null,null,4,{"$f":"IF('AIAG GR&R'!F22=\"\",\"\",'AIAG GR&R'!F22)","v":0},{"$f":"IF('AIAG GR&R'!F23=\"\",\"\",'AIAG GR&R'!F23)","v":0},{"$f":"IF('AIAG GR&R'!F24=\"\",\"\",'AIAG GR&R'!F24)","v":0},null,0,0,null,4,{"$f":"NA()","v":{"$error":"#N/A"}},{"$f":"NA()","v":{"$error":"#N/A"}},0,{"$f":"NA()","v":{"$error":"#N/A"}},{"$f":"NA()","v":{"$error":"#N/A"}},0,null,6,{"$error":"#N/A"},{"$error":"#N/A"},0,{"$error":"#N/A"},{"$error":"#N/A"},0,null,8,{"$error":"#N/A"},{"$error":"#N/A"},0,{"$error":"#N/A"},{"$error":"#N/A"},0,null,null,{"$f":"NA()","v":{"$error":"#N/A"}},{"$f":"NA()","v":{"$error":"#N/A"}},{"$f":"NA()","v":{"$error":"#N/A"}},{"$f":"NA()","v":{"$error":"#N/A"}},{"$f":"NA()","v":{"$error":"#N/A"}},{"$f":"NA()","v":{"$error":"#N/A"}},null,null,{"$f":"NA()","v":{"$error":"#N/A"}},{"$f":"NA()","v":{"$error":"#N/A"}},{"$f":"NA()","v":{"$error":"#N/A"}},{"$f":"NA()","v":{"$error":"#N/A"}},{"$f":"NA()","v":{"$error":"#N/A"}},{"$f":"NA()","v":{"$error":"#N/A"}},null,null,{"$f":"NA()","v":{"$error":"#N/A"}},{"$f":"NA()","v":{"$error":"#N/A"}},{"$f":"NA()","v":{"$error":"#N/A"}},{"$f":"NA()","v":{"$error":"#N/A"}},{"$f":"NA()","v":{"$error":"#N/A"}},{"$f":"NA()","v":{"$error":"#N/A"}},null,null,{"$f":"NA()","v":{"$error":"#N/A"}},{"$f":"NA()","v":{"$error":"#N/A"}},{"$f":"NA()","v":{"$error":"#N/A"}},{"$f":"NA()","v":{"$error":"#N/A"}},{"$f":"NA()","v":{"$error":"#N/A"}},{"$f":"NA()","v":{"$error":"#N/A"}},null,null,{"$f":"NA()","v":{"$error":"#N/A"}},{"$f":"NA()","v":{"$error":"#N/A"}},{"$f":"NA()","v":{"$error":"#N/A"}},{"$f":"NA()","v":{"$error":"#N/A"}},{"$f":"NA()","v":{"$error":"#N/A"}},{"$f":"NA()","v":{"$error":"#N/A"}},null,null,{"$f":"NA()","v":{"$error":"#N/A"}},{"$f":"NA()","v":{"$error":"#N/A"}},{"$f":"NA()","v":{"$error":"#N/A"}},{"$f":"NA()","v":{"$error":"#N/A"}},{"$f":"NA()","v":{"$error":"#N/A"}},{"$f":"NA()","v":{"$error":"#N/A"}}]
[null,null,null,null,null,5,{"$f":"IF('AIAG GR&R'!G22=\"\",\"\",'AIAG GR&R'!G22)","v":0},{"$f":"IF('AIAG GR&R'!G23=\"\",\"\",'AIAG GR&R'!G23)","v":0},{"$f":"IF('AIAG GR&R'!G24=\"\",\"\",'AIAG GR&R'!G24)","v":0},null,0,0,null,5,{"$f":"NA()","v":{"$error":"#N/A"}},{"$f":"NA()","v":{"$error":"#N/A"}},0,{"$f":"NA()","v":{"$error":"#N/A"}},{"$f":"NA()","v":{"$error":"#N/A"}},0,null,7,{"$error":"#N/A"},{"$error":"#N/A"},0,{"$error":"#N/A"},{"$error":"#N/A"},0,null,null,{"$f":"NA()","v":{"$error":"#N/A"}},{"$f":"NA()","v":{"$error":"#N/A"}},{"$f":"NA()","v":{"$error":"#N/A"}},{"$f":"NA()","v":{"$error":"#N/A"}},{"$f":"NA()","v":{"$error":"#N/A"}},{"$f":"NA()","v":{"$error":"#N/A"}},null,null,{"$f":"NA()","v":{"$error":"#N/A"}},{"$f":"NA()","v":{"$error":"#N/A"}},{"$f":"NA()","v":{"$error":"#N/A"}},{"$f":"NA()","v":{"$error":"#N/A"}},{"$f":"NA()","v":{"$error":"#N/A"}},{"$f":"NA()","v":{"$error":"#N/A"}},null,null,{"$f":"NA()","v":{"$error":"#N/A"}},{"$f":"NA()","v":{"$error":"#N/A"}},{"$f":"NA()","v":{"$error":"#N/A"}},{"$f":"NA()","v":{"$error":"#N/A"}},{"$f":"NA()","v":{"$error":"#N/A"}},{"$f":"NA()","v":{"$error":"#N/A"}},null,null,{"$f":"NA()","v":{"$error":"#N/A"}},{"$f":"NA()","v":{"$error":"#N/A"}},{"$f":"NA()","v":{"$error":"#N/A"}},{"$f":"NA()","v":{"$error":"#N/A"}},{"$f":"NA()","v":{"$error":"#N/A"}},{"$f":"NA()","v":{"$error":"#N/A"}},null,null,{"$f":"NA()","v":{"$error":"#N/A"}},{"$f":"NA()","v":{"$error":"#N/A"}},{"$f":"NA()","v":{"$error":"#N/A"}},{"$f":"NA()","v":{"$error":"#N/A"}},{"$f":"NA()","v":{"$error":"#N/A"}},{"$f":"NA()","v":{"$error":"#N/A"}},null,null,{"$f":"NA()","v":{"$error":"#N/A"}},{"$f":"NA()","v":{"$error":"#N/A"}},{"$f":"NA()","v":{"$error":"#N/A"}},{"$f":"NA()","v":{"$error":"#N/A"}},{"$f":"NA()","v":{"$error":"#N/A"}},{"$f":"NA()","v":{"$error":"#N/A"}},null,null,{"$f":"NA()","v":{"$error":"#N/A"}},{"$f":"NA()","v":{"$error":"#N/A"}},{"$f":"NA()","v":{"$error":"#N/A"}},{"$f":"NA()","v":{"$error":"#N/A"}},{"$f":"NA()","v":{"$error":"#N/A"}},{"$f":"NA()","v":{"$error":"#N/A"}}]
[null,null,null,null,null,6,{"$f":"IF('AIAG GR&R'!H22=\"\",\"\",'AIAG GR&R'!H22)","v":0},{"$f":"IF('AIAG GR&R'!H23=\"\",\"\",'AIAG GR&R'!H23)","v":0},{"$f":"IF('AIAG GR&R'!H24=\"\",\"\",'AIAG GR&R'!H24)","v":0},null,0,0,null,6,{"$f":"NA()","v":{"$error":"#N/A"}},{"$f":"NA()","v":{"$error":"#N/A"}},0,{"$f":"NA()","v":{"$error":"#N/A"}},{"$f":"NA()","v":{"$error":"#N/A"}},0,null,8,{"$error":"#N/A"},{"$error":"#N/A"},0,{"$error":"#N/A"},{"$error":"#N/A"},0,null,null,{"$f":"NA()","v":{"$error":"#N/A"}},{"$f":"NA()","v":{"$error":"#N/A"}},{"$f":"NA()","v":{"$error":"#N/A"}},{"$f":"NA()","v":{"$error":"#N/A"}},{"$f":"NA()","v":{"$error":"#N/A"}},{"$f":"NA()","v":{"$error":"#N/A"}},null,null,{"$f":"NA()","v":{"$error":"#N/A"}},{"$f":"NA()","v":{"$error":"#N/A"}},{"$f":"NA()","v":{"$error":"#N/A"}},{"$f":"NA()","v":{"$error":"#N/A"}},{"$f":"NA()","v":{"$error":"#N/A"}},{"$f":"NA()","v":{"$error":"#N/A"}},null,null,{"$f":"NA()","v":{"$error":"#N/A"}},{"$f":"NA()","v":{"$error":"#N/A"}},{"$f":"NA()","v":{"$error":"#N/A"}},{"$f":"NA()","v":{"$error":"#N/A"}},{"$f":"NA()","v":{"$error":"#N/A"}},{"$f":"NA()","v":{"$error":"#N/A"}},null,null,{"$f":"NA()","v":{"$error":"#N/A"}},{"$f":"NA()","v":{"$error":"#N/A"}},{"$f":"NA()","v":{"$error":"#N/A"}},{"$f":"NA()","v":{"$error":"#N/A"}},{"$f":"NA()","v":{"$error":"#N/A"}},{"$f":"NA()","v":{"$error":"#N/A"}},null,null,{"$f":"NA()","v":{"$error":"#N/A"}},{"$f":"NA()","v":{"$error":"#N/A"}},{"$f":"NA()","v":{"$error":"#N/A"}},{"$f":"NA()","v":{"$error":"#N/A"}},{"$f":"NA()","v":{"$error":"#N/A"}},{"$f":"NA()","v":{"$error":"#N/A"}},null,null,{"$f":"NA()","v":{"$error":"#N/A"}},{"$f":"NA()","v":{"$error":"#N/A"}},{"$f":"NA()","v":{"$error":"#N/A"}},{"$f":"NA()","v":{"$error":"#N/A"}},{"$f":"NA()","v":{"$error":"#N/A"}},{"$f":"NA()","v":{"$error":"#N/A"}},null,null,{"$f":"NA()","v":{"$error":"#N/A"}},{"$f":"NA()","v":{"$error":"#N/A"}},{"$f":"NA()","v":{"$error":"#N/A"}},{"$f":"NA()","v":{"$error":"#N/A"}},{"$f":"NA()","v":{"$error":"#N/A"}},{"$f":"NA()","v":{"$error":"#N/A"}}]
[null,null,null,null,null,7,{"$f":"IF('AIAG GR&R'!I22=\"\",\"\",'AIAG GR&R'!I22)","v":0},{"$f":"IF('AIAG GR&R'!I23=\"\",\"\",'AIAG GR&R'!I23)","v":0},{"$f":"IF('AIAG GR&R'!I24=\"\",\"\",'AIAG GR&R'!I24)","v":0},null,0,0,null,7,{"$f":"NA()","v":{"$error":"#N/A"}},{"$f":"NA()","v":{"$error":"#N/A"}},0,{"$f":"NA()","v":{"$error":"#N/A"}},{"$f":"NA()","v":{"$error":"#N/A"}},0,null,9,{"$error":"#N/A"},{"$error":"#N/A"},0,{"$error":"#N/A"},{"$error":"#N/A"},0,null,null,{"$f":"NA()","v":{"$error":"#N/A"}},{"$f":"NA()","v":{"$error":"#N/A"}},{"$f":"NA()","v":{"$error":"#N/A"}},{"$f":"NA()","v":{"$error":"#N/A"}},{"$f":"NA()","v":{"$error":"#N/A"}},{"$f":"NA()","v":{"$error":"#N/A"}},null,null,{"$f":"NA()","v":{"$error":"#N/A"}},{"$f":"NA()","v":{"$error":"#N/A"}},{"$f":"NA()","v":{"$error":"#N/A"}},{"$f":"NA()","v":{"$error":"#N/A"}},{"$f":"NA()","v":{"$error":"#N/A"}},{"$f":"NA()","v":{"$error":"#N/A"}},null,null,{"$f":"NA()","v":{"$error":"#N/A"}},{"$f":"NA()","v":{"$error":"#N/A"}},{"$f":"NA()","v":{"$error":"#N/A"}},{"$f":"NA()","v":{"$error":"#N/A"}},{"$f":"NA()","v":{"$error":"#N/A"}},{"$f":"NA()","v":{"$error":"#N/A"}},null,null,{"$f":"NA()","v":{"$error":"#N/A"}},{"$f":"NA()","v":{"$error":"#N/A"}},{"$f":"NA()","v":{"$error":"#N/A"}},{"$f":"NA()","v":{"$error":"#N/A"}},{"$f":"NA()","v":{"$error":"#N/A"}},{"$f":"NA()","v":{"$error":"#N/A"}},null,null,{"$f":"NA()","v":{"$error":"#N/A"}},{"$f":"NA()","v":{"$error":"#N/A"}},{"$f":"NA()","v":{"$error":"#N/A"}},{"$f":"NA()","v":{"$error":"#N/A"}},{"$f":"NA()","v":{"$error":"#N/A"}},{"$f":"NA()","v":{"$error":"#N/A"}},null,null,{"$f":"NA()","v":{"$error":"#N/A"}},{"$f":"NA()","v":{"$error":"#N/A"}},{"$f":"NA()","v":{"$error":"#N/A"}},{"$f":"NA()","v":{"$error":"#N/A"}},{"$f":"NA()","v":{"$error":"#N/A"}},{"$f":"NA()","v":{"$error":"#N/A"}},null,null,{"$f":"NA()","v":{"$error":"#N/A"}},{"$f":"NA()","v":{"$error":"#N/A"}},{"$f":"NA()","v":{"$error":"#N/A"}},{"$f":"NA()","v":{"$error":"#N/A"}},{"$f":"NA()","v":{"$error":"#N/A"}},{"$f":"NA()","v":{"$error":"#N/A"}}]
[null,null,null,null,null,8,{"$f":"IF('AIAG GR&R'!J22=\"\",\"\",'AIAG GR&R'!J22)","v":0},{"$f":"IF('AIAG GR&R'!J23=\"\",\"\",'AIAG GR&R'!J23)","v":0},{"$f":"IF('AIAG GR&R'!J24=\"\",\"\",'AIAG GR&R'!J24)","v":0},null,0,0,null,8,{"$f":"NA()","v":{"$error":"#N/A"}},{"$f":"NA()","v":{"$error":"#N/A"}},0,{"$f":"NA()","v":{"$error":"#N/A"}},{"$f":"NA()","v":{"$error":"#N/A"}},0,null,null,{"$f":"NA()","v":{"$error":"#N/A"}},{"$f":"NA()","v":{"$error":"#N/A"}},{"$f":"NA()","v":{"$error":"#N/A"}},{"$f":"NA()","v":{"$error":"#N/A"}},{"$f":"NA()","v":{"$error":"#N/A"}},{"$f":"NA()","v":{"$error":"#N/A"}},null,null,{"$f":"NA()","v":{"$error":"#N/A"}},{"$f":"NA()","v":{"$error":"#N/A"}},{"$f":"NA()","v":{"$error":"#N/A"}},{"$f":"NA()","v":{"$error":"#N/A"}},{"$f":"NA()","v":{"$error":"#N/A"}},{"$f":"NA()","v":{"$error":"#N/A"}},null,null,{"$f":"NA()","v":{"$error":"#N/A"}},{"$f":"NA()","v":{"$error":"#N/A"}},{"$f":"NA()","v":{"$error":"#N/A"}},{"$f":"NA()","v":{"$error":"#N/A"}},{"$f":"NA()","v":{"$error":"#N/A"}},{"$f":"NA()","v":{"$error":"#N/A"}},null,null,{"$f":"NA()","v":{"$error":"#N/A"}},{"$f":"NA()","v":{"$error":"#N/A"}},{"$f":"NA()","v":{"$error":"#N/A"}},{"$f":"NA()","v":{"$error":"#N/A"}},{"$f":"NA()","v":{"$error":"#N/A"}},{"$f":"NA()","v":{"$error":"#N/A"}},null,null,{"$f":"NA()","v":{"$error":"#N/A"}},{"$f":"NA()","v":{"$error":"#N/A"}},{"$f":"NA()","v":{"$error":"#N/A"}},{"$f":"NA()","v":{"$error":"#N/A"}},{"$f":"NA()","v":{"$error":"#N/A"}},{"$f":"NA()","v":{"$error":"#N/A"}},null,null,{"$f":"NA()","v":{"$error":"#N/A"}},{"$f":"NA()","v":{"$error":"#N/A"}},{"$f":"NA()","v":{"$error":"#N/A"}},{"$f":"NA()","v":{"$error":"#N/A"}},{"$f":"NA()","v":{"$error":"#N/A"}},{"$f":"NA()","v":{"$error":"#N/A"}},null,null,{"$f":"NA()","v":{"$error":"#N/A"}},{"$f":"NA()","v":{"$error":"#N/A"}},{"$f":"NA()","v":{"$error":"#N/A"}},{"$f":"NA()","v":{"$error":"#N/A"}},{"$f":"NA()","v":{"$error":"#N/A"}},{"$f":"NA()","v":{"$error":"#N/A"}},null,null,{"$f":"NA()","v":{"$error":"#N/A"}},{"$f":"NA()","v":{"$error":"#N/A"}},{"$f":"NA()","v":{"$error":"#N/A"}},{"$f":"NA()","v":{"$error":"#N/A"}},{"$f":"NA()","v":{"$error":"#N/A"}},{"$f":"NA()","v":{"$error":"#N/A"}}]
[null,null,null,null,null,9,{"$f":"IF('AIAG GR&R'!K22=\"\",\"\",'AIAG GR&R'!K22)","v":0},{"$f":"IF('AIAG GR&R'!K23=\"\",\"\",'AIAG GR&R'!K23)","v":0},{"$f":"IF('AIAG GR&R'!K24=\"\",\"\",'AIAG GR&R'!K24)","v":0},null,0,0,null,9,{"$f":"NA()","v":{"$error":"#N/A"}},{"$f":"NA()","v":{"$error":"#N/A"}},0,{"$f":"NA()","v":{"$error":"#N/A"}},{"$f":"NA()","v":{"$error":"#N/A"}},0,null,null,{"$f":"NA()","v":{"$error":"#N/A"}},{"$f":"NA()","v":{"$error":"#N/A"}},{"$f":"NA()","v":{"$error":"#N/A"}},{"$f":"NA()","v":{"$error":"#N/A"}},{"$f":"NA()","v":{"$error":"#N/A"}},{"$f":"NA()","v":{"$error":"#N/A"}},null,null,{"$f":"NA()","v":{"$error":"#N/A"}},{"$f":"NA()","v":{"$error":"#N/A"}},{"$f":"NA()","v":{"$error":"#N/A"}},{"$f":"NA()","v":{"$error":"#N/A"}},{"$f":"NA()","v":{"$error":"#N/A"}},{"$f":"NA()","v":{"$error":"#N/A"}},null,null,{"$f":"NA()","v":{"$error":"#N/A"}},{"$f":"NA()","v":{"$error":"#N/A"}},{"$f":"NA()","v":{"$error":"#N/A"}},{"$f":"NA()","v":{"$error":"#N/A"}},{"$f":"NA()","v":{"$error":"#N/A"}},{"$f":"NA()","v":{"$error":"#N/A"}},null,null,{"$f":"NA()","v":{"$error":"#N/A"}},{"$f":"NA()","v":{"$error":"#N/A"}},{"$f":"NA()","v":{"$error":"#N/A"}},{"$f":"NA()","v":{"$error":"#N/A"}},{"$f":"NA()","v":{"$error":"#N/A"}},{"$f":"NA()","v":{"$error":"#N/A"}},null,null,{"$f":"NA()","v":{"$error":"#N/A"}},{"$f":"NA()","v":{"$error":"#N/A"}},{"$f":"NA()","v":{"$error":"#N/A"}},{"$f":"NA()","v":{"$error":"#N/A"}},{"$f":"NA()","v":{"$error":"#N/A"}},{"$f":"NA()","v":{"$error":"#N/A"}},null,null,{"$f":"NA()","v":{"$error":"#N/A"}},{"$f":"NA()","v":{"$error":"#N/A"}},{"$f":"NA()","v":{"$error":"#N/A"}},{"$f":"NA()","v":{"$error":"#N/A"}},{"$f":"NA()","v":{"$error":"#N/A"}},{"$f":"NA()","v":{"$error":"#N/A"}},null,null,{"$f":"NA()","v":{"$error":"#N/A"}},{"$f":"NA()","v":{"$error":"#N/A"}},{"$f":"NA()","v":{"$error":"#N/A"}},{"$f":"NA()","v":{"$error":"#N/A"}},{"$f":"NA()","v":{"$error":"#N/A"}},{"$f":"NA()","v":{"$error":"#N/A"}},null,null,{"$f":"NA()","v":{"$error":"#N/A"}},{"$f":"NA()","v":{"$error":"#N/A"}},{"$f":"NA()","v":{"$error":"#N/A"}},{"$f":"NA()","v":{"$error":"#N/A"}},{"$f":"NA()","v":{"$error":"#N/A"}},{"$f":"NA()","v":{"$error":"#N/A"}}]
[null,null,null,null,null,10,{"$f":"IF('AIAG GR&R'!L22=\"\",\"\",'AIAG GR&R'!L22)","v":0},{"$f":"IF('AIAG GR&R'!L23=\"\",\"\",'AIAG GR&R'!L23)","v":0},{"$f":"IF('AIAG GR&R'!L24=\"\",\"\",'AIAG GR&R'!L24)","v":0},null,0,0,null,10,{"$f":"NA()","v":{"$error":"#N/A"}},{"$f":"NA()","v":{"$error":"#N/A"}},0,{"$f":"NA()","v":{"$error":"#N/A"}},{"$f":"NA()","v":{"$error":"#N/A"}},0,null,null,{"$f":"NA()","v":{"$error":"#N/A"}},{"$f":"NA()","v":{"$error":"#N/A"}},{"$f":"NA()","v":{"$error":"#N/A"}},{"$f":"NA()","v":{"$error":"#N/A"}},{"$f":"NA()","v":{"$error":"#N/A"}},{"$f":"NA()","v":{"$error":"#N/A"}},null,null,{"$f":"NA()","v":{"$error":"#N/A"}},{"$f":"NA()","v":{"$error":"#N/A"}},{"$f":"NA()","v":{"$error":"#N/A"}},{"$f":"NA()","v":{"$error":"#N/A"}},{"$f":"NA()","v":{"$error":"#N/A"}},{"$f":"NA()","v":{"$error":"#N/A"}},null,null,{"$f":"NA()","v":{"$error":"#N/A"}},{"$f":"NA()","v":{"$error":"#N/A"}},{"$f":"NA()","v":{"$error":"#N/A"}},{"$f":"NA()","v":{"$error":"#N/A"}},{"$f":"NA()","v":{"$error":"#N/A"}},{"$f":"NA()","v":{"$error":"#N/A"}},null,null,{"$f":"NA()","v":{"$error":"#N/A"}},{"$f":"NA()","v":{"$error":"#N/A"}},{"$f":"NA()","v":{"$error":"#N/A"}},{"$f":"NA()","v":{"$error":"#N/A"}},{"$f":"NA()","v":{"$error":"#N/A"}},{"$f":"NA()","v":{"$error":"#N/A"}},null,null,{"$f":"NA()","v":{"$error":"#N/A"}},{"$f":"NA()","v":{"$error":"#N/A"}},{"$f":"NA()","v":{"$error":"#N/A"}},{"$f":"NA()","v":{"$error":"#N/A"}},{"$f":"NA()","v":{"$error":"#N/A"}},{"$f":"NA()","v":{"$error":"#N/A"}},null,null,{"$f":"NA()","v":{"$error":"#N/A"}},{"$f":"NA()","v":{"$error":"#N/A"}},{"$f":"NA()","v":{"$error":"#N/A"}},{"$f":"NA()","v":{"$error":"#N/A"}},{"$f":"NA()","v":{"$error":"#N/A"}},{"$f":"NA()","v":{"$error":"#N/A"}},null,null,{"$f":"NA()","v":{"$error":"#N/A"}},{"$f":"NA()","v":{"$error":"#N/A"}},{"$f":"NA()","v":{"$error":"#N/A"}},{"$f":"NA()","v":{"$error":"#N/A"}},{"$f":"NA()","v":{"$error":"#N/A"}},{"$f":"NA()","v":{"$error":"#N/A"}},null,null,{"$f":"NA()","v":{"$error":"#N/A"}},{"$f":"NA()","v":{"$error":"#N/A"}},{"$f":"NA()","v":{"$error":"#N/A"}},{"$f":"NA()","v":{"$error":"#N/A"}},{"$f":"NA()","v":{"$error":"#N/A"}},{"$f":"NA()","v":{"$error":"#N/A"}}]
[null,null,null,null,null,null,null,null,null,null,{"$f":"AVERAGE(K41:K70)","v":0},{"$f":"AVERAGE(L41:L70)","v":0},null,null,{"$f":"IF($AC$112=$O$38,O38,IF($AC$112=$W$38,W38,IF($AC$112=$AE$38,AE38,IF($AC$112=$AM$38,AM38,IF($AC$112=$AU$38,AU38,\"\")))))","v":10},null,null,null,null,null,null,null,{"$f":"IF($AC$112=$BC$38,BC38,IF($AC$112=$BK$38,BK38,IF($AC$112=$BS$38,BS38,IF($AC$112=$CA$38,CA38,\"\"))))","v":""},null,null,null,null,null,null,null,null,null,null,null,null,null,null,null,null,null,null,null,null,"zero","one","two","three","four","five","six","seven","eight","nine","ten","eleven","twelve","thirteen","fourteen","fifteen","sixteen","seventeen","eighteen","nineteen","twenty","twentyone","twentytwo","twentythree","twentyfour","twentyfive","twentysix","twentyseven","twentyeight","twentynine","thirty","thirtyone"]
[null,null,null,null,null,null,null,null,null,null,null,null,null,null,"Ten thru Six",null,null,null,null,null,null,null,"Five thru 2",null,null,null,null,null,null,null,null,"A",null,null,"B",null,null,"C",null,null,null,null,null,"Op A",{"$f":"IF(G41=\"\",NA(),G41)","v":0},{"$f":"IF(H41=\"\",NA(),H41)","v":0},{"$f":"IF(I41=\"\",NA(),I41)","v":0},{"$f":"IF(G42=\"\",NA(),G42)","v":0},{"$f":"IF(H42=\"\",NA(),H42)","v":0},{"$f":"IF(I42=\"\",NA(),I42)","v":0},{"$f":"IF(G43=\"\",NA(),G43)","v":0},{"$f":"IF(H43=\"\",NA(),H43)","v":0},{"$f":"IF(I43=\"\",NA(),I43)","v":0},{"$f":"IF(G44=\"\",NA(),G44)","v":0},{"$f":"IF(H44=\"\",NA(),H44)","v":0},{"$f":"IF(I44=\"\",NA(),I44)","v":0},{"$f":"IF(G45=\"\",NA(),G45)","v":0},{"$f":"IF(H45=\"\",NA(),H45)","v":0},{"$f":"IF(I45=\"\",NA(),I45)","v":0},{"$f":"IF(G46=\"\",NA(),G46)","v":0},{"$f":"IF(H46=\"\",NA(),H46)","v":0},{"$f":"IF(I46=\"\",NA(),I46)","v":0},{"$f":"IF(G47=\"\",NA(),G47)","v":0},{"$f":"IF(H47=\"\",NA(),H47)","v":0},{"$f":"IF(I47=\"\",NA(),I47)","v":0},{"$f":"IF(G48=\"\",NA(),G48)","v":0},{"$f":"IF(H48=\"\",NA(),H48)","v":0},{"$f":"IF(I48=\"\",NA(),I48)","v":0},{"$f":"IF(G49=\"\",NA(),G49)","v":0},{"$f":"IF(H49=\"\",NA(),H49)","v":0},{"$f":"IF(I49=\"\",NA(),I49)","v":0},{"$f":"IF(G50=\"\",NA(),G50)","v":0},{"$f":"IF(H50=\"\",NA(),H50)","v":0},{"$f":"IF(I50=\"\",NA(),I50)","v":0},{"$f":"AVERAGE(AS72:BV72)","v":0}]
[null,null,null,null,null,null,null,null,null,null,null,null,null,null,"Average",null,null,"Range",null,null,null,null,"Average",null,null,"Range",null,null,null,null,null,1,2,3,1,2,3,1,2,3,"Op A","Op B","Op C","Op B",{"$f":"IF(G51=\"\",NA(),G51)","v":0},{"$f":"IF(H51=\"\",NA(),H51)","v":0},{"$f":"IF(I51=\"\",NA(),I51)","v":0},{"$f":"IF(G52=\"\",NA(),G52)","v":0},{"$f":"IF(H52=\"\",NA(),H52)","v":0},{"$f":"IF(I52=\"\",NA(),I52)","v":0},{"$f":"IF(G53=\"\",NA(),G53)","v":0},{"$f":"IF(H53=\"\",NA(),H53)","v":0},{"$f":"IF(I53=\"\",NA(),I53)","v":0},{"$f":"IF(G54=\"\",NA(),G54)","v":0},{"$f":"IF(H54=\"\",NA(),H54)","v":0},{"$f":"IF(I54=\"\",NA(),I54)","v":0},{"$f":"IF(G55=\"\",NA(),G55)","v":0},{"$f":"IF(H55=\"\",NA(),H55)","v":0},{"$f":"IF(I55=\"\",NA(),I55)","v":0},{"$f":"IF(G56=\"\",NA(),G56)","v":0},{"$f":"IF(H56=\"\",NA(),H56)","v":0},{"$f":"IF(I56=\"\",NA(),I56)","v":0},{"$f":"IF(G57=\"\",NA(),G57)","v":0},{"$f":"IF(H57=\"\",NA(),H57)","v":0},{"$f":"IF(I57=\"\",NA(),I57)","v":0},{"$f":"IF(G58=\"\",NA(),G58)","v":0},{"$f":"IF(H58=\"\",NA(),H58)","v":0},{"$f":"IF(I58=\"\",NA(),I58)","v":0},{"$f":"IF(G59=\"\",NA(),G59)","v":0},{"$f":"IF(H59=\"\",NA(),H59)","v":0},{"$f":"IF(I59=\"\",NA(),I59)","v":0},{"$f":"IF(G60=\"\",NA(),G60)","v":0},{"$f":"IF(H60=\"\",NA(),H60)","v":0},{"$f":"IF(I60=\"\",NA(),I60)","v":0},{"$f":"AVERAGE(AS73:BV73)","v":0}]
[null,null,null,null,null,null,null,null,null,null,null,null,null,{"$f":"IF($AC$111=$O$38,N41,IF($AC$111=$W$38,V41,IF($AC$111=$AE$38,AD41,IF($AC$111=$AM$38,AL41,IF($AC$111=$AU$38,AT41,\"\")))))","v":""},{"$f":"IF($AC$112=$O$38,O41,IF($AC$112=$W$38,W41,IF($AC$112=$AE$38,AE41,IF($AC$112=$AM$38,AM41,IF($AC$112=$AU$38,AU41,\"\")))))","v":0},{"$error":"#N/A"},{"$error":"#N/A"},0,{"$error":"#N/A"},{"$error":"#N/A"},null,{"$f":"IF($AC$112=$BC$38,BB41,IF($AC$112=$BK$38,BJ41,IF($AC$112=$BS$38,BR41,IF($AC$112=$CA$38,BZ41,\"\"))))","v":""},"","","","","","",null,null,{"$f":"IF(G41=\"\",NA(),F41)","v":1},{"$f":"IF(G41=\"\",NA(),G41)","v":0},0,0,{"$f":"IF(G51=\"\",NA(),G51)","v":0},0,0,{"$f":"IF(G61=\"\",NA(),G61)","v":0},0,0,{"$f":"IF('AIAG GR&R'!$F$7=3,AVERAGE(G41:I41,G51:I51,G61:I61),IF('AIAG GR&R'!$F$7=2,AVERAGE(G41:I41,G51:I51),AVERAGE(G41:I41)))","v":0},null,null,"Op C",{"$f":"IF(G61=\"\",NA(),G61)","v":0},{"$f":"IF(H61=\"\",NA(),H61)","v":0},{"$f":"IF(I61=\"\",NA(),I61)","v":0},{"$f":"IF(G62=\"\",NA(),G62)","v":0},{"$f":"IF(H62=\"\",NA(),H62)","v":0},{"$f":"IF(I62=\"\",NA(),I62)","v":0},{"$f":"IF(G63=\"\",NA(),G63)","v":0},{"$f":"IF(H63=\"\",NA(),H63)","v":0},{"$f":"IF(I63=\"\",NA(),I63)","v":0},{"$f":"IF(G64=\"\",NA(),G64)","v":0},{"$f":"IF(H64=\"\",NA(),H64)","v":0},{"$f":"IF(I64=\"\",NA(),I64)","v":0},{"$f":"IF(G65=\"\",NA(),G65)","v":0},{"$f":"IF(H65=\"\",NA(),H65)","v":0},{"$f":"IF(I65=\"\",NA(),I65)","v":0},{"$f":"IF(G66=\"\",NA(),G66)","v":0},{"$f":"IF(H66=\"\",NA(),H66)","v":0},{"$f":"IF(I66=\"\",NA(),I66)","v":0},{"$f":"IF(G67=\"\",NA(),G67)","v":0},{"$f":"IF(H67=\"\",NA(),H67)","v":0},{"$f":"IF(I67=\"\",NA(),I67)","v":0},{"$f":"IF(G68=\"\",NA(),G68)","v":0},{"$f":"IF(H68=\"\",NA(),H68)","v":0},{"$f":"IF(I68=\"\",NA(),I68)","v":0},{"$f":"IF(G69=\"\",NA(),G69)","v":0},{"$f":"IF(H69=\"\",NA(),H69)","v":0},{"$f":"IF(I69=\"\",NA(),I69)","v":0},{"$f":"IF(G70=\"\",NA(),G70)","v":0},{"$f":"IF(H70=\"\",NA(),H70)","v":0},{"$f":"IF(I70=\"\",NA(),I70)","v":0},{"$f":"AVERAGE(AS74:BV74)","v":0}]
[null,null,null,null,null,null,null,null,null,{"$f":"IF(G41=\"\",NA(),1)","v":1},{"$f":"IF(G41=\"\",NA(),F41)","v":1},{"$f":"IF(G41=\"\",NA(),G41)","v":0},null,"",0,{"$error":"#N/A"},{"$error":"#N/A"},0,{"$error":"#N/A"},{"$error":"#N/A"},null,"","","","","","","",null,null,2,0,0,0,0,0,0,0,0,0,{"$f":"IF('AIAG GR&R'!$F$7=3,AVERAGE(G42:I42,G52:I52,G62:I62),IF('AIAG GR&R'!$F$7=2,AVERAGE(G42:I42,G52:I52),AVERAGE(G42:I42)))","v":0}]
[null,null,null,null,null,null,null,null,null,1,2,0,null,"",0,{"$error":"#N/A"},{"$error":"#N/A"},0,{"$error":"#N/A"},{"$error":"#N/A"},null,"","","","","","","",null,null,3,0,0,0,0,0,0,0,0,0,{"$f":"IF('AIAG GR&R'!$F$7=3,AVERAGE(G43:I43,G53:I53,G63:I63),IF('AIAG GR&R'!$F$7=2,AVERAGE(G43:I43,G53:I53),AVERAGE(G43:I43)))","v":0}]
[null,null,null,null,null,null,null,null,null,1,3,0,null,"",0,{"$error":"#N/A"},{"$error":"#N/A"},0,{"$error":"#N/A"},{"$error":"#N/A"},null,"","","","","","","",null,null,4,0,0,0,0,0,0,0,0,0,{"$f":"IF('AIAG GR&R'!$F$7=3,AVERAGE(G44:I44,G54:I54,G64:I64),IF('AIAG GR&R'!$F$7=2,AVERAGE(G44:I44,G54:I54),AVERAGE(G44:I44)))","v":0}]
[null,null,null,null,null,null,null,null,null,1,4,0,null,"",0,{"$error":"#N/A"},{"$error":"#N/A"},0,{"$error":"#N/A"},{"$error":"#N/A"},null,"","","","","","","",null,null,5,0,0,0,0,0,0,0,0,0,{"$f":"IF('AIAG GR&R'!$F$7=3,AVERAGE(G45:I45,G55:I55,G65:I65),IF('AIAG GR&R'!$F$7=2,AVERAGE(G45:I45,G55:I55),AVERAGE(G45:I45)))","v":0}]
[null,null,null,null,null,null,null,null,null,1,5,0,null,"",0,{"$error":"#N/A"},{"$error":"#N/A"},0,{"$error":"#N/A"},{"$error":"#N/A"},null,"","","","","","","",null,null,6,0,0,0,0,0,0,0,0,0,{"$f":"IF('AIAG GR&R'!$F$7=3,AVERAGE(G46:I46,G56:I56,G66:I66),IF('AIAG GR&R'!$F$7=2,AVERAGE(G46:I46,G56:I56),AVERAGE(G46:I46)))","v":0}]
[null,null,null,null,null,null,null,null,null,1,6,0,null,"",0,{"$error":"#N/A"},{"$error":"#N/A"},0,{"$error":"#N/A"},{"$error":"#N/A"},null,"","","","","","","",null,null,7,0,0,0,0,0,0,0,0,0,{"$f":"IF('AIAG GR&R'!$F$7=3,AVERAGE(G47:I47,G57:I57,G67:I67),IF('AIAG GR&R'!$F$7=2,AVERAGE(G47:I47,G57:I57),AVERAGE(G47:I47)))","v":0}]
[null,null,null,null,null,null,null,null,null,1,7,0,null,"",0,{"$error":"#N/A"},{"$error":"#N/A"},0,{"$error":"#N/A"},{"$error":"#N/A"},null,"","","","","","","",null,null,8,0,0,0,0,0,0,0,0,0,{"$f":"IF('AIAG GR&R'!$F$7=3,AVERAGE(G48:I48,G58:I58,G68:I68),IF('AIAG GR&R'!$F$7=2,AVERAGE(G48:I48,G58:I58),AVERAGE(G48:I48)))","v":0}]
[null,null,null,null,null,null,null,null,null,1,8,0,null,"",0,{"$error":"#N/A"},{"$error":"#N/A"},0,{"$error":"#N/A"},{"$error":"#N/A"},null,"","","","","","","",null,null,9,0,0,0,0,0,0,0,0,0,{"$f":"IF('AIAG GR&R'!$F$7=3,AVERAGE(G49:I49,G59:I59,G69:I69),IF('AIAG GR&R'!$F$7=2,AVERAGE(G49:I49,G59:I59),AVERAGE(G49:I49)))","v":0}]
[null,null,null,null,null,null,null,null,null,1,9,0,null,"",0,{"$error":"#N/A"},{"$error":"#N/A"},0,{"$error":"#N/A"},{"$error":"#N/A"},null,"","","","","","","",null,null,10,0,0,0,0,0,0,0,0,0,{"$f":"IF('AIAG GR&R'!$F$7=3,AVERAGE(G50:I50,G60:I60,G70:I70),IF('AIAG GR&R'!$F$7=2,AVERAGE(G50:I50,G60:I60),AVERAGE(G50:I50)))","v":0}]
[null,null,null,null,null,null,null,null,null,1,10,0,null,"",{"$error":"#N/A"},0,{"$error":"#N/A"},{"$error":"#N/A"},0,{"$error":"#N/A"},null,"","","","","","","",null,null,null,{"$f":"IF(G41=\"\",\"\",G41)","v":0},{"$f":"IF(H41=\"\",\"\",H41)","v":0},{"$f":"IF(I41=\"\",\"\",I41)","v":0},{"$f":"IF(G51=\"\",\"\",G51)","v":0},{"$f":"IF(H51=\"\",\"\",H51)","v":0},{"$f":"IF(I51=\"\",\"\",I51)","v":0},{"$f":"IF(G61=\"\",\"\",G61)","v":0},{"$f":"IF(H61=\"\",\"\",H61)","v":0},{"$f":"IF(I61=\"\",\"\",I61)","v":0},{"$f":"IF(AF84=\"\",NA(),AVERAGE(AF84:AH84))","v":0},{"$f":"IF(AI84=\"\",NA(),AVERAGE(AI84:AK84))","v":0},{"$f":"IF(AL84=\"\",NA(),AVERAGE(AL84:AN84))","v":0}]
[null,null,null,null,null,null,null,null,null,{"$f":"IF(G51=\"\",NA(),2)","v":2},1,0,null,"",{"$error":"#N/A"},0,{"$error":"#N/A"},{"$error":"#N/A"},0,{"$error":"#N/A"},null,"","","","","","","",null,null,null,{"$f":"IF(G42=\"\",\"\",G42)","v":0},0,0,{"$f":"IF(G52=\"\",\"\",G52)","v":0},0,0,{"$f":"IF(G62=\"\",\"\",G62)","v":0},0,0,{"$f":"IF(AF85=\"\",NA(),AVERAGE(AF85:AH85))","v":0},{"$f":"IF(AI85=\"\",NA(),AVERAGE(AI85:AK85))","v":0},{"$f":"IF(AL85=\"\",NA(),AVERAGE(AL85:AN85))","v":0}]
[null,null,null,null,null,null,null,null,null,2,2,0,null,"",{"$error":"#N/A"},0,{"$error":"#N/A"},{"$error":"#N/A"},0,{"$error":"#N/A"},null,"","","","","","","",null,null,null,0,0,0,0,0,0,0,0,0,0,0,0]
[null,null,null,null,null,null,null,null,null,2,3,0,null,"",{"$error":"#N/A"},0,{"$error":"#N/A"},{"$error":"#N/A"},0,{"$error":"#N/A"},null,"","","","","","","",null,null,null,0,0,0,0,0,0,0,0,0,0,0,0]
[null,null,null,null,null,null,null,null,null,2,4,0,null,"",{"$error":"#N/A"},0,{"$error":"#N/A"},{"$error":"#N/A"},0,{"$error":"#N/A"},null,"","","","","","","",null,null,null,0,0,0,0,0,0,0,0,0,0,0,0]
[null,null,null,null,null,null,null,null,null,2,5,0,null,"",{"$error":"#N/A"},0,{"$error":"#N/A"},{"$error":"#N/A"},0,{"$error":"#N/A"},null,"","","","","","","",null,null,null,0,0,0,0,0,0,0,0,0,0,0,0]
[null,null,null,null,null,null,null,null,null,2,6,0,null,"",{"$f":"IF($AC$112=$O$38,O57,IF($AC$112=$W$38,W57,IF($AC$112=$AE$38,AE57,IF($AC$112=$AM$38,AM57,IF($AC$112=$AU$38,AU57,\"\")))))","v":{"$error":"#N/A"}},0,{"$error":"#N/A"},{"$error":"#N/A"},0,{"$error":"#N/A"},null,"","","","","","","",null,null,null,0,0,0,0,0,0,0,0,0,0,0,0]
[null,null,null,null,null,null,null,null,null,2,7,0,null,"",{"$error":"#N/A"},0,{"$error":"#N/A"},{"$error":"#N/A"},0,{"$error":"#N/A"},null,"","","","","","","",null,null,null,0,0,0,0,0,0,0,0,0,0,0,0]
[null,null,null,null,null,null,null,null,null,2,8,0,null,"",{"$error":"#N/A"},0,{"$error":"#N/A"},{"$error":"#N/A"},0,{"$error":"#N/A"},null,"","","","","","","",null,null,null,0,0,0,0,0,0,0,0,0,0,0,0]
[null,null,null,null,null,null,null,null,null,2,9,0,null,"",{"$error":"#N/A"},0,{"$error":"#N/A"},{"$error":"#N/A"},0,{"$error":"#N/A"},null,"","","","","","","",null,null,null,0,0,0,0,0,0,0,0,0,0,0,0]
[null,null,null,null,null,null,null,null,null,2,10,0,null,"",{"$error":"#N/A"},{"$error":"#N/A"},0,{"$error":"#N/A"},{"$error":"#N/A"},0,null,"","","","","","",""]
[null,null,null,null,null,null,null,null,null,{"$f":"IF(G61=\"\",NA(),3)","v":3},1,0,null,"",{"$error":"#N/A"},{"$error":"#N/A"},0,{"$error":"#N/A"},{"$error":"#N/A"},0,null,"","","","","","",""]
[null,null,null,null,null,null,null,null,null,3,2,0,null,"",{"$error":"#N/A"},{"$error":"#N/A"},0,{"$error":"#N/A"},{"$error":"#N/A"},0,null,"","","","","","",""]
[null,null,null,null,null,null,null,null,null,3,3,0,null,"",{"$error":"#N/A"},{"$error":"#N/A"},0,{"$error":"#N/A"},{"$error":"#N/A"},0,null,"","","","","","",""]
[null,null,null,null,null,null,null,null,null,3,4,0,null,"",{"$error":"#N/A"},{"$error":"#N/A"},0,{"$error":"#N/A"},{"$error":"#N/A"},0,null,"","","","","","",""]
[null,null,null,null,null,null,null,null,null,3,5,0,null,"",{"$error":"#N/A"},{"$error":"#N/A"},0,{"$error":"#N/A"},{"$error":"#N/A"},0,null,"","","","","","",""]
[null,null,null,null,null,null,null,null,null,3,6,0,null,"",{"$error":"#N/A"},{"$error":"#N/A"},0,{"$error":"#N/A"},{"$error":"#N/A"},0,null,"","","","","","",""]
[null,null,null,null,null,null,null,null,null,3,7,0,null,"",{"$error":"#N/A"},{"$error":"#N/A"},0,{"$error":"#N/A"},{"$error":"#N/A"},0,null,"","","","","","",""]
[null,null,null,null,null,null,null,null,null,3,8,0,null,"",{"$error":"#N/A"},{"$error":"#N/A"},0,{"$error":"#N/A"},{"$error":"#N/A"},0,null,"","","","","","",""]
[null,null,null,null,null,null,null,null,null,3,9,0,null,"",{"$error":"#N/A"},{"$error":"#N/A"},0,{"$error":"#N/A"},{"$error":"#N/A"},0,null,"","","","","","",""]
[null,null,null,null,null,null,null,null,null,3,10,0]
[null,null,null,null,null,null,null,null,null,{"$f":"IF(G41=\"\",NA(),1)","v":1},{"$f":"IF(G41=\"\",NA(),F41)","v":1},{"$f":"IF(H41=\"\",NA(),H41)","v":0},null,null,"Xbar R Chart",null,null,null,null,null,null,null,null,null,null,null,null,null,null,null,null,null,null,null,null,null,null,null,null,null,null,null,{"$f":"IF(G41=\"\",NA(),1)","v":1},{"$f":"IF(G41=\"\",NA(),F41)","v":1},{"$f":"IF(G41=\"\",NA(),G41)","v":0},0,0]
[null,null,null,null,null,null,null,null,null,1,2,0,null,null,"Op. A","Op. B","Op. C","Op. A","Op. B","Op. C",null,null,null,null,null,null,null,null,null,null,null,null,null,null,null,null,null,null,null,null,null,null,1,2,0,0,0]
[null,null,null,null,null,null,null,null,null,1,3,0,null,null,"Average",null,null,"Range",null,null,null,"Average","Average","UCL X","LCL X","UCL R",null,"Control Chart Factors",null,null,null,null,null,null,null,null,null,null,null,null,null,null,1,3,0,0,0]
[null,null,null,null,null,null,null,null,null,1,4,0,null,{"$f":"IF($AC$111>17,N74,V74)","v":""},{"$f":"IF($AC$112>5,O74,W74)","v":0},{"$error":"#N/A"},{"$error":"#N/A"},0,{"$error":"#N/A"},{"$error":"#N/A"},null,{"$f":"$K$71","v":0},{"$f":"$L$71","v":0},{"$f":"IF('AIAG GR&R'!$F$7=3,Calculations!V108+(Calculations!$AC$110*Calculations!W108),IF('AIAG GR&R'!$F$7=2,Calculations!V108+(Calculations!$AC$109*Calculations!W108)))","v":0},{"$f":"IF('AIAG GR&R'!$F$7=3,Calculations!V108-(Calculations!$AC$110*Calculations!W108),IF('AIAG GR&R'!$F$7=2,Calculations!V108-(Calculations!$AC$109*Calculations!W108)))","v":0},{"$f":"IF('AIAG GR&R'!$F$7=3,(Calculations!$AD$110*Calculations!W108),IF('AIAG GR&R'!$F$7=2,(Calculations!$AD$109*Calculations!W108)))","v":0},null,"n","A2","D4",null,null,null,null,null,null,null,null,null,null,null,null,1,4,0,0,0]
[null,null,null,null,null,null,null,null,null,1,5,0,null,"",0,{"$error":"#N/A"},{"$error":"#N/A"},0,{"$error":"#N/A"},{"$error":"#N/A"},null,{"$f":"$K$71","v":0},{"$f":"$L$71","v":0},{"$f":"IF('AIAG GR&R'!$F$7=3,Calculations!V109+(Calculations!$AC$110*Calculations!W109),IF('AIAG GR&R'!$F$7=2,Calculations!V109+(Calculations!$AC$109*Calculations!W109)))","v":0},{"$f":"IF('AIAG GR&R'!$F$7=3,Calculations!V109-(Calculations!$AC$110*Calculations!W109),IF('AIAG GR&R'!$F$7=2,Calculations!V109-(Calculations!$AC$109*Calculations!W109)))","v":0},{"$f":"IF('AIAG GR&R'!$F$7=3,(Calculations!$AD$110*Calculations!W109),IF('AIAG GR&R'!$F$7=2,(Calculations!$AD$109*Calculations!W109)))","v":0},null,2,1.88,3.27,null,null,null,null,null,null,null,null,null,null,null,null,1,5,0,0,0]
[null,null,null,null,null,null,null,null,null,1,6,0,null,"",0,{"$error":"#N/A"},{"$error":"#N/A"},0,{"$error":"#N/A"},{"$error":"#N/A"},null,0,0,{"$f":"IF('AIAG GR&R'!$F$7=3,Calculations!V110+(Calculations!$AC$110*Calculations!W110),IF('AIAG GR&R'!$F$7=2,Calculations!V110+(Calculations!$AC$109*Calculations!W110)))","v":0},{"$f":"IF('AIAG GR&R'!$F$7=3,Calculations!V110-(Calculations!$AC$110*Calculations!W110),IF('AIAG GR&R'!$F$7=2,Calculations!V110-(Calculations!$AC$109*Calculations!W110)))","v":0},{"$f":"IF('AIAG GR&R'!$F$7=3,(Calculations!$AD$110*Calculations!W110),IF('AIAG GR&R'!$F$7=2,(Calculations!$AD$109*Calculations!W110)))","v":0},null,3,1.0229999999999999,2.5750000000000002,null,null,null,null,null,null,null,null,null,null,null,null,1,6,0,0,0]
[null,null,null,null,null,null,null,null,null,1,7,0,null,"",0,{"$error":"#N/A"},{"$error":"#N/A"},0,{"$error":"#N/A"},{"$error":"#N/A"},null,0,0,{"$f":"IF('AIAG GR&R'!$F$7=3,Calculations!V111+(Calculations!$AC$110*Calculations!W111),IF('AIAG GR&R'!$F$7=2,Calculations!V111+(Calculations!$AC$109*Calculations!W111)))","v":0},{"$f":"IF('AIAG GR&R'!$F$7=3,Calculations!V111-(Calculations!$AC$110*Calculations!W111),IF('AIAG GR&R'!$F$7=2,Calculations!V111-(Calculations!$AC$109*Calculations!W111)))","v":0},{"$f":"IF('AIAG GR&R'!$F$7=3,(Calculations!$AD$110*Calculations!W111),IF('AIAG GR&R'!$F$7=2,(Calculations!$AD$109*Calculations!W111)))","v":0},null,"Num. Pts.",{"$f":"'AIAG GR&R'!F7*'AIAG GR&R'!F8","v":30},null,null,null,null,null,null,null,null,null,null,null,null,null,1,7,0,0,0]
[null,null,null,null,null,null,null,null,null,1,8,0,null,"",0,{"$error":"#N/A"},{"$error":"#N/A"},0,{"$error":"#N/A"},{"$error":"#N/A"},null,0,0,{"$f":"IF('AIAG GR&R'!$F$7=3,Calculations!V112+(Calculations!$AC$110*Calculations!W112),IF('AIAG GR&R'!$F$7=2,Calculations!V112+(Calculations!$AC$109*Calculations!W112)))","v":0},{"$f":"IF('AIAG GR&R'!$F$7=3,Calculations!V112-(Calculations!$AC$110*Calculations!W112),IF('AIAG GR&R'!$F$7=2,Calculations!V112-(Calculations!$AC$109*Calculations!W112)))","v":0},{"$f":"IF('AIAG GR&R'!$F$7=3,(Calculations!$AD$110*Calculations!W112),IF('AIAG GR&R'!$F$7=2,(Calculations!$AD$109*Calculations!W112)))","v":0},null,"Num Parts",{"$f":"'AIAG GR&R'!F8","v":10},null,null,null,null,null,null,null,null,null,null,null,null,null,1,8,0,0,0]
[null,null,null,null,null,null,null,null,null,1,9,0,null,"",0,{"$error":"#N/A"},{"$error":"#N/A"},0,{"$error":"#N/A"},{"$error":"#N/A"},null,0,0,{"$f":"IF('AIAG GR&R'!$F$7=3,Calculations!V113+(Calculations!$AC$110*Calculations!W113),IF('AIAG GR&R'!$F$7=2,Calculations!V113+(Calculations!$AC$109*Calculations!W113)))","v":0},{"$f":"IF('AIAG GR&R'!$F$7=3,Calculations!V113-(Calculations!$AC$110*Calculations!W113),IF('AIAG GR&R'!$F$7=2,Calculations!V113-(Calculations!$AC$109*Calculations!W113)))","v":0},{"$f":"IF('AIAG GR&R'!$F$7=3,(Calculations!$AD$110*Calculations!W113),IF('AIAG GR&R'!$F$7=2,(Calculations!$AD$109*Calculations!W113)))","v":0},null,null,null,null,null,null,null,null,null,null,null,null,null,null,null,null,1,9,0,0,0]
[null,null,null,null,null,null,null,null,null,1,10,0,null,"",0,{"$error":"#N/A"},{"$error":"#N/A"},0,{"$error":"#N/A"},{"$error":"#N/A"},null,0,0,{"$f":"IF('AIAG GR&R'!$F$7=3,Calculations!V114+(Calculations!$AC$110*Calculations!W114),IF('AIAG GR&R'!$F$7=2,Calculations!V114+(Calculations!$AC$109*Calculations!W114)))","v":0},{"$f":"IF('AIAG GR&R'!$F$7=3,Calculations!V114-(Calculations!$AC$110*Calculations!W114),IF('AIAG GR&R'!$F$7=2,Calculations!V114-(Calculations!$AC$109*Calculations!W114)))","v":0},{"$f":"IF('AIAG GR&R'!$F$7=3,(Calculations!$AD$110*Calculations!W114),IF('AIAG GR&R'!$F$7=2,(Calculations!$AD$109*Calculations!W114)))","v":0},null,null,null,null,null,null,null,null,null,null,null,null,null,null,null,null,1,10,0,0,0]
[null,null,null,null,null,null,null,null,null,{"$f":"IF(G51=\"\",NA(),2)","v":2},1,0,null,"",0,{"$error":"#N/A"},{"$error":"#N/A"},0,{"$error":"#N/A"},{"$error":"#N/A"},null,0,0,{"$f":"IF('AIAG GR&R'!$F$7=3,Calculations!V115+(Calculations!$AC$110*Calculations!W115),IF('AIAG GR&R'!$F$7=2,Calculations!V115+(Calculations!$AC$109*Calculations!W115)))","v":0},{"$f":"IF('AIAG GR&R'!$F$7=3,Calculations!V115-(Calculations!$AC$110*Calculations!W115),IF('AIAG GR&R'!$F$7=2,Calculations!V115-(Calculations!$AC$109*Calculations!W115)))","v":0},{"$f":"IF('AIAG GR&R'!$F$7=3,(Calculations!$AD$110*Calculations!W115),IF('AIAG GR&R'!$F$7=2,(Calculations!$AD$109*Calculations!W115)))","v":0},null,null,null,null,null,null,null,null,null,null,null,null,null,null,null,null,{"$f":"IF(G51=\"\",NA(),2)","v":2},1,0,0,0]
[null,null,null,null,null,null,null,null,null,2,2,0,null,"",0,{"$error":"#N/A"},{"$error":"#N/A"},0,{"$error":"#N/A"},{"$error":"#N/A"},null,0,0,{"$f":"IF('AIAG GR&R'!$F$7=3,Calculations!V116+(Calculations!$AC$110*Calculations!W116),IF('AIAG GR&R'!$F$7=2,Calculations!V116+(Calculations!$AC$109*Calculations!W116)))","v":0},{"$f":"IF('AIAG GR&R'!$F$7=3,Calculations!V116-(Calculations!$AC$110*Calculations!W116),IF('AIAG GR&R'!$F$7=2,Calculations!V116-(Calculations!$AC$109*Calculations!W116)))","v":0},{"$f":"IF('AIAG GR&R'!$F$7=3,(Calculations!$AD$110*Calculations!W116),IF('AIAG GR&R'!$F$7=2,(Calculations!$AD$109*Calculations!W116)))","v":0},null,null,null,null,null,null,null,null,null,null,null,null,null,null,null,null,2,2,0,0,0]
[null,null,null,null,null,null,null,null,null,2,3,0,null,"",0,{"$error":"#N/A"},{"$error":"#N/A"},0,{"$error":"#N/A"},{"$error":"#N/A"},null,0,0,{"$f":"IF('AIAG GR&R'!$F$7=3,Calculations!V117+(Calculations!$AC$110*Calculations!W117),IF('AIAG GR&R'!$F$7=2,Calculations!V117+(Calculations!$AC$109*Calculations!W117)))","v":0},{"$f":"IF('AIAG GR&R'!$F$7=3,Calculations!V117-(Calculations!$AC$110*Calculations!W117),IF('AIAG GR&R'!$F$7=2,Calculations!V117-(Calculations!$AC$109*Calculations!W117)))","v":0},{"$f":"IF('AIAG GR&R'!$F$7=3,(Calculations!$AD$110*Calculations!W117),IF('AIAG GR&R'!$F$7=2,(Calculations!$AD$109*Calculations!W117)))","v":0},null,null,null,null,null,null,null,null,null,null,null,null,null,null,null,null,2,3,0,0,0]
[null,null,null,null,null,null,null,null,null,2,4,0,null,"",{"$error":"#N/A"},0,{"$error":"#N/A"},{"$error":"#N/A"},0,{"$error":"#N/A"},null,0,0,{"$f":"IF('AIAG GR&R'!$F$7=3,Calculations!V118+(Calculations!$AC$110*Calculations!W118),IF('AIAG GR&R'!$F$7=2,Calculations!V118+(Calculations!$AC$109*Calculations!W118)))","v":0},{"$f":"IF('AIAG GR&R'!$F$7=3,Calculations!V118-(Calculations!$AC$110*Calculations!W118),IF('AIAG GR&R'!$F$7=2,Calculations!V118-(Calculations!$AC$109*Calculations!W118)))","v":0},{"$f":"IF('AIAG GR&R'!$F$7=3,(Calculations!$AD$110*Calculations!W118),IF('AIAG GR&R'!$F$7=2,(Calculations!$AD$109*Calculations!W118)))","v":0},null,null,null,null,null,null,null,null,null,null,null,null,null,null,null,null,2,4,0,0,0]
[null,null,null,null,null,null,null,null,null,2,5,0,null,"",{"$error":"#N/A"},0,{"$error":"#N/A"},{"$error":"#N/A"},0,{"$error":"#N/A"},null,0,0,{"$f":"IF('AIAG GR&R'!$F$7=3,Calculations!V119+(Calculations!$AC$110*Calculations!W119),IF('AIAG GR&R'!$F$7=2,Calculations!V119+(Calculations!$AC$109*Calculations!W119)))","v":0},{"$f":"IF('AIAG GR&R'!$F$7=3,Calculations!V119-(Calculations!$AC$110*Calculations!W119),IF('AIAG GR&R'!$F$7=2,Calculations!V119-(Calculations!$AC$109*Calculations!W119)))","v":0},{"$f":"IF('AIAG GR&R'!$F$7=3,(Calculations!$AD$110*Calculations!W119),IF('AIAG GR&R'!$F$7=2,(Calculations!$AD$109*Calculations!W119)))","v":0},null,null,null,null,null,null,null,null,null,null,null,null,null,null,null,null,2,5,0,0,0]
[null,null,null,null,null,null,null,null,null,2,6,0,null,"",{"$error":"#N/A"},0,{"$error":"#N/A"},{"$error":"#N/A"},0,{"$error":"#N/A"},null,0,0,{"$f":"IF('AIAG GR&R'!$F$7=3,Calculations!V120+(Calculations!$AC$110*Calculations!W120),IF('AIAG GR&R'!$F$7=2,Calculations!V120+(Calculations!$AC$109*Calculations!W120)))","v":0},{"$f":"IF('AIAG GR&R'!$F$7=3,Calculations!V120-(Calculations!$AC$110*Calculations!W120),IF('AIAG GR&R'!$F$7=2,Calculations!V120-(Calculations!$AC$109*Calculations!W120)))","v":0},{"$f":"IF('AIAG GR&R'!$F$7=3,(Calculations!$AD$110*Calculations!W120),IF('AIAG GR&R'!$F$7=2,(Calculations!$AD$109*Calculations!W120)))","v":0},null,null,null,null,null,null,null,null,null,null,null,null,null,null,null,null,2,6,0,0,0]
[null,null,null,null,null,null,null,null,null,2,7,0,null,"",{"$error":"#N/A"},0,{"$error":"#N/A"},{"$error":"#N/A"},0,{"$error":"#N/A"},null,0,0,{"$f":"IF('AIAG GR&R'!$F$7=3,Calculations!V121+(Calculations!$AC$110*Calculations!W121),IF('AIAG GR&R'!$F$7=2,Calculations!V121+(Calculations!$AC$109*Calculations!W121)))","v":0},{"$f":"IF('AIAG GR&R'!$F$7=3,Calculations!V121-(Calculations!$AC$110*Calculations!W121),IF('AIAG GR&R'!$F$7=2,Calculations!V121-(Calculations!$AC$109*Calculations!W121)))","v":0},{"$f":"IF('AIAG GR&R'!$F$7=3,(Calculations!$AD$110*Calculations!W121),IF('AIAG GR&R'!$F$7=2,(Calculations!$AD$109*Calculations!W121)))","v":0},null,null,null,null,null,null,null,null,null,null,null,null,null,null,null,null,2,7,0,0,0]
[null,null,null,null,null,null,null,null,null,2,8,0,null,"",{"$error":"#N/A"},0,{"$error":"#N/A"},{"$error":"#N/A"},0,{"$error":"#N/A"},null,0,0,{"$f":"IF('AIAG GR&R'!$F$7=3,Calculations!V122+(Calculations!$AC$110*Calculations!W122),IF('AIAG GR&R'!$F$7=2,Calculations!V122+(Calculations!$AC$109*Calculations!W122)))","v":0},{"$f":"IF('AIAG GR&R'!$F$7=3,Calculations!V122-(Calculations!$AC$110*Calculations!W122),IF('AIAG GR&R'!$F$7=2,Calculations!V122-(Calculations!$AC$109*Calculations!W122)))","v":0},{"$f":"IF('AIAG GR&R'!$F$7=3,(Calculations!$AD$110*Calculations!W122),IF('AIAG GR&R'!$F$7=2,(Calculations!$AD$109*Calculations!W122)))","v":0},null,null,null,null,null,null,null,null,null,null,null,null,null,null,null,null,2,8,0,0,0]
[null,null,null,null,null,null,null,null,null,2,9,0,null,"",{"$error":"#N/A"},0,{"$error":"#N/A"},{"$error":"#N/A"},0,{"$error":"#N/A"},null,0,0,{"$f":"IF('AIAG GR&R'!$F$7=3,Calculations!V123+(Calculations!$AC$110*Calculations!W123),IF('AIAG GR&R'!$F$7=2,Calculations!V123+(Calculations!$AC$109*Calculations!W123)))","v":0},{"$f":"IF('AIAG GR&R'!$F$7=3,Calculations!V123-(Calculations!$AC$110*Calculations!W123),IF('AIAG GR&R'!$F$7=2,Calculations!V123-(Calculations!$AC$109*Calculations!W123)))","v":0},{"$f":"IF('AIAG GR&R'!$F$7=3,(Calculations!$AD$110*Calculations!W123),IF('AIAG GR&R'!$F$7=2,(Calculations!$AD$109*Calculations!W123)))","v":0},null,null,null,null,null,null,null,null,null,null,null,null,null,null,null,null,2,9,0,0,0]
[null,null,null,null,null,null,null,null,null,2,10,0,null,"",{"$f":"IF($AC$112>5,O90,W90)","v":{"$error":"#N/A"}},0,{"$error":"#N/A"},{"$error":"#N/A"},0,{"$error":"#N/A"},null,0,0,{"$f":"IF('AIAG GR&R'!$F$7=3,Calculations!V124+(Calculations!$AC$110*Calculations!W124),IF('AIAG GR&R'!$F$7=2,Calculations!V124+(Calculations!$AC$109*Calculations!W124)))","v":0},{"$f":"IF('AIAG GR&R'!$F$7=3,Calculations!V124-(Calculations!$AC$110*Calculations!W124),IF('AIAG GR&R'!$F$7=2,Calculations!V124-(Calculations!$AC$109*Calculations!W124)))","v":0},{"$f":"IF('AIAG GR&R'!$F$7=3,(Calculations!$AD$110*Calculations!W124),IF('AIAG GR&R'!$F$7=2,(Calculations!$AD$109*Calculations!W124)))","v":0},null,null,null,null,null,null,null,null,null,null,null,null,null,null,null,null,2,10,0,0,0]
[null,null,null,null,null,null,null,null,null,{"$f":"IF(G61=\"\",NA(),3)","v":3},1,0,null,"",{"$error":"#N/A"},0,{"$error":"#N/A"},{"$error":"#N/A"},0,{"$error":"#N/A"},null,0,0,{"$f":"IF('AIAG GR&R'!$F$7=3,Calculations!V125+(Calculations!$AC$110*Calculations!W125),IF('AIAG GR&R'!$F$7=2,Calculations!V125+(Calculations!$AC$109*Calculations!W125)))","v":0},{"$f":"IF('AIAG GR&R'!$F$7=3,Calculations!V125-(Calculations!$AC$110*Calculations!W125),IF('AIAG GR&R'!$F$7=2,Calculations!V125-(Calculations!$AC$109*Calculations!W125)))","v":0},{"$f":"IF('AIAG GR&R'!$F$7=3,(Calculations!$AD$110*Calculations!W125),IF('AIAG GR&R'!$F$7=2,(Calculations!$AD$109*Calculations!W125)))","v":0},null,null,null,null,null,null,null,null,null,null,null,null,null,null,null,null,{"$f":"IF(G61=\"\",NA(),3)","v":3},1,0,0,0]
[null,null,null,null,null,null,null,null,null,3,2,0,null,"",{"$error":"#N/A"},0,{"$error":"#N/A"},{"$error":"#N/A"},0,{"$error":"#N/A"},null,0,0,{"$f":"IF('AIAG GR&R'!$F$7=3,Calculations!V126+(Calculations!$AC$110*Calculations!W126),IF('AIAG GR&R'!$F$7=2,Calculations!V126+(Calculations!$AC$109*Calculations!W126)))","v":0},{"$f":"IF('AIAG GR&R'!$F$7=3,Calculations!V126-(Calculations!$AC$110*Calculations!W126),IF('AIAG GR&R'!$F$7=2,Calculations!V126-(Calculations!$AC$109*Calculations!W126)))","v":0},{"$f":"IF('AIAG GR&R'!$F$7=3,(Calculations!$AD$110*Calculations!W126),IF('AIAG GR&R'!$F$7=2,(Calculations!$AD$109*Calculations!W126)))","v":0},null,null,null,null,null,null,null,null,null,null,null,null,null,null,null,null,3,2,0,0,0]
[null,null,null,null,null,null,null,null,null,3,3,0,null,"",{"$error":"#N/A"},0,{"$error":"#N/A"},{"$error":"#N/A"},0,{"$error":"#N/A"},null,0,0,{"$f":"IF('AIAG GR&R'!$F$7=3,Calculations!V127+(Calculations!$AC$110*Calculations!W127),IF('AIAG GR&R'!$F$7=2,Calculations!V127+(Calculations!$AC$109*Calculations!W127)))","v":0},{"$f":"IF('AIAG GR&R'!$F$7=3,Calculations!V127-(Calculations!$AC$110*Calculations!W127),IF('AIAG GR&R'!$F$7=2,Calculations!V127-(Calculations!$AC$109*Calculations!W127)))","v":0},{"$f":"IF('AIAG GR&R'!$F$7=3,(Calculations!$AD$110*Calculations!W127),IF('AIAG GR&R'!$F$7=2,(Calculations!$AD$109*Calculations!W127)))","v":0},null,null,null,null,null,null,null,null,null,null,null,null,null,null,null,null,3,3,0,0,0]
[null,null,null,null,null,null,null,null,null,3,4,0,null,"",{"$error":"#N/A"},{"$error":"#N/A"},0,{"$error":"#N/A"},{"$error":"#N/A"},0,null,0,0,{"$f":"IF('AIAG GR&R'!$F$7=3,Calculations!V128+(Calculations!$AC$110*Calculations!W128),IF('AIAG GR&R'!$F$7=2,Calculations!V128+(Calculations!$AC$109*Calculations!W128)))","v":0},{"$f":"IF('AIAG GR&R'!$F$7=3,Calculations!V128-(Calculations!$AC$110*Calculations!W128),IF('AIAG GR&R'!$F$7=2,Calculations!V128-(Calculations!$AC$109*Calculations!W128)))","v":0},{"$f":"IF('AIAG GR&R'!$F$7=3,(Calculations!$AD$110*Calculations!W128),IF('AIAG GR&R'!$F$7=2,(Calculations!$AD$109*Calculations!W128)))","v":0},null,null,null,null,null,null,null,null,null,null,null,null,null,null,null,null,3,4,0,0,0]
[null,null,null,null,null,null,null,null,null,3,5,0,null,"",{"$error":"#N/A"},{"$error":"#N/A"},0,{"$error":"#N/A"},{"$error":"#N/A"},0,null,0,0,{"$f":"IF('AIAG GR&R'!$F$7=3,Calculations!V129+(Calculations!$AC$110*Calculations!W129),IF('AIAG GR&R'!$F$7=2,Calculations!V129+(Calculations!$AC$109*Calculations!W129)))","v":0},{"$f":"IF('AIAG GR&R'!$F$7=3,Calculations!V129-(Calculations!$AC$110*Calculations!W129),IF('AIAG GR&R'!$F$7=2,Calculations!V129-(Calculations!$AC$109*Calculations!W129)))","v":0},{"$f":"IF('AIAG GR&R'!$F$7=3,(Calculations!$AD$110*Calculations!W129),IF('AIAG GR&R'!$F$7=2,(Calculations!$AD$109*Calculations!W129)))","v":0},null,null,null,null,null,null,null,null,null,null,null,null,null,null,null,null,3,5,0,0,0]
[null,null,null,null,null,null,null,null,null,3,6,0,null,"",{"$error":"#N/A"},{"$error":"#N/A"},0,{"$error":"#N/A"},{"$error":"#N/A"},0,null,0,0,{"$f":"IF('AIAG GR&R'!$F$7=3,Calculations!V130+(Calculations!$AC$110*Calculations!W130),IF('AIAG GR&R'!$F$7=2,Calculations!V130+(Calculations!$AC$109*Calculations!W130)))","v":0},{"$f":"IF('AIAG GR&R'!$F$7=3,Calculations!V130-(Calculations!$AC$110*Calculations!W130),IF('AIAG GR&R'!$F$7=2,Calculations!V130-(Calculations!$AC$109*Calculations!W130)))","v":0},{"$f":"IF('AIAG GR&R'!$F$7=3,(Calculations!$AD$110*Calculations!W130),IF('AIAG GR&R'!$F$7=2,(Calculations!$AD$109*Calculations!W130)))","v":0},null,null,null,null,null,null,null,null,null,null,null,null,null,null,null,null,3,6,0,0,0]
[null,null,null,null,null,null,null,null,null,3,7,0,null,"",{"$error":"#N/A"},{"$error":"#N/A"},0,{"$error":"#N/A"},{"$error":"#N/A"},0,null,0,0,{"$f":"IF('AIAG GR&R'!$F$7=3,Calculations!V131+(Calculations!$AC$110*Calculations!W131),IF('AIAG GR&R'!$F$7=2,Calculations!V131+(Calculations!$AC$109*Calculations!W131)))","v":0},{"$f":"IF('AIAG GR&R'!$F$7=3,Calculations!V131-(Calculations!$AC$110*Calculations!W131),IF('AIAG GR&R'!$F$7=2,Calculations!V131-(Calculations!$AC$109*Calculations!W131)))","v":0},{"$f":"IF('AIAG GR&R'!$F$7=3,(Calculations!$AD$110*Calculations!W131),IF('AIAG GR&R'!$F$7=2,(Calculations!$AD$109*Calculations!W131)))","v":0},null,null,null,null,null,null,null,null,null,null,null,null,null,null,null,null,3,7,0,0,0]
[null,null,null,null,null,null,null,null,null,3,8,0,null,"",{"$error":"#N/A"},{"$error":"#N/A"},0,{"$error":"#N/A"},{"$error":"#N/A"},0,null,0,0,{"$f":"IF('AIAG GR&R'!$F$7=3,Calculations!V132+(Calculations!$AC$110*Calculations!W132),IF('AIAG GR&R'!$F$7=2,Calculations!V132+(Calculations!$AC$109*Calculations!W132)))","v":0},{"$f":"IF('AIAG GR&R'!$F$7=3,Calculations!V132-(Calculations!$AC$110*Calculations!W132),IF('AIAG GR&R'!$F$7=2,Calculations!V132-(Calculations!$AC$109*Calculations!W132)))","v":0},{"$f":"IF('AIAG GR&R'!$F$7=3,(Calculations!$AD$110*Calculations!W132),IF('AIAG GR&R'!$F$7=2,(Calculations!$AD$109*Calculations!W132)))","v":0},null,null,null,null,null,null,null,null,null,null,null,null,null,null,null,null,3,8,0,0,0]
[null,null,null,null,null,null,null,null,null,3,9,0,null,"",{"$error":"#N/A"},{"$error":"#N/A"},0,{"$error":"#N/A"},{"$error":"#N/A"},0,null,0,0,{"$f":"IF('AIAG GR&R'!$F$7=3,Calculations!V133+(Calculations!$AC$110*Calculations!W133),IF('AIAG GR&R'!$F$7=2,Calculations!V133+(Calculations!$AC$109*Calculations!W133)))","v":0},{"$f":"IF('AIAG GR&R'!$F$7=3,Calculations!V133-(Calculations!$AC$110*Calculations!W133),IF('AIAG GR&R'!$F$7=2,Calculations!V133-(Calculations!$AC$109*Calculations!W133)))","v":0},{"$f":"IF('AIAG GR&R'!$F$7=3,(Calculations!$AD$110*Calculations!W133),IF('AIAG GR&R'!$F$7=2,(Calculations!$AD$109*Calculations!W133)))","v":0},null,null,null,null,null,null,null,null,null,null,null,null,null,null,null,null,3,9,0,0,0]
[null,null,null,null,null,null,null,null,null,3,10,0,null,"",{"$error":"#N/A"},{"$error":"#N/A"},0,{"$error":"#N/A"},{"$error":"#N/A"},0,null,0,0,{"$f":"IF('AIAG GR&R'!$F$7=3,Calculations!V134+(Calculations!$AC$110*Calculations!W134),IF('AIAG GR&R'!$F$7=2,Calculations!V134+(Calculations!$AC$109*Calculations!W134)))","v":0},{"$f":"IF('AIAG GR&R'!$F$7=3,Calculations!V134-(Calculations!$AC$110*Calculations!W134),IF('AIAG GR&R'!$F$7=2,Calculations!V134-(Calculations!$AC$109*Calculations!W134)))","v":0},{"$f":"IF('AIAG GR&R'!$F$7=3,(Calculations!$AD$110*Calculations!W134),IF('AIAG GR&R'!$F$7=2,(Calculations!$AD$109*Calculations!W134)))","v":0},null,null,null,null,null,null,null,null,null,null,null,null,null,null,null,null,3,10,0,0,0]
[null,null,null,null,null,null,null,null,null,{"$f":"IF(G41=\"\",NA(),1)","v":1},{"$f":"IF(G41=\"\",NA(),F41)","v":1},{"$f":"IF(I41=\"\",NA(),I41)","v":0},null,"",{"$error":"#N/A"},{"$error":"#N/A"},0,{"$error":"#N/A"},{"$error":"#N/A"},0,null,0,0,{"$f":"IF('AIAG GR&R'!$F$7=3,Calculations!V135+(Calculations!$AC$110*Calculations!W135),IF('AIAG GR&R'!$F$7=2,Calculations!V135+(Calculations!$AC$109*Calculations!W135)))","v":0},{"$f":"IF('AIAG GR&R'!$F$7=3,Calculations!V135-(Calculations!$AC$110*Calculations!W135),IF('AIAG GR&R'!$F$7=2,Calculations!V135-(Calculations!$AC$109*Calculations!W135)))","v":0},{"$f":"IF('AIAG GR&R'!$F$7=3,(Calculations!$AD$110*Calculations!W135),IF('AIAG GR&R'!$F$7=2,(Calculations!$AD$109*Calculations!W135)))","v":0}]
[null,null,null,null,null,null,null,null,null,1,2,0,null,"",{"$error":"#N/A"},{"$error":"#N/A"},0,{"$error":"#N/A"},{"$error":"#N/A"},0,null,0,0,{"$f":"IF('AIAG GR&R'!$F$7=3,Calculations!V136+(Calculations!$AC$110*Calculations!W136),IF('AIAG GR&R'!$F$7=2,Calculations!V136+(Calculations!$AC$109*Calculations!W136)))","v":0},{"$f":"IF('AIAG GR&R'!$F$7=3,Calculations!V136-(Calculations!$AC$110*Calculations!W136),IF('AIAG GR&R'!$F$7=2,Calculations!V136-(Calculations!$AC$109*Calculations!W136)))","v":0},{"$f":"IF('AIAG GR&R'!$F$7=3,(Calculations!$AD$110*Calculations!W136),IF('AIAG GR&R'!$F$7=2,(Calculations!$AD$109*Calculations!W136)))","v":0}]
[null,null,null,null,null,null,null,null,null,1,3,0,null,"",{"$error":"#N/A"},{"$error":"#N/A"},0,{"$error":"#N/A"},{"$error":"#N/A"},0,null,0,0,{"$f":"IF('AIAG GR&R'!$F$7=3,Calculations!V137+(Calculations!$AC$110*Calculations!W137),IF('AIAG GR&R'!$F$7=2,Calculations!V137+(Calculations!$AC$109*Calculations!W137)))","v":0},{"$f":"IF('AIAG GR&R'!$F$7=3,Calculations!V137-(Calculations!$AC$110*Calculations!W137),IF('AIAG GR&R'!$F$7=2,Calculations!V137-(Calculations!$AC$109*Calculations!W137)))","v":0},{"$f":"IF('AIAG GR&R'!$F$7=3,(Calculations!$AD$110*Calculations!W137),IF('AIAG GR&R'!$F$7=2,(Calculations!$AD$109*Calculations!W137)))","v":0}]
[null,null,null,null,null,null,null,null,null,1,4,0]
[null,null,null,null,null,null,null,null,null,1,5,0]
[null,null,null,null,null,null,null,null,null,1,6,0]
[null,null,null,null,null,null,null,null,null,1,7,0]
[null,null,null,null,null,null,null,null,null,1,8,0]
[null,null,null,null,null,null,null,null,null,1,9,0]
[null,null,null,null,null,null,null,null,null,1,10,0]
[null,null,null,null,null,null,null,null,null,{"$f":"IF(G51=\"\",NA(),2)","v":2},1,0]
[null,null,null,null,null,null,null,null,null,2,2,0]
[null,null,null,null,null,null,null,null,null,2,3,0]
[null,null,null,null,null,null,null,null,null,2,4,0]
[null,null,null,null,null,null,null,null,null,2,5,0]
[null,null,null,null,null,null,null,null,null,2,6,0]
[null,null,null,null,null,null,null,null,null,2,7,0]
[null,null,null,null,null,null,null,null,null,2,8,0]
[null,null,null,null,null,null,null,null,null,2,9,0]
[null,null,null,null,null,null,null,null,null,2,10,0]
[null,null,null,null,null,null,null,null,null,{"$f":"IF(G61=\"\",NA(),3)","v":3},1,0]
[null,null,null,null,null,null,null,null,null,3,2,0]
[null,null,null,null,null,null,null,null,null,3,3,0]
[null,null,null,null,null,null,null,null,null,3,4,0]
[null,null,null,null,null,null,null,null,null,3,5,0]
[null,null,null,null,null,null,null,null,null,3,6,0]
[null,null,null,null,null,null,null,null,null,3,7,0]
[null,null,null,null,null,null,null,null,null,3,8,0]
[null,null,null,null,null,null,null,null,null,3,9,0]
[null,null,null,null,null,null,null,null,null,3,10,0]

{"sheet":"Dimensional results","index":16,"n_rows":94,"n_cols":12,"rows_kept":94,"cut":false,"hidden":false,"merged":[[1,0,1,18],[3,6,3,8],[3,14,3,16],[41,0,41,18],[93,6,93,8],[93,14,93,16],[2,0,2,31],[43,6,43,8],[43,14,43,16],[92,0,92,31],[91,0,91,18],[42,0,42,31]]}
["Cover sheet"]
["Supplier Dimensional report (Attach the suppliers report in this sheet)"]
[]
[null,"SAMPLE RUN 1",null,null,"Production date:",null,null,null,null,null,null,"Supplier batch ID number:"]
[]
[]
[]
[]
[]
[]
[]
[]
[]
[]
[]
[]
[]
[]
[]
[]
[]
[]
[]
[]
[]
[]
[]
[]
[]
[]
[]
[]
[]
[]
[]
[]
[]
[]
[]
[]
[]
["Supplier Dimensional report (Attach the suppliers report in this sheet)"]
[]
[null,"SAMPLE RUN 2",null,null,"Production date:",null,null,null,null,null,null,"Supplier batch ID number:"]
[]
[]
[]
[]
[]
[]
[]
[]
[]
[]
[]
[]
[]
[]
[]
[]
[]
[]
[]
[]
[]
[]
[]
[]
[]
[]
[]
[]
[]
[]
[]
[]
[]
[]
[]
[]
[]
[]
[]
[]
[]
[]
[]
[]
[]
[]
[]
["Supplier Dimensional report (Attach the suppliers report in this sheet)"]
[]
[null,"SAMPLE RUN 3",null,null,"Production date:",null,null,null,null,null,null,"Supplier batch ID number:"]

{"sheet":"Material-performance test","index":17,"n_rows":8,"n_cols":2,"rows_kept":8,"cut":false,"hidden":false,"merged":[[1,0,1,8]]}
[null,"Cover sheet"]
["Records of Material / Performance Tests"]
[]
[null,"Attach material certificates of incoming material used to produce products"]
[null,"Material certificates can be of the following kind:"]
[null,"- material certificates delivered by your supplier"]
[null,"- incoming inspection reports of incoming material "]
[null,"- RoHs analysis report(s)"]

{"sheet":"Initial Process Studies","index":18,"n_rows":12,"n_cols":3,"rows_kept":12,"cut":false,"hidden":false,"merged":[[1,0,1,8]]}
[null,"Cover sheet"]
["Initial Process Studies"]
[]
[null,"Use the following two worksheets for your Cpk calculation."]
[null,"Remark:   MINIMUM 32 pc to be inspected"]
[null,null,"For each CTQ as defined into the PQA/MQS"]
[]
[null,"The first CP Cpk PM short_long term Sigma (contain two worksheets which each seperately name \"Input mea-"]
["surement\" & \"result graph\") is already prepared for your convenient to calculate CTS/CTQ product/processes capabilities. S-"]
["hould you need more than just one gage to be checked, you may click the following \"Add Cpk\"."]
[]
["* We advise to check only Cpk that are related to Product & Processes CTS/CTQ."]

{"sheet":"Input measurements","index":19,"n_rows":501,"n_cols":51,"rows_kept":501,"cut":false,"hidden":false,"merged":[[4,3,4,6],[4,8,4,11]]}
[null,"Measurement data",null,null,null,null,null,null,null,null,null,null,null,null,null,null,null,null,null,null,null,null,null,null,null,null,null,null,null,null,null,null,null,null,null,null,null,null,null,null,null,null,null,null,null,null,null,null,null,1,0]
[{"$f":"IF(B2=\"\",\"\",1)","v":""},null,null,null,null,null,null,null,null,null,null,null,null,null,null,null,null,null,null,null,null,null,null,null,null,null,null,null,null,null,null,null,null,null,null,null,null,null,null,null,null,null,null,null,null,null,null,null,null,0.1,1]
[{"$f":"IF(B3=\"\",\"\",A2+1)","v":""},null,null,null,null,null,null,null,null,null,null,null,null,null,null,null,null,null,null,null,null,null,null,null,null,null,null,null,null,null,null,null,null,null,null,null,null,null,null,null,null,null,null,null,null,null,null,null,null,0.01,2]
[{"$f":"IF(B4=\"\",\"\",A3+1)","v":""},null,null,null,null,null,null,null,null,null,null,null,null,null,null,null,null,null,null,null,null,null,null,null,null,null,null,null,null,null,null,null,null,null,null,null,null,null,null,null,null,null,null,null,null,null,null,null,null,1E-3,3]
["",null,null,"calculations results are given with",null,null,null,2,"decimals after comma",null,null,null,null,null,null,null,null,null,null,null,null,null,null,null,null,null,null,null,null,null,null,null,null,null,null,null,null,null,null,null,null,null,null,null,null,null,null,null,null,1E-4,4]
[{"$f":"IF(B6=\"\",\"\",A5+1)","v":""}]
[""]
[""]
[""]
[""]
[""]
[""]
[""]
[""]
[""]
[""]
[""]
[""]
[""]
[""]
[""]
[{"$f":"IF(B22=\"\",\"\",A21+1)","v":""}]
[""]
[""]
[""]
[""]
[""]
[""]
[""]
[""]
[""]
[{"$f":"IF(B32=\"\",\"\",A31+1)","v":""}]
[""]
[""]
[""]
[""]
[""]
[""]
[""]
[""]
[""]
[{"$f":"IF(B42=\"\",\"\",A41+1)","v":""}]
[""]
[""]
[""]
[""]
[""]
[""]
[""]
[""]
[""]
[{"$f":"IF(B52=\"\",\"\",A51+1)","v":""}]
[""]
[""]
[""]
[""]
[""]
[""]
[""]
[""]
[""]
[{"$f":"IF(B62=\"\",\"\",A61+1)","v":""}]
[""]
[""]
[""]
[""]
[""]
[{"$f":"IF(B68=\"\",\"\",A67+1)","v":""}]
[""]
[""]
[""]
[{"$f":"IF(B72=\"\",\"\",A71+1)","v":""}]
[""]
[""]
[""]
[""]
[""]
[""]
[""]
[""]
[""]
[{"$f":"IF(B82=\"\",\"\",A81+1)","v":""}]
[""]
[""]
[""]
[""]
[""]
[""]
[""]
[""]
[""]
[""]
[""]
[""]
[""]
[""]
[""]
[""]
[""]
[""]
[""]
[""]
[""]
[""]
[""]
[""]
[""]
[""]
[""]
[""]
[""]
[""]
[""]
[""]
[""]
[""]
[""]
[""]
[""]
[""]
[""]
[""]
[""]
[""]
[""]
[""]
[""]
[""]
[""]
[""]
[""]
[{"$f":"IF(B132=\"\",\"\",A131+1)","v":""}]
[""]
[""]
[""]
[""]
[""]
[""]
[""]
[""]
[""]
[""]
[""]
[""]
[""]
[""]
[""]
[""]
[""]
[""]
[""]
[""]
[""]
[""]
[""]
[""]
[""]
[""]
[""]
[""]
[""]
[""]
[""]
[""]
[""]
[""]
[""]
[""]
[""]
[""]
[""]
[""]
[""]
[""]
[""]
[""]
[""]
[""]
[""]
[""]
[""]
[""]
[""]
[""]
[""]
[""]
[""]
[""]
[""]
[""]
[""]
[""]
[""]
[""]
[""]
[{"$f":"IF(B196=\"\",\"\",A195+1)","v":""}]
[""]
[""]
[""]
[""]
[""]
[""]
[""]
[""]
[""]
[""]
[""]
[""]
[""]
[""]
[""]
[""]
[""]
[""]
[""]
[""]
[""]
[""]
[""]
[""]
[""]
[""]
[""]
[""]
[""]
[""]
[""]
[""]
[""]
[""]
[""]
[""]
[""]
[""]
[""]
[""]
[""]
[""]
[""]
[""]
[""]
[""]
[""]
[""]
[""]
[""]
[""]
[""]
[""]
[""]
[""]
[""]
[""]
[""]
[""]
[""]
[""]
[""]
[""]
[{"$f":"IF(B260=\"\",\"\",A259+1)","v":""}]
[""]
[""]
[""]
[""]
[""]
[""]
[""]
[""]
[""]
[""]
[""]
[""]
[""]
[""]
[""]
[""]
[""]
[""]
[""]
[""]
[""]
[""]
[""]
[""]
[""]
[""]
[""]
[""]
[""]
[""]
[""]
[""]
[""]
[""]
[""]
[""]
[""]
[""]
[""]
[""]
[""]
[""]
[""]
[""]
[""]
[""]
[""]
[""]
[""]
[""]
[""]
[""]
[""]
[""]
[""]
[""]
[""]
[""]
[""]
[""]
[""]
[""]
[""]
[{"$f":"IF(B324=\"\",\"\",A323+1)","v":""}]
[""]
[""]
[""]
[""]
[""]
[""]
[""]
[""]
[""]
[""]
[""]
[""]
[""]
[""]
[""]
[""]
[""]
[""]
[""]
[""]
[""]
[""]
[""]
[""]
[""]
[""]
[""]
[""]
[""]
[""]
[""]
[""]
[""]
[""]
[""]
[""]
[""]
[""]
[""]
[""]
[""]
[""]
[""]
[""]
[""]
[""]
[""]
[""]
[""]
[""]
[""]
[""]
[""]
[""]
[""]
[""]
[""]
[""]
[""]
[""]
[""]
[""]
[""]
[{"$f":"IF(B388=\"\",\"\",A387+1)","v":""}]
[""]
[""]
[""]
[""]
[""]
[""]
[""]
[""]
[""]
[""]
[""]
[""]
[""]
[""]
[""]
[""]
[""]
[""]
[""]
[""]
[""]
[""]
[""]
[""]
[""]
[""]
[""]
[""]
[""]
[""]
[""]
[""]
[""]
[""]
[""]
[""]
[""]
[""]
[""]
[""]
[""]
[""]
[""]
[""]
[""]
[""]
[""]
[""]
[""]
[""]
[""]
[""]
[""]
[""]
[""]
[""]
[""]
[""]
[""]
[""]
[""]
[""]
[""]
[{"$f":"IF(B452=\"\",\"\",A451+1)","v":""}]
[""]
[""]
[""]
[""]
[""]
[""]
[""]
[""]
[""]
[""]
[""]
[""]
[""]
[""]
[""]
[""]
[""]
[""]
[""]
[""]
[""]
[""]
[""]
[""]
[""]
[""]
[""]
[""]
[""]
[""]
[""]
[""]
[""]
[""]
[""]
[""]
[""]
[""]
[""]
[""]
[""]
[""]
[""]
[""]
[""]
[""]
[""]
[""]
[""]

{"sheet":"result graph","index":20,"n_rows":79,"n_cols":106,"rows_kept":79,"cut":false,"hidden":false,"merged":[[33,16,33,17],[54,25,54,26],[56,16,56,17],[58,25,58,26],[34,16,34,17],[35,16,35,17],[42,21,42,25],[48,25,48,26],[50,25,50,26],[52,25,52,26],[28,16,28,17],[29,2,29,6],[29,16,29,17],[30,2,30,5],[30,16,30,17],[31,2,31,5],[31,16,31,17],[32,2,32,5],[32,16,32,17],[30,24,30,26],[32,24,32,26],[25,2,25,5],[25,16,25,17],[26,2,26,5],[26,16,26,17],[27,2,27,5],[27,16,27,17],[24,2,24,5],[24,16,24,17],[18,2,18,5],[18,16,18,17],[19,2,19,5],[19,16,19,17],[20,2,20,5],[20,16,20,17],[21,2,21,5],[21,16,21,17],[22,16,22,17],[23,2,23,6],[23,16,23,17],[15,2,15,5],[15,16,15,17],[16,2,16,5],[16,16,16,17],[17,2,17,5],[17,16,17,17],[14,2,14,5],[14,16,14,17],[8,2,8,6],[8,10,8,17],[9,2,9,5],[9,16,9,17],[10,2,10,5],[10,16,10,17],[11,16,11,17],[12,2,12,6],[12,16,12,17],[13,2,13,5],[13,16,13,17],[0,17,0,19],[1,0,4,3],[1,5,1,18],[3,6,3,7],[3,9,3,11],[3,12,3,18],[4,6,4,7],[4,9,4,11],[4,12,4,18]]}
[null,null,null,null,null,null,null,null,null,null,null,null,null,null,null,null,null,null,null,null,null,null,null,null,null,null,null,null,null,null,null,null,null,null,null,null,null,null,null,null,null,null,null,null,null,null,null,null,null,null,null,null,null,null,null,null,null,null,null,null,null,null,null,null,null,null,null,null,null,null,null,null,null,null,null,null,null,null,null,null,null,null,null,null,null,null,null,null,null,null,null,null,null,null,null,null,null,null,null,null,null,null,null,null,null,{"$f":"CONCATENATE(F2,\" FOR THE MEASUREMENT OF:\n \",M4,\"\n Week: \",M5)","v":"GRAPH TOOL CP, CPk, Short & Long term Sigma, HISTOGRAPH, GAUSS GRAPH FOR THE MEASUREMENT OF:\n \n Week: "}]
[null,null,null,null,null,"GRAPH TOOL CP, CPk, Short & Long term Sigma, HISTOGRAPH, GAUSS GRAPH",null,null,null,null,null,null,null,null,null,null,null,null,null,null,null,null,null,null,null,null,null,null,null,null,null,null,null,null,null,null,null,null,null,null,null,null,null,null,null,null,null,null,null,null,null,null,null,null,null,null,null,null,null,null,null,null,null,null,null,null,null,null,null,null,null,null,null,null,null,null,null,null,null,null,null,null,null,null,null,null,null,null,null,null,null,null,null,null,null,null,null,null,null,null,null,null,null,null,null,{"$f":"CONCATENATE(C31,\" : \",G31)","v":"CP : "}]
[null,null,null,null,null,null,null,null,null,null,null,null,null,null,null,null,null,null,null,null,null,null,null,null,null,null,null,null,null,null,null,null,null,null,null,null,null,null,null,null,null,null,null,null,null,null,null,null,null,null,null,null,null,null,null,null,null,null,null,null,null,null,null,null,null,null,null,null,null,null,null,null,null,null,null,null,null,null,null,null,null,null,null,null,null,null,null,null,null,null,null,null,null,null,null,null,null,null,null,null,null,null,null,null,null,{"$f":"CONCATENATE(C32,\" : \",G32)","v":"CPk : "}]
[null,null,null,null,null,"Author:",null,null,null,"Measurement of:"]
[null,null,null,null,null,"Date:",null,null,null,"Week:"]
[]
[]
[]
[null,null,"UPPER & LOWER LIMITS",null,null,null,null,null,null,null,"SETUP FOR CLASS DEFINITON, FREQUENCY CALCULATION"]
[null,null,"Minimum limit",null,null,null,null,null,null,null,"Class","Min","Max","Mid",null,"Frequency","Norm. Distribution"]
[null,null,"Maximum limit",null,null,null,null,null,null,null,{"$f":"IF($G$14=\"\",\"\",IF(V11<=$G$15,V11,\"\"))","v":""},{"$f":"IF(K11=\"\",\"\",ROUND(N11-(graph!$E$7/2),'Input measurements'!$H$5+1))","v":""},{"$f":"IF(L11=\"\",\"\",ROUND(N11+(graph!$E$7/2),'Input measurements'!$H$5+1))","v":""},{"$f":"IF(K11=\"\",\"\",ROUND(graph!$E$4,'Input measurements'!$H$5))","v":""},{"$f":"IF(K11=\"\",\"\",FREQUENCY('Input measurements'!$B$2:$B$502,M11))","v":""},{"$f":"IF(K11=\"\",\"\",O11-O10)","v":""},{"$f":"IF(K11=\"\",\"\",W11)","v":""},null,null,null,null,1,{"$f":"IF(K11=\"\",\"\",NORMDIST(N11,$G$22,$G$20,1)*$G$14)","v":""}]
[null,null,null,null,null,null,null,null,null,null,"",{"$f":"IF(K12=\"\",\"\",ROUND(L11+graph!$E$7,'Input measurements'!$H$5+1))","v":""},{"$f":"IF(L12=\"\",\"\",ROUND(L12+graph!$E$7,'Input measurements'!$H$5+1))","v":""},{"$f":"IF(K12=\"\",\"\",ROUND(N11+graph!$E$7,'Input measurements'!$H$5))","v":""},{"$f":"IF(K12=\"\",\"\",FREQUENCY('Input measurements'!$B$2:$B$502,M12))","v":""},{"$f":"IF(K12=\"\",\"\",O12-O11)","v":""},{"$f":"IF(K12=\"\",\"\",W12-W11)","v":""},null,null,null,null,2,{"$f":"IF(K12=\"\",\"\",NORMDIST(N12,$G$22,$G$20,1)*$G$14)","v":""}]
[null,null,"DATA FOR HISTOGRAM, GAUSS GRAPH",null,null,null,null,null,null,null,"",{"$f":"IF(K13=\"\",\"\",ROUND(L12+graph!$E$7,'Input measurements'!$H$5+1))","v":""},{"$f":"IF(L13=\"\",\"\",ROUND(L13+graph!$E$7,'Input measurements'!$H$5+1))","v":""},{"$f":"IF(K13=\"\",\"\",ROUND(N12+graph!$E$7,'Input measurements'!$H$5))","v":""},{"$f":"IF(K13=\"\",\"\",FREQUENCY('Input measurements'!$B$2:$B$502,M13))","v":""},"","",null,null,null,null,3,{"$f":"IF(K13=\"\",\"\",NORMDIST(N13,$G$22,$G$20,1)*$G$14)","v":""}]
[null,null,"Number of measurements",null,null,null,{"$f":"IF('Input measurements'!A2=\"\",\"\",graph!$E$2)","v":""},null,null,null,"",{"$f":"IF(K14=\"\",\"\",ROUND(L13+graph!$E$7,'Input measurements'!$H$5+1))","v":""},{"$f":"IF(L14=\"\",\"\",ROUND(L14+graph!$E$7,'Input measurements'!$H$5+1))","v":""},{"$f":"IF(K14=\"\",\"\",ROUND(N13+graph!$E$7,'Input measurements'!$H$5))","v":""},{"$f":"IF(K14=\"\",\"\",FREQUENCY('Input measurements'!$B$2:$B$502,M14))","v":""},"","",null,null,null,null,4,{"$f":"IF(K14=\"\",\"\",NORMDIST(N14,$G$22,$G$20,1)*$G$14)","v":""}]
[null,null,"Number of classes",null,null,null,{"$f":"IF('result graph'!$G$14=\"\",\"\",graph!$E$3)","v":""},null,null,null,"",{"$f":"IF(K15=\"\",\"\",ROUND(L14+graph!$E$7,'Input measurements'!$H$5+1))","v":""},{"$f":"IF(L15=\"\",\"\",ROUND(L15+graph!$E$7,'Input measurements'!$H$5+1))","v":""},{"$f":"IF(K15=\"\",\"\",ROUND(N14+graph!$E$7,'Input measurements'!$H$5))","v":""},{"$f":"IF(K15=\"\",\"\",FREQUENCY('Input measurements'!$B$2:$B$502,M15))","v":""},"","",null,null,null,null,5,""]
[null,null,"Minimum measurement value",null,null,null,{"$f":"IF($G$14=\"\",\"\",ROUND(MIN('Input measurements'!$B$2:$B$502),'Input measurements'!$H$5))","v":""},null,null,null,"",{"$f":"IF(K16=\"\",\"\",ROUND(L15+graph!$E$7,'Input measurements'!$H$5+1))","v":""},{"$f":"IF(L16=\"\",\"\",ROUND(L16+graph!$E$7,'Input measurements'!$H$5+1))","v":""},{"$f":"IF(K16=\"\",\"\",ROUND(N15+graph!$E$7,'Input measurements'!$H$5))","v":""},{"$f":"IF(K16=\"\",\"\",FREQUENCY('Input measurements'!$B$2:$B$502,M16))","v":""},"",{"$f":"IF(K16=\"\",\"\",W16-W15)","v":""},null,null,null,null,6,""]
[null,null,"Maximum measurement value",null,null,null,{"$f":"IF($G$14=\"\",\"\",ROUND(MAX('Input measurements'!$B$2:$B$502),'Input measurements'!$H$5))","v":""},null,null,null,"",{"$f":"IF(K17=\"\",\"\",ROUND(L16+graph!$E$7,'Input measurements'!$H$5+1))","v":""},{"$f":"IF(L17=\"\",\"\",ROUND(L17+graph!$E$7,'Input measurements'!$H$5+1))","v":""},{"$f":"IF(K17=\"\",\"\",ROUND(N16+graph!$E$7,'Input measurements'!$H$5))","v":""},{"$f":"IF(K17=\"\",\"\",FREQUENCY('Input measurements'!$B$2:$B$502,M17))","v":""},"",{"$f":"IF(K17=\"\",\"\",W17-W16)","v":""},null,null,null,null,7,""]
[null,null,"Range",null,null,null,{"$f":"IF($G$14=\"\",\"\",ROUND(graph!$E$5-graph!$E$4,'Input measurements'!$H$5))","v":""},null,null,null,"",{"$f":"IF(K18=\"\",\"\",ROUND(L17+graph!$E$7,'Input measurements'!$H$5+1))","v":""},{"$f":"IF(L18=\"\",\"\",ROUND(L18+graph!$E$7,'Input measurements'!$H$5+1))","v":""},{"$f":"IF(K18=\"\",\"\",ROUND(N17+graph!$E$7,'Input measurements'!$H$5))","v":""},{"$f":"IF(K18=\"\",\"\",FREQUENCY('Input measurements'!$B$2:$B$502,M18))","v":""},"","",null,null,null,null,8,""]
[null,null,"Class width",null,null,null,{"$f":"IF($G$14=\"\",\"\",ROUND($G$18/SQRT($G$14),'Input measurements'!$H$5))","v":""},null,null,null,"",{"$f":"IF(K19=\"\",\"\",ROUND(L18+graph!$E$7,'Input measurements'!$H$5+1))","v":""},{"$f":"IF(L19=\"\",\"\",ROUND(L19+graph!$E$7,'Input measurements'!$H$5+1))","v":""},{"$f":"IF(K19=\"\",\"\",ROUND(N18+graph!$E$7,'Input measurements'!$H$5))","v":""},{"$f":"IF(K19=\"\",\"\",FREQUENCY('Input measurements'!$B$2:$B$502,M19))","v":""},"","",null,null,null,null,9,""]
[null,null,"Standard deviation",null,null,null,{"$f":"IF($G$14=\"\",\"\",ROUND(STDEV('Input measurements'!$B$2:$B$502),'Input measurements'!$H$5))","v":""},null,null,null,"",{"$f":"IF(K20=\"\",\"\",ROUND(L19+graph!$E$7,'Input measurements'!$H$5+1))","v":""},{"$f":"IF(L20=\"\",\"\",ROUND(L20+graph!$E$7,'Input measurements'!$H$5+1))","v":""},{"$f":"IF(K20=\"\",\"\",ROUND(N19+graph!$E$7,'Input measurements'!$H$5))","v":""},{"$f":"IF(K20=\"\",\"\",FREQUENCY('Input measurements'!$B$2:$B$502,M20))","v":""},"","",null,null,null,null,10,""]
[null,null,"95% confidence ",null,null,null,{"$f":"IF($G$14=\"\",\"\",ROUND($G$20-CONFIDENCE(0.05,$G$20,$G$14),'Input measurements'!$H$5)&\"  -  \"&ROUND($G$20+CONFIDENCE(0.05,$G$20,$G$14),'Input measurements'!$H$5))","v":""},null,null,null,"",{"$f":"IF(K21=\"\",\"\",ROUND(L20+graph!$E$7,'Input measurements'!$H$5+1))","v":""},{"$f":"IF(L21=\"\",\"\",ROUND(L21+graph!$E$7,'Input measurements'!$H$5+1))","v":""},{"$f":"IF(K21=\"\",\"\",ROUND(N20+graph!$E$7,'Input measurements'!$H$5))","v":""},{"$f":"IF(K21=\"\",\"\",FREQUENCY('Input measurements'!$B$2:$B$502,M21))","v":""},{"$f":"IF(K21=\"\",\"\",O21-O20)","v":""},"",null,null,null,null,11,""]
[null,null,"Average measurement values",null,null,null,{"$f":"IF($G$14=\"\",\"\",ROUND(AVERAGE('Input measurements'!$B$2:$B$502),'Input measurements'!$H$5))","v":""},null,null,null,"",{"$f":"IF(K22=\"\",\"\",ROUND(L21+graph!$E$7,'Input measurements'!$H$5+1))","v":""},{"$f":"IF(L22=\"\",\"\",ROUND(L22+graph!$E$7,'Input measurements'!$H$5+1))","v":""},{"$f":"IF(K22=\"\",\"\",ROUND(N21+graph!$E$7,'Input measurements'!$H$5))","v":""},{"$f":"IF(K22=\"\",\"\",FREQUENCY('Input measurements'!$B$2:$B$502,M22))","v":""},"","",null,null,null,null,12,""]
[null,null,null,null,null,null,null,null,null,null,"",{"$f":"IF(K23=\"\",\"\",ROUND(L22+graph!$E$7,'Input measurements'!$H$5+1))","v":""},{"$f":"IF(L23=\"\",\"\",ROUND(L23+graph!$E$7,'Input measurements'!$H$5+1))","v":""},{"$f":"IF(K23=\"\",\"\",ROUND(N22+graph!$E$7,'Input measurements'!$H$5))","v":""},{"$f":"IF(K23=\"\",\"\",FREQUENCY('Input measurements'!$B$2:$B$502,M23))","v":""},"","",null,null,null,null,13,""]
[null,null,"CALCULATION FOR GRAPH BUILD UP",null,null,null,null,null,null,null,"",{"$f":"IF(K24=\"\",\"\",ROUND(L23+graph!$E$7,'Input measurements'!$H$5+1))","v":""},{"$f":"IF(L24=\"\",\"\",ROUND(L24+graph!$E$7,'Input measurements'!$H$5+1))","v":""},{"$f":"IF(K24=\"\",\"\",ROUND(N23+graph!$E$7,'Input measurements'!$H$5))","v":""},{"$f":"IF(K24=\"\",\"\",FREQUENCY('Input measurements'!$B$2:$B$502,M24))","v":""},"","",null,null,null,null,14,""]
[null,null,"Minimum value for graph",null,null,null,{"$f":"IF($G$14=\"\",\"\",N11-(15*$G$19))","v":""},null,null,null,"",{"$f":"IF(K25=\"\",\"\",ROUND(L24+graph!$E$7,'Input measurements'!$H$5+1))","v":""},{"$f":"IF(L25=\"\",\"\",ROUND(L25+graph!$E$7,'Input measurements'!$H$5+1))","v":""},{"$f":"IF(K25=\"\",\"\",ROUND(N24+graph!$E$7,'Input measurements'!$H$5))","v":""},{"$f":"IF(K25=\"\",\"\",FREQUENCY('Input measurements'!$B$2:$B$502,M25))","v":""},"","",null,null,null,null,15,""]
[null,null,"Maximum value for graph",null,null,null,{"$f":"IF($G$14=\"\",\"\",graph!$E$4+(24*graph!$E$7))","v":""},null,null,null,"",{"$f":"IF(K26=\"\",\"\",ROUND(L25+graph!$E$7,'Input measurements'!$H$5+1))","v":""},{"$f":"IF(L26=\"\",\"\",ROUND(L26+graph!$E$7,'Input measurements'!$H$5+1))","v":""},{"$f":"IF(K26=\"\",\"\",ROUND(N25+graph!$E$7,'Input measurements'!$H$5))","v":""},{"$f":"IF(K26=\"\",\"\",FREQUENCY('Input measurements'!$B$2:$B$502,M26))","v":""},"",null,{"$f":"IF(K26=\"\",\"\",W26-W25)","v":""},null,null,null,16,""]
[null,null,"Range for graph",null,null,null,{"$f":"IF($G$14=\"\",\"\",$G$26-graph!$E$26)","v":""},null,null,null,"",{"$f":"IF(K27=\"\",\"\",ROUND(L26+graph!$E$7,'Input measurements'!$H$5+1))","v":""},{"$f":"IF(L27=\"\",\"\",ROUND(L27+graph!$E$7,'Input measurements'!$H$5+1))","v":""},{"$f":"IF(K27=\"\",\"\",ROUND(N26+graph!$E$7,'Input measurements'!$H$5))","v":""},{"$f":"IF(K27=\"\",\"\",FREQUENCY('Input measurements'!$B$2:$B$502,M27))","v":""},"",null,"",null,null,null,17,""]
[null,null,"Class width for graph",null,null,null,{"$f":"IF($G$14=\"\",\"\",graph!$E$30/999)","v":""},null,null,null,"",{"$f":"IF(K28=\"\",\"\",ROUND(L27+graph!$E$7,'Input measurements'!$H$5+1))","v":""},{"$f":"IF(L28=\"\",\"\",ROUND(L28+graph!$E$7,'Input measurements'!$H$5+1))","v":""},{"$f":"IF(K28=\"\",\"\",ROUND(N27+graph!$E$7,'Input measurements'!$H$5))","v":""},{"$f":"IF(K28=\"\",\"\",FREQUENCY('Input measurements'!$B$2:$B$502,M28))","v":""},"",null,"",null,null,null,18,""]
[null,null,null,null,null,null,null,null,null,null,"",{"$f":"IF(K29=\"\",\"\",ROUND(L28+graph!$E$7,'Input measurements'!$H$5+1))","v":""},{"$f":"IF(L29=\"\",\"\",ROUND(L29+graph!$E$7,'Input measurements'!$H$5+1))","v":""},{"$f":"IF(K29=\"\",\"\",ROUND(N28+graph!$E$7,'Input measurements'!$H$5))","v":""},{"$f":"IF(K29=\"\",\"\",FREQUENCY('Input measurements'!$B$2:$B$502,M29))","v":""},"",null,"",null,null,null,19,""]
[null,null,"CAPABILITY",null,null,null,null,null,null,null,"",{"$f":"IF(K30=\"\",\"\",ROUND(L29+graph!$E$7,'Input measurements'!$H$5+1))","v":""},{"$f":"IF(L30=\"\",\"\",ROUND(L30+graph!$E$7,'Input measurements'!$H$5+1))","v":""},{"$f":"IF(K30=\"\",\"\",ROUND(N29+graph!$E$7,'Input measurements'!$H$5))","v":""},{"$f":"IF(K30=\"\",\"\",FREQUENCY('Input measurements'!$B$2:$B$502,M30))","v":""},"",null,"",null,null,null,20,"",null,null,null,null,null,"default"]
[null,null,"CP",null,null,null,{"$f":"IF($G$20=\"\",\"\",IF(OR(graph!$E$22=\"\",$G$10=\"\")=TRUE,\"\",ROUND((graph!$E$22-$G$10)/(6*$G$20),2)))","v":""},null,null,null,"",{"$f":"IF(K31=\"\",\"\",ROUND(L30+graph!$E$7,'Input measurements'!$H$5+1))","v":""},{"$f":"IF(L31=\"\",\"\",ROUND(L31+graph!$E$7,'Input measurements'!$H$5+1))","v":""},{"$f":"IF(K31=\"\",\"\",ROUND(N30+graph!$E$7,'Input measurements'!$H$5))","v":""},{"$f":"IF(K31=\"\",\"\",FREQUENCY('Input measurements'!$B$2:$B$502,M31))","v":""},"",null,"",null,null,null,21,"",null,"user defined CP target",null,null,null,{"$f":"IF($AB$31=\"\",1.33,$AB$31)","v":1.33}]
[null,null,"CPk",null,null,null,{"$f":"IF($G$20=\"\",\"\",IF(OR($G$10=\"\",graph!$E$22=\"\")=TRUE,\"\",ROUND(IF(((graph!$E$22-$G$22)/(3*$G$20))<(($G$22-$G$10)/(3*$G$20)),((graph!$E$22-$G$22)/(3*$G$20)),(($G$22-$G$10)/(3*$G$20))),2)))","v":""},null,null,null,"",{"$f":"IF(K32=\"\",\"\",ROUND(L31+graph!$E$7,'Input measurements'!$H$5+1))","v":""},{"$f":"IF(L32=\"\",\"\",ROUND(L32+graph!$E$7,'Input measurements'!$H$5+1))","v":""},{"$f":"IF(K32=\"\",\"\",ROUND(N31+graph!$E$7,'Input measurements'!$H$5))","v":""},{"$f":"IF(K32=\"\",\"\",FREQUENCY('Input measurements'!$B$2:$B$502,M32))","v":""},"",null,"",null,null,null,22,""]
[null,null,"Defects DPM",null,null,null,{"$f":"IF($G$20=\"\",\"\",IF(OR(graph!$E$22=\"\",$G$10=\"\")=TRUE,\"\",IF(((1-NORMSDIST((graph!$E$22-$G$22)/$G$20))*10^6)+((NORMSDIST(($G$10-$G$22)/$G$20))*10^6)>100,TRUNC(((1-NORMSDIST((graph!$E$22-$G$22)/$G$20))*10^6)+((NORMSDIST(($G$10-$G$22)/$G$20))*10^6),0),TRUNC(((1-NORMSDIST((graph!$E$22-$G$22)/$G$20))*10^6)+((NORMSDIST(($G$10-$G$22)/$G$20))*10^6),3))))","v":""},null,null,null,"",{"$f":"IF(K33=\"\",\"\",ROUND(L32+graph!$E$7,'Input measurements'!$H$5+1))","v":""},{"$f":"IF(L33=\"\",\"\",ROUND(L33+graph!$E$7,'Input measurements'!$H$5+1))","v":""},{"$f":"IF(K33=\"\",\"\",ROUND(N32+graph!$E$7,'Input measurements'!$H$5))","v":""},{"$f":"IF(K33=\"\",\"\",FREQUENCY('Input measurements'!$B$2:$B$502,M33))","v":""},"",null,"",null,null,null,23,"",null,"user defined CPk target",null,null,null,{"$f":"IF($AB$33=\"\",1.33,$AB$33)","v":1.33}]
[null,null,null,null,null,null,null,null,null,null,"",{"$f":"IF(K34=\"\",\"\",ROUND(L33+graph!$E$7,'Input measurements'!$H$5+1))","v":""},{"$f":"IF(L34=\"\",\"\",ROUND(L34+graph!$E$7,'Input measurements'!$H$5+1))","v":""},{"$f":"IF(K34=\"\",\"\",ROUND(N33+graph!$E$7,'Input measurements'!$H$5))","v":""},{"$f":"IF(K34=\"\",\"\",FREQUENCY('Input measurements'!$B$2:$B$502,M34))","v":""},"",null,"",null,null,null,24,"",null,null,null,null,null,null,null,null,"lts",{"$f":"IF($G$14=\"\",\"\",IF(OR($G$10=\"\",$G$11=\"\"),\"\",NORMSINV(1-(IF(OR($G$11=\"\",$G$10=\"\")=TRUE,\"\",IF(((1-NORMSDIST(($G$11-$G$22)/$G$20))*10^6)+((NORMSDIST(($G$10-$G$22)/$G$20))*10^6)>100,TRUNC(((1-NORMSDIST(($G$11-$G$22)/$G$20))*10^6)+((NORMSDIST(($G$10-$G$22)/$G$20))*10^6),0),TRUNC(((1-NORMSDIST(($G$11-$G$22)/$G$20))*10^6)+((NORMSDIST(($G$10-$G$22)/$G$20))*10^6),3))))/1000000)))","v":""},{"$f":"ISERROR(AG34)","v":false},null,{"$f":"IF(AH34=TRUE,\"<-6 or >6\",AG34)","v":""}]
[null,null,"Long term",null,null,"Z_lt",{"$f":"AG59","v":"-"},null,null,null,"",{"$f":"IF(K35=\"\",\"\",ROUND(L34+graph!$E$7,'Input measurements'!$H$5+1))","v":""},{"$f":"IF(L35=\"\",\"\",ROUND(L35+graph!$E$7,'Input measurements'!$H$5+1))","v":""},{"$f":"IF(K35=\"\",\"\",ROUND(N34+graph!$E$7,'Input measurements'!$H$5))","v":""},{"$f":"IF(K35=\"\",\"\",FREQUENCY('Input measurements'!$B$2:$B$502,M35))","v":""},"",null,"",null,null,null,25,"",null,"Short term"]
[null,null,"Short term",null,null,"Z_st",{"$f":"AG61","v":"-"},null,null,null,null,null,null,null,null,null,null,null,null,null,null,null,null,null,null,null,null,null,null,null,null,"sts",{"$f":"IF(OR($G$10=\"\",graph!$E$22=\"\"),\"\",IF($G$20=\"\",\"\",IF('result graph'!Y35=\"Long term\",Z61,AA47)))","v":""},{"$f":"ISERROR(AG36)","v":false},{"$f":"IF(AH36=TRUE,\">6\",AG36)","v":""},{"$f":"IF(AI36=\"\",AI36,\"<-6 or >6\")","v":""}]
[null,null,null,null,null,null,null,null,null,null,null,null,null,null,null,null,null,null,null,null,null,null,null,null,null,{"$f":"IF($G$14=\"\",\"\",IF(OR($G$10=\"\",$G$11=\"\"),\"\",NORMSINV(1-(IF(OR($G$11=\"\",$G$10=\"\")=TRUE,\"\",IF(((1-NORMSDIST(($G$11-$G$22)/$G$20))*10^6)+((NORMSDIST(($G$10-$G$22)/$G$20))*10^6)>100,TRUNC(((1-NORMSDIST(($G$11-$G$22)/$G$20))*10^6)+((NORMSDIST(($G$10-$G$22)/$G$20))*10^6),0),TRUNC(((1-NORMSDIST(($G$11-$G$22)/$G$20))*10^6)+((NORMSDIST(($G$10-$G$22)/$G$20))*10^6),3))))/1000000)))","v":""}]
[]
[]
[null,null,null,null,null,null,null,null,null,null,null,null,null,null,null,null,null,null,null,null,null,null,null,null,null,{"$f":"TRUNC(((1-NORMSDIST(($G$11-$G$22)/$G$20))*10^6)+((NORMSDIST(($G$10-$G$22)/$G$20))*10^6),3)","v":{"$error":"#VALUE!"}}]
[null,null,null,null,null,null,null,null,null,null,null,null,null,null,null,null,null,null,null,null,null,null,null,null,null,null,null,null,null,null,null,"Mean ",{"$f":"$G$22","v":""}]
[]
[null,null,null,null,null,null,null,null,null,null,null,null,null,null,null,null,null,null,null,null,null,null,null,null,null,null,null,null,null,null,null,"Std dev ",{"$f":"$G$20","v":""}]
[]
[null,null,null,null,null,null,null,null,null,null,null,null,null,null,null,null,"Frequency",null,null,null,null,null,null,null,null,"Long term","Short term",null,null,null,null,"USL",{"$f":"graph!$E$22","v":0}]
[null,null,null,null,null,null,null,null,null,null,null,null,null,null,null,null,null,null,null,null,null,null,null,null,null,null,null,null,null,null,null,null,{"$f":"$G$10","v":0}]
[null,null,null,null,null,null,null,null,null,null,null,null,null,null,null,null,"Tolerance limits",null,null,null,null,null,null,null,"DPM sigma",{"$f":"G34","v":0},{"$f":"Z47+Z59","v":1.5},null,null,null,null,"LSL",{"$f":"$G$10","v":0}]
[]
[null,null,null,null,null,null,null,null,null,null,null,null,null,null,null,null,"Average",null,null,null,null,null,null,null,"sigma",{"$f":"(MAX($G$10,graph!$E$22)-MIN($G$10,graph!$E$22))/12","v":0},null,null,null,null,null,"Z_usl",{"$f":"IF(AG43=\"\",\"\",(AG45-AG41)/AG43)","v":""},"(USL-Mean)/std dev "]
[]
[null,null,null,null,null,null,null,null,null,null,null,null,null,null,null,null,"Normal distribution",null,null,null,null,null,null,null,"6sigma",{"$f":"(MAX($G$10,graph!$E$22)-MIN($G$10,graph!$E$22))","v":0},null,null,null,null,null,"Z_lsl",{"$f":"IF(AG43=\"\",\"\",(AG47-AG41)/AG43)","v":""},"(LSL-Mean)/std dev "]
[]
[null,null,null,null,null,null,null,null,null,null,null,null,null,null,null,"  CP:",{"$f":"$G$31","v":""},null,null,null,null,null,null,null,"average limits",{"$f":"AVERAGE($G$10,graph!$E$22)","v":0},null,null,null,null,null,"DPMO_usl",{"$f":"IF(AG49=\"\",\"\",(1-NORMSDIST(AG49))*1000000)","v":""},"=(1-NORMSDIST(Z_usl))*1000000"]
[]
[null,null,null,null,null,null,null,null,null,null,null,null,null,null,null," CPk:",{"$f":"$G$32","v":""},null,null,null,null,null,null,null,"average measurements",{"$f":"$G$22","v":""},null,null,null,null,null,"DPMO_lsl",{"$f":"IF(AG51=\"\",\"\",(NORMSDIST(AG51))*1000000)","v":""},"=(NORMSDIST(Z_lsl))*1000000"]
[]
[null,null,null,null,null,null,null,null,null,null,null,null,null,null,null,"Defects:",{"$f":"IF($G$20=\"\",\"\",IF(OR(graph!$E$22=\"\",$G$10=\"\")=TRUE,\"\",IF(((1-NORMSDIST((graph!$E$22-$G$22)/$G$20))*10^6)+((NORMSDIST(($G$10-$G$22)/$G$20))*10^6)>100,TRUNC(((1-NORMSDIST((graph!$E$22-$G$22)/$G$20))*10^6)+((NORMSDIST(($G$10-$G$22)/$G$20))*10^6),0),TRUNC(((1-NORMSDIST((graph!$E$22-$G$22)/$G$20))*10^6)+((NORMSDIST(($G$10-$G$22)/$G$20))*10^6),3))))","v":""},null,null,null,null,null,null,null,"shift sigma",{"$f":"(AVERAGE($G$10,graph!$E$22)-$G$22)/((MAX($G$10,graph!$E$22)-MIN($G$10,graph!$E$22))/12)","v":{"$error":"#VALUE!"}},null,null,null,null,null,"DPMO_total",{"$f":"IF(AND(AG53=\"\",AG55=\"\"),\"\",AG53+AG55)","v":""},"=DPMO_usl + DPMO_lsl"]
[]
[null,null,null,null,null,null,null,null,null,null,null,null,null,null,null,"Z_st:",{"$f":"G36","v":"-"},null,null,null,null,null,null,null,"Assumption shift sigma",1.5,null,null,null,null,null,"Z_lt",{"$f":"IF(AG57>999999,\"-\",IF(AG57=\"\",\"-\",NORMSINV(1-AG57/1000000)))","v":"-"},"=NORMSINV(1-DPMO_total/1000000)"]
[]
[null,null,null,null,null,null,null,null,null,null,null,null,null,null,null,"Z_lt:",{"$f":"G35","v":"-"},null,null,null,null,null,null,null,null,{"$f":"Z47+Z59","v":1.5},{"$f":"Z47","v":0},null,null,null,null,"Z_st",{"$f":"IF(AG59=\"-\",\"-\",AG59+1.5)","v":"-"},"=Z_lt + 1,5"]
[]
[null,null,null,null,null,null,null,null,null,null,null,null,null,null,null,null,null,null,null,null,null,null,null,null,null,"Short term","Long term"]
[]
[]
[]
[]
[]
[]
[]
[]
[]
[]
[]
[]
[]
[]
[]
[null,null,null,null,null,null,null,null,null,null,null,null,null,null,null,null,null,"revision: 01-Dec-2010"]

{"sheet":"graph","index":21,"n_rows":1080,"n_cols":12,"rows_kept":1080,"cut":false,"hidden":true,"merged":[[29,1,29,3],[31,1,31,3],[7,1,7,3],[9,1,9,3],[19,1,19,3],[21,1,21,3],[25,1,25,3],[27,1,27,3],[6,1,6,3],[1,1,1,3],[2,1,2,3],[3,1,3,3],[4,1,4,3],[5,1,5,3]]}
[]
[null,"aantal metingen",null,null,{"$f":"MAX('Input measurements'!$A$2:$A$502)","v":0}]
[null,"klassen",null,null,{"$f":"IF(ROUNDDOWN(SQRT(graph!$E$2),0)>25,25,ROUNDDOWN(SQRT(graph!$E$2),0))+1","v":1}]
[null,"min waarde",null,null,{"$f":"MIN('Input measurements'!$B$2:$B$502)","v":0}]
[null,"max waarde",null,null,{"$f":"MAX('Input measurements'!$B$2:$B$502)","v":0}]
[null,"range",null,null,{"$f":"graph!$E$5-graph!$E$4","v":0}]
[null,"klassebreedte",null,null,{"$f":"graph!$E$6/SQRT(graph!$E$2)","v":{"$error":"#DIV/0!"}}]
[null,"stand deviatie",null,null,{"$f":"STDEV('Input measurements'!$B$2:$B$502)","v":{"$error":"#DIV/0!"}}]
[]
[null,"gemiddelde",null,null,{"$f":"AVERAGE('Input measurements'!$B$2:$B$502)","v":{"$error":"#DIV/0!"}}]
[]
[]
[]
[]
[]
[]
[]
[]
[]
[null,"theor. ondergrens",null,null,{"$f":"IF('result graph'!$G$10=\"\",0,'result graph'!$G$10-0.0000000000001)","v":0}]
[]
[null,"theor. bovengrens",null,null,{"$f":"IF('result graph'!$G$11=\"\",0,'result graph'!$G$11-0.0000000000001)","v":0}]
[]
[]
[]
[null,"min grafiek",null,null,{"$f":"E53-(15*graph!$E$7)","v":{"$error":"#DIV/0!"}}]
[]
[null,"max grafiek",null,null,{"$f":"graph!$E$4+(24*graph!$E$7)","v":{"$error":"#DIV/0!"}}]
[]
[null,"range grafiek",null,null,{"$f":"graph!$E$28-graph!$E$26","v":{"$error":"#DIV/0!"}}]
[]
[null,"klassebreedte grafiek",null,null,{"$f":"graph!$E$30/999","v":{"$error":"#DIV/0!"}}]
[]
[]
[]
[]
[null,"klasse","min","max","mid",null,"frequentie"]
[null,-14,null,null,{"$f":"IF(graph!$E$2=0,\"\",IF(B38=\"\",\"\",ROUND(E39-graph!$E$7,'Input measurements'!$H$5)))","v":""},null,null,{"$f":"IF(B38=\"\",\"\",NORMDIST(E38,graph!$E$10,graph!$E$8,1)*graph!$E$2)","v":{"$error":"#VALUE!"}},{"$f":"IF(B38=\"\",\"\",H38)","v":{"$error":"#VALUE!"}}]
[null,-13,null,null,{"$f":"IF(graph!$E$2=0,\"\",IF(B39=\"\",\"\",ROUND(E40-graph!$E$7,'Input measurements'!$H$5)))","v":""},null,null,{"$f":"IF(B39=\"\",\"\",NORMDIST(E39,graph!$E$10,graph!$E$8,1)*graph!$E$2)","v":{"$error":"#VALUE!"}},{"$error":"#VALUE!"}]
[null,-12,null,null,{"$f":"IF(graph!$E$2=0,\"\",IF(B40=\"\",\"\",ROUND(E41-graph!$E$7,'Input measurements'!$H$5)))","v":""},null,null,{"$f":"IF(B40=\"\",\"\",NORMDIST(E40,graph!$E$10,graph!$E$8,1)*graph!$E$2)","v":{"$error":"#VALUE!"}},{"$error":"#VALUE!"}]
[null,-11,null,null,{"$f":"IF(graph!$E$2=0,\"\",IF(B41=\"\",\"\",ROUND(E42-graph!$E$7,'Input measurements'!$H$5)))","v":""},null,null,{"$f":"IF(B41=\"\",\"\",NORMDIST(E41,graph!$E$10,graph!$E$8,1)*graph!$E$2)","v":{"$error":"#VALUE!"}},{"$error":"#VALUE!"}]
[null,-10,null,null,{"$f":"IF(graph!$E$2=0,\"\",IF(B42=\"\",\"\",ROUND(E43-graph!$E$7,'Input measurements'!$H$5)))","v":""},null,null,{"$f":"IF(B42=\"\",\"\",NORMDIST(E42,graph!$E$10,graph!$E$8,1)*graph!$E$2)","v":{"$error":"#VALUE!"}},{"$error":"#VALUE!"}]
[null,-9,null,null,{"$f":"IF(graph!$E$2=0,\"\",IF(B43=\"\",\"\",ROUND(E44-graph!$E$7,'Input measurements'!$H$5)))","v":""},null,null,{"$f":"IF(B43=\"\",\"\",NORMDIST(E43,graph!$E$10,graph!$E$8,1)*graph!$E$2)","v":{"$error":"#VALUE!"}},{"$error":"#VALUE!"}]
[null,-8,null,null,{"$f":"IF(graph!$E$2=0,\"\",IF(B44=\"\",\"\",ROUND(E45-graph!$E$7,'Input measurements'!$H$5)))","v":""},null,null,{"$f":"IF(B44=\"\",\"\",NORMDIST(E44,graph!$E$10,graph!$E$8,1)*graph!$E$2)","v":{"$error":"#VALUE!"}},{"$error":"#VALUE!"}]
[null,-7,null,null,{"$f":"IF(graph!$E$2=0,\"\",IF(B45=\"\",\"\",ROUND(E46-graph!$E$7,'Input measurements'!$H$5)))","v":""},null,null,{"$f":"IF(B45=\"\",\"\",NORMDIST(E45,graph!$E$10,graph!$E$8,1)*graph!$E$2)","v":{"$error":"#VALUE!"}},{"$error":"#VALUE!"}]
[null,-6,null,null,{"$f":"IF(graph!$E$2=0,\"\",IF(B46=\"\",\"\",ROUND(E47-graph!$E$7,'Input measurements'!$H$5)))","v":""},null,null,{"$f":"IF(B46=\"\",\"\",NORMDIST(E46,graph!$E$10,graph!$E$8,1)*graph!$E$2)","v":{"$error":"#VALUE!"}},{"$error":"#VALUE!"}]
[null,-5,null,null,{"$f":"IF(graph!$E$2=0,\"\",IF(B47=\"\",\"\",ROUND(E48-graph!$E$7,'Input measurements'!$H$5)))","v":""},null,null,{"$f":"IF(B47=\"\",\"\",NORMDIST(E47,graph!$E$10,graph!$E$8,1)*graph!$E$2)","v":{"$error":"#VALUE!"}},{"$error":"#VALUE!"}]
[null,-4,null,null,{"$f":"IF(graph!$E$2=0,\"\",IF(B48=\"\",\"\",ROUND(E49-graph!$E$7,'Input measurements'!$H$5)))","v":""},null,null,{"$f":"IF(B48=\"\",\"\",NORMDIST(E48,graph!$E$10,graph!$E$8,1)*graph!$E$2)","v":{"$error":"#VALUE!"}},{"$error":"#VALUE!"}]
[null,-3,null,null,{"$f":"IF(graph!$E$2=0,\"\",IF(B49=\"\",\"\",ROUND(E50-graph!$E$7,'Input measurements'!$H$5)))","v":""},null,null,{"$f":"IF(B49=\"\",\"\",NORMDIST(E49,graph!$E$10,graph!$E$8,1)*graph!$E$2)","v":{"$error":"#VALUE!"}},{"$error":"#VALUE!"}]
[null,-2,null,null,{"$f":"IF(graph!$E$2=0,\"\",IF(B50=\"\",\"\",ROUND(E51-graph!$E$7,'Input measurements'!$H$5)))","v":""},null,null,{"$f":"IF(B50=\"\",\"\",NORMDIST(E50,graph!$E$10,graph!$E$8,1)*graph!$E$2)","v":{"$error":"#VALUE!"}},{"$error":"#VALUE!"}]
[null,-1,null,null,{"$f":"IF(graph!$E$2=0,\"\",IF(B51=\"\",\"\",ROUND(E52-graph!$E$7,'Input measurements'!$H$5)))","v":""},null,null,{"$f":"IF(B51=\"\",\"\",NORMDIST(E51,graph!$E$10,graph!$E$8,1)*graph!$E$2)","v":{"$error":"#VALUE!"}},{"$error":"#VALUE!"}]
[null,0,null,null,{"$f":"IF(graph!$E$2=0,\"\",IF(B52=\"\",\"\",ROUND(graph!$E$4-graph!$E$7,'Input measurements'!$H$5)))","v":""},null,null,{"$f":"IF(B52=\"\",\"\",NORMDIST(E52,graph!$E$10,graph!$E$8,1)*graph!$E$2)","v":{"$error":"#VALUE!"}},{"$error":"#VALUE!"}]
[1,{"$f":"IF(A53<=graph!$E$3,A53,\"\")","v":1},{"$f":"IF(B53=\"\",\"\",ROUND(E53-(graph!$E$7/2),'Input measurements'!$H$5+1))","v":{"$error":"#DIV/0!"}},{"$f":"IF(C53=\"\",\"\",ROUND(E53+(graph!$E$7/2),'Input measurements'!$H$5+1))","v":{"$error":"#DIV/0!"}},{"$f":"IF(B53=\"\",\"\",ROUND(graph!$E$4,'Input measurements'!$H$5))","v":0},{"$f":"IF(B53=\"\",\"\",FREQUENCY('Input measurements'!$B$2:$B$502,D53))","v":0},{"$f":"IF(B53=\"\",\"\",F53-F37)","v":0},{"$f":"IF(B53=\"\",\"\",NORMDIST(E53,graph!$E$10,graph!$E$8,1)*graph!$E$2)","v":{"$error":"#DIV/0!"}},{"$error":"#DIV/0!"}]
[2,{"$f":"IF(A54<=graph!$E$3,A54,\"\")","v":""},{"$f":"IF(B54=\"\",\"\",ROUND(E54-(graph!$E$7/2),'Input measurements'!$H$5+1))","v":""},{"$f":"IF(C54=\"\",\"\",ROUND(E54+(graph!$E$7/2),'Input measurements'!$H$5+1))","v":""},{"$f":"IF(B54=\"\",\"\",ROUND(E53+graph!$E$7,'Input measurements'!$H$5))","v":""},{"$f":"IF(B54=\"\",\"\",FREQUENCY('Input measurements'!$B$2:$B$502,D54))","v":""},{"$f":"IF(B54=\"\",\"\",F54-F53)","v":""},{"$f":"IF(B54=\"\",\"\",NORMDIST(E54,graph!$E$10,graph!$E$8,1)*graph!$E$2)","v":""},{"$f":"IF(B54=\"\",\"\",H54-H53)","v":""}]
[3,{"$f":"IF(A55<=graph!$E$3,A55,\"\")","v":""},{"$f":"IF(B55=\"\",\"\",ROUND(E55-(graph!$E$7/2),'Input measurements'!$H$5+1))","v":""},{"$f":"IF(C55=\"\",\"\",ROUND(E55+(graph!$E$7/2),'Input measurements'!$H$5+1))","v":""},{"$f":"IF(B55=\"\",\"\",ROUND(E54+graph!$E$7,'Input measurements'!$H$5))","v":""},{"$f":"IF(B55=\"\",\"\",FREQUENCY('Input measurements'!$B$2:$B$502,D55))","v":""},"",{"$f":"IF(B55=\"\",\"\",NORMDIST(E55,graph!$E$10,graph!$E$8,1)*graph!$E$2)","v":""},""]
[4,{"$f":"IF(A56<=graph!$E$3,A56,\"\")","v":""},{"$f":"IF(B56=\"\",\"\",ROUND(E56-(graph!$E$7/2),'Input measurements'!$H$5+1))","v":""},{"$f":"IF(C56=\"\",\"\",ROUND(E56+(graph!$E$7/2),'Input measurements'!$H$5+1))","v":""},{"$f":"IF(B56=\"\",\"\",ROUND(E55+graph!$E$7,'Input measurements'!$H$5))","v":""},{"$f":"IF(B56=\"\",\"\",FREQUENCY('Input measurements'!$B$2:$B$502,D56))","v":""},"",{"$f":"IF(B56=\"\",\"\",NORMDIST(E56,graph!$E$10,graph!$E$8,1)*graph!$E$2)","v":""},""]
[5,{"$f":"IF(A57<=graph!$E$3,A57,\"\")","v":""},{"$f":"IF(B57=\"\",\"\",ROUND(E57-(graph!$E$7/2),'Input measurements'!$H$5+1))","v":""},{"$f":"IF(C57=\"\",\"\",ROUND(E57+(graph!$E$7/2),'Input measurements'!$H$5+1))","v":""},{"$f":"IF(B57=\"\",\"\",ROUND(E56+graph!$E$7,'Input measurements'!$H$5))","v":""},{"$f":"IF(B57=\"\",\"\",FREQUENCY('Input measurements'!$B$2:$B$502,D57))","v":""},"",{"$f":"IF(B57=\"\",\"\",NORMDIST(E57,graph!$E$10,graph!$E$8,1)*graph!$E$2)","v":""},""]
[6,{"$f":"IF(A58<=graph!$E$3,A58,\"\")","v":""},{"$f":"IF(B58=\"\",\"\",ROUND(E58-(graph!$E$7/2),'Input measurements'!$H$5+1))","v":""},{"$f":"IF(C58=\"\",\"\",ROUND(E58+(graph!$E$7/2),'Input measurements'!$H$5+1))","v":""},{"$f":"IF(B58=\"\",\"\",ROUND(E57+graph!$E$7,'Input measurements'!$H$5))","v":""},{"$f":"IF(B58=\"\",\"\",FREQUENCY('Input measurements'!$B$2:$B$502,D58))","v":""},"",{"$f":"IF(B58=\"\",\"\",NORMDIST(E58,graph!$E$10,graph!$E$8,1)*graph!$E$2)","v":""},""]
[7,{"$f":"IF(A59<=graph!$E$3,A59,\"\")","v":""},{"$f":"IF(B59=\"\",\"\",ROUND(E59-(graph!$E$7/2),'Input measurements'!$H$5+1))","v":""},{"$f":"IF(C59=\"\",\"\",ROUND(E59+(graph!$E$7/2),'Input measurements'!$H$5+1))","v":""},{"$f":"IF(B59=\"\",\"\",ROUND(E58+graph!$E$7,'Input measurements'!$H$5))","v":""},{"$f":"IF(B59=\"\",\"\",FREQUENCY('Input measurements'!$B$2:$B$502,D59))","v":""},"",{"$f":"IF(B59=\"\",\"\",NORMDIST(E59,graph!$E$10,graph!$E$8,1)*graph!$E$2)","v":""},""]
[8,{"$f":"IF(A60<=graph!$E$3,A60,\"\")","v":""},{"$f":"IF(B60=\"\",\"\",ROUND(E60-(graph!$E$7/2),'Input measurements'!$H$5+1))","v":""},{"$f":"IF(C60=\"\",\"\",ROUND(E60+(graph!$E$7/2),'Input measurements'!$H$5+1))","v":""},{"$f":"IF(B60=\"\",\"\",ROUND(E59+graph!$E$7,'Input measurements'!$H$5))","v":""},{"$f":"IF(B60=\"\",\"\",FREQUENCY('Input measurements'!$B$2:$B$502,D60))","v":""},"",{"$f":"IF(B60=\"\",\"\",NORMDIST(E60,graph!$E$10,graph!$E$8,1)*graph!$E$2)","v":""},""]
[9,{"$f":"IF(A61<=graph!$E$3,A61,\"\")","v":""},{"$f":"IF(B61=\"\",\"\",ROUND(E61-(graph!$E$7/2),'Input measurements'!$H$5+1))","v":""},{"$f":"IF(C61=\"\",\"\",ROUND(E61+(graph!$E$7/2),'Input measurements'!$H$5+1))","v":""},{"$f":"IF(B61=\"\",\"\",ROUND(E60+graph!$E$7,'Input measurements'!$H$5))","v":""},{"$f":"IF(B61=\"\",\"\",FREQUENCY('Input measurements'!$B$2:$B$502,D61))","v":""},"",{"$f":"IF(B61=\"\",\"\",NORMDIST(E61,graph!$E$10,graph!$E$8,1)*graph!$E$2)","v":""},""]
[10,{"$f":"IF(A62<=graph!$E$3,A62,\"\")","v":""},{"$f":"IF(B62=\"\",\"\",ROUND(E62-(graph!$E$7/2),'Input measurements'!$H$5+1))","v":""},{"$f":"IF(C62=\"\",\"\",ROUND(E62+(graph!$E$7/2),'Input measurements'!$H$5+1))","v":""},{"$f":"IF(B62=\"\",\"\",ROUND(E61+graph!$E$7,'Input measurements'!$H$5))","v":""},{"$f":"IF(B62=\"\",\"\",FREQUENCY('Input measurements'!$B$2:$B$502,D62))","v":""},"",{"$f":"IF(B62=\"\",\"\",NORMDIST(E62,graph!$E$10,graph!$E$8,1)*graph!$E$2)","v":""},""]
[11,{"$f":"IF(A63<=graph!$E$3,A63,\"\")","v":""},{"$f":"IF(B63=\"\",\"\",ROUND(E63-(graph!$E$7/2),'Input measurements'!$H$5+1))","v":""},{"$f":"IF(C63=\"\",\"\",ROUND(E63+(graph!$E$7/2),'Input measurements'!$H$5+1))","v":""},{"$f":"IF(B63=\"\",\"\",ROUND(E62+graph!$E$7,'Input measurements'!$H$5))","v":""},{"$f":"IF(B63=\"\",\"\",FREQUENCY('Input measurements'!$B$2:$B$502,D63))","v":""},"",{"$f":"IF(B63=\"\",\"\",NORMDIST(E63,graph!$E$10,graph!$E$8,1)*graph!$E$2)","v":""},""]
[12,{"$f":"IF(A64<=graph!$E$3,A64,\"\")","v":""},{"$f":"IF(B64=\"\",\"\",ROUND(E64-(graph!$E$7/2),'Input measurements'!$H$5+1))","v":""},{"$f":"IF(C64=\"\",\"\",ROUND(E64+(graph!$E$7/2),'Input measurements'!$H$5+1))","v":""},{"$f":"IF(B64=\"\",\"\",ROUND(E63+graph!$E$7,'Input measurements'!$H$5))","v":""},{"$f":"IF(B64=\"\",\"\",FREQUENCY('Input measurements'!$B$2:$B$502,D64))","v":""},"",{"$f":"IF(B64=\"\",\"\",NORMDIST(E64,graph!$E$10,graph!$E$8,1)*graph!$E$2)","v":""},""]
[13,{"$f":"IF(A65<=graph!$E$3,A65,\"\")","v":""},{"$f":"IF(B65=\"\",\"\",ROUND(E65-(graph!$E$7/2),'Input measurements'!$H$5+1))","v":""},{"$f":"IF(C65=\"\",\"\",ROUND(E65+(graph!$E$7/2),'Input measurements'!$H$5+1))","v":""},{"$f":"IF(B65=\"\",\"\",ROUND(E64+graph!$E$7,'Input measurements'!$H$5))","v":""},{"$f":"IF(B65=\"\",\"\",FREQUENCY('Input measurements'!$B$2:$B$502,D65))","v":""},"",{"$f":"IF(B65=\"\",\"\",NORMDIST(E65,graph!$E$10,graph!$E$8,1)*graph!$E$2)","v":""},""]
[14,{"$f":"IF(A66<=graph!$E$3,A66,\"\")","v":""},{"$f":"IF(B66=\"\",\"\",ROUND(E66-(graph!$E$7/2),'Input measurements'!$H$5+1))","v":""},{"$f":"IF(C66=\"\",\"\",ROUND(E66+(graph!$E$7/2),'Input measurements'!$H$5+1))","v":""},{"$f":"IF(B66=\"\",\"\",ROUND(E65+graph!$E$7,'Input measurements'!$H$5))","v":""},{"$f":"IF(B66=\"\",\"\",FREQUENCY('Input measurements'!$B$2:$B$502,D66))","v":""},"",{"$f":"IF(B66=\"\",\"\",NORMDIST(E66,graph!$E$10,graph!$E$8,1)*graph!$E$2)","v":""},""]
[15,{"$f":"IF(A67<=graph!$E$3,A67,\"\")","v":""},{"$f":"IF(B67=\"\",\"\",ROUND(E67-(graph!$E$7/2),'Input measurements'!$H$5+1))","v":""},{"$f":"IF(C67=\"\",\"\",ROUND(E67+(graph!$E$7/2),'Input measurements'!$H$5+1))","v":""},{"$f":"IF(B67=\"\",\"\",ROUND(E66+graph!$E$7,'Input measurements'!$H$5))","v":""},{"$f":"IF(B67=\"\",\"\",FREQUENCY('Input measurements'!$B$2:$B$502,D67))","v":""},"",{"$f":"IF(B67=\"\",\"\",NORMDIST(E67,graph!$E$10,graph!$E$8,1)*graph!$E$2)","v":""},""]
[16,{"$f":"IF(A68<=graph!$E$3,A68,\"\")","v":""},{"$f":"IF(B68=\"\",\"\",ROUND(E68-(graph!$E$7/2),'Input measurements'!$H$5+1))","v":""},{"$f":"IF(C68=\"\",\"\",ROUND(E68+(graph!$E$7/2),'Input measurements'!$H$5+1))","v":""},{"$f":"IF(B68=\"\",\"\",ROUND(E67+graph!$E$7,'Input measurements'!$H$5))","v":""},{"$f":"IF(B68=\"\",\"\",FREQUENCY('Input measurements'!$B$2:$B$502,D68))","v":""},"",{"$f":"IF(B68=\"\",\"\",NORMDIST(E68,graph!$E$10,graph!$E$8,1)*graph!$E$2)","v":""},""]
[17,{"$f":"IF(A69<=graph!$E$3,A69,\"\")","v":""},{"$f":"IF(B69=\"\",\"\",ROUND(E69-(graph!$E$7/2),'Input measurements'!$H$5+1))","v":""},{"$f":"IF(C69=\"\",\"\",ROUND(E69+(graph!$E$7/2),'Input measurements'!$H$5+1))","v":""},{"$f":"IF(B69=\"\",\"\",ROUND(E68+graph!$E$7,'Input measurements'!$H$5))","v":""},{"$f":"IF(B69=\"\",\"\",FREQUENCY('Input measurements'!$B$2:$B$502,D69))","v":""},"",{"$f":"IF(B69=\"\",\"\",NORMDIST(E69,graph!$E$10,graph!$E$8,1)*graph!$E$2)","v":""},""]
[18,{"$f":"IF(A70<=graph!$E$3,A70,\"\")","v":""},{"$f":"IF(B70=\"\",\"\",ROUND(E70-(graph!$E$7/2),'Input measurements'!$H$5+1))","v":""},{"$f":"IF(C70=\"\",\"\",ROUND(E70+(graph!$E$7/2),'Input measurements'!$H$5+1))","v":""},{"$f":"IF(B70=\"\",\"\",ROUND(E69+graph!$E$7,'Input measurements'!$H$5))","v":""},{"$f":"IF(B70=\"\",\"\",FREQUENCY('Input measurements'!$B$2:$B$502,D70))","v":""},"",{"$f":"IF(B70=\"\",\"\",NORMDIST(E70,graph!$E$10,graph!$E$8,1)*graph!$E$2)","v":""},""]
[19,{"$f":"IF(A71<=graph!$E$3,A71,\"\")","v":""},{"$f":"IF(B71=\"\",\"\",ROUND(E71-(graph!$E$7/2),'Input measurements'!$H$5+1))","v":""},{"$f":"IF(C71=\"\",\"\",ROUND(E71+(graph!$E$7/2),'Input measurements'!$H$5+1))","v":""},{"$f":"IF(B71=\"\",\"\",ROUND(E70+graph!$E$7,'Input measurements'!$H$5))","v":""},{"$f":"IF(B71=\"\",\"\",FREQUENCY('Input measurements'!$B$2:$B$502,D71))","v":""},"",{"$f":"IF(B71=\"\",\"\",NORMDIST(E71,graph!$E$10,graph!$E$8,1)*graph!$E$2)","v":""},""]
[20,{"$f":"IF(A72<=graph!$E$3,A72,\"\")","v":""},{"$f":"IF(B72=\"\",\"\",ROUND(E72-(graph!$E$7/2),'Input measurements'!$H$5+1))","v":""},{"$f":"IF(C72=\"\",\"\",ROUND(E72+(graph!$E$7/2),'Input measurements'!$H$5+1))","v":""},{"$f":"IF(B72=\"\",\"\",ROUND(E71+graph!$E$7,'Input measurements'!$H$5))","v":""},{"$f":"IF(B72=\"\",\"\",FREQUENCY('Input measurements'!$B$2:$B$502,D72))","v":""},"",{"$f":"IF(B72=\"\",\"\",NORMDIST(E72,graph!$E$10,graph!$E$8,1)*graph!$E$2)","v":""},""]
[21,{"$f":"IF(A73<=graph!$E$3,A73,\"\")","v":""},{"$f":"IF(B73=\"\",\"\",ROUND(E73-(graph!$E$7/2),'Input measurements'!$H$5+1))","v":""},{"$f":"IF(C73=\"\",\"\",ROUND(E73+(graph!$E$7/2),'Input measurements'!$H$5+1))","v":""},{"$f":"IF(B73=\"\",\"\",ROUND(E72+graph!$E$7,'Input measurements'!$H$5))","v":""},{"$f":"IF(B73=\"\",\"\",FREQUENCY('Input measurements'!$B$2:$B$502,D73))","v":""},"",{"$f":"IF(B73=\"\",\"\",NORMDIST(E73,graph!$E$10,graph!$E$8,1)*graph!$E$2)","v":""},""]
[22,{"$f":"IF(A74<=graph!$E$3,A74,\"\")","v":""},{"$f":"IF(B74=\"\",\"\",ROUND(E74-(graph!$E$7/2),'Input measurements'!$H$5+1))","v":""},{"$f":"IF(C74=\"\",\"\",ROUND(E74+(graph!$E$7/2),'Input measurements'!$H$5+1))","v":""},{"$f":"IF(B74=\"\",\"\",ROUND(E73+graph!$E$7,'Input measurements'!$H$5))","v":""},{"$f":"IF(B74=\"\",\"\",FREQUENCY('Input measurements'!$B$2:$B$502,D74))","v":""},"",{"$f":"IF(B74=\"\",\"\",NORMDIST(E74,graph!$E$10,graph!$E$8,1)*graph!$E$2)","v":""},""]
[23,{"$f":"IF(A75<=graph!$E$3,A75,\"\")","v":""},{"$f":"IF(B75=\"\",\"\",ROUND(E75-(graph!$E$7/2),'Input measurements'!$H$5+1))","v":""},{"$f":"IF(C75=\"\",\"\",ROUND(E75+(graph!$E$7/2),'Input measurements'!$H$5+1))","v":""},{"$f":"IF(B75=\"\",\"\",ROUND(E74+graph!$E$7,'Input measurements'!$H$5))","v":""},{"$f":"IF(B75=\"\",\"\",FREQUENCY('Input measurements'!$B$2:$B$502,D75))","v":""},"",{"$f":"IF(B75=\"\",\"\",NORMDIST(E75,graph!$E$10,graph!$E$8,1)*graph!$E$2)","v":""},""]
[24,{"$f":"IF(A76<=graph!$E$3,A76,\"\")","v":""},{"$f":"IF(B76=\"\",\"\",ROUND(E76-(graph!$E$7/2),'Input measurements'!$H$5+1))","v":""},{"$f":"IF(C76=\"\",\"\",ROUND(E76+(graph!$E$7/2),'Input measurements'!$H$5+1))","v":""},{"$f":"IF(B76=\"\",\"\",ROUND(E75+graph!$E$7,'Input measurements'!$H$5))","v":""},{"$f":"IF(B76=\"\",\"\",FREQUENCY('Input measurements'!$B$2:$B$502,D76))","v":""},"",{"$f":"IF(B76=\"\",\"\",NORMDIST(E76,graph!$E$10,graph!$E$8,1)*graph!$E$2)","v":""},""]
[25,{"$f":"IF(A77<=graph!$E$3,A77,\"\")","v":""},{"$f":"IF(B77=\"\",\"\",ROUND(E77-(graph!$E$7/2),'Input measurements'!$H$5+1))","v":""},{"$f":"IF(C77=\"\",\"\",ROUND(E77+(graph!$E$7/2),'Input measurements'!$H$5+1))","v":""},{"$f":"IF(B77=\"\",\"\",ROUND(E76+graph!$E$7,'Input measurements'!$H$5))","v":""},{"$f":"IF(B77=\"\",\"\",FREQUENCY('Input measurements'!$B$2:$B$502,D77))","v":""},"",{"$f":"IF(B77=\"\",\"\",NORMDIST(E77,graph!$E$10,graph!$E$8,1)*graph!$E$2)","v":""},""]
[]
[]
[]
[null,{"$f":"IF(graph!$E$2=0,\"\",graph!$E$26)","v":""},{"$f":"IF(graph!$E$2=0,20,IF(SUM(K81+L81=0),NA(),0.25))","v":20},{"$f":"IF(graph!$E$2=0,20,IF(AND(B81<graph!$E$10+graph!$E$32,B81>graph!$E$10-graph!$E$32),0.25,NA()))","v":20},null,null,null,null,null,null,{"$f":"IF(graph!$E$20=0,0,IF(graph!$E$2=0,20,IF(AND(B81<graph!$E$20+graph!$E$32,B81>graph!$E$20-graph!$E$32),0.25,0)))","v":0},{"$f":"IF(graph!$E$22=0,0,IF(graph!$E$2=0,20,IF(AND(B81>graph!$E$22-graph!$E$32,B81<graph!$E$22+graph!$E$32),0.25,0)))","v":0}]
[null,{"$f":"IF(graph!$E$2=0,\"\",B81+graph!$E$32)","v":""},{"$f":"IF(graph!$E$2=0,20,IF(SUM(K82+L82=0),NA(),0.25))","v":20},{"$f":"IF(graph!$E$2=0,20,IF(AND(B82<graph!$E$10+graph!$E$32,B82>graph!$E$10-graph!$E$32),0.25,NA()))","v":20},null,null,null,null,null,null,{"$f":"IF(graph!$E$20=0,0,IF(graph!$E$2=0,20,IF(AND(B82<graph!$E$20+graph!$E$32,B82>graph!$E$20-graph!$E$32),0.25,0)))","v":0},{"$f":"IF(graph!$E$22=0,0,IF(graph!$E$2=0,20,IF(AND(B82>graph!$E$22-graph!$E$32,B82<graph!$E$22+graph!$E$32),0.25,0)))","v":0}]
[null,{"$f":"IF(graph!$E$2=0,\"\",B82+graph!$E$32)","v":""},{"$f":"IF(graph!$E$2=0,20,IF(SUM(K83+L83=0),NA(),0.25))","v":20},{"$f":"IF(graph!$E$2=0,20,IF(AND(B83<graph!$E$10+graph!$E$32,B83>graph!$E$10-graph!$E$32),0.25,NA()))","v":20},null,null,null,null,null,null,{"$f":"IF(graph!$E$20=0,0,IF(graph!$E$2=0,20,IF(AND(B83<graph!$E$20+graph!$E$32,B83>graph!$E$20-graph!$E$32),0.25,0)))","v":0},{"$f":"IF(graph!$E$22=0,0,IF(graph!$E$2=0,20,IF(AND(B83>graph!$E$22-graph!$E$32,B83<graph!$E$22+graph!$E$32),0.25,0)))","v":0}]
[null,{"$f":"IF(graph!$E$2=0,\"\",B83+graph!$E$32)","v":""},{"$f":"IF(graph!$E$2=0,20,IF(SUM(K84+L84=0),NA(),0.25))","v":20},{"$f":"IF(graph!$E$2=0,20,IF(AND(B84<graph!$E$10+graph!$E$32,B84>graph!$E$10-graph!$E$32),0.25,NA()))","v":20},null,null,null,null,null,null,{"$f":"IF(graph!$E$20=0,0,IF(graph!$E$2=0,20,IF(AND(B84<graph!$E$20+graph!$E$32,B84>graph!$E$20-graph!$E$32),0.25,0)))","v":0},{"$f":"IF(graph!$E$22=0,0,IF(graph!$E$2=0,20,IF(AND(B84>graph!$E$22-graph!$E$32,B84<graph!$E$22+graph!$E$32),0.25,0)))","v":0}]
[null,{"$f":"IF(graph!$E$2=0,\"\",B84+graph!$E$32)","v":""},{"$f":"IF(graph!$E$2=0,20,IF(SUM(K85+L85=0),NA(),0.25))","v":20},{"$f":"IF(graph!$E$2=0,20,IF(AND(B85<graph!$E$10+graph!$E$32,B85>graph!$E$10-graph!$E$32),0.25,NA()))","v":20},null,null,null,null,null,null,{"$f":"IF(graph!$E$20=0,0,IF(graph!$E$2=0,20,IF(AND(B85<graph!$E$20+graph!$E$32,B85>graph!$E$20-graph!$E$32),0.25,0)))","v":0},{"$f":"IF(graph!$E$22=0,0,IF(graph!$E$2=0,20,IF(AND(B85>graph!$E$22-graph!$E$32,B85<graph!$E$22+graph!$E$32),0.25,0)))","v":0}]
[null,{"$f":"IF(graph!$E$2=0,\"\",B85+graph!$E$32)","v":""},{"$f":"IF(graph!$E$2=0,20,IF(SUM(K86+L86=0),NA(),0.25))","v":20},{"$f":"IF(graph!$E$2=0,20,IF(AND(B86<graph!$E$10+graph!$E$32,B86>graph!$E$10-graph!$E$32),0.25,NA()))","v":20},null,null,null,null,null,null,{"$f":"IF(graph!$E$20=0,0,IF(graph!$E$2=0,20,IF(AND(B86<graph!$E$20+graph!$E$32,B86>graph!$E$20-graph!$E$32),0.25,0)))","v":0},{"$f":"IF(graph!$E$22=0,0,IF(graph!$E$2=0,20,IF(AND(B86>graph!$E$22-graph!$E$32,B86<graph!$E$22+graph!$E$32),0.25,0)))","v":0}]
[null,{"$f":"IF(graph!$E$2=0,\"\",B86+graph!$E$32)","v":""},{"$f":"IF(graph!$E$2=0,20,IF(SUM(K87+L87=0),NA(),0.25))","v":20},{"$f":"IF(graph!$E$2=0,20,IF(AND(B87<graph!$E$10+graph!$E$32,B87>graph!$E$10-graph!$E$32),0.25,NA()))","v":20},null,null,null,null,null,null,{"$f":"IF(graph!$E$20=0,0,IF(graph!$E$2=0,20,IF(AND(B87<graph!$E$20+graph!$E$32,B87>graph!$E$20-graph!$E$32),0.25,0)))","v":0},{"$f":"IF(graph!$E$22=0,0,IF(graph!$E$2=0,20,IF(AND(B87>graph!$E$22-graph!$E$32,B87<graph!$E$22+graph!$E$32),0.25,0)))","v":0}]
[null,{"$f":"IF(graph!$E$2=0,\"\",B87+graph!$E$32)","v":""},{"$f":"IF(graph!$E$2=0,20,IF(SUM(K88+L88=0),NA(),0.25))","v":20},{"$f":"IF(graph!$E$2=0,20,IF(AND(B88<graph!$E$10+graph!$E$32,B88>graph!$E$10-graph!$E$32),0.25,NA()))","v":20},null,null,null,null,null,null,{"$f":"IF(graph!$E$20=0,0,IF(graph!$E$2=0,20,IF(AND(B88<graph!$E$20+graph!$E$32,B88>graph!$E$20-graph!$E$32),0.25,0)))","v":0},{"$f":"IF(graph!$E$22=0,0,IF(graph!$E$2=0,20,IF(AND(B88>graph!$E$22-graph!$E$32,B88<graph!$E$22+graph!$E$32),0.25,0)))","v":0}]
[null,{"$f":"IF(graph!$E$2=0,\"\",B88+graph!$E$32)","v":""},{"$f":"IF(graph!$E$2=0,20,IF(SUM(K89+L89=0),NA(),0.25))","v":20},{"$f":"IF(graph!$E$2=0,20,IF(AND(B89<graph!$E$10+graph!$E$32,B89>graph!$E$10-graph!$E$32),0.25,NA()))","v":20},null,null,null,null,null,null,{"$f":"IF(graph!$E$20=0,0,IF(graph!$E$2=0,20,IF(AND(B89<graph!$E$20+graph!$E$32,B89>graph!$E$20-graph!$E$32),0.25,0)))","v":0},{"$f":"IF(graph!$E$22=0,0,IF(graph!$E$2=0,20,IF(AND(B89>graph!$E$22-graph!$E$32,B89<graph!$E$22+graph!$E$32),0.25,0)))","v":0}]
[null,{"$f":"IF(graph!$E$2=0,\"\",B89+graph!$E$32)","v":""},{"$f":"IF(graph!$E$2=0,20,IF(SUM(K90+L90=0),NA(),0.25))","v":20},{"$f":"IF(graph!$E$2=0,20,IF(AND(B90<graph!$E$10+graph!$E$32,B90>graph!$E$10-graph!$E$32),0.25,NA()))","v":20},null,null,null,null,null,null,{"$f":"IF(graph!$E$20=0,0,IF(graph!$E$2=0,20,IF(AND(B90<graph!$E$20+graph!$E$32,B90>graph!$E$20-graph!$E$32),0.25,0)))","v":0},{"$f":"IF(graph!$E$22=0,0,IF(graph!$E$2=0,20,IF(AND(B90>graph!$E$22-graph!$E$32,B90<graph!$E$22+graph!$E$32),0.25,0)))","v":0}]
[null,{"$f":"IF(graph!$E$2=0,\"\",B90+graph!$E$32)","v":""},{"$f":"IF(graph!$E$2=0,20,IF(SUM(K91+L91=0),NA(),0.25))","v":20},{"$f":"IF(graph!$E$2=0,20,IF(AND(B91<graph!$E$10+graph!$E$32,B91>graph!$E$10-graph!$E$32),0.25,NA()))","v":20},null,null,null,null,null,null,{"$f":"IF(graph!$E$20=0,0,IF(graph!$E$2=0,20,IF(AND(B91<graph!$E$20+graph!$E$32,B91>graph!$E$20-graph!$E$32),0.25,0)))","v":0},{"$f":"IF(graph!$E$22=0,0,IF(graph!$E$2=0,20,IF(AND(B91>graph!$E$22-graph!$E$32,B91<graph!$E$22+graph!$E$32),0.25,0)))","v":0}]
[null,{"$f":"IF(graph!$E$2=0,\"\",B91+graph!$E$32)","v":""},{"$f":"IF(graph!$E$2=0,20,IF(SUM(K92+L92=0),NA(),0.25))","v":20},{"$f":"IF(graph!$E$2=0,20,IF(AND(B92<graph!$E$10+graph!$E$32,B92>graph!$E$10-graph!$E$32),0.25,NA()))","v":20},null,null,null,null,null,null,{"$f":"IF(graph!$E$20=0,0,IF(graph!$E$2=0,20,IF(AND(B92<graph!$E$20+graph!$E$32,B92>graph!$E$20-graph!$E$32),0.25,0)))","v":0},{"$f":"IF(graph!$E$22=0,0,IF(graph!$E$2=0,20,IF(AND(B92>graph!$E$22-graph!$E$32,B92<graph!$E$22+graph!$E$32),0.25,0)))","v":0}]
[null,{"$f":"IF(graph!$E$2=0,\"\",B92+graph!$E$32)","v":""},{"$f":"IF(graph!$E$2=0,20,IF(SUM(K93+L93=0),NA(),0.25))","v":20},{"$f":"IF(graph!$E$2=0,20,IF(AND(B93<graph!$E$10+graph!$E$32,B93>graph!$E$10-graph!$E$32),0.25,NA()))","v":20},null,null,null,null,null,null,{"$f":"IF(graph!$E$20=0,0,IF(graph!$E$2=0,20,IF(AND(B93<graph!$E$20+graph!$E$32,B93>graph!$E$20-graph!$E$32),0.25,0)))","v":0},{"$f":"IF(graph!$E$22=0,0,IF(graph!$E$2=0,20,IF(AND(B93>graph!$E$22-graph!$E$32,B93<graph!$E$22+graph!$E$32),0.25,0)))","v":0}]
[null,{"$f":"IF(graph!$E$2=0,\"\",B93+graph!$E$32)","v":""},{"$f":"IF(graph!$E$2=0,20,IF(SUM(K94+L94=0),NA(),0.25))","v":20},{"$f":"IF(graph!$E$2=0,20,IF(AND(B94<graph!$E$10+graph!$E$32,B94>graph!$E$10-graph!$E$32),0.25,NA()))","v":20},null,null,null,null,null,null,{"$f":"IF(graph!$E$20=0,0,IF(graph!$E$2=0,20,IF(AND(B94<graph!$E$20+graph!$E$32,B94>graph!$E$20-graph!$E$32),0.25,0)))","v":0},{"$f":"IF(graph!$E$22=0,0,IF(graph!$E$2=0,20,IF(AND(B94>graph!$E$22-graph!$E$32,B94<graph!$E$22+graph!$E$32),0.25,0)))","v":0}]
[null,{"$f":"IF(graph!$E$2=0,\"\",B94+graph!$E$32)","v":""},{"$f":"IF(graph!$E$2=0,20,IF(SUM(K95+L95=0),NA(),0.25))","v":20},{"$f":"IF(graph!$E$2=0,20,IF(AND(B95<graph!$E$10+graph!$E$32,B95>graph!$E$10-graph!$E$32),0.25,NA()))","v":20},null,null,null,null,null,null,{"$f":"IF(graph!$E$20=0,0,IF(graph!$E$2=0,20,IF(AND(B95<graph!$E$20+graph!$E$32,B95>graph!$E$20-graph!$E$32),0.25,0)))","v":0},{"$f":"IF(graph!$E$22=0,0,IF(graph!$E$2=0,20,IF(AND(B95>graph!$E$22-graph!$E$32,B95<graph!$E$22+graph!$E$32),0.25,0)))","v":0}]
[null,{"$f":"IF(graph!$E$2=0,\"\",B95+graph!$E$32)","v":""},{"$f":"IF(graph!$E$2=0,20,IF(SUM(K96+L96=0),NA(),0.25))","v":20},{"$f":"IF(graph!$E$2=0,20,IF(AND(B96<graph!$E$10+graph!$E$32,B96>graph!$E$10-graph!$E$32),0.25,NA()))","v":20},null,null,null,null,null,null,{"$f":"IF(graph!$E$20=0,0,IF(graph!$E$2=0,20,IF(AND(B96<graph!$E$20+graph!$E$32,B96>graph!$E$20-graph!$E$32),0.25,0)))","v":0},{"$f":"IF(graph!$E$22=0,0,IF(graph!$E$2=0,20,IF(AND(B96>graph!$E$22-graph!$E$32,B96<graph!$E$22+graph!$E$32),0.25,0)))","v":0}]
[null,{"$f":"IF(graph!$E$2=0,\"\",B96+graph!$E$32)","v":""},{"$f":"IF(graph!$E$2=0,20,IF(SUM(K97+L97=0),NA(),0.25))","v":20},{"$f":"IF(graph!$E$2=0,20,IF(AND(B97<graph!$E$10+graph!$E$32,B97>graph!$E$10-graph!$E$32),0.25,NA()))","v":20},null,null,null,null,null,null,{"$f":"IF(graph!$E$20=0,0,IF(graph!$E$2=0,20,IF(AND(B97<graph!$E$20+graph!$E$32,B97>graph!$E$20-graph!$E$32),0.25,0)))","v":0},{"$f":"IF(graph!$E$22=0,0,IF(graph!$E$2=0,20,IF(AND(B97>graph!$E$22-graph!$E$32,B97<graph!$E$22+graph!$E$32),0.25,0)))","v":0}]
[null,{"$f":"IF(graph!$E$2=0,\"\",B97+graph!$E$32)","v":""},{"$f":"IF(graph!$E$2=0,20,IF(SUM(K98+L98=0),NA(),0.25))","v":20},{"$f":"IF(graph!$E$2=0,20,IF(AND(B98<graph!$E$10+graph!$E$32,B98>graph!$E$10-graph!$E$32),0.25,NA()))","v":20},null,null,null,null,null,null,{"$f":"IF(graph!$E$20=0,0,IF(graph!$E$2=0,20,IF(AND(B98<graph!$E$20+graph!$E$32,B98>graph!$E$20-graph!$E$32),0.25,0)))","v":0},{"$f":"IF(graph!$E$22=0,0,IF(graph!$E$2=0,20,IF(AND(B98>graph!$E$22-graph!$E$32,B98<graph!$E$22+graph!$E$32),0.25,0)))","v":0}]
[null,{"$f":"IF(graph!$E$2=0,\"\",B98+graph!$E$32)","v":""},{"$f":"IF(graph!$E$2=0,20,IF(SUM(K99+L99=0),NA(),0.25))","v":20},{"$f":"IF(graph!$E$2=0,20,IF(AND(B99<graph!$E$10+graph!$E$32,B99>graph!$E$10-graph!$E$32),0.25,NA()))","v":20},null,null,null,null,null,null,{"$f":"IF(graph!$E$20=0,0,IF(graph!$E$2=0,20,IF(AND(B99<graph!$E$20+graph!$E$32,B99>graph!$E$20-graph!$E$32),0.25,0)))","v":0},{"$f":"IF(graph!$E$22=0,0,IF(graph!$E$2=0,20,IF(AND(B99>graph!$E$22-graph!$E$32,B99<graph!$E$22+graph!$E$32),0.25,0)))","v":0}]
[null,{"$f":"IF(graph!$E$2=0,\"\",B99+graph!$E$32)","v":""},{"$f":"IF(graph!$E$2=0,20,IF(SUM(K100+L100=0),NA(),0.25))","v":20},{"$f":"IF(graph!$E$2=0,20,IF(AND(B100<graph!$E$10+graph!$E$32,B100>graph!$E$10-graph!$E$32),0.25,NA()))","v":20},null,null,null,null,null,null,{"$f":"IF(graph!$E$20=0,0,IF(graph!$E$2=0,20,IF(AND(B100<graph!$E$20+graph!$E$32,B100>graph!$E$20-graph!$E$32),0.25,0)))","v":0},{"$f":"IF(graph!$E$22=0,0,IF(graph!$E$2=0,20,IF(AND(B100>graph!$E$22-graph!$E$32,B100<graph!$E$22+graph!$E$32),0.25,0)))","v":0}]
[null,{"$f":"IF(graph!$E$2=0,\"\",B100+graph!$E$32)","v":""},{"$f":"IF(graph!$E$2=0,20,IF(SUM(K101+L101=0),NA(),0.25))","v":20},{"$f":"IF(graph!$E$2=0,20,IF(AND(B101<graph!$E$10+graph!$E$32,B101>graph!$E$10-graph!$E$32),0.25,NA()))","v":20},null,null,null,null,null,null,{"$f":"IF(graph!$E$20=0,0,IF(graph!$E$2=0,20,IF(AND(B101<graph!$E$20+graph!$E$32,B101>graph!$E$20-graph!$E$32),0.25,0)))","v":0},{"$f":"IF(graph!$E$22=0,0,IF(graph!$E$2=0,20,IF(AND(B101>graph!$E$22-graph!$E$32,B101<graph!$E$22+graph!$E$32),0.25,0)))","v":0}]
[null,{"$f":"IF(graph!$E$2=0,\"\",B101+graph!$E$32)","v":""},{"$f":"IF(graph!$E$2=0,20,IF(SUM(K102+L102=0),NA(),0.25))","v":20},{"$f":"IF(graph!$E$2=0,20,IF(AND(B102<graph!$E$10+graph!$E$32,B102>graph!$E$10-graph!$E$32),0.25,NA()))","v":20},null,null,null,null,null,null,{"$f":"IF(graph!$E$20=0,0,IF(graph!$E$2=0,20,IF(AND(B102<graph!$E$20+graph!$E$32,B102>graph!$E$20-graph!$E$32),0.25,0)))","v":0},{"$f":"IF(graph!$E$22=0,0,IF(graph!$E$2=0,20,IF(AND(B102>graph!$E$22-graph!$E$32,B102<graph!$E$22+graph!$E$32),0.25,0)))","v":0}]
[null,{"$f":"IF(graph!$E$2=0,\"\",B102+graph!$E$32)","v":""},{"$f":"IF(graph!$E$2=0,20,IF(SUM(K103+L103=0),NA(),0.25))","v":20},{"$f":"IF(graph!$E$2=0,20,IF(AND(B103<graph!$E$10+graph!$E$32,B103>graph!$E$10-graph!$E$32),0.25,NA()))","v":20},null,null,null,null,null,null,{"$f":"IF(graph!$E$20=0,0,IF(graph!$E$2=0,20,IF(AND(B103<graph!$E$20+graph!$E$32,B103>graph!$E$20-graph!$E$32),0.25,0)))","v":0},{"$f":"IF(graph!$E$22=0,0,IF(graph!$E$2=0,20,IF(AND(B103>graph!$E$22-graph!$E$32,B103<graph!$E$22+graph!$E$32),0.25,0)))","v":0}]
[null,{"$f":"IF(graph!$E$2=0,\"\",B103+graph!$E$32)","v":""},{"$f":"IF(graph!$E$2=0,20,IF(SUM(K104+L104=0),NA(),0.25))","v":20},{"$f":"IF(graph!$E$2=0,20,IF(AND(B104<graph!$E$10+graph!$E$32,B104>graph!$E$10-graph!$E$32),0.25,NA()))","v":20},null,null,null,null,null,null,{"$f":"IF(graph!$E$20=0,0,IF(graph!$E$2=0,20,IF(AND(B104<graph!$E$20+graph!$E$32,B104>graph!$E$20-graph!$E$32),0.25,0)))","v":0},{"$f":"IF(graph!$E$22=0,0,IF(graph!$E$2=0,20,IF(AND(B104>graph!$E$22-graph!$E$32,B104<graph!$E$22+graph!$E$32),0.25,0)))","v":0}]
[null,{"$f":"IF(graph!$E$2=0,\"\",B104+graph!$E$32)","v":""},{"$f":"IF(graph!$E$2=0,20,IF(SUM(K105+L105=0),NA(),0.25))","v":20},{"$f":"IF(graph!$E$2=0,20,IF(AND(B105<graph!$E$10+graph!$E$32,B105>graph!$E$10-graph!$E$32),0.25,NA()))","v":20},null,null,null,null,null,null,{"$f":"IF(graph!$E$20=0,0,IF(graph!$E$2=0,20,IF(AND(B105<graph!$E$20+graph!$E$32,B105>graph!$E$20-graph!$E$32),0.25,0)))","v":0},{"$f":"IF(graph!$E$22=0,0,IF(graph!$E$2=0,20,IF(AND(B105>graph!$E$22-graph!$E$32,B105<graph!$E$22+graph!$E$32),0.25,0)))","v":0}]
[null,{"$f":"IF(graph!$E$2=0,\"\",B105+graph!$E$32)","v":""},{"$f":"IF(graph!$E$2=0,20,IF(SUM(K106+L106=0),NA(),0.25))","v":20},{"$f":"IF(graph!$E$2=0,20,IF(AND(B106<graph!$E$10+graph!$E$32,B106>graph!$E$10-graph!$E$32),0.25,NA()))","v":20},null,null,null,null,null,null,{"$f":"IF(graph!$E$20=0,0,IF(graph!$E$2=0,20,IF(AND(B106<graph!$E$20+graph!$E$32,B106>graph!$E$20-graph!$E$32),0.25,0)))","v":0},{"$f":"IF(graph!$E$22=0,0,IF(graph!$E$2=0,20,IF(AND(B106>graph!$E$22-graph!$E$32,B106<graph!$E$22+graph!$E$32),0.25,0)))","v":0}]
[null,{"$f":"IF(graph!$E$2=0,\"\",B106+graph!$E$32)","v":""},{"$f":"IF(graph!$E$2=0,20,IF(SUM(K107+L107=0),NA(),0.25))","v":20},{"$f":"IF(graph!$E$2=0,20,IF(AND(B107<graph!$E$10+graph!$E$32,B107>graph!$E$10-graph!$E$32),0.25,NA()))","v":20},null,null,null,null,null,null,{"$f":"IF(graph!$E$20=0,0,IF(graph!$E$2=0,20,IF(AND(B107<graph!$E$20+graph!$E$32,B107>graph!$E$20-graph!$E$32),0.25,0)))","v":0},{"$f":"IF(graph!$E$22=0,0,IF(graph!$E$2=0,20,IF(AND(B107>graph!$E$22-graph!$E$32,B107<graph!$E$22+graph!$E$32),0.25,0)))","v":0}]
[null,{"$f":"IF(graph!$E$2=0,\"\",B107+graph!$E$32)","v":""},{"$f":"IF(graph!$E$2=0,20,IF(SUM(K108+L108=0),NA(),0.25))","v":20},{"$f":"IF(graph!$E$2=0,20,IF(AND(B108<graph!$E$10+graph!$E$32,B108>graph!$E$10-graph!$E$32),0.25,NA()))","v":20},null,null,null,null,null,null,{"$f":"IF(graph!$E$20=0,0,IF(graph!$E$2=0,20,IF(AND(B108<graph!$E$20+graph!$E$32,B108>graph!$E$20-graph!$E$32),0.25,0)))","v":0},{"$f":"IF(graph!$E$22=0,0,IF(graph!$E$2=0,20,IF(AND(B108>graph!$E$22-graph!$E$32,B108<graph!$E$22+graph!$E$32),0.25,0)))","v":0}]
[null,{"$f":"IF(graph!$E$2=0,\"\",B108+graph!$E$32)","v":""},{"$f":"IF(graph!$E$2=0,20,IF(SUM(K109+L109=0),NA(),0.25))","v":20},{"$f":"IF(graph!$E$2=0,20,IF(AND(B109<graph!$E$10+graph!$E$32,B109>graph!$E$10-graph!$E$32),0.25,NA()))","v":20},null,null,null,null,null,null,{"$f":"IF(graph!$E$20=0,0,IF(graph!$E$2=0,20,IF(AND(B109<graph!$E$20+graph!$E$32,B109>graph!$E$20-graph!$E$32),0.25,0)))","v":0},{"$f":"IF(graph!$E$22=0,0,IF(graph!$E$2=0,20,IF(AND(B109>graph!$E$22-graph!$E$32,B109<graph!$E$22+graph!$E$32),0.25,0)))","v":0}]
[null,{"$f":"IF(graph!$E$2=0,\"\",B109+graph!$E$32)","v":""},{"$f":"IF(graph!$E$2=0,20,IF(SUM(K110+L110=0),NA(),0.25))","v":20},{"$f":"IF(graph!$E$2=0,20,IF(AND(B110<graph!$E$10+graph!$E$32,B110>graph!$E$10-graph!$E$32),0.25,NA()))","v":20},null,null,null,null,null,null,{"$f":"IF(graph!$E$20=0,0,IF(graph!$E$2=0,20,IF(AND(B110<graph!$E$20+graph!$E$32,B110>graph!$E$20-graph!$E$32),0.25,0)))","v":0},{"$f":"IF(graph!$E$22=0,0,IF(graph!$E$2=0,20,IF(AND(B110>graph!$E$22-graph!$E$32,B110<graph!$E$22+graph!$E$32),0.25,0)))","v":0}]
[null,{"$f":"IF(graph!$E$2=0,\"\",B110+graph!$E$32)","v":""},{"$f":"IF(graph!$E$2=0,20,IF(SUM(K111+L111=0),NA(),0.25))","v":20},{"$f":"IF(graph!$E$2=0,20,IF(AND(B111<graph!$E$10+graph!$E$32,B111>graph!$E$10-graph!$E$32),0.25,NA()))","v":20},null,null,null,null,null,null,{"$f":"IF(graph!$E$20=0,0,IF(graph!$E$2=0,20,IF(AND(B111<graph!$E$20+graph!$E$32,B111>graph!$E$20-graph!$E$32),0.25,0)))","v":0},{"$f":"IF(graph!$E$22=0,0,IF(graph!$E$2=0,20,IF(AND(B111>graph!$E$22-graph!$E$32,B111<graph!$E$22+graph!$E$32),0.25,0)))","v":0}]
[null,{"$f":"IF(graph!$E$2=0,\"\",B111+graph!$E$32)","v":""},{"$f":"IF(graph!$E$2=0,20,IF(SUM(K112+L112=0),NA(),0.25))","v":20},{"$f":"IF(graph!$E$2=0,20,IF(AND(B112<graph!$E$10+graph!$E$32,B112>graph!$E$10-graph!$E$32),0.25,NA()))","v":20},null,null,null,null,null,null,{"$f":"IF(graph!$E$20=0,0,IF(graph!$E$2=0,20,IF(AND(B112<graph!$E$20+graph!$E$32,B112>graph!$E$20-graph!$E$32),0.25,0)))","v":0},{"$f":"IF(graph!$E$22=0,0,IF(graph!$E$2=0,20,IF(AND(B112>graph!$E$22-graph!$E$32,B112<graph!$E$22+graph!$E$32),0.25,0)))","v":0}]
[null,{"$f":"IF(graph!$E$2=0,\"\",B112+graph!$E$32)","v":""},{"$f":"IF(graph!$E$2=0,20,IF(SUM(K113+L113=0),NA(),0.25))","v":20},{"$f":"IF(graph!$E$2=0,20,IF(AND(B113<graph!$E$10+graph!$E$32,B113>graph!$E$10-graph!$E$32),0.25,NA()))","v":20},null,null,null,null,null,null,{"$f":"IF(graph!$E$20=0,0,IF(graph!$E$2=0,20,IF(AND(B113<graph!$E$20+graph!$E$32,B113>graph!$E$20-graph!$E$32),0.25,0)))","v":0},{"$f":"IF(graph!$E$22=0,0,IF(graph!$E$2=0,20,IF(AND(B113>graph!$E$22-graph!$E$32,B113<graph!$E$22+graph!$E$32),0.25,0)))","v":0}]
[null,{"$f":"IF(graph!$E$2=0,\"\",B113+graph!$E$32)","v":""},{"$f":"IF(graph!$E$2=0,20,IF(SUM(K114+L114=0),NA(),0.25))","v":20},{"$f":"IF(graph!$E$2=0,20,IF(AND(B114<graph!$E$10+graph!$E$32,B114>graph!$E$10-graph!$E$32),0.25,NA()))","v":20},null,null,null,null,null,null,{"$f":"IF(graph!$E$20=0,0,IF(graph!$E$2=0,20,IF(AND(B114<graph!$E$20+graph!$E$32,B114>graph!$E$20-graph!$E$32),0.25,0)))","v":0},{"$f":"IF(graph!$E$22=0,0,IF(graph!$E$2=0,20,IF(AND(B114>graph!$E$22-graph!$E$32,B114<graph!$E$22+graph!$E$32),0.25,0)))","v":0}]
[null,{"$f":"IF(graph!$E$2=0,\"\",B114+graph!$E$32)","v":""},{"$f":"IF(graph!$E$2=0,20,IF(SUM(K115+L115=0),NA(),0.25))","v":20},{"$f":"IF(graph!$E$2=0,20,IF(AND(B115<graph!$E$10+graph!$E$32,B115>graph!$E$10-graph!$E$32),0.25,NA()))","v":20},null,null,null,null,null,null,{"$f":"IF(graph!$E$20=0,0,IF(graph!$E$2=0,20,IF(AND(B115<graph!$E$20+graph!$E$32,B115>graph!$E$20-graph!$E$32),0.25,0)))","v":0},{"$f":"IF(graph!$E$22=0,0,IF(graph!$E$2=0,20,IF(AND(B115>graph!$E$22-graph!$E$32,B115<graph!$E$22+graph!$E$32),0.25,0)))","v":0}]
[null,{"$f":"IF(graph!$E$2=0,\"\",B115+graph!$E$32)","v":""},{"$f":"IF(graph!$E$2=0,20,IF(SUM(K116+L116=0),NA(),0.25))","v":20},{"$f":"IF(graph!$E$2=0,20,IF(AND(B116<graph!$E$10+graph!$E$32,B116>graph!$E$10-graph!$E$32),0.25,NA()))","v":20},null,null,null,null,null,null,{"$f":"IF(graph!$E$20=0,0,IF(graph!$E$2=0,20,IF(AND(B116<graph!$E$20+graph!$E$32,B116>graph!$E$20-graph!$E$32),0.25,0)))","v":0},{"$f":"IF(graph!$E$22=0,0,IF(graph!$E$2=0,20,IF(AND(B116>graph!$E$22-graph!$E$32,B116<graph!$E$22+graph!$E$32),0.25,0)))","v":0}]
[null,{"$f":"IF(graph!$E$2=0,\"\",B116+graph!$E$32)","v":""},{"$f":"IF(graph!$E$2=0,20,IF(SUM(K117+L117=0),NA(),0.25))","v":20},{"$f":"IF(graph!$E$2=0,20,IF(AND(B117<graph!$E$10+graph!$E$32,B117>graph!$E$10-graph!$E$32),0.25,NA()))","v":20},null,null,null,null,null,null,{"$f":"IF(graph!$E$20=0,0,IF(graph!$E$2=0,20,IF(AND(B117<graph!$E$20+graph!$E$32,B117>graph!$E$20-graph!$E$32),0.25,0)))","v":0},{"$f":"IF(graph!$E$22=0,0,IF(graph!$E$2=0,20,IF(AND(B117>graph!$E$22-graph!$E$32,B117<graph!$E$22+graph!$E$32),0.25,0)))","v":0}]
[null,{"$f":"IF(graph!$E$2=0,\"\",B117+graph!$E$32)","v":""},{"$f":"IF(graph!$E$2=0,20,IF(SUM(K118+L118=0),NA(),0.25))","v":20},{"$f":"IF(graph!$E$2=0,20,IF(AND(B118<graph!$E$10+graph!$E$32,B118>graph!$E$10-graph!$E$32),0.25,NA()))","v":20},null,null,null,null,null,null,{"$f":"IF(graph!$E$20=0,0,IF(graph!$E$2=0,20,IF(AND(B118<graph!$E$20+graph!$E$32,B118>graph!$E$20-graph!$E$32),0.25,0)))","v":0},{"$f":"IF(graph!$E$22=0,0,IF(graph!$E$2=0,20,IF(AND(B118>graph!$E$22-graph!$E$32,B118<graph!$E$22+graph!$E$32),0.25,0)))","v":0}]
[null,{"$f":"IF(graph!$E$2=0,\"\",B118+graph!$E$32)","v":""},{"$f":"IF(graph!$E$2=0,20,IF(SUM(K119+L119=0),NA(),0.25))","v":20},{"$f":"IF(graph!$E$2=0,20,IF(AND(B119<graph!$E$10+graph!$E$32,B119>graph!$E$10-graph!$E$32),0.25,NA()))","v":20},null,null,null,null,null,null,{"$f":"IF(graph!$E$20=0,0,IF(graph!$E$2=0,20,IF(AND(B119<graph!$E$20+graph!$E$32,B119>graph!$E$20-graph!$E$32),0.25,0)))","v":0},{"$f":"IF(graph!$E$22=0,0,IF(graph!$E$2=0,20,IF(AND(B119>graph!$E$22-graph!$E$32,B119<graph!$E$22+graph!$E$32),0.25,0)))","v":0}]
[null,{"$f":"IF(graph!$E$2=0,\"\",B119+graph!$E$32)","v":""},{"$f":"IF(graph!$E$2=0,20,IF(SUM(K120+L120=0),NA(),0.25))","v":20},{"$f":"IF(graph!$E$2=0,20,IF(AND(B120<graph!$E$10+graph!$E$32,B120>graph!$E$10-graph!$E$32),0.25,NA()))","v":20},null,null,null,null,null,null,{"$f":"IF(graph!$E$20=0,0,IF(graph!$E$2=0,20,IF(AND(B120<graph!$E$20+graph!$E$32,B120>graph!$E$20-graph!$E$32),0.25,0)))","v":0},{"$f":"IF(graph!$E$22=0,0,IF(graph!$E$2=0,20,IF(AND(B120>graph!$E$22-graph!$E$32,B120<graph!$E$22+graph!$E$32),0.25,0)))","v":0}]
[null,{"$f":"IF(graph!$E$2=0,\"\",B120+graph!$E$32)","v":""},{"$f":"IF(graph!$E$2=0,20,IF(SUM(K121+L121=0),NA(),0.25))","v":20},{"$f":"IF(graph!$E$2=0,20,IF(AND(B121<graph!$E$10+graph!$E$32,B121>graph!$E$10-graph!$E$32),0.25,NA()))","v":20},null,null,null,null,null,null,{"$f":"IF(graph!$E$20=0,0,IF(graph!$E$2=0,20,IF(AND(B121<graph!$E$20+graph!$E$32,B121>graph!$E$20-graph!$E$32),0.25,0)))","v":0},{"$f":"IF(graph!$E$22=0,0,IF(graph!$E$2=0,20,IF(AND(B121>graph!$E$22-graph!$E$32,B121<graph!$E$22+graph!$E$32),0.25,0)))","v":0}]
[null,{"$f":"IF(graph!$E$2=0,\"\",B121+graph!$E$32)","v":""},{"$f":"IF(graph!$E$2=0,20,IF(SUM(K122+L122=0),NA(),0.25))","v":20},{"$f":"IF(graph!$E$2=0,20,IF(AND(B122<graph!$E$10+graph!$E$32,B122>graph!$E$10-graph!$E$32),0.25,NA()))","v":20},null,null,null,null,null,null,{"$f":"IF(graph!$E$20=0,0,IF(graph!$E$2=0,20,IF(AND(B122<graph!$E$20+graph!$E$32,B122>graph!$E$20-graph!$E$32),0.25,0)))","v":0},{"$f":"IF(graph!$E$22=0,0,IF(graph!$E$2=0,20,IF(AND(B122>graph!$E$22-graph!$E$32,B122<graph!$E$22+graph!$E$32),0.25,0)))","v":0}]
[null,{"$f":"IF(graph!$E$2=0,\"\",B122+graph!$E$32)","v":""},{"$f":"IF(graph!$E$2=0,20,IF(SUM(K123+L123=0),NA(),0.25))","v":20},{"$f":"IF(graph!$E$2=0,20,IF(AND(B123<graph!$E$10+graph!$E$32,B123>graph!$E$10-graph!$E$32),0.25,NA()))","v":20},null,null,null,null,null,null,{"$f":"IF(graph!$E$20=0,0,IF(graph!$E$2=0,20,IF(AND(B123<graph!$E$20+graph!$E$32,B123>graph!$E$20-graph!$E$32),0.25,0)))","v":0},{"$f":"IF(graph!$E$22=0,0,IF(graph!$E$2=0,20,IF(AND(B123>graph!$E$22-graph!$E$32,B123<graph!$E$22+graph!$E$32),0.25,0)))","v":0}]
[null,{"$f":"IF(graph!$E$2=0,\"\",B123+graph!$E$32)","v":""},{"$f":"IF(graph!$E$2=0,20,IF(SUM(K124+L124=0),NA(),0.25))","v":20},{"$f":"IF(graph!$E$2=0,20,IF(AND(B124<graph!$E$10+graph!$E$32,B124>graph!$E$10-graph!$E$32),0.25,NA()))","v":20},null,null,null,null,null,null,{"$f":"IF(graph!$E$20=0,0,IF(graph!$E$2=0,20,IF(AND(B124<graph!$E$20+graph!$E$32,B124>graph!$E$20-graph!$E$32),0.25,0)))","v":0},{"$f":"IF(graph!$E$22=0,0,IF(graph!$E$2=0,20,IF(AND(B124>graph!$E$22-graph!$E$32,B124<graph!$E$22+graph!$E$32),0.25,0)))","v":0}]
[null,{"$f":"IF(graph!$E$2=0,\"\",B124+graph!$E$32)","v":""},{"$f":"IF(graph!$E$2=0,20,IF(SUM(K125+L125=0),NA(),0.25))","v":20},{"$f":"IF(graph!$E$2=0,20,IF(AND(B125<graph!$E$10+graph!$E$32,B125>graph!$E$10-graph!$E$32),0.25,NA()))","v":20},null,null,null,null,null,null,{"$f":"IF(graph!$E$20=0,0,IF(graph!$E$2=0,20,IF(AND(B125<graph!$E$20+graph!$E$32,B125>graph!$E$20-graph!$E$32),0.25,0)))","v":0},{"$f":"IF(graph!$E$22=0,0,IF(graph!$E$2=0,20,IF(AND(B125>graph!$E$22-graph!$E$32,B125<graph!$E$22+graph!$E$32),0.25,0)))","v":0}]
[null,{"$f":"IF(graph!$E$2=0,\"\",B125+graph!$E$32)","v":""},{"$f":"IF(graph!$E$2=0,20,IF(SUM(K126+L126=0),NA(),0.25))","v":20},{"$f":"IF(graph!$E$2=0,20,IF(AND(B126<graph!$E$10+graph!$E$32,B126>graph!$E$10-graph!$E$32),0.25,NA()))","v":20},null,null,null,null,null,null,{"$f":"IF(graph!$E$20=0,0,IF(graph!$E$2=0,20,IF(AND(B126<graph!$E$20+graph!$E$32,B126>graph!$E$20-graph!$E$32),0.25,0)))","v":0},{"$f":"IF(graph!$E$22=0,0,IF(graph!$E$2=0,20,IF(AND(B126>graph!$E$22-graph!$E$32,B126<graph!$E$22+graph!$E$32),0.25,0)))","v":0}]
[null,{"$f":"IF(graph!$E$2=0,\"\",B126+graph!$E$32)","v":""},{"$f":"IF(graph!$E$2=0,20,IF(SUM(K127+L127=0),NA(),0.25))","v":20},{"$f":"IF(graph!$E$2=0,20,IF(AND(B127<graph!$E$10+graph!$E$32,B127>graph!$E$10-graph!$E$32),0.25,NA()))","v":20},null,null,null,null,null,null,{"$f":"IF(graph!$E$20=0,0,IF(graph!$E$2=0,20,IF(AND(B127<graph!$E$20+graph!$E$32,B127>graph!$E$20-graph!$E$32),0.25,0)))","v":0},{"$f":"IF(graph!$E$22=0,0,IF(graph!$E$2=0,20,IF(AND(B127>graph!$E$22-graph!$E$32,B127<graph!$E$22+graph!$E$32),0.25,0)))","v":0}]
[null,{"$f":"IF(graph!$E$2=0,\"\",B127+graph!$E$32)","v":""},{"$f":"IF(graph!$E$2=0,20,IF(SUM(K128+L128=0),NA(),0.25))","v":20},{"$f":"IF(graph!$E$2=0,20,IF(AND(B128<graph!$E$10+graph!$E$32,B128>graph!$E$10-graph!$E$32),0.25,NA()))","v":20},null,null,null,null,null,null,{"$f":"IF(graph!$E$20=0,0,IF(graph!$E$2=0,20,IF(AND(B128<graph!$E$20+graph!$E$32,B128>graph!$E$20-graph!$E$32),0.25,0)))","v":0},{"$f":"IF(graph!$E$22=0,0,IF(graph!$E$2=0,20,IF(AND(B128>graph!$E$22-graph!$E$32,B128<graph!$E$22+graph!$E$32),0.25,0)))","v":0}]
[null,{"$f":"IF(graph!$E$2=0,\"\",B128+graph!$E$32)","v":""},{"$f":"IF(graph!$E$2=0,20,IF(SUM(K129+L129=0),NA(),0.25))","v":20},{"$f":"IF(graph!$E$2=0,20,IF(AND(B129<graph!$E$10+graph!$E$32,B129>graph!$E$10-graph!$E$32),0.25,NA()))","v":20},null,null,null,null,null,null,{"$f":"IF(graph!$E$20=0,0,IF(graph!$E$2=0,20,IF(AND(B129<graph!$E$20+graph!$E$32,B129>graph!$E$20-graph!$E$32),0.25,0)))","v":0},{"$f":"IF(graph!$E$22=0,0,IF(graph!$E$2=0,20,IF(AND(B129>graph!$E$22-graph!$E$32,B129<graph!$E$22+graph!$E$32),0.25,0)))","v":0}]
[null,{"$f":"IF(graph!$E$2=0,\"\",B129+graph!$E$32)","v":""},{"$f":"IF(graph!$E$2=0,20,IF(SUM(K130+L130=0),NA(),0.25))","v":20},{"$f":"IF(graph!$E$2=0,20,IF(AND(B130<graph!$E$10+graph!$E$32,B130>graph!$E$10-graph!$E$32),0.25,NA()))","v":20},null,null,null,null,null,null,{"$f":"IF(graph!$E$20=0,0,IF(graph!$E$2=0,20,IF(AND(B130<graph!$E$20+graph!$E$32,B130>graph!$E$20-graph!$E$32),0.25,0)))","v":0},{"$f":"IF(graph!$E$22=0,0,IF(graph!$E$2=0,20,IF(AND(B130>graph!$E$22-graph!$E$32,B130<graph!$E$22+graph!$E$32),0.25,0)))","v":0}]
[null,{"$f":"IF(graph!$E$2=0,\"\",B130+graph!$E$32)","v":""},{"$f":"IF(graph!$E$2=0,20,IF(SUM(K131+L131=0),NA(),0.25))","v":20},{"$f":"IF(graph!$E$2=0,20,IF(AND(B131<graph!$E$10+graph!$E$32,B131>graph!$E$10-graph!$E$32),0.25,NA()))","v":20},null,null,null,null,null,null,{"$f":"IF(graph!$E$20=0,0,IF(graph!$E$2=0,20,IF(AND(B131<graph!$E$20+graph!$E$32,B131>graph!$E$20-graph!$E$32),0.25,0)))","v":0},{"$f":"IF(graph!$E$22=0,0,IF(graph!$E$2=0,20,IF(AND(B131>graph!$E$22-graph!$E$32,B131<graph!$E$22+graph!$E$32),0.25,0)))","v":0}]
[null,{"$f":"IF(graph!$E$2=0,\"\",B131+graph!$E$32)","v":""},{"$f":"IF(graph!$E$2=0,20,IF(SUM(K132+L132=0),NA(),0.25))","v":20},{"$f":"IF(graph!$E$2=0,20,IF(AND(B132<graph!$E$10+graph!$E$32,B132>graph!$E$10-graph!$E$32),0.25,NA()))","v":20},null,null,null,null,null,null,{"$f":"IF(graph!$E$20=0,0,IF(graph!$E$2=0,20,IF(AND(B132<graph!$E$20+graph!$E$32,B132>graph!$E$20-graph!$E$32),0.25,0)))","v":0},{"$f":"IF(graph!$E$22=0,0,IF(graph!$E$2=0,20,IF(AND(B132>graph!$E$22-graph!$E$32,B132<graph!$E$22+graph!$E$32),0.25,0)))","v":0}]
[null,{"$f":"IF(graph!$E$2=0,\"\",B132+graph!$E$32)","v":""},{"$f":"IF(graph!$E$2=0,20,IF(SUM(K133+L133=0),NA(),0.25))","v":20},{"$f":"IF(graph!$E$2=0,20,IF(AND(B133<graph!$E$10+graph!$E$32,B133>graph!$E$10-graph!$E$32),0.25,NA()))","v":20},null,null,null,null,null,null,{"$f":"IF(graph!$E$20=0,0,IF(graph!$E$2=0,20,IF(AND(B133<graph!$E$20+graph!$E$32,B133>graph!$E$20-graph!$E$32),0.25,0)))","v":0},{"$f":"IF(graph!$E$22=0,0,IF(graph!$E$2=0,20,IF(AND(B133>graph!$E$22-graph!$E$32,B133<graph!$E$22+graph!$E$32),0.25,0)))","v":0}]
[null,{"$f":"IF(graph!$E$2=0,\"\",B133+graph!$E$32)","v":""},{"$f":"IF(graph!$E$2=0,20,IF(SUM(K134+L134=0),NA(),0.25))","v":20},{"$f":"IF(graph!$E$2=0,20,IF(AND(B134<graph!$E$10+graph!$E$32,B134>graph!$E$10-graph!$E$32),0.25,NA()))","v":20},null,null,null,null,null,null,{"$f":"IF(graph!$E$20=0,0,IF(graph!$E$2=0,20,IF(AND(B134<graph!$E$20+graph!$E$32,B134>graph!$E$20-graph!$E$32),0.25,0)))","v":0},{"$f":"IF(graph!$E$22=0,0,IF(graph!$E$2=0,20,IF(AND(B134>graph!$E$22-graph!$E$32,B134<graph!$E$22+graph!$E$32),0.25,0)))","v":0}]
[null,{"$f":"IF(graph!$E$2=0,\"\",B134+graph!$E$32)","v":""},{"$f":"IF(graph!$E$2=0,20,IF(SUM(K135+L135=0),NA(),0.25))","v":20},{"$f":"IF(graph!$E$2=0,20,IF(AND(B135<graph!$E$10+graph!$E$32,B135>graph!$E$10-graph!$E$32),0.25,NA()))","v":20},null,null,null,null,null,null,{"$f":"IF(graph!$E$20=0,0,IF(graph!$E$2=0,20,IF(AND(B135<graph!$E$20+graph!$E$32,B135>graph!$E$20-graph!$E$32),0.25,0)))","v":0},{"$f":"IF(graph!$E$22=0,0,IF(graph!$E$2=0,20,IF(AND(B135>graph!$E$22-graph!$E$32,B135<graph!$E$22+graph!$E$32),0.25,0)))","v":0}]
[null,{"$f":"IF(graph!$E$2=0,\"\",B135+graph!$E$32)","v":""},{"$f":"IF(graph!$E$2=0,20,IF(SUM(K136+L136=0),NA(),0.25))","v":20},{"$f":"IF(graph!$E$2=0,20,IF(AND(B136<graph!$E$10+graph!$E$32,B136>graph!$E$10-graph!$E$32),0.25,NA()))","v":20},null,null,null,null,null,null,{"$f":"IF(graph!$E$20=0,0,IF(graph!$E$2=0,20,IF(AND(B136<graph!$E$20+graph!$E$32,B136>graph!$E$20-graph!$E$32),0.25,0)))","v":0},{"$f":"IF(graph!$E$22=0,0,IF(graph!$E$2=0,20,IF(AND(B136>graph!$E$22-graph!$E$32,B136<graph!$E$22+graph!$E$32),0.25,0)))","v":0}]
[null,{"$f":"IF(graph!$E$2=0,\"\",B136+graph!$E$32)","v":""},{"$f":"IF(graph!$E$2=0,20,IF(SUM(K137+L137=0),NA(),0.25))","v":20},{"$f":"IF(graph!$E$2=0,20,IF(AND(B137<graph!$E$10+graph!$E$32,B137>graph!$E$10-graph!$E$32),0.25,NA()))","v":20},null,null,null,null,null,null,{"$f":"IF(graph!$E$20=0,0,IF(graph!$E$2=0,20,IF(AND(B137<graph!$E$20+graph!$E$32,B137>graph!$E$20-graph!$E$32),0.25,0)))","v":0},{"$f":"IF(graph!$E$22=0,0,IF(graph!$E$2=0,20,IF(AND(B137>graph!$E$22-graph!$E$32,B137<graph!$E$22+graph!$E$32),0.25,0)))","v":0}]
[null,{"$f":"IF(graph!$E$2=0,\"\",B137+graph!$E$32)","v":""},{"$f":"IF(graph!$E$2=0,20,IF(SUM(K138+L138=0),NA(),0.25))","v":20},{"$f":"IF(graph!$E$2=0,20,IF(AND(B138<graph!$E$10+graph!$E$32,B138>graph!$E$10-graph!$E$32),0.25,NA()))","v":20},null,null,null,null,null,null,{"$f":"IF(graph!$E$20=0,0,IF(graph!$E$2=0,20,IF(AND(B138<graph!$E$20+graph!$E$32,B138>graph!$E$20-graph!$E$32),0.25,0)))","v":0},{"$f":"IF(graph!$E$22=0,0,IF(graph!$E$2=0,20,IF(AND(B138>graph!$E$22-graph!$E$32,B138<graph!$E$22+graph!$E$32),0.25,0)))","v":0}]
[null,{"$f":"IF(graph!$E$2=0,\"\",B138+graph!$E$32)","v":""},{"$f":"IF(graph!$E$2=0,20,IF(SUM(K139+L139=0),NA(),0.25))","v":20},{"$f":"IF(graph!$E$2=0,20,IF(AND(B139<graph!$E$10+graph!$E$32,B139>graph!$E$10-graph!$E$32),0.25,NA()))","v":20},null,null,null,null,null,null,{"$f":"IF(graph!$E$20=0,0,IF(graph!$E$2=0,20,IF(AND(B139<graph!$E$20+graph!$E$32,B139>graph!$E$20-graph!$E$32),0.25,0)))","v":0},{"$f":"IF(graph!$E$22=0,0,IF(graph!$E$2=0,20,IF(AND(B139>graph!$E$22-graph!$E$32,B139<graph!$E$22+graph!$E$32),0.25,0)))","v":0}]
[null,{"$f":"IF(graph!$E$2=0,\"\",B139+graph!$E$32)","v":""},{"$f":"IF(graph!$E$2=0,20,IF(SUM(K140+L140=0),NA(),0.25))","v":20},{"$f":"IF(graph!$E$2=0,20,IF(AND(B140<graph!$E$10+graph!$E$32,B140>graph!$E$10-graph!$E$32),0.25,NA()))","v":20},null,null,null,null,null,null,{"$f":"IF(graph!$E$20=0,0,IF(graph!$E$2=0,20,IF(AND(B140<graph!$E$20+graph!$E$32,B140>graph!$E$20-graph!$E$32),0.25,0)))","v":0},{"$f":"IF(graph!$E$22=0,0,IF(graph!$E$2=0,20,IF(AND(B140>graph!$E$22-graph!$E$32,B140<graph!$E$22+graph!$E$32),0.25,0)))","v":0}]
[null,{"$f":"IF(graph!$E$2=0,\"\",B140+graph!$E$32)","v":""},{"$f":"IF(graph!$E$2=0,20,IF(SUM(K141+L141=0),NA(),0.25))","v":20},{"$f":"IF(graph!$E$2=0,20,IF(AND(B141<graph!$E$10+graph!$E$32,B141>graph!$E$10-graph!$E$32),0.25,NA()))","v":20},null,null,null,null,null,null,{"$f":"IF(graph!$E$20=0,0,IF(graph!$E$2=0,20,IF(AND(B141<graph!$E$20+graph!$E$32,B141>graph!$E$20-graph!$E$32),0.25,0)))","v":0},{"$f":"IF(graph!$E$22=0,0,IF(graph!$E$2=0,20,IF(AND(B141>graph!$E$22-graph!$E$32,B141<graph!$E$22+graph!$E$32),0.25,0)))","v":0}]
[null,{"$f":"IF(graph!$E$2=0,\"\",B141+graph!$E$32)","v":""},{"$f":"IF(graph!$E$2=0,20,IF(SUM(K142+L142=0),NA(),0.25))","v":20},{"$f":"IF(graph!$E$2=0,20,IF(AND(B142<graph!$E$10+graph!$E$32,B142>graph!$E$10-graph!$E$32),0.25,NA()))","v":20},null,null,null,null,null,null,{"$f":"IF(graph!$E$20=0,0,IF(graph!$E$2=0,20,IF(AND(B142<graph!$E$20+graph!$E$32,B142>graph!$E$20-graph!$E$32),0.25,0)))","v":0},{"$f":"IF(graph!$E$22=0,0,IF(graph!$E$2=0,20,IF(AND(B142>graph!$E$22-graph!$E$32,B142<graph!$E$22+graph!$E$32),0.25,0)))","v":0}]
[null,{"$f":"IF(graph!$E$2=0,\"\",B142+graph!$E$32)","v":""},{"$f":"IF(graph!$E$2=0,20,IF(SUM(K143+L143=0),NA(),0.25))","v":20},{"$f":"IF(graph!$E$2=0,20,IF(AND(B143<graph!$E$10+graph!$E$32,B143>graph!$E$10-graph!$E$32),0.25,NA()))","v":20},null,null,null,null,null,null,{"$f":"IF(graph!$E$20=0,0,IF(graph!$E$2=0,20,IF(AND(B143<graph!$E$20+graph!$E$32,B143>graph!$E$20-graph!$E$32),0.25,0)))","v":0},{"$f":"IF(graph!$E$22=0,0,IF(graph!$E$2=0,20,IF(AND(B143>graph!$E$22-graph!$E$32,B143<graph!$E$22+graph!$E$32),0.25,0)))","v":0}]
[null,{"$f":"IF(graph!$E$2=0,\"\",B143+graph!$E$32)","v":""},{"$f":"IF(graph!$E$2=0,20,IF(SUM(K144+L144=0),NA(),0.25))","v":20},{"$f":"IF(graph!$E$2=0,20,IF(AND(B144<graph!$E$10+graph!$E$32,B144>graph!$E$10-graph!$E$32),0.25,NA()))","v":20},null,null,null,null,null,null,{"$f":"IF(graph!$E$20=0,0,IF(graph!$E$2=0,20,IF(AND(B144<graph!$E$20+graph!$E$32,B144>graph!$E$20-graph!$E$32),0.25,0)))","v":0},{"$f":"IF(graph!$E$22=0,0,IF(graph!$E$2=0,20,IF(AND(B144>graph!$E$22-graph!$E$32,B144<graph!$E$22+graph!$E$32),0.25,0)))","v":0}]
[null,{"$f":"IF(graph!$E$2=0,\"\",B144+graph!$E$32)","v":""},{"$f":"IF(graph!$E$2=0,20,IF(SUM(K145+L145=0),NA(),0.25))","v":20},{"$f":"IF(graph!$E$2=0,20,IF(AND(B145<graph!$E$10+graph!$E$32,B145>graph!$E$10-graph!$E$32),0.25,NA()))","v":20},null,null,null,null,null,null,{"$f":"IF(graph!$E$20=0,0,IF(graph!$E$2=0,20,IF(AND(B145<graph!$E$20+graph!$E$32,B145>graph!$E$20-graph!$E$32),0.25,0)))","v":0},{"$f":"IF(graph!$E$22=0,0,IF(graph!$E$2=0,20,IF(AND(B145>graph!$E$22-graph!$E$32,B145<graph!$E$22+graph!$E$32),0.25,0)))","v":0}]
[null,{"$f":"IF(graph!$E$2=0,\"\",B145+graph!$E$32)","v":""},{"$f":"IF(graph!$E$2=0,20,IF(SUM(K146+L146=0),NA(),0.25))","v":20},{"$f":"IF(graph!$E$2=0,20,IF(AND(B146<graph!$E$10+graph!$E$32,B146>graph!$E$10-graph!$E$32),0.25,NA()))","v":20},null,null,null,null,null,null,{"$f":"IF(graph!$E$20=0,0,IF(graph!$E$2=0,20,IF(AND(B146<graph!$E$20+graph!$E$32,B146>graph!$E$20-graph!$E$32),0.25,0)))","v":0},{"$f":"IF(graph!$E$22=0,0,IF(graph!$E$2=0,20,IF(AND(B146>graph!$E$22-graph!$E$32,B146<graph!$E$22+graph!$E$32),0.25,0)))","v":0}]
[null,{"$f":"IF(graph!$E$2=0,\"\",B146+graph!$E$32)","v":""},{"$f":"IF(graph!$E$2=0,20,IF(SUM(K147+L147=0),NA(),0.25))","v":20},{"$f":"IF(graph!$E$2=0,20,IF(AND(B147<graph!$E$10+graph!$E$32,B147>graph!$E$10-graph!$E$32),0.25,NA()))","v":20},null,null,null,null,null,null,{"$f":"IF(graph!$E$20=0,0,IF(graph!$E$2=0,20,IF(AND(B147<graph!$E$20+graph!$E$32,B147>graph!$E$20-graph!$E$32),0.25,0)))","v":0},{"$f":"IF(graph!$E$22=0,0,IF(graph!$E$2=0,20,IF(AND(B147>graph!$E$22-graph!$E$32,B147<graph!$E$22+graph!$E$32),0.25,0)))","v":0}]
[null,{"$f":"IF(graph!$E$2=0,\"\",B147+graph!$E$32)","v":""},{"$f":"IF(graph!$E$2=0,20,IF(SUM(K148+L148=0),NA(),0.25))","v":20},{"$f":"IF(graph!$E$2=0,20,IF(AND(B148<graph!$E$10+graph!$E$32,B148>graph!$E$10-graph!$E$32),0.25,NA()))","v":20},null,null,null,null,null,null,{"$f":"IF(graph!$E$20=0,0,IF(graph!$E$2=0,20,IF(AND(B148<graph!$E$20+graph!$E$32,B148>graph!$E$20-graph!$E$32),0.25,0)))","v":0},{"$f":"IF(graph!$E$22=0,0,IF(graph!$E$2=0,20,IF(AND(B148>graph!$E$22-graph!$E$32,B148<graph!$E$22+graph!$E$32),0.25,0)))","v":0}]
[null,{"$f":"IF(graph!$E$2=0,\"\",B148+graph!$E$32)","v":""},{"$f":"IF(graph!$E$2=0,20,IF(SUM(K149+L149=0),NA(),0.25))","v":20},{"$f":"IF(graph!$E$2=0,20,IF(AND(B149<graph!$E$10+graph!$E$32,B149>graph!$E$10-graph!$E$32),0.25,NA()))","v":20},null,null,null,null,null,null,{"$f":"IF(graph!$E$20=0,0,IF(graph!$E$2=0,20,IF(AND(B149<graph!$E$20+graph!$E$32,B149>graph!$E$20-graph!$E$32),0.25,0)))","v":0},{"$f":"IF(graph!$E$22=0,0,IF(graph!$E$2=0,20,IF(AND(B149>graph!$E$22-graph!$E$32,B149<graph!$E$22+graph!$E$32),0.25,0)))","v":0}]
[null,{"$f":"IF(graph!$E$2=0,\"\",B149+graph!$E$32)","v":""},{"$f":"IF(graph!$E$2=0,20,IF(SUM(K150+L150=0),NA(),0.25))","v":20},{"$f":"IF(graph!$E$2=0,20,IF(AND(B150<graph!$E$10+graph!$E$32,B150>graph!$E$10-graph!$E$32),0.25,NA()))","v":20},null,null,null,null,null,null,{"$f":"IF(graph!$E$20=0,0,IF(graph!$E$2=0,20,IF(AND(B150<graph!$E$20+graph!$E$32,B150>graph!$E$20-graph!$E$32),0.25,0)))","v":0},{"$f":"IF(graph!$E$22=0,0,IF(graph!$E$2=0,20,IF(AND(B150>graph!$E$22-graph!$E$32,B150<graph!$E$22+graph!$E$32),0.25,0)))","v":0}]
[null,{"$f":"IF(graph!$E$2=0,\"\",B150+graph!$E$32)","v":""},{"$f":"IF(graph!$E$2=0,20,IF(SUM(K151+L151=0),NA(),0.25))","v":20},{"$f":"IF(graph!$E$2=0,20,IF(AND(B151<graph!$E$10+graph!$E$32,B151>graph!$E$10-graph!$E$32),0.25,NA()))","v":20},null,null,null,null,null,null,{"$f":"IF(graph!$E$20=0,0,IF(graph!$E$2=0,20,IF(AND(B151<graph!$E$20+graph!$E$32,B151>graph!$E$20-graph!$E$32),0.25,0)))","v":0},{"$f":"IF(graph!$E$22=0,0,IF(graph!$E$2=0,20,IF(AND(B151>graph!$E$22-graph!$E$32,B151<graph!$E$22+graph!$E$32),0.25,0)))","v":0}]
[null,{"$f":"IF(graph!$E$2=0,\"\",B151+graph!$E$32)","v":""},{"$f":"IF(graph!$E$2=0,20,IF(SUM(K152+L152=0),NA(),0.25))","v":20},{"$f":"IF(graph!$E$2=0,20,IF(AND(B152<graph!$E$10+graph!$E$32,B152>graph!$E$10-graph!$E$32),0.25,NA()))","v":20},null,null,null,null,null,null,{"$f":"IF(graph!$E$20=0,0,IF(graph!$E$2=0,20,IF(AND(B152<graph!$E$20+graph!$E$32,B152>graph!$E$20-graph!$E$32),0.25,0)))","v":0},{"$f":"IF(graph!$E$22=0,0,IF(graph!$E$2=0,20,IF(AND(B152>graph!$E$22-graph!$E$32,B152<graph!$E$22+graph!$E$32),0.25,0)))","v":0}]
[null,{"$f":"IF(graph!$E$2=0,\"\",B152+graph!$E$32)","v":""},{"$f":"IF(graph!$E$2=0,20,IF(SUM(K153+L153=0),NA(),0.25))","v":20},{"$f":"IF(graph!$E$2=0,20,IF(AND(B153<graph!$E$10+graph!$E$32,B153>graph!$E$10-graph!$E$32),0.25,NA()))","v":20},null,null,null,null,null,null,{"$f":"IF(graph!$E$20=0,0,IF(graph!$E$2=0,20,IF(AND(B153<graph!$E$20+graph!$E$32,B153>graph!$E$20-graph!$E$32),0.25,0)))","v":0},{"$f":"IF(graph!$E$22=0,0,IF(graph!$E$2=0,20,IF(AND(B153>graph!$E$22-graph!$E$32,B153<graph!$E$22+graph!$E$32),0.25,0)))","v":0}]
[null,{"$f":"IF(graph!$E$2=0,\"\",B153+graph!$E$32)","v":""},{"$f":"IF(graph!$E$2=0,20,IF(SUM(K154+L154=0),NA(),0.25))","v":20},{"$f":"IF(graph!$E$2=0,20,IF(AND(B154<graph!$E$10+graph!$E$32,B154>graph!$E$10-graph!$E$32),0.25,NA()))","v":20},null,null,null,null,null,null,{"$f":"IF(graph!$E$20=0,0,IF(graph!$E$2=0,20,IF(AND(B154<graph!$E$20+graph!$E$32,B154>graph!$E$20-graph!$E$32),0.25,0)))","v":0},{"$f":"IF(graph!$E$22=0,0,IF(graph!$E$2=0,20,IF(AND(B154>graph!$E$22-graph!$E$32,B154<graph!$E$22+graph!$E$32),0.25,0)))","v":0}]
[null,{"$f":"IF(graph!$E$2=0,\"\",B154+graph!$E$32)","v":""},{"$f":"IF(graph!$E$2=0,20,IF(SUM(K155+L155=0),NA(),0.25))","v":20},{"$f":"IF(graph!$E$2=0,20,IF(AND(B155<graph!$E$10+graph!$E$32,B155>graph!$E$10-graph!$E$32),0.25,NA()))","v":20},null,null,null,null,null,null,{"$f":"IF(graph!$E$20=0,0,IF(graph!$E$2=0,20,IF(AND(B155<graph!$E$20+graph!$E$32,B155>graph!$E$20-graph!$E$32),0.25,0)))","v":0},{"$f":"IF(graph!$E$22=0,0,IF(graph!$E$2=0,20,IF(AND(B155>graph!$E$22-graph!$E$32,B155<graph!$E$22+graph!$E$32),0.25,0)))","v":0}]
[null,{"$f":"IF(graph!$E$2=0,\"\",B155+graph!$E$32)","v":""},{"$f":"IF(graph!$E$2=0,20,IF(SUM(K156+L156=0),NA(),0.25))","v":20},{"$f":"IF(graph!$E$2=0,20,IF(AND(B156<graph!$E$10+graph!$E$32,B156>graph!$E$10-graph!$E$32),0.25,NA()))","v":20},null,null,null,null,null,null,{"$f":"IF(graph!$E$20=0,0,IF(graph!$E$2=0,20,IF(AND(B156<graph!$E$20+graph!$E$32,B156>graph!$E$20-graph!$E$32),0.25,0)))","v":0},{"$f":"IF(graph!$E$22=0,0,IF(graph!$E$2=0,20,IF(AND(B156>graph!$E$22-graph!$E$32,B156<graph!$E$22+graph!$E$32),0.25,0)))","v":0}]
[null,{"$f":"IF(graph!$E$2=0,\"\",B156+graph!$E$32)","v":""},{"$f":"IF(graph!$E$2=0,20,IF(SUM(K157+L157=0),NA(),0.25))","v":20},{"$f":"IF(graph!$E$2=0,20,IF(AND(B157<graph!$E$10+graph!$E$32,B157>graph!$E$10-graph!$E$32),0.25,NA()))","v":20},null,null,null,null,null,null,{"$f":"IF(graph!$E$20=0,0,IF(graph!$E$2=0,20,IF(AND(B157<graph!$E$20+graph!$E$32,B157>graph!$E$20-graph!$E$32),0.25,0)))","v":0},{"$f":"IF(graph!$E$22=0,0,IF(graph!$E$2=0,20,IF(AND(B157>graph!$E$22-graph!$E$32,B157<graph!$E$22+graph!$E$32),0.25,0)))","v":0}]
[null,{"$f":"IF(graph!$E$2=0,\"\",B157+graph!$E$32)","v":""},{"$f":"IF(graph!$E$2=0,20,IF(SUM(K158+L158=0),NA(),0.25))","v":20},{"$f":"IF(graph!$E$2=0,20,IF(AND(B158<graph!$E$10+graph!$E$32,B158>graph!$E$10-graph!$E$32),0.25,NA()))","v":20},null,null,null,null,null,null,{"$f":"IF(graph!$E$20=0,0,IF(graph!$E$2=0,20,IF(AND(B158<graph!$E$20+graph!$E$32,B158>graph!$E$20-graph!$E$32),0.25,0)))","v":0},{"$f":"IF(graph!$E$22=0,0,IF(graph!$E$2=0,20,IF(AND(B158>graph!$E$22-graph!$E$32,B158<graph!$E$22+graph!$E$32),0.25,0)))","v":0}]
[null,{"$f":"IF(graph!$E$2=0,\"\",B158+graph!$E$32)","v":""},{"$f":"IF(graph!$E$2=0,20,IF(SUM(K159+L159=0),NA(),0.25))","v":20},{"$f":"IF(graph!$E$2=0,20,IF(AND(B159<graph!$E$10+graph!$E$32,B159>graph!$E$10-graph!$E$32),0.25,NA()))","v":20},null,null,null,null,null,null,{"$f":"IF(graph!$E$20=0,0,IF(graph!$E$2=0,20,IF(AND(B159<graph!$E$20+graph!$E$32,B159>graph!$E$20-graph!$E$32),0.25,0)))","v":0},{"$f":"IF(graph!$E$22=0,0,IF(graph!$E$2=0,20,IF(AND(B159>graph!$E$22-graph!$E$32,B159<graph!$E$22+graph!$E$32),0.25,0)))","v":0}]
[null,{"$f":"IF(graph!$E$2=0,\"\",B159+graph!$E$32)","v":""},{"$f":"IF(graph!$E$2=0,20,IF(SUM(K160+L160=0),NA(),0.25))","v":20},{"$f":"IF(graph!$E$2=0,20,IF(AND(B160<graph!$E$10+graph!$E$32,B160>graph!$E$10-graph!$E$32),0.25,NA()))","v":20},null,null,null,null,null,null,{"$f":"IF(graph!$E$20=0,0,IF(graph!$E$2=0,20,IF(AND(B160<graph!$E$20+graph!$E$32,B160>graph!$E$20-graph!$E$32),0.25,0)))","v":0},{"$f":"IF(graph!$E$22=0,0,IF(graph!$E$2=0,20,IF(AND(B160>graph!$E$22-graph!$E$32,B160<graph!$E$22+graph!$E$32),0.25,0)))","v":0}]
[null,{"$f":"IF(graph!$E$2=0,\"\",B160+graph!$E$32)","v":""},{"$f":"IF(graph!$E$2=0,20,IF(SUM(K161+L161=0),NA(),0.25))","v":20},{"$f":"IF(graph!$E$2=0,20,IF(AND(B161<graph!$E$10+graph!$E$32,B161>graph!$E$10-graph!$E$32),0.25,NA()))","v":20},null,null,null,null,null,null,{"$f":"IF(graph!$E$20=0,0,IF(graph!$E$2=0,20,IF(AND(B161<graph!$E$20+graph!$E$32,B161>graph!$E$20-graph!$E$32),0.25,0)))","v":0},{"$f":"IF(graph!$E$22=0,0,IF(graph!$E$2=0,20,IF(AND(B161>graph!$E$22-graph!$E$32,B161<graph!$E$22+graph!$E$32),0.25,0)))","v":0}]
[null,{"$f":"IF(graph!$E$2=0,\"\",B161+graph!$E$32)","v":""},{"$f":"IF(graph!$E$2=0,20,IF(SUM(K162+L162=0),NA(),0.25))","v":20},{"$f":"IF(graph!$E$2=0,20,IF(AND(B162<graph!$E$10+graph!$E$32,B162>graph!$E$10-graph!$E$32),0.25,NA()))","v":20},null,null,null,null,null,null,{"$f":"IF(graph!$E$20=0,0,IF(graph!$E$2=0,20,IF(AND(B162<graph!$E$20+graph!$E$32,B162>graph!$E$20-graph!$E$32),0.25,0)))","v":0},{"$f":"IF(graph!$E$22=0,0,IF(graph!$E$2=0,20,IF(AND(B162>graph!$E$22-graph!$E$32,B162<graph!$E$22+graph!$E$32),0.25,0)))","v":0}]
[null,{"$f":"IF(graph!$E$2=0,\"\",B162+graph!$E$32)","v":""},{"$f":"IF(graph!$E$2=0,20,IF(SUM(K163+L163=0),NA(),0.25))","v":20},{"$f":"IF(graph!$E$2=0,20,IF(AND(B163<graph!$E$10+graph!$E$32,B163>graph!$E$10-graph!$E$32),0.25,NA()))","v":20},null,null,null,null,null,null,{"$f":"IF(graph!$E$20=0,0,IF(graph!$E$2=0,20,IF(AND(B163<graph!$E$20+graph!$E$32,B163>graph!$E$20-graph!$E$32),0.25,0)))","v":0},{"$f":"IF(graph!$E$22=0,0,IF(graph!$E$2=0,20,IF(AND(B163>graph!$E$22-graph!$E$32,B163<graph!$E$22+graph!$E$32),0.25,0)))","v":0}]
[null,{"$f":"IF(graph!$E$2=0,\"\",B163+graph!$E$32)","v":""},{"$f":"IF(graph!$E$2=0,20,IF(SUM(K164+L164=0),NA(),0.25))","v":20},{"$f":"IF(graph!$E$2=0,20,IF(AND(B164<graph!$E$10+graph!$E$32,B164>graph!$E$10-graph!$E$32),0.25,NA()))","v":20},null,null,null,null,null,null,{"$f":"IF(graph!$E$20=0,0,IF(graph!$E$2=0,20,IF(AND(B164<graph!$E$20+graph!$E$32,B164>graph!$E$20-graph!$E$32),0.25,0)))","v":0},{"$f":"IF(graph!$E$22=0,0,IF(graph!$E$2=0,20,IF(AND(B164>graph!$E$22-graph!$E$32,B164<graph!$E$22+graph!$E$32),0.25,0)))","v":0}]
[null,{"$f":"IF(graph!$E$2=0,\"\",B164+graph!$E$32)","v":""},{"$f":"IF(graph!$E$2=0,20,IF(SUM(K165+L165=0),NA(),0.25))","v":20},{"$f":"IF(graph!$E$2=0,20,IF(AND(B165<graph!$E$10+graph!$E$32,B165>graph!$E$10-graph!$E$32),0.25,NA()))","v":20},null,null,null,null,null,null,{"$f":"IF(graph!$E$20=0,0,IF(graph!$E$2=0,20,IF(AND(B165<graph!$E$20+graph!$E$32,B165>graph!$E$20-graph!$E$32),0.25,0)))","v":0},{"$f":"IF(graph!$E$22=0,0,IF(graph!$E$2=0,20,IF(AND(B165>graph!$E$22-graph!$E$32,B165<graph!$E$22+graph!$E$32),0.25,0)))","v":0}]
[null,{"$f":"IF(graph!$E$2=0,\"\",B165+graph!$E$32)","v":""},{"$f":"IF(graph!$E$2=0,20,IF(SUM(K166+L166=0),NA(),0.25))","v":20},{"$f":"IF(graph!$E$2=0,20,IF(AND(B166<graph!$E$10+graph!$E$32,B166>graph!$E$10-graph!$E$32),0.25,NA()))","v":20},null,null,null,null,null,null,{"$f":"IF(graph!$E$20=0,0,IF(graph!$E$2=0,20,IF(AND(B166<graph!$E$20+graph!$E$32,B166>graph!$E$20-graph!$E$32),0.25,0)))","v":0},{"$f":"IF(graph!$E$22=0,0,IF(graph!$E$2=0,20,IF(AND(B166>graph!$E$22-graph!$E$32,B166<graph!$E$22+graph!$E$32),0.25,0)))","v":0}]
[null,{"$f":"IF(graph!$E$2=0,\"\",B166+graph!$E$32)","v":""},{"$f":"IF(graph!$E$2=0,20,IF(SUM(K167+L167=0),NA(),0.25))","v":20},{"$f":"IF(graph!$E$2=0,20,IF(AND(B167<graph!$E$10+graph!$E$32,B167>graph!$E$10-graph!$E$32),0.25,NA()))","v":20},null,null,null,null,null,null,{"$f":"IF(graph!$E$20=0,0,IF(graph!$E$2=0,20,IF(AND(B167<graph!$E$20+graph!$E$32,B167>graph!$E$20-graph!$E$32),0.25,0)))","v":0},{"$f":"IF(graph!$E$22=0,0,IF(graph!$E$2=0,20,IF(AND(B167>graph!$E$22-graph!$E$32,B167<graph!$E$22+graph!$E$32),0.25,0)))","v":0}]
[null,{"$f":"IF(graph!$E$2=0,\"\",B167+graph!$E$32)","v":""},{"$f":"IF(graph!$E$2=0,20,IF(SUM(K168+L168=0),NA(),0.25))","v":20},{"$f":"IF(graph!$E$2=0,20,IF(AND(B168<graph!$E$10+graph!$E$32,B168>graph!$E$10-graph!$E$32),0.25,NA()))","v":20},null,null,null,null,null,null,{"$f":"IF(graph!$E$20=0,0,IF(graph!$E$2=0,20,IF(AND(B168<graph!$E$20+graph!$E$32,B168>graph!$E$20-graph!$E$32),0.25,0)))","v":0},{"$f":"IF(graph!$E$22=0,0,IF(graph!$E$2=0,20,IF(AND(B168>graph!$E$22-graph!$E$32,B168<graph!$E$22+graph!$E$32),0.25,0)))","v":0}]
[null,{"$f":"IF(graph!$E$2=0,\"\",B168+graph!$E$32)","v":""},{"$f":"IF(graph!$E$2=0,20,IF(SUM(K169+L169=0),NA(),0.25))","v":20},{"$f":"IF(graph!$E$2=0,20,IF(AND(B169<graph!$E$10+graph!$E$32,B169>graph!$E$10-graph!$E$32),0.25,NA()))","v":20},null,null,null,null,null,null,{"$f":"IF(graph!$E$20=0,0,IF(graph!$E$2=0,20,IF(AND(B169<graph!$E$20+graph!$E$32,B169>graph!$E$20-graph!$E$32),0.25,0)))","v":0},{"$f":"IF(graph!$E$22=0,0,IF(graph!$E$2=0,20,IF(AND(B169>graph!$E$22-graph!$E$32,B169<graph!$E$22+graph!$E$32),0.25,0)))","v":0}]
[null,{"$f":"IF(graph!$E$2=0,\"\",B169+graph!$E$32)","v":""},{"$f":"IF(graph!$E$2=0,20,IF(SUM(K170+L170=0),NA(),0.25))","v":20},{"$f":"IF(graph!$E$2=0,20,IF(AND(B170<graph!$E$10+graph!$E$32,B170>graph!$E$10-graph!$E$32),0.25,NA()))","v":20},null,null,null,null,null,null,{"$f":"IF(graph!$E$20=0,0,IF(graph!$E$2=0,20,IF(AND(B170<graph!$E$20+graph!$E$32,B170>graph!$E$20-graph!$E$32),0.25,0)))","v":0},{"$f":"IF(graph!$E$22=0,0,IF(graph!$E$2=0,20,IF(AND(B170>graph!$E$22-graph!$E$32,B170<graph!$E$22+graph!$E$32),0.25,0)))","v":0}]
[null,{"$f":"IF(graph!$E$2=0,\"\",B170+graph!$E$32)","v":""},{"$f":"IF(graph!$E$2=0,20,IF(SUM(K171+L171=0),NA(),0.25))","v":20},{"$f":"IF(graph!$E$2=0,20,IF(AND(B171<graph!$E$10+graph!$E$32,B171>graph!$E$10-graph!$E$32),0.25,NA()))","v":20},null,null,null,null,null,null,{"$f":"IF(graph!$E$20=0,0,IF(graph!$E$2=0,20,IF(AND(B171<graph!$E$20+graph!$E$32,B171>graph!$E$20-graph!$E$32),0.25,0)))","v":0},{"$f":"IF(graph!$E$22=0,0,IF(graph!$E$2=0,20,IF(AND(B171>graph!$E$22-graph!$E$32,B171<graph!$E$22+graph!$E$32),0.25,0)))","v":0}]
[null,{"$f":"IF(graph!$E$2=0,\"\",B171+graph!$E$32)","v":""},{"$f":"IF(graph!$E$2=0,20,IF(SUM(K172+L172=0),NA(),0.25))","v":20},{"$f":"IF(graph!$E$2=0,20,IF(AND(B172<graph!$E$10+graph!$E$32,B172>graph!$E$10-graph!$E$32),0.25,NA()))","v":20},null,null,null,null,null,null,{"$f":"IF(graph!$E$20=0,0,IF(graph!$E$2=0,20,IF(AND(B172<graph!$E$20+graph!$E$32,B172>graph!$E$20-graph!$E$32),0.25,0)))","v":0},{"$f":"IF(graph!$E$22=0,0,IF(graph!$E$2=0,20,IF(AND(B172>graph!$E$22-graph!$E$32,B172<graph!$E$22+graph!$E$32),0.25,0)))","v":0}]
[null,{"$f":"IF(graph!$E$2=0,\"\",B172+graph!$E$32)","v":""},{"$f":"IF(graph!$E$2=0,20,IF(SUM(K173+L173=0),NA(),0.25))","v":20},{"$f":"IF(graph!$E$2=0,20,IF(AND(B173<graph!$E$10+graph!$E$32,B173>graph!$E$10-graph!$E$32),0.25,NA()))","v":20},null,null,null,null,null,null,{"$f":"IF(graph!$E$20=0,0,IF(graph!$E$2=0,20,IF(AND(B173<graph!$E$20+graph!$E$32,B173>graph!$E$20-graph!$E$32),0.25,0)))","v":0},{"$f":"IF(graph!$E$22=0,0,IF(graph!$E$2=0,20,IF(AND(B173>graph!$E$22-graph!$E$32,B173<graph!$E$22+graph!$E$32),0.25,0)))","v":0}]
[null,{"$f":"IF(graph!$E$2=0,\"\",B173+graph!$E$32)","v":""},{"$f":"IF(graph!$E$2=0,20,IF(SUM(K174+L174=0),NA(),0.25))","v":20},{"$f":"IF(graph!$E$2=0,20,IF(AND(B174<graph!$E$10+graph!$E$32,B174>graph!$E$10-graph!$E$32),0.25,NA()))","v":20},null,null,null,null,null,null,{"$f":"IF(graph!$E$20=0,0,IF(graph!$E$2=0,20,IF(AND(B174<graph!$E$20+graph!$E$32,B174>graph!$E$20-graph!$E$32),0.25,0)))","v":0},{"$f":"IF(graph!$E$22=0,0,IF(graph!$E$2=0,20,IF(AND(B174>graph!$E$22-graph!$E$32,B174<graph!$E$22+graph!$E$32),0.25,0)))","v":0}]
[null,{"$f":"IF(graph!$E$2=0,\"\",B174+graph!$E$32)","v":""},{"$f":"IF(graph!$E$2=0,20,IF(SUM(K175+L175=0),NA(),0.25))","v":20},{"$f":"IF(graph!$E$2=0,20,IF(AND(B175<graph!$E$10+graph!$E$32,B175>graph!$E$10-graph!$E$32),0.25,NA()))","v":20},null,null,null,null,null,null,{"$f":"IF(graph!$E$20=0,0,IF(graph!$E$2=0,20,IF(AND(B175<graph!$E$20+graph!$E$32,B175>graph!$E$20-graph!$E$32),0.25,0)))","v":0},{"$f":"IF(graph!$E$22=0,0,IF(graph!$E$2=0,20,IF(AND(B175>graph!$E$22-graph!$E$32,B175<graph!$E$22+graph!$E$32),0.25,0)))","v":0}]
[null,{"$f":"IF(graph!$E$2=0,\"\",B175+graph!$E$32)","v":""},{"$f":"IF(graph!$E$2=0,20,IF(SUM(K176+L176=0),NA(),0.25))","v":20},{"$f":"IF(graph!$E$2=0,20,IF(AND(B176<graph!$E$10+graph!$E$32,B176>graph!$E$10-graph!$E$32),0.25,NA()))","v":20},null,null,null,null,null,null,{"$f":"IF(graph!$E$20=0,0,IF(graph!$E$2=0,20,IF(AND(B176<graph!$E$20+graph!$E$32,B176>graph!$E$20-graph!$E$32),0.25,0)))","v":0},{"$f":"IF(graph!$E$22=0,0,IF(graph!$E$2=0,20,IF(AND(B176>graph!$E$22-graph!$E$32,B176<graph!$E$22+graph!$E$32),0.25,0)))","v":0}]
[null,{"$f":"IF(graph!$E$2=0,\"\",B176+graph!$E$32)","v":""},{"$f":"IF(graph!$E$2=0,20,IF(SUM(K177+L177=0),NA(),0.25))","v":20},{"$f":"IF(graph!$E$2=0,20,IF(AND(B177<graph!$E$10+graph!$E$32,B177>graph!$E$10-graph!$E$32),0.25,NA()))","v":20},null,null,null,null,null,null,{"$f":"IF(graph!$E$20=0,0,IF(graph!$E$2=0,20,IF(AND(B177<graph!$E$20+graph!$E$32,B177>graph!$E$20-graph!$E$32),0.25,0)))","v":0},{"$f":"IF(graph!$E$22=0,0,IF(graph!$E$2=0,20,IF(AND(B177>graph!$E$22-graph!$E$32,B177<graph!$E$22+graph!$E$32),0.25,0)))","v":0}]
[null,{"$f":"IF(graph!$E$2=0,\"\",B177+graph!$E$32)","v":""},{"$f":"IF(graph!$E$2=0,20,IF(SUM(K178+L178=0),NA(),0.25))","v":20},{"$f":"IF(graph!$E$2=0,20,IF(AND(B178<graph!$E$10+graph!$E$32,B178>graph!$E$10-graph!$E$32),0.25,NA()))","v":20},null,null,null,null,null,null,{"$f":"IF(graph!$E$20=0,0,IF(graph!$E$2=0,20,IF(AND(B178<graph!$E$20+graph!$E$32,B178>graph!$E$20-graph!$E$32),0.25,0)))","v":0},{"$f":"IF(graph!$E$22=0,0,IF(graph!$E$2=0,20,IF(AND(B178>graph!$E$22-graph!$E$32,B178<graph!$E$22+graph!$E$32),0.25,0)))","v":0}]
[null,{"$f":"IF(graph!$E$2=0,\"\",B178+graph!$E$32)","v":""},{"$f":"IF(graph!$E$2=0,20,IF(SUM(K179+L179=0),NA(),0.25))","v":20},{"$f":"IF(graph!$E$2=0,20,IF(AND(B179<graph!$E$10+graph!$E$32,B179>graph!$E$10-graph!$E$32),0.25,NA()))","v":20},null,null,null,null,null,null,{"$f":"IF(graph!$E$20=0,0,IF(graph!$E$2=0,20,IF(AND(B179<graph!$E$20+graph!$E$32,B179>graph!$E$20-graph!$E$32),0.25,0)))","v":0},{"$f":"IF(graph!$E$22=0,0,IF(graph!$E$2=0,20,IF(AND(B179>graph!$E$22-graph!$E$32,B179<graph!$E$22+graph!$E$32),0.25,0)))","v":0}]
[null,{"$f":"IF(graph!$E$2=0,\"\",B179+graph!$E$32)","v":""},{"$f":"IF(graph!$E$2=0,20,IF(SUM(K180+L180=0),NA(),0.25))","v":20},{"$f":"IF(graph!$E$2=0,20,IF(AND(B180<graph!$E$10+graph!$E$32,B180>graph!$E$10-graph!$E$32),0.25,NA()))","v":20},null,null,null,null,null,null,{"$f":"IF(graph!$E$20=0,0,IF(graph!$E$2=0,20,IF(AND(B180<graph!$E$20+graph!$E$32,B180>graph!$E$20-graph!$E$32),0.25,0)))","v":0},{"$f":"IF(graph!$E$22=0,0,IF(graph!$E$2=0,20,IF(AND(B180>graph!$E$22-graph!$E$32,B180<graph!$E$22+graph!$E$32),0.25,0)))","v":0}]
[null,{"$f":"IF(graph!$E$2=0,\"\",B180+graph!$E$32)","v":""},{"$f":"IF(graph!$E$2=0,20,IF(SUM(K181+L181=0),NA(),0.25))","v":20},{"$f":"IF(graph!$E$2=0,20,IF(AND(B181<graph!$E$10+graph!$E$32,B181>graph!$E$10-graph!$E$32),0.25,NA()))","v":20},null,null,null,null,null,null,{"$f":"IF(graph!$E$20=0,0,IF(graph!$E$2=0,20,IF(AND(B181<graph!$E$20+graph!$E$32,B181>graph!$E$20-graph!$E$32),0.25,0)))","v":0},{"$f":"IF(graph!$E$22=0,0,IF(graph!$E$2=0,20,IF(AND(B181>graph!$E$22-graph!$E$32,B181<graph!$E$22+graph!$E$32),0.25,0)))","v":0}]
[null,{"$f":"IF(graph!$E$2=0,\"\",B181+graph!$E$32)","v":""},{"$f":"IF(graph!$E$2=0,20,IF(SUM(K182+L182=0),NA(),0.25))","v":20},{"$f":"IF(graph!$E$2=0,20,IF(AND(B182<graph!$E$10+graph!$E$32,B182>graph!$E$10-graph!$E$32),0.25,NA()))","v":20},null,null,null,null,null,null,{"$f":"IF(graph!$E$20=0,0,IF(graph!$E$2=0,20,IF(AND(B182<graph!$E$20+graph!$E$32,B182>graph!$E$20-graph!$E$32),0.25,0)))","v":0},{"$f":"IF(graph!$E$22=0,0,IF(graph!$E$2=0,20,IF(AND(B182>graph!$E$22-graph!$E$32,B182<graph!$E$22+graph!$E$32),0.25,0)))","v":0}]
[null,{"$f":"IF(graph!$E$2=0,\"\",B182+graph!$E$32)","v":""},{"$f":"IF(graph!$E$2=0,20,IF(SUM(K183+L183=0),NA(),0.25))","v":20},{"$f":"IF(graph!$E$2=0,20,IF(AND(B183<graph!$E$10+graph!$E$32,B183>graph!$E$10-graph!$E$32),0.25,NA()))","v":20},null,null,null,null,null,null,{"$f":"IF(graph!$E$20=0,0,IF(graph!$E$2=0,20,IF(AND(B183<graph!$E$20+graph!$E$32,B183>graph!$E$20-graph!$E$32),0.25,0)))","v":0},{"$f":"IF(graph!$E$22=0,0,IF(graph!$E$2=0,20,IF(AND(B183>graph!$E$22-graph!$E$32,B183<graph!$E$22+graph!$E$32),0.25,0)))","v":0}]
[null,{"$f":"IF(graph!$E$2=0,\"\",B183+graph!$E$32)","v":""},{"$f":"IF(graph!$E$2=0,20,IF(SUM(K184+L184=0),NA(),0.25))","v":20},{"$f":"IF(graph!$E$2=0,20,IF(AND(B184<graph!$E$10+graph!$E$32,B184>graph!$E$10-graph!$E$32),0.25,NA()))","v":20},null,null,null,null,null,null,{"$f":"IF(graph!$E$20=0,0,IF(graph!$E$2=0,20,IF(AND(B184<graph!$E$20+graph!$E$32,B184>graph!$E$20-graph!$E$32),0.25,0)))","v":0},{"$f":"IF(graph!$E$22=0,0,IF(graph!$E$2=0,20,IF(AND(B184>graph!$E$22-graph!$E$32,B184<graph!$E$22+graph!$E$32),0.25,0)))","v":0}]
[null,{"$f":"IF(graph!$E$2=0,\"\",B184+graph!$E$32)","v":""},{"$f":"IF(graph!$E$2=0,20,IF(SUM(K185+L185=0),NA(),0.25))","v":20},{"$f":"IF(graph!$E$2=0,20,IF(AND(B185<graph!$E$10+graph!$E$32,B185>graph!$E$10-graph!$E$32),0.25,NA()))","v":20},null,null,null,null,null,null,{"$f":"IF(graph!$E$20=0,0,IF(graph!$E$2=0,20,IF(AND(B185<graph!$E$20+graph!$E$32,B185>graph!$E$20-graph!$E$32),0.25,0)))","v":0},{"$f":"IF(graph!$E$22=0,0,IF(graph!$E$2=0,20,IF(AND(B185>graph!$E$22-graph!$E$32,B185<graph!$E$22+graph!$E$32),0.25,0)))","v":0}]
[null,{"$f":"IF(graph!$E$2=0,\"\",B185+graph!$E$32)","v":""},{"$f":"IF(graph!$E$2=0,20,IF(SUM(K186+L186=0),NA(),0.25))","v":20},{"$f":"IF(graph!$E$2=0,20,IF(AND(B186<graph!$E$10+graph!$E$32,B186>graph!$E$10-graph!$E$32),0.25,NA()))","v":20},null,null,null,null,null,null,{"$f":"IF(graph!$E$20=0,0,IF(graph!$E$2=0,20,IF(AND(B186<graph!$E$20+graph!$E$32,B186>graph!$E$20-graph!$E$32),0.25,0)))","v":0},{"$f":"IF(graph!$E$22=0,0,IF(graph!$E$2=0,20,IF(AND(B186>graph!$E$22-graph!$E$32,B186<graph!$E$22+graph!$E$32),0.25,0)))","v":0}]
[null,{"$f":"IF(graph!$E$2=0,\"\",B186+graph!$E$32)","v":""},{"$f":"IF(graph!$E$2=0,20,IF(SUM(K187+L187=0),NA(),0.25))","v":20},{"$f":"IF(graph!$E$2=0,20,IF(AND(B187<graph!$E$10+graph!$E$32,B187>graph!$E$10-graph!$E$32),0.25,NA()))","v":20},null,null,null,null,null,null,{"$f":"IF(graph!$E$20=0,0,IF(graph!$E$2=0,20,IF(AND(B187<graph!$E$20+graph!$E$32,B187>graph!$E$20-graph!$E$32),0.25,0)))","v":0},{"$f":"IF(graph!$E$22=0,0,IF(graph!$E$2=0,20,IF(AND(B187>graph!$E$22-graph!$E$32,B187<graph!$E$22+graph!$E$32),0.25,0)))","v":0}]
[null,{"$f":"IF(graph!$E$2=0,\"\",B187+graph!$E$32)","v":""},{"$f":"IF(graph!$E$2=0,20,IF(SUM(K188+L188=0),NA(),0.25))","v":20},{"$f":"IF(graph!$E$2=0,20,IF(AND(B188<graph!$E$10+graph!$E$32,B188>graph!$E$10-graph!$E$32),0.25,NA()))","v":20},null,null,null,null,null,null,{"$f":"IF(graph!$E$20=0,0,IF(graph!$E$2=0,20,IF(AND(B188<graph!$E$20+graph!$E$32,B188>graph!$E$20-graph!$E$32),0.25,0)))","v":0},{"$f":"IF(graph!$E$22=0,0,IF(graph!$E$2=0,20,IF(AND(B188>graph!$E$22-graph!$E$32,B188<graph!$E$22+graph!$E$32),0.25,0)))","v":0}]
[null,{"$f":"IF(graph!$E$2=0,\"\",B188+graph!$E$32)","v":""},{"$f":"IF(graph!$E$2=0,20,IF(SUM(K189+L189=0),NA(),0.25))","v":20},{"$f":"IF(graph!$E$2=0,20,IF(AND(B189<graph!$E$10+graph!$E$32,B189>graph!$E$10-graph!$E$32),0.25,NA()))","v":20},null,null,null,null,null,null,{"$f":"IF(graph!$E$20=0,0,IF(graph!$E$2=0,20,IF(AND(B189<graph!$E$20+graph!$E$32,B189>graph!$E$20-graph!$E$32),0.25,0)))","v":0},{"$f":"IF(graph!$E$22=0,0,IF(graph!$E$2=0,20,IF(AND(B189>graph!$E$22-graph!$E$32,B189<graph!$E$22+graph!$E$32),0.25,0)))","v":0}]
[null,{"$f":"IF(graph!$E$2=0,\"\",B189+graph!$E$32)","v":""},{"$f":"IF(graph!$E$2=0,20,IF(SUM(K190+L190=0),NA(),0.25))","v":20},{"$f":"IF(graph!$E$2=0,20,IF(AND(B190<graph!$E$10+graph!$E$32,B190>graph!$E$10-graph!$E$32),0.25,NA()))","v":20},null,null,null,null,null,null,{"$f":"IF(graph!$E$20=0,0,IF(graph!$E$2=0,20,IF(AND(B190<graph!$E$20+graph!$E$32,B190>graph!$E$20-graph!$E$32),0.25,0)))","v":0},{"$f":"IF(graph!$E$22=0,0,IF(graph!$E$2=0,20,IF(AND(B190>graph!$E$22-graph!$E$32,B190<graph!$E$22+graph!$E$32),0.25,0)))","v":0}]
[null,{"$f":"IF(graph!$E$2=0,\"\",B190+graph!$E$32)","v":""},{"$f":"IF(graph!$E$2=0,20,IF(SUM(K191+L191=0),NA(),0.25))","v":20},{"$f":"IF(graph!$E$2=0,20,IF(AND(B191<graph!$E$10+graph!$E$32,B191>graph!$E$10-graph!$E$32),0.25,NA()))","v":20},null,null,null,null,null,null,{"$f":"IF(graph!$E$20=0,0,IF(graph!$E$2=0,20,IF(AND(B191<graph!$E$20+graph!$E$32,B191>graph!$E$20-graph!$E$32),0.25,0)))","v":0},{"$f":"IF(graph!$E$22=0,0,IF(graph!$E$2=0,20,IF(AND(B191>graph!$E$22-graph!$E$32,B191<graph!$E$22+graph!$E$32),0.25,0)))","v":0}]
[null,{"$f":"IF(graph!$E$2=0,\"\",B191+graph!$E$32)","v":""},{"$f":"IF(graph!$E$2=0,20,IF(SUM(K192+L192=0),NA(),0.25))","v":20},{"$f":"IF(graph!$E$2=0,20,IF(AND(B192<graph!$E$10+graph!$E$32,B192>graph!$E$10-graph!$E$32),0.25,NA()))","v":20},null,null,null,null,null,null,{"$f":"IF(graph!$E$20=0,0,IF(graph!$E$2=0,20,IF(AND(B192<graph!$E$20+graph!$E$32,B192>graph!$E$20-graph!$E$32),0.25,0)))","v":0},{"$f":"IF(graph!$E$22=0,0,IF(graph!$E$2=0,20,IF(AND(B192>graph!$E$22-graph!$E$32,B192<graph!$E$22+graph!$E$32),0.25,0)))","v":0}]
[null,{"$f":"IF(graph!$E$2=0,\"\",B192+graph!$E$32)","v":""},{"$f":"IF(graph!$E$2=0,20,IF(SUM(K193+L193=0),NA(),0.25))","v":20},{"$f":"IF(graph!$E$2=0,20,IF(AND(B193<graph!$E$10+graph!$E$32,B193>graph!$E$10-graph!$E$32),0.25,NA()))","v":20},null,null,null,null,null,null,{"$f":"IF(graph!$E$20=0,0,IF(graph!$E$2=0,20,IF(AND(B193<graph!$E$20+graph!$E$32,B193>graph!$E$20-graph!$E$32),0.25,0)))","v":0},{"$f":"IF(graph!$E$22=0,0,IF(graph!$E$2=0,20,IF(AND(B193>graph!$E$22-graph!$E$32,B193<graph!$E$22+graph!$E$32),0.25,0)))","v":0}]
[null,{"$f":"IF(graph!$E$2=0,\"\",B193+graph!$E$32)","v":""},{"$f":"IF(graph!$E$2=0,20,IF(SUM(K194+L194=0),NA(),0.25))","v":20},{"$f":"IF(graph!$E$2=0,20,IF(AND(B194<graph!$E$10+graph!$E$32,B194>graph!$E$10-graph!$E$32),0.25,NA()))","v":20},null,null,null,null,null,null,{"$f":"IF(graph!$E$20=0,0,IF(graph!$E$2=0,20,IF(AND(B194<graph!$E$20+graph!$E$32,B194>graph!$E$20-graph!$E$32),0.25,0)))","v":0},{"$f":"IF(graph!$E$22=0,0,IF(graph!$E$2=0,20,IF(AND(B194>graph!$E$22-graph!$E$32,B194<graph!$E$22+graph!$E$32),0.25,0)))","v":0}]
[null,{"$f":"IF(graph!$E$2=0,\"\",B194+graph!$E$32)","v":""},{"$f":"IF(graph!$E$2=0,20,IF(SUM(K195+L195=0),NA(),0.25))","v":20},{"$f":"IF(graph!$E$2=0,20,IF(AND(B195<graph!$E$10+graph!$E$32,B195>graph!$E$10-graph!$E$32),0.25,NA()))","v":20},null,null,null,null,null,null,{"$f":"IF(graph!$E$20=0,0,IF(graph!$E$2=0,20,IF(AND(B195<graph!$E$20+graph!$E$32,B195>graph!$E$20-graph!$E$32),0.25,0)))","v":0},{"$f":"IF(graph!$E$22=0,0,IF(graph!$E$2=0,20,IF(AND(B195>graph!$E$22-graph!$E$32,B195<graph!$E$22+graph!$E$32),0.25,0)))","v":0}]
[null,{"$f":"IF(graph!$E$2=0,\"\",B195+graph!$E$32)","v":""},{"$f":"IF(graph!$E$2=0,20,IF(SUM(K196+L196=0),NA(),0.25))","v":20},{"$f":"IF(graph!$E$2=0,20,IF(AND(B196<graph!$E$10+graph!$E$32,B196>graph!$E$10-graph!$E$32),0.25,NA()))","v":20},null,null,null,null,null,null,{"$f":"IF(graph!$E$20=0,0,IF(graph!$E$2=0,20,IF(AND(B196<graph!$E$20+graph!$E$32,B196>graph!$E$20-graph!$E$32),0.25,0)))","v":0},{"$f":"IF(graph!$E$22=0,0,IF(graph!$E$2=0,20,IF(AND(B196>graph!$E$22-graph!$E$32,B196<graph!$E$22+graph!$E$32),0.25,0)))","v":0}]
[null,{"$f":"IF(graph!$E$2=0,\"\",B196+graph!$E$32)","v":""},{"$f":"IF(graph!$E$2=0,20,IF(SUM(K197+L197=0),NA(),0.25))","v":20},{"$f":"IF(graph!$E$2=0,20,IF(AND(B197<graph!$E$10+graph!$E$32,B197>graph!$E$10-graph!$E$32),0.25,NA()))","v":20},null,null,null,null,null,null,{"$f":"IF(graph!$E$20=0,0,IF(graph!$E$2=0,20,IF(AND(B197<graph!$E$20+graph!$E$32,B197>graph!$E$20-graph!$E$32),0.25,0)))","v":0},{"$f":"IF(graph!$E$22=0,0,IF(graph!$E$2=0,20,IF(AND(B197>graph!$E$22-graph!$E$32,B197<graph!$E$22+graph!$E$32),0.25,0)))","v":0}]
[null,{"$f":"IF(graph!$E$2=0,\"\",B197+graph!$E$32)","v":""},{"$f":"IF(graph!$E$2=0,20,IF(SUM(K198+L198=0),NA(),0.25))","v":20},{"$f":"IF(graph!$E$2=0,20,IF(AND(B198<graph!$E$10+graph!$E$32,B198>graph!$E$10-graph!$E$32),0.25,NA()))","v":20},null,null,null,null,null,null,{"$f":"IF(graph!$E$20=0,0,IF(graph!$E$2=0,20,IF(AND(B198<graph!$E$20+graph!$E$32,B198>graph!$E$20-graph!$E$32),0.25,0)))","v":0},{"$f":"IF(graph!$E$22=0,0,IF(graph!$E$2=0,20,IF(AND(B198>graph!$E$22-graph!$E$32,B198<graph!$E$22+graph!$E$32),0.25,0)))","v":0}]
[null,{"$f":"IF(graph!$E$2=0,\"\",B198+graph!$E$32)","v":""},{"$f":"IF(graph!$E$2=0,20,IF(SUM(K199+L199=0),NA(),0.25))","v":20},{"$f":"IF(graph!$E$2=0,20,IF(AND(B199<graph!$E$10+graph!$E$32,B199>graph!$E$10-graph!$E$32),0.25,NA()))","v":20},null,null,null,null,null,null,{"$f":"IF(graph!$E$20=0,0,IF(graph!$E$2=0,20,IF(AND(B199<graph!$E$20+graph!$E$32,B199>graph!$E$20-graph!$E$32),0.25,0)))","v":0},{"$f":"IF(graph!$E$22=0,0,IF(graph!$E$2=0,20,IF(AND(B199>graph!$E$22-graph!$E$32,B199<graph!$E$22+graph!$E$32),0.25,0)))","v":0}]
[null,{"$f":"IF(graph!$E$2=0,\"\",B199+graph!$E$32)","v":""},{"$f":"IF(graph!$E$2=0,20,IF(SUM(K200+L200=0),NA(),0.25))","v":20},{"$f":"IF(graph!$E$2=0,20,IF(AND(B200<graph!$E$10+graph!$E$32,B200>graph!$E$10-graph!$E$32),0.25,NA()))","v":20},null,null,null,null,null,null,{"$f":"IF(graph!$E$20=0,0,IF(graph!$E$2=0,20,IF(AND(B200<graph!$E$20+graph!$E$32,B200>graph!$E$20-graph!$E$32),0.25,0)))","v":0},{"$f":"IF(graph!$E$22=0,0,IF(graph!$E$2=0,20,IF(AND(B200>graph!$E$22-graph!$E$32,B200<graph!$E$22+graph!$E$32),0.25,0)))","v":0}]
[null,{"$f":"IF(graph!$E$2=0,\"\",B200+graph!$E$32)","v":""},{"$f":"IF(graph!$E$2=0,20,IF(SUM(K201+L201=0),NA(),0.25))","v":20},{"$f":"IF(graph!$E$2=0,20,IF(AND(B201<graph!$E$10+graph!$E$32,B201>graph!$E$10-graph!$E$32),0.25,NA()))","v":20},null,null,null,null,null,null,{"$f":"IF(graph!$E$20=0,0,IF(graph!$E$2=0,20,IF(AND(B201<graph!$E$20+graph!$E$32,B201>graph!$E$20-graph!$E$32),0.25,0)))","v":0},{"$f":"IF(graph!$E$22=0,0,IF(graph!$E$2=0,20,IF(AND(B201>graph!$E$22-graph!$E$32,B201<graph!$E$22+graph!$E$32),0.25,0)))","v":0}]
[null,{"$f":"IF(graph!$E$2=0,\"\",B201+graph!$E$32)","v":""},{"$f":"IF(graph!$E$2=0,20,IF(SUM(K202+L202=0),NA(),0.25))","v":20},{"$f":"IF(graph!$E$2=0,20,IF(AND(B202<graph!$E$10+graph!$E$32,B202>graph!$E$10-graph!$E$32),0.25,NA()))","v":20},null,null,null,null,null,null,{"$f":"IF(graph!$E$20=0,0,IF(graph!$E$2=0,20,IF(AND(B202<graph!$E$20+graph!$E$32,B202>graph!$E$20-graph!$E$32),0.25,0)))","v":0},{"$f":"IF(graph!$E$22=0,0,IF(graph!$E$2=0,20,IF(AND(B202>graph!$E$22-graph!$E$32,B202<graph!$E$22+graph!$E$32),0.25,0)))","v":0}]
[null,{"$f":"IF(graph!$E$2=0,\"\",B202+graph!$E$32)","v":""},{"$f":"IF(graph!$E$2=0,20,IF(SUM(K203+L203=0),NA(),0.25))","v":20},{"$f":"IF(graph!$E$2=0,20,IF(AND(B203<graph!$E$10+graph!$E$32,B203>graph!$E$10-graph!$E$32),0.25,NA()))","v":20},null,null,null,null,null,null,{"$f":"IF(graph!$E$20=0,0,IF(graph!$E$2=0,20,IF(AND(B203<graph!$E$20+graph!$E$32,B203>graph!$E$20-graph!$E$32),0.25,0)))","v":0},{"$f":"IF(graph!$E$22=0,0,IF(graph!$E$2=0,20,IF(AND(B203>graph!$E$22-graph!$E$32,B203<graph!$E$22+graph!$E$32),0.25,0)))","v":0}]
[null,{"$f":"IF(graph!$E$2=0,\"\",B203+graph!$E$32)","v":""},{"$f":"IF(graph!$E$2=0,20,IF(SUM(K204+L204=0),NA(),0.25))","v":20},{"$f":"IF(graph!$E$2=0,20,IF(AND(B204<graph!$E$10+graph!$E$32,B204>graph!$E$10-graph!$E$32),0.25,NA()))","v":20},null,null,null,null,null,null,{"$f":"IF(graph!$E$20=0,0,IF(graph!$E$2=0,20,IF(AND(B204<graph!$E$20+graph!$E$32,B204>graph!$E$20-graph!$E$32),0.25,0)))","v":0},{"$f":"IF(graph!$E$22=0,0,IF(graph!$E$2=0,20,IF(AND(B204>graph!$E$22-graph!$E$32,B204<graph!$E$22+graph!$E$32),0.25,0)))","v":0}]
[null,{"$f":"IF(graph!$E$2=0,\"\",B204+graph!$E$32)","v":""},{"$f":"IF(graph!$E$2=0,20,IF(SUM(K205+L205=0),NA(),0.25))","v":20},{"$f":"IF(graph!$E$2=0,20,IF(AND(B205<graph!$E$10+graph!$E$32,B205>graph!$E$10-graph!$E$32),0.25,NA()))","v":20},null,null,null,null,null,null,{"$f":"IF(graph!$E$20=0,0,IF(graph!$E$2=0,20,IF(AND(B205<graph!$E$20+graph!$E$32,B205>graph!$E$20-graph!$E$32),0.25,0)))","v":0},{"$f":"IF(graph!$E$22=0,0,IF(graph!$E$2=0,20,IF(AND(B205>graph!$E$22-graph!$E$32,B205<graph!$E$22+graph!$E$32),0.25,0)))","v":0}]
[null,{"$f":"IF(graph!$E$2=0,\"\",B205+graph!$E$32)","v":""},{"$f":"IF(graph!$E$2=0,20,IF(SUM(K206+L206=0),NA(),0.25))","v":20},{"$f":"IF(graph!$E$2=0,20,IF(AND(B206<graph!$E$10+graph!$E$32,B206>graph!$E$10-graph!$E$32),0.25,NA()))","v":20},null,null,null,null,null,null,{"$f":"IF(graph!$E$20=0,0,IF(graph!$E$2=0,20,IF(AND(B206<graph!$E$20+graph!$E$32,B206>graph!$E$20-graph!$E$32),0.25,0)))","v":0},{"$f":"IF(graph!$E$22=0,0,IF(graph!$E$2=0,20,IF(AND(B206>graph!$E$22-graph!$E$32,B206<graph!$E$22+graph!$E$32),0.25,0)))","v":0}]
[null,{"$f":"IF(graph!$E$2=0,\"\",B206+graph!$E$32)","v":""},{"$f":"IF(graph!$E$2=0,20,IF(SUM(K207+L207=0),NA(),0.25))","v":20},{"$f":"IF(graph!$E$2=0,20,IF(AND(B207<graph!$E$10+graph!$E$32,B207>graph!$E$10-graph!$E$32),0.25,NA()))","v":20},null,null,null,null,null,null,{"$f":"IF(graph!$E$20=0,0,IF(graph!$E$2=0,20,IF(AND(B207<graph!$E$20+graph!$E$32,B207>graph!$E$20-graph!$E$32),0.25,0)))","v":0},{"$f":"IF(graph!$E$22=0,0,IF(graph!$E$2=0,20,IF(AND(B207>graph!$E$22-graph!$E$32,B207<graph!$E$22+graph!$E$32),0.25,0)))","v":0}]
[null,{"$f":"IF(graph!$E$2=0,\"\",B207+graph!$E$32)","v":""},{"$f":"IF(graph!$E$2=0,20,IF(SUM(K208+L208=0),NA(),0.25))","v":20},{"$f":"IF(graph!$E$2=0,20,IF(AND(B208<graph!$E$10+graph!$E$32,B208>graph!$E$10-graph!$E$32),0.25,NA()))","v":20},null,null,null,null,null,null,{"$f":"IF(graph!$E$20=0,0,IF(graph!$E$2=0,20,IF(AND(B208<graph!$E$20+graph!$E$32,B208>graph!$E$20-graph!$E$32),0.25,0)))","v":0},{"$f":"IF(graph!$E$22=0,0,IF(graph!$E$2=0,20,IF(AND(B208>graph!$E$22-graph!$E$32,B208<graph!$E$22+graph!$E$32),0.25,0)))","v":0}]
[null,{"$f":"IF(graph!$E$2=0,\"\",B208+graph!$E$32)","v":""},{"$f":"IF(graph!$E$2=0,20,IF(SUM(K209+L209=0),NA(),0.25))","v":20},{"$f":"IF(graph!$E$2=0,20,IF(AND(B209<graph!$E$10+graph!$E$32,B209>graph!$E$10-graph!$E$32),0.25,NA()))","v":20},null,null,null,null,null,null,{"$f":"IF(graph!$E$20=0,0,IF(graph!$E$2=0,20,IF(AND(B209<graph!$E$20+graph!$E$32,B209>graph!$E$20-graph!$E$32),0.25,0)))","v":0},{"$f":"IF(graph!$E$22=0,0,IF(graph!$E$2=0,20,IF(AND(B209>graph!$E$22-graph!$E$32,B209<graph!$E$22+graph!$E$32),0.25,0)))","v":0}]
[null,{"$f":"IF(graph!$E$2=0,\"\",B209+graph!$E$32)","v":""},{"$f":"IF(graph!$E$2=0,20,IF(SUM(K210+L210=0),NA(),0.25))","v":20},{"$f":"IF(graph!$E$2=0,20,IF(AND(B210<graph!$E$10+graph!$E$32,B210>graph!$E$10-graph!$E$32),0.25,NA()))","v":20},null,null,null,null,null,null,{"$f":"IF(graph!$E$20=0,0,IF(graph!$E$2=0,20,IF(AND(B210<graph!$E$20+graph!$E$32,B210>graph!$E$20-graph!$E$32),0.25,0)))","v":0},{"$f":"IF(graph!$E$22=0,0,IF(graph!$E$2=0,20,IF(AND(B210>graph!$E$22-graph!$E$32,B210<graph!$E$22+graph!$E$32),0.25,0)))","v":0}]
[null,{"$f":"IF(graph!$E$2=0,\"\",B210+graph!$E$32)","v":""},{"$f":"IF(graph!$E$2=0,20,IF(SUM(K211+L211=0),NA(),0.25))","v":20},{"$f":"IF(graph!$E$2=0,20,IF(AND(B211<graph!$E$10+graph!$E$32,B211>graph!$E$10-graph!$E$32),0.25,NA()))","v":20},null,null,null,null,null,null,{"$f":"IF(graph!$E$20=0,0,IF(graph!$E$2=0,20,IF(AND(B211<graph!$E$20+graph!$E$32,B211>graph!$E$20-graph!$E$32),0.25,0)))","v":0},{"$f":"IF(graph!$E$22=0,0,IF(graph!$E$2=0,20,IF(AND(B211>graph!$E$22-graph!$E$32,B211<graph!$E$22+graph!$E$32),0.25,0)))","v":0}]
[null,{"$f":"IF(graph!$E$2=0,\"\",B211+graph!$E$32)","v":""},{"$f":"IF(graph!$E$2=0,20,IF(SUM(K212+L212=0),NA(),0.25))","v":20},{"$f":"IF(graph!$E$2=0,20,IF(AND(B212<graph!$E$10+graph!$E$32,B212>graph!$E$10-graph!$E$32),0.25,NA()))","v":20},null,null,null,null,null,null,{"$f":"IF(graph!$E$20=0,0,IF(graph!$E$2=0,20,IF(AND(B212<graph!$E$20+graph!$E$32,B212>graph!$E$20-graph!$E$32),0.25,0)))","v":0},{"$f":"IF(graph!$E$22=0,0,IF(graph!$E$2=0,20,IF(AND(B212>graph!$E$22-graph!$E$32,B212<graph!$E$22+graph!$E$32),0.25,0)))","v":0}]
[null,{"$f":"IF(graph!$E$2=0,\"\",B212+graph!$E$32)","v":""},{"$f":"IF(graph!$E$2=0,20,IF(SUM(K213+L213=0),NA(),0.25))","v":20},{"$f":"IF(graph!$E$2=0,20,IF(AND(B213<graph!$E$10+graph!$E$32,B213>graph!$E$10-graph!$E$32),0.25,NA()))","v":20},null,null,null,null,null,null,{"$f":"IF(graph!$E$20=0,0,IF(graph!$E$2=0,20,IF(AND(B213<graph!$E$20+graph!$E$32,B213>graph!$E$20-graph!$E$32),0.25,0)))","v":0},{"$f":"IF(graph!$E$22=0,0,IF(graph!$E$2=0,20,IF(AND(B213>graph!$E$22-graph!$E$32,B213<graph!$E$22+graph!$E$32),0.25,0)))","v":0}]
[null,{"$f":"IF(graph!$E$2=0,\"\",B213+graph!$E$32)","v":""},{"$f":"IF(graph!$E$2=0,20,IF(SUM(K214+L214=0),NA(),0.25))","v":20},{"$f":"IF(graph!$E$2=0,20,IF(AND(B214<graph!$E$10+graph!$E$32,B214>graph!$E$10-graph!$E$32),0.25,NA()))","v":20},null,null,null,null,null,null,{"$f":"IF(graph!$E$20=0,0,IF(graph!$E$2=0,20,IF(AND(B214<graph!$E$20+graph!$E$32,B214>graph!$E$20-graph!$E$32),0.25,0)))","v":0},{"$f":"IF(graph!$E$22=0,0,IF(graph!$E$2=0,20,IF(AND(B214>graph!$E$22-graph!$E$32,B214<graph!$E$22+graph!$E$32),0.25,0)))","v":0}]
[null,{"$f":"IF(graph!$E$2=0,\"\",B214+graph!$E$32)","v":""},{"$f":"IF(graph!$E$2=0,20,IF(SUM(K215+L215=0),NA(),0.25))","v":20},{"$f":"IF(graph!$E$2=0,20,IF(AND(B215<graph!$E$10+graph!$E$32,B215>graph!$E$10-graph!$E$32),0.25,NA()))","v":20},null,null,null,null,null,null,{"$f":"IF(graph!$E$20=0,0,IF(graph!$E$2=0,20,IF(AND(B215<graph!$E$20+graph!$E$32,B215>graph!$E$20-graph!$E$32),0.25,0)))","v":0},{"$f":"IF(graph!$E$22=0,0,IF(graph!$E$2=0,20,IF(AND(B215>graph!$E$22-graph!$E$32,B215<graph!$E$22+graph!$E$32),0.25,0)))","v":0}]
[null,{"$f":"IF(graph!$E$2=0,\"\",B215+graph!$E$32)","v":""},{"$f":"IF(graph!$E$2=0,20,IF(SUM(K216+L216=0),NA(),0.25))","v":20},{"$f":"IF(graph!$E$2=0,20,IF(AND(B216<graph!$E$10+graph!$E$32,B216>graph!$E$10-graph!$E$32),0.25,NA()))","v":20},null,null,null,null,null,null,{"$f":"IF(graph!$E$20=0,0,IF(graph!$E$2=0,20,IF(AND(B216<graph!$E$20+graph!$E$32,B216>graph!$E$20-graph!$E$32),0.25,0)))","v":0},{"$f":"IF(graph!$E$22=0,0,IF(graph!$E$2=0,20,IF(AND(B216>graph!$E$22-graph!$E$32,B216<graph!$E$22+graph!$E$32),0.25,0)))","v":0}]
[null,{"$f":"IF(graph!$E$2=0,\"\",B216+graph!$E$32)","v":""},{"$f":"IF(graph!$E$2=0,20,IF(SUM(K217+L217=0),NA(),0.25))","v":20},{"$f":"IF(graph!$E$2=0,20,IF(AND(B217<graph!$E$10+graph!$E$32,B217>graph!$E$10-graph!$E$32),0.25,NA()))","v":20},null,null,null,null,null,null,{"$f":"IF(graph!$E$20=0,0,IF(graph!$E$2=0,20,IF(AND(B217<graph!$E$20+graph!$E$32,B217>graph!$E$20-graph!$E$32),0.25,0)))","v":0},{"$f":"IF(graph!$E$22=0,0,IF(graph!$E$2=0,20,IF(AND(B217>graph!$E$22-graph!$E$32,B217<graph!$E$22+graph!$E$32),0.25,0)))","v":0}]
[null,{"$f":"IF(graph!$E$2=0,\"\",B217+graph!$E$32)","v":""},{"$f":"IF(graph!$E$2=0,20,IF(SUM(K218+L218=0),NA(),0.25))","v":20},{"$f":"IF(graph!$E$2=0,20,IF(AND(B218<graph!$E$10+graph!$E$32,B218>graph!$E$10-graph!$E$32),0.25,NA()))","v":20},null,null,null,null,null,null,{"$f":"IF(graph!$E$20=0,0,IF(graph!$E$2=0,20,IF(AND(B218<graph!$E$20+graph!$E$32,B218>graph!$E$20-graph!$E$32),0.25,0)))","v":0},{"$f":"IF(graph!$E$22=0,0,IF(graph!$E$2=0,20,IF(AND(B218>graph!$E$22-graph!$E$32,B218<graph!$E$22+graph!$E$32),0.25,0)))","v":0}]
[null,{"$f":"IF(graph!$E$2=0,\"\",B218+graph!$E$32)","v":""},{"$f":"IF(graph!$E$2=0,20,IF(SUM(K219+L219=0),NA(),0.25))","v":20},{"$f":"IF(graph!$E$2=0,20,IF(AND(B219<graph!$E$10+graph!$E$32,B219>graph!$E$10-graph!$E$32),0.25,NA()))","v":20},null,null,null,null,null,null,{"$f":"IF(graph!$E$20=0,0,IF(graph!$E$2=0,20,IF(AND(B219<graph!$E$20+graph!$E$32,B219>graph!$E$20-graph!$E$32),0.25,0)))","v":0},{"$f":"IF(graph!$E$22=0,0,IF(graph!$E$2=0,20,IF(AND(B219>graph!$E$22-graph!$E$32,B219<graph!$E$22+graph!$E$32),0.25,0)))","v":0}]
[null,{"$f":"IF(graph!$E$2=0,\"\",B219+graph!$E$32)","v":""},{"$f":"IF(graph!$E$2=0,20,IF(SUM(K220+L220=0),NA(),0.25))","v":20},{"$f":"IF(graph!$E$2=0,20,IF(AND(B220<graph!$E$10+graph!$E$32,B220>graph!$E$10-graph!$E$32),0.25,NA()))","v":20},null,null,null,null,null,null,{"$f":"IF(graph!$E$20=0,0,IF(graph!$E$2=0,20,IF(AND(B220<graph!$E$20+graph!$E$32,B220>graph!$E$20-graph!$E$32),0.25,0)))","v":0},{"$f":"IF(graph!$E$22=0,0,IF(graph!$E$2=0,20,IF(AND(B220>graph!$E$22-graph!$E$32,B220<graph!$E$22+graph!$E$32),0.25,0)))","v":0}]
[null,{"$f":"IF(graph!$E$2=0,\"\",B220+graph!$E$32)","v":""},{"$f":"IF(graph!$E$2=0,20,IF(SUM(K221+L221=0),NA(),0.25))","v":20},{"$f":"IF(graph!$E$2=0,20,IF(AND(B221<graph!$E$10+graph!$E$32,B221>graph!$E$10-graph!$E$32),0.25,NA()))","v":20},null,null,null,null,null,null,{"$f":"IF(graph!$E$20=0,0,IF(graph!$E$2=0,20,IF(AND(B221<graph!$E$20+graph!$E$32,B221>graph!$E$20-graph!$E$32),0.25,0)))","v":0},{"$f":"IF(graph!$E$22=0,0,IF(graph!$E$2=0,20,IF(AND(B221>graph!$E$22-graph!$E$32,B221<graph!$E$22+graph!$E$32),0.25,0)))","v":0}]
[null,{"$f":"IF(graph!$E$2=0,\"\",B221+graph!$E$32)","v":""},{"$f":"IF(graph!$E$2=0,20,IF(SUM(K222+L222=0),NA(),0.25))","v":20},{"$f":"IF(graph!$E$2=0,20,IF(AND(B222<graph!$E$10+graph!$E$32,B222>graph!$E$10-graph!$E$32),0.25,NA()))","v":20},null,null,null,null,null,null,{"$f":"IF(graph!$E$20=0,0,IF(graph!$E$2=0,20,IF(AND(B222<graph!$E$20+graph!$E$32,B222>graph!$E$20-graph!$E$32),0.25,0)))","v":0},{"$f":"IF(graph!$E$22=0,0,IF(graph!$E$2=0,20,IF(AND(B222>graph!$E$22-graph!$E$32,B222<graph!$E$22+graph!$E$32),0.25,0)))","v":0}]
[null,{"$f":"IF(graph!$E$2=0,\"\",B222+graph!$E$32)","v":""},{"$f":"IF(graph!$E$2=0,20,IF(SUM(K223+L223=0),NA(),0.25))","v":20},{"$f":"IF(graph!$E$2=0,20,IF(AND(B223<graph!$E$10+graph!$E$32,B223>graph!$E$10-graph!$E$32),0.25,NA()))","v":20},null,null,null,null,null,null,{"$f":"IF(graph!$E$20=0,0,IF(graph!$E$2=0,20,IF(AND(B223<graph!$E$20+graph!$E$32,B223>graph!$E$20-graph!$E$32),0.25,0)))","v":0},{"$f":"IF(graph!$E$22=0,0,IF(graph!$E$2=0,20,IF(AND(B223>graph!$E$22-graph!$E$32,B223<graph!$E$22+graph!$E$32),0.25,0)))","v":0}]
[null,{"$f":"IF(graph!$E$2=0,\"\",B223+graph!$E$32)","v":""},{"$f":"IF(graph!$E$2=0,20,IF(SUM(K224+L224=0),NA(),0.25))","v":20},{"$f":"IF(graph!$E$2=0,20,IF(AND(B224<graph!$E$10+graph!$E$32,B224>graph!$E$10-graph!$E$32),0.25,NA()))","v":20},null,null,null,null,null,null,{"$f":"IF(graph!$E$20=0,0,IF(graph!$E$2=0,20,IF(AND(B224<graph!$E$20+graph!$E$32,B224>graph!$E$20-graph!$E$32),0.25,0)))","v":0},{"$f":"IF(graph!$E$22=0,0,IF(graph!$E$2=0,20,IF(AND(B224>graph!$E$22-graph!$E$32,B224<graph!$E$22+graph!$E$32),0.25,0)))","v":0}]
[null,{"$f":"IF(graph!$E$2=0,\"\",B224+graph!$E$32)","v":""},{"$f":"IF(graph!$E$2=0,20,IF(SUM(K225+L225=0),NA(),0.25))","v":20},{"$f":"IF(graph!$E$2=0,20,IF(AND(B225<graph!$E$10+graph!$E$32,B225>graph!$E$10-graph!$E$32),0.25,NA()))","v":20},null,null,null,null,null,null,{"$f":"IF(graph!$E$20=0,0,IF(graph!$E$2=0,20,IF(AND(B225<graph!$E$20+graph!$E$32,B225>graph!$E$20-graph!$E$32),0.25,0)))","v":0},{"$f":"IF(graph!$E$22=0,0,IF(graph!$E$2=0,20,IF(AND(B225>graph!$E$22-graph!$E$32,B225<graph!$E$22+graph!$E$32),0.25,0)))","v":0}]
[null,{"$f":"IF(graph!$E$2=0,\"\",B225+graph!$E$32)","v":""},{"$f":"IF(graph!$E$2=0,20,IF(SUM(K226+L226=0),NA(),0.25))","v":20},{"$f":"IF(graph!$E$2=0,20,IF(AND(B226<graph!$E$10+graph!$E$32,B226>graph!$E$10-graph!$E$32),0.25,NA()))","v":20},null,null,null,null,null,null,{"$f":"IF(graph!$E$20=0,0,IF(graph!$E$2=0,20,IF(AND(B226<graph!$E$20+graph!$E$32,B226>graph!$E$20-graph!$E$32),0.25,0)))","v":0},{"$f":"IF(graph!$E$22=0,0,IF(graph!$E$2=0,20,IF(AND(B226>graph!$E$22-graph!$E$32,B226<graph!$E$22+graph!$E$32),0.25,0)))","v":0}]
[null,{"$f":"IF(graph!$E$2=0,\"\",B226+graph!$E$32)","v":""},{"$f":"IF(graph!$E$2=0,20,IF(SUM(K227+L227=0),NA(),0.25))","v":20},{"$f":"IF(graph!$E$2=0,20,IF(AND(B227<graph!$E$10+graph!$E$32,B227>graph!$E$10-graph!$E$32),0.25,NA()))","v":20},null,null,null,null,null,null,{"$f":"IF(graph!$E$20=0,0,IF(graph!$E$2=0,20,IF(AND(B227<graph!$E$20+graph!$E$32,B227>graph!$E$20-graph!$E$32),0.25,0)))","v":0},{"$f":"IF(graph!$E$22=0,0,IF(graph!$E$2=0,20,IF(AND(B227>graph!$E$22-graph!$E$32,B227<graph!$E$22+graph!$E$32),0.25,0)))","v":0}]
[null,{"$f":"IF(graph!$E$2=0,\"\",B227+graph!$E$32)","v":""},{"$f":"IF(graph!$E$2=0,20,IF(SUM(K228+L228=0),NA(),0.25))","v":20},{"$f":"IF(graph!$E$2=0,20,IF(AND(B228<graph!$E$10+graph!$E$32,B228>graph!$E$10-graph!$E$32),0.25,NA()))","v":20},null,null,null,null,null,null,{"$f":"IF(graph!$E$20=0,0,IF(graph!$E$2=0,20,IF(AND(B228<graph!$E$20+graph!$E$32,B228>graph!$E$20-graph!$E$32),0.25,0)))","v":0},{"$f":"IF(graph!$E$22=0,0,IF(graph!$E$2=0,20,IF(AND(B228>graph!$E$22-graph!$E$32,B228<graph!$E$22+graph!$E$32),0.25,0)))","v":0}]
[null,{"$f":"IF(graph!$E$2=0,\"\",B228+graph!$E$32)","v":""},{"$f":"IF(graph!$E$2=0,20,IF(SUM(K229+L229=0),NA(),0.25))","v":20},{"$f":"IF(graph!$E$2=0,20,IF(AND(B229<graph!$E$10+graph!$E$32,B229>graph!$E$10-graph!$E$32),0.25,NA()))","v":20},null,null,null,null,null,null,{"$f":"IF(graph!$E$20=0,0,IF(graph!$E$2=0,20,IF(AND(B229<graph!$E$20+graph!$E$32,B229>graph!$E$20-graph!$E$32),0.25,0)))","v":0},{"$f":"IF(graph!$E$22=0,0,IF(graph!$E$2=0,20,IF(AND(B229>graph!$E$22-graph!$E$32,B229<graph!$E$22+graph!$E$32),0.25,0)))","v":0}]
[null,{"$f":"IF(graph!$E$2=0,\"\",B229+graph!$E$32)","v":""},{"$f":"IF(graph!$E$2=0,20,IF(SUM(K230+L230=0),NA(),0.25))","v":20},{"$f":"IF(graph!$E$2=0,20,IF(AND(B230<graph!$E$10+graph!$E$32,B230>graph!$E$10-graph!$E$32),0.25,NA()))","v":20},null,null,null,null,null,null,{"$f":"IF(graph!$E$20=0,0,IF(graph!$E$2=0,20,IF(AND(B230<graph!$E$20+graph!$E$32,B230>graph!$E$20-graph!$E$32),0.25,0)))","v":0},{"$f":"IF(graph!$E$22=0,0,IF(graph!$E$2=0,20,IF(AND(B230>graph!$E$22-graph!$E$32,B230<graph!$E$22+graph!$E$32),0.25,0)))","v":0}]
[null,{"$f":"IF(graph!$E$2=0,\"\",B230+graph!$E$32)","v":""},{"$f":"IF(graph!$E$2=0,20,IF(SUM(K231+L231=0),NA(),0.25))","v":20},{"$f":"IF(graph!$E$2=0,20,IF(AND(B231<graph!$E$10+graph!$E$32,B231>graph!$E$10-graph!$E$32),0.25,NA()))","v":20},null,null,null,null,null,null,{"$f":"IF(graph!$E$20=0,0,IF(graph!$E$2=0,20,IF(AND(B231<graph!$E$20+graph!$E$32,B231>graph!$E$20-graph!$E$32),0.25,0)))","v":0},{"$f":"IF(graph!$E$22=0,0,IF(graph!$E$2=0,20,IF(AND(B231>graph!$E$22-graph!$E$32,B231<graph!$E$22+graph!$E$32),0.25,0)))","v":0}]
[null,{"$f":"IF(graph!$E$2=0,\"\",B231+graph!$E$32)","v":""},{"$f":"IF(graph!$E$2=0,20,IF(SUM(K232+L232=0),NA(),0.25))","v":20},{"$f":"IF(graph!$E$2=0,20,IF(AND(B232<graph!$E$10+graph!$E$32,B232>graph!$E$10-graph!$E$32),0.25,NA()))","v":20},null,null,null,null,null,null,{"$f":"IF(graph!$E$20=0,0,IF(graph!$E$2=0,20,IF(AND(B232<graph!$E$20+graph!$E$32,B232>graph!$E$20-graph!$E$32),0.25,0)))","v":0},{"$f":"IF(graph!$E$22=0,0,IF(graph!$E$2=0,20,IF(AND(B232>graph!$E$22-graph!$E$32,B232<graph!$E$22+graph!$E$32),0.25,0)))","v":0}]
[null,{"$f":"IF(graph!$E$2=0,\"\",B232+graph!$E$32)","v":""},{"$f":"IF(graph!$E$2=0,20,IF(SUM(K233+L233=0),NA(),0.25))","v":20},{"$f":"IF(graph!$E$2=0,20,IF(AND(B233<graph!$E$10+graph!$E$32,B233>graph!$E$10-graph!$E$32),0.25,NA()))","v":20},null,null,null,null,null,null,{"$f":"IF(graph!$E$20=0,0,IF(graph!$E$2=0,20,IF(AND(B233<graph!$E$20+graph!$E$32,B233>graph!$E$20-graph!$E$32),0.25,0)))","v":0},{"$f":"IF(graph!$E$22=0,0,IF(graph!$E$2=0,20,IF(AND(B233>graph!$E$22-graph!$E$32,B233<graph!$E$22+graph!$E$32),0.25,0)))","v":0}]
[null,{"$f":"IF(graph!$E$2=0,\"\",B233+graph!$E$32)","v":""},{"$f":"IF(graph!$E$2=0,20,IF(SUM(K234+L234=0),NA(),0.25))","v":20},{"$f":"IF(graph!$E$2=0,20,IF(AND(B234<graph!$E$10+graph!$E$32,B234>graph!$E$10-graph!$E$32),0.25,NA()))","v":20},null,null,null,null,null,null,{"$f":"IF(graph!$E$20=0,0,IF(graph!$E$2=0,20,IF(AND(B234<graph!$E$20+graph!$E$32,B234>graph!$E$20-graph!$E$32),0.25,0)))","v":0},{"$f":"IF(graph!$E$22=0,0,IF(graph!$E$2=0,20,IF(AND(B234>graph!$E$22-graph!$E$32,B234<graph!$E$22+graph!$E$32),0.25,0)))","v":0}]
[null,{"$f":"IF(graph!$E$2=0,\"\",B234+graph!$E$32)","v":""},{"$f":"IF(graph!$E$2=0,20,IF(SUM(K235+L235=0),NA(),0.25))","v":20},{"$f":"IF(graph!$E$2=0,20,IF(AND(B235<graph!$E$10+graph!$E$32,B235>graph!$E$10-graph!$E$32),0.25,NA()))","v":20},null,null,null,null,null,null,{"$f":"IF(graph!$E$20=0,0,IF(graph!$E$2=0,20,IF(AND(B235<graph!$E$20+graph!$E$32,B235>graph!$E$20-graph!$E$32),0.25,0)))","v":0},{"$f":"IF(graph!$E$22=0,0,IF(graph!$E$2=0,20,IF(AND(B235>graph!$E$22-graph!$E$32,B235<graph!$E$22+graph!$E$32),0.25,0)))","v":0}]
[null,{"$f":"IF(graph!$E$2=0,\"\",B235+graph!$E$32)","v":""},{"$f":"IF(graph!$E$2=0,20,IF(SUM(K236+L236=0),NA(),0.25))","v":20},{"$f":"IF(graph!$E$2=0,20,IF(AND(B236<graph!$E$10+graph!$E$32,B236>graph!$E$10-graph!$E$32),0.25,NA()))","v":20},null,null,null,null,null,null,{"$f":"IF(graph!$E$20=0,0,IF(graph!$E$2=0,20,IF(AND(B236<graph!$E$20+graph!$E$32,B236>graph!$E$20-graph!$E$32),0.25,0)))","v":0},{"$f":"IF(graph!$E$22=0,0,IF(graph!$E$2=0,20,IF(AND(B236>graph!$E$22-graph!$E$32,B236<graph!$E$22+graph!$E$32),0.25,0)))","v":0}]
[null,{"$f":"IF(graph!$E$2=0,\"\",B236+graph!$E$32)","v":""},{"$f":"IF(graph!$E$2=0,20,IF(SUM(K237+L237=0),NA(),0.25))","v":20},{"$f":"IF(graph!$E$2=0,20,IF(AND(B237<graph!$E$10+graph!$E$32,B237>graph!$E$10-graph!$E$32),0.25,NA()))","v":20},null,null,null,null,null,null,{"$f":"IF(graph!$E$20=0,0,IF(graph!$E$2=0,20,IF(AND(B237<graph!$E$20+graph!$E$32,B237>graph!$E$20-graph!$E$32),0.25,0)))","v":0},{"$f":"IF(graph!$E$22=0,0,IF(graph!$E$2=0,20,IF(AND(B237>graph!$E$22-graph!$E$32,B237<graph!$E$22+graph!$E$32),0.25,0)))","v":0}]
[null,{"$f":"IF(graph!$E$2=0,\"\",B237+graph!$E$32)","v":""},{"$f":"IF(graph!$E$2=0,20,IF(SUM(K238+L238=0),NA(),0.25))","v":20},{"$f":"IF(graph!$E$2=0,20,IF(AND(B238<graph!$E$10+graph!$E$32,B238>graph!$E$10-graph!$E$32),0.25,NA()))","v":20},null,null,null,null,null,null,{"$f":"IF(graph!$E$20=0,0,IF(graph!$E$2=0,20,IF(AND(B238<graph!$E$20+graph!$E$32,B238>graph!$E$20-graph!$E$32),0.25,0)))","v":0},{"$f":"IF(graph!$E$22=0,0,IF(graph!$E$2=0,20,IF(AND(B238>graph!$E$22-graph!$E$32,B238<graph!$E$22+graph!$E$32),0.25,0)))","v":0}]
[null,{"$f":"IF(graph!$E$2=0,\"\",B238+graph!$E$32)","v":""},{"$f":"IF(graph!$E$2=0,20,IF(SUM(K239+L239=0),NA(),0.25))","v":20},{"$f":"IF(graph!$E$2=0,20,IF(AND(B239<graph!$E$10+graph!$E$32,B239>graph!$E$10-graph!$E$32),0.25,NA()))","v":20},null,null,null,null,null,null,{"$f":"IF(graph!$E$20=0,0,IF(graph!$E$2=0,20,IF(AND(B239<graph!$E$20+graph!$E$32,B239>graph!$E$20-graph!$E$32),0.25,0)))","v":0},{"$f":"IF(graph!$E$22=0,0,IF(graph!$E$2=0,20,IF(AND(B239>graph!$E$22-graph!$E$32,B239<graph!$E$22+graph!$E$32),0.25,0)))","v":0}]
[null,{"$f":"IF(graph!$E$2=0,\"\",B239+graph!$E$32)","v":""},{"$f":"IF(graph!$E$2=0,20,IF(SUM(K240+L240=0),NA(),0.25))","v":20},{"$f":"IF(graph!$E$2=0,20,IF(AND(B240<graph!$E$10+graph!$E$32,B240>graph!$E$10-graph!$E$32),0.25,NA()))","v":20},null,null,null,null,null,null,{"$f":"IF(graph!$E$20=0,0,IF(graph!$E$2=0,20,IF(AND(B240<graph!$E$20+graph!$E$32,B240>graph!$E$20-graph!$E$32),0.25,0)))","v":0},{"$f":"IF(graph!$E$22=0,0,IF(graph!$E$2=0,20,IF(AND(B240>graph!$E$22-graph!$E$32,B240<graph!$E$22+graph!$E$32),0.25,0)))","v":0}]
[null,{"$f":"IF(graph!$E$2=0,\"\",B240+graph!$E$32)","v":""},{"$f":"IF(graph!$E$2=0,20,IF(SUM(K241+L241=0),NA(),0.25))","v":20},{"$f":"IF(graph!$E$2=0,20,IF(AND(B241<graph!$E$10+graph!$E$32,B241>graph!$E$10-graph!$E$32),0.25,NA()))","v":20},null,null,null,null,null,null,{"$f":"IF(graph!$E$20=0,0,IF(graph!$E$2=0,20,IF(AND(B241<graph!$E$20+graph!$E$32,B241>graph!$E$20-graph!$E$32),0.25,0)))","v":0},{"$f":"IF(graph!$E$22=0,0,IF(graph!$E$2=0,20,IF(AND(B241>graph!$E$22-graph!$E$32,B241<graph!$E$22+graph!$E$32),0.25,0)))","v":0}]
[null,{"$f":"IF(graph!$E$2=0,\"\",B241+graph!$E$32)","v":""},{"$f":"IF(graph!$E$2=0,20,IF(SUM(K242+L242=0),NA(),0.25))","v":20},{"$f":"IF(graph!$E$2=0,20,IF(AND(B242<graph!$E$10+graph!$E$32,B242>graph!$E$10-graph!$E$32),0.25,NA()))","v":20},null,null,null,null,null,null,{"$f":"IF(graph!$E$20=0,0,IF(graph!$E$2=0,20,IF(AND(B242<graph!$E$20+graph!$E$32,B242>graph!$E$20-graph!$E$32),0.25,0)))","v":0},{"$f":"IF(graph!$E$22=0,0,IF(graph!$E$2=0,20,IF(AND(B242>graph!$E$22-graph!$E$32,B242<graph!$E$22+graph!$E$32),0.25,0)))","v":0}]
[null,{"$f":"IF(graph!$E$2=0,\"\",B242+graph!$E$32)","v":""},{"$f":"IF(graph!$E$2=0,20,IF(SUM(K243+L243=0),NA(),0.25))","v":20},{"$f":"IF(graph!$E$2=0,20,IF(AND(B243<graph!$E$10+graph!$E$32,B243>graph!$E$10-graph!$E$32),0.25,NA()))","v":20},null,null,null,null,null,null,{"$f":"IF(graph!$E$20=0,0,IF(graph!$E$2=0,20,IF(AND(B243<graph!$E$20+graph!$E$32,B243>graph!$E$20-graph!$E$32),0.25,0)))","v":0},{"$f":"IF(graph!$E$22=0,0,IF(graph!$E$2=0,20,IF(AND(B243>graph!$E$22-graph!$E$32,B243<graph!$E$22+graph!$E$32),0.25,0)))","v":0}]
[null,{"$f":"IF(graph!$E$2=0,\"\",B243+graph!$E$32)","v":""},{"$f":"IF(graph!$E$2=0,20,IF(SUM(K244+L244=0),NA(),0.25))","v":20},{"$f":"IF(graph!$E$2=0,20,IF(AND(B244<graph!$E$10+graph!$E$32,B244>graph!$E$10-graph!$E$32),0.25,NA()))","v":20},null,null,null,null,null,null,{"$f":"IF(graph!$E$20=0,0,IF(graph!$E$2=0,20,IF(AND(B244<graph!$E$20+graph!$E$32,B244>graph!$E$20-graph!$E$32),0.25,0)))","v":0},{"$f":"IF(graph!$E$22=0,0,IF(graph!$E$2=0,20,IF(AND(B244>graph!$E$22-graph!$E$32,B244<graph!$E$22+graph!$E$32),0.25,0)))","v":0}]
[null,{"$f":"IF(graph!$E$2=0,\"\",B244+graph!$E$32)","v":""},{"$f":"IF(graph!$E$2=0,20,IF(SUM(K245+L245=0),NA(),0.25))","v":20},{"$f":"IF(graph!$E$2=0,20,IF(AND(B245<graph!$E$10+graph!$E$32,B245>graph!$E$10-graph!$E$32),0.25,NA()))","v":20},null,null,null,null,null,null,{"$f":"IF(graph!$E$20=0,0,IF(graph!$E$2=0,20,IF(AND(B245<graph!$E$20+graph!$E$32,B245>graph!$E$20-graph!$E$32),0.25,0)))","v":0},{"$f":"IF(graph!$E$22=0,0,IF(graph!$E$2=0,20,IF(AND(B245>graph!$E$22-graph!$E$32,B245<graph!$E$22+graph!$E$32),0.25,0)))","v":0}]
[null,{"$f":"IF(graph!$E$2=0,\"\",B245+graph!$E$32)","v":""},{"$f":"IF(graph!$E$2=0,20,IF(SUM(K246+L246=0),NA(),0.25))","v":20},{"$f":"IF(graph!$E$2=0,20,IF(AND(B246<graph!$E$10+graph!$E$32,B246>graph!$E$10-graph!$E$32),0.25,NA()))","v":20},null,null,null,null,null,null,{"$f":"IF(graph!$E$20=0,0,IF(graph!$E$2=0,20,IF(AND(B246<graph!$E$20+graph!$E$32,B246>graph!$E$20-graph!$E$32),0.25,0)))","v":0},{"$f":"IF(graph!$E$22=0,0,IF(graph!$E$2=0,20,IF(AND(B246>graph!$E$22-graph!$E$32,B246<graph!$E$22+graph!$E$32),0.25,0)))","v":0}]
[null,{"$f":"IF(graph!$E$2=0,\"\",B246+graph!$E$32)","v":""},{"$f":"IF(graph!$E$2=0,20,IF(SUM(K247+L247=0),NA(),0.25))","v":20},{"$f":"IF(graph!$E$2=0,20,IF(AND(B247<graph!$E$10+graph!$E$32,B247>graph!$E$10-graph!$E$32),0.25,NA()))","v":20},null,null,null,null,null,null,{"$f":"IF(graph!$E$20=0,0,IF(graph!$E$2=0,20,IF(AND(B247<graph!$E$20+graph!$E$32,B247>graph!$E$20-graph!$E$32),0.25,0)))","v":0},{"$f":"IF(graph!$E$22=0,0,IF(graph!$E$2=0,20,IF(AND(B247>graph!$E$22-graph!$E$32,B247<graph!$E$22+graph!$E$32),0.25,0)))","v":0}]
[null,{"$f":"IF(graph!$E$2=0,\"\",B247+graph!$E$32)","v":""},{"$f":"IF(graph!$E$2=0,20,IF(SUM(K248+L248=0),NA(),0.25))","v":20},{"$f":"IF(graph!$E$2=0,20,IF(AND(B248<graph!$E$10+graph!$E$32,B248>graph!$E$10-graph!$E$32),0.25,NA()))","v":20},null,null,null,null,null,null,{"$f":"IF(graph!$E$20=0,0,IF(graph!$E$2=0,20,IF(AND(B248<graph!$E$20+graph!$E$32,B248>graph!$E$20-graph!$E$32),0.25,0)))","v":0},{"$f":"IF(graph!$E$22=0,0,IF(graph!$E$2=0,20,IF(AND(B248>graph!$E$22-graph!$E$32,B248<graph!$E$22+graph!$E$32),0.25,0)))","v":0}]
[null,{"$f":"IF(graph!$E$2=0,\"\",B248+graph!$E$32)","v":""},{"$f":"IF(graph!$E$2=0,20,IF(SUM(K249+L249=0),NA(),0.25))","v":20},{"$f":"IF(graph!$E$2=0,20,IF(AND(B249<graph!$E$10+graph!$E$32,B249>graph!$E$10-graph!$E$32),0.25,NA()))","v":20},null,null,null,null,null,null,{"$f":"IF(graph!$E$20=0,0,IF(graph!$E$2=0,20,IF(AND(B249<graph!$E$20+graph!$E$32,B249>graph!$E$20-graph!$E$32),0.25,0)))","v":0},{"$f":"IF(graph!$E$22=0,0,IF(graph!$E$2=0,20,IF(AND(B249>graph!$E$22-graph!$E$32,B249<graph!$E$22+graph!$E$32),0.25,0)))","v":0}]
[null,{"$f":"IF(graph!$E$2=0,\"\",B249+graph!$E$32)","v":""},{"$f":"IF(graph!$E$2=0,20,IF(SUM(K250+L250=0),NA(),0.25))","v":20},{"$f":"IF(graph!$E$2=0,20,IF(AND(B250<graph!$E$10+graph!$E$32,B250>graph!$E$10-graph!$E$32),0.25,NA()))","v":20},null,null,null,null,null,null,{"$f":"IF(graph!$E$20=0,0,IF(graph!$E$2=0,20,IF(AND(B250<graph!$E$20+graph!$E$32,B250>graph!$E$20-graph!$E$32),0.25,0)))","v":0},{"$f":"IF(graph!$E$22=0,0,IF(graph!$E$2=0,20,IF(AND(B250>graph!$E$22-graph!$E$32,B250<graph!$E$22+graph!$E$32),0.25,0)))","v":0}]
[null,{"$f":"IF(graph!$E$2=0,\"\",B250+graph!$E$32)","v":""},{"$f":"IF(graph!$E$2=0,20,IF(SUM(K251+L251=0),NA(),0.25))","v":20},{"$f":"IF(graph!$E$2=0,20,IF(AND(B251<graph!$E$10+graph!$E$32,B251>graph!$E$10-graph!$E$32),0.25,NA()))","v":20},null,null,null,null,null,null,{"$f":"IF(graph!$E$20=0,0,IF(graph!$E$2=0,20,IF(AND(B251<graph!$E$20+graph!$E$32,B251>graph!$E$20-graph!$E$32),0.25,0)))","v":0},{"$f":"IF(graph!$E$22=0,0,IF(graph!$E$2=0,20,IF(AND(B251>graph!$E$22-graph!$E$32,B251<graph!$E$22+graph!$E$32),0.25,0)))","v":0}]
[null,{"$f":"IF(graph!$E$2=0,\"\",B251+graph!$E$32)","v":""},{"$f":"IF(graph!$E$2=0,20,IF(SUM(K252+L252=0),NA(),0.25))","v":20},{"$f":"IF(graph!$E$2=0,20,IF(AND(B252<graph!$E$10+graph!$E$32,B252>graph!$E$10-graph!$E$32),0.25,NA()))","v":20},null,null,null,null,null,null,{"$f":"IF(graph!$E$20=0,0,IF(graph!$E$2=0,20,IF(AND(B252<graph!$E$20+graph!$E$32,B252>graph!$E$20-graph!$E$32),0.25,0)))","v":0},{"$f":"IF(graph!$E$22=0,0,IF(graph!$E$2=0,20,IF(AND(B252>graph!$E$22-graph!$E$32,B252<graph!$E$22+graph!$E$32),0.25,0)))","v":0}]
[null,{"$f":"IF(graph!$E$2=0,\"\",B252+graph!$E$32)","v":""},{"$f":"IF(graph!$E$2=0,20,IF(SUM(K253+L253=0),NA(),0.25))","v":20},{"$f":"IF(graph!$E$2=0,20,IF(AND(B253<graph!$E$10+graph!$E$32,B253>graph!$E$10-graph!$E$32),0.25,NA()))","v":20},null,null,null,null,null,null,{"$f":"IF(graph!$E$20=0,0,IF(graph!$E$2=0,20,IF(AND(B253<graph!$E$20+graph!$E$32,B253>graph!$E$20-graph!$E$32),0.25,0)))","v":0},{"$f":"IF(graph!$E$22=0,0,IF(graph!$E$2=0,20,IF(AND(B253>graph!$E$22-graph!$E$32,B253<graph!$E$22+graph!$E$32),0.25,0)))","v":0}]
[null,{"$f":"IF(graph!$E$2=0,\"\",B253+graph!$E$32)","v":""},{"$f":"IF(graph!$E$2=0,20,IF(SUM(K254+L254=0),NA(),0.25))","v":20},{"$f":"IF(graph!$E$2=0,20,IF(AND(B254<graph!$E$10+graph!$E$32,B254>graph!$E$10-graph!$E$32),0.25,NA()))","v":20},null,null,null,null,null,null,{"$f":"IF(graph!$E$20=0,0,IF(graph!$E$2=0,20,IF(AND(B254<graph!$E$20+graph!$E$32,B254>graph!$E$20-graph!$E$32),0.25,0)))","v":0},{"$f":"IF(graph!$E$22=0,0,IF(graph!$E$2=0,20,IF(AND(B254>graph!$E$22-graph!$E$32,B254<graph!$E$22+graph!$E$32),0.25,0)))","v":0}]
[null,{"$f":"IF(graph!$E$2=0,\"\",B254+graph!$E$32)","v":""},{"$f":"IF(graph!$E$2=0,20,IF(SUM(K255+L255=0),NA(),0.25))","v":20},{"$f":"IF(graph!$E$2=0,20,IF(AND(B255<graph!$E$10+graph!$E$32,B255>graph!$E$10-graph!$E$32),0.25,NA()))","v":20},null,null,null,null,null,null,{"$f":"IF(graph!$E$20=0,0,IF(graph!$E$2=0,20,IF(AND(B255<graph!$E$20+graph!$E$32,B255>graph!$E$20-graph!$E$32),0.25,0)))","v":0},{"$f":"IF(graph!$E$22=0,0,IF(graph!$E$2=0,20,IF(AND(B255>graph!$E$22-graph!$E$32,B255<graph!$E$22+graph!$E$32),0.25,0)))","v":0}]
[null,{"$f":"IF(graph!$E$2=0,\"\",B255+graph!$E$32)","v":""},{"$f":"IF(graph!$E$2=0,20,IF(SUM(K256+L256=0),NA(),0.25))","v":20},{"$f":"IF(graph!$E$2=0,20,IF(AND(B256<graph!$E$10+graph!$E$32,B256>graph!$E$10-graph!$E$32),0.25,NA()))","v":20},null,null,null,null,null,null,{"$f":"IF(graph!$E$20=0,0,IF(graph!$E$2=0,20,IF(AND(B256<graph!$E$20+graph!$E$32,B256>graph!$E$20-graph!$E$32),0.25,0)))","v":0},{"$f":"IF(graph!$E$22=0,0,IF(graph!$E$2=0,20,IF(AND(B256>graph!$E$22-graph!$E$32,B256<graph!$E$22+graph!$E$32),0.25,0)))","v":0}]
[null,{"$f":"IF(graph!$E$2=0,\"\",B256+graph!$E$32)","v":""},{"$f":"IF(graph!$E$2=0,20,IF(SUM(K257+L257=0),NA(),0.25))","v":20},{"$f":"IF(graph!$E$2=0,20,IF(AND(B257<graph!$E$10+graph!$E$32,B257>graph!$E$10-graph!$E$32),0.25,NA()))","v":20},null,null,null,null,null,null,{"$f":"IF(graph!$E$20=0,0,IF(graph!$E$2=0,20,IF(AND(B257<graph!$E$20+graph!$E$32,B257>graph!$E$20-graph!$E$32),0.25,0)))","v":0},{"$f":"IF(graph!$E$22=0,0,IF(graph!$E$2=0,20,IF(AND(B257>graph!$E$22-graph!$E$32,B257<graph!$E$22+graph!$E$32),0.25,0)))","v":0}]
[null,{"$f":"IF(graph!$E$2=0,\"\",B257+graph!$E$32)","v":""},{"$f":"IF(graph!$E$2=0,20,IF(SUM(K258+L258=0),NA(),0.25))","v":20},{"$f":"IF(graph!$E$2=0,20,IF(AND(B258<graph!$E$10+graph!$E$32,B258>graph!$E$10-graph!$E$32),0.25,NA()))","v":20},null,null,null,null,null,null,{"$f":"IF(graph!$E$20=0,0,IF(graph!$E$2=0,20,IF(AND(B258<graph!$E$20+graph!$E$32,B258>graph!$E$20-graph!$E$32),0.25,0)))","v":0},{"$f":"IF(graph!$E$22=0,0,IF(graph!$E$2=0,20,IF(AND(B258>graph!$E$22-graph!$E$32,B258<graph!$E$22+graph!$E$32),0.25,0)))","v":0}]
[null,{"$f":"IF(graph!$E$2=0,\"\",B258+graph!$E$32)","v":""},{"$f":"IF(graph!$E$2=0,20,IF(SUM(K259+L259=0),NA(),0.25))","v":20},{"$f":"IF(graph!$E$2=0,20,IF(AND(B259<graph!$E$10+graph!$E$32,B259>graph!$E$10-graph!$E$32),0.25,NA()))","v":20},null,null,null,null,null,null,{"$f":"IF(graph!$E$20=0,0,IF(graph!$E$2=0,20,IF(AND(B259<graph!$E$20+graph!$E$32,B259>graph!$E$20-graph!$E$32),0.25,0)))","v":0},{"$f":"IF(graph!$E$22=0,0,IF(graph!$E$2=0,20,IF(AND(B259>graph!$E$22-graph!$E$32,B259<graph!$E$22+graph!$E$32),0.25,0)))","v":0}]
[null,{"$f":"IF(graph!$E$2=0,\"\",B259+graph!$E$32)","v":""},{"$f":"IF(graph!$E$2=0,20,IF(SUM(K260+L260=0),NA(),0.25))","v":20},{"$f":"IF(graph!$E$2=0,20,IF(AND(B260<graph!$E$10+graph!$E$32,B260>graph!$E$10-graph!$E$32),0.25,NA()))","v":20},null,null,null,null,null,null,{"$f":"IF(graph!$E$20=0,0,IF(graph!$E$2=0,20,IF(AND(B260<graph!$E$20+graph!$E$32,B260>graph!$E$20-graph!$E$32),0.25,0)))","v":0},{"$f":"IF(graph!$E$22=0,0,IF(graph!$E$2=0,20,IF(AND(B260>graph!$E$22-graph!$E$32,B260<graph!$E$22+graph!$E$32),0.25,0)))","v":0}]
[null,{"$f":"IF(graph!$E$2=0,\"\",B260+graph!$E$32)","v":""},{"$f":"IF(graph!$E$2=0,20,IF(SUM(K261+L261=0),NA(),0.25))","v":20},{"$f":"IF(graph!$E$2=0,20,IF(AND(B261<graph!$E$10+graph!$E$32,B261>graph!$E$10-graph!$E$32),0.25,NA()))","v":20},null,null,null,null,null,null,{"$f":"IF(graph!$E$20=0,0,IF(graph!$E$2=0,20,IF(AND(B261<graph!$E$20+graph!$E$32,B261>graph!$E$20-graph!$E$32),0.25,0)))","v":0},{"$f":"IF(graph!$E$22=0,0,IF(graph!$E$2=0,20,IF(AND(B261>graph!$E$22-graph!$E$32,B261<graph!$E$22+graph!$E$32),0.25,0)))","v":0}]
[null,{"$f":"IF(graph!$E$2=0,\"\",B261+graph!$E$32)","v":""},{"$f":"IF(graph!$E$2=0,20,IF(SUM(K262+L262=0),NA(),0.25))","v":20},{"$f":"IF(graph!$E$2=0,20,IF(AND(B262<graph!$E$10+graph!$E$32,B262>graph!$E$10-graph!$E$32),0.25,NA()))","v":20},null,null,null,null,null,null,{"$f":"IF(graph!$E$20=0,0,IF(graph!$E$2=0,20,IF(AND(B262<graph!$E$20+graph!$E$32,B262>graph!$E$20-graph!$E$32),0.25,0)))","v":0},{"$f":"IF(graph!$E$22=0,0,IF(graph!$E$2=0,20,IF(AND(B262>graph!$E$22-graph!$E$32,B262<graph!$E$22+graph!$E$32),0.25,0)))","v":0}]
[null,{"$f":"IF(graph!$E$2=0,\"\",B262+graph!$E$32)","v":""},{"$f":"IF(graph!$E$2=0,20,IF(SUM(K263+L263=0),NA(),0.25))","v":20},{"$f":"IF(graph!$E$2=0,20,IF(AND(B263<graph!$E$10+graph!$E$32,B263>graph!$E$10-graph!$E$32),0.25,NA()))","v":20},null,null,null,null,null,null,{"$f":"IF(graph!$E$20=0,0,IF(graph!$E$2=0,20,IF(AND(B263<graph!$E$20+graph!$E$32,B263>graph!$E$20-graph!$E$32),0.25,0)))","v":0},{"$f":"IF(graph!$E$22=0,0,IF(graph!$E$2=0,20,IF(AND(B263>graph!$E$22-graph!$E$32,B263<graph!$E$22+graph!$E$32),0.25,0)))","v":0}]
[null,{"$f":"IF(graph!$E$2=0,\"\",B263+graph!$E$32)","v":""},{"$f":"IF(graph!$E$2=0,20,IF(SUM(K264+L264=0),NA(),0.25))","v":20},{"$f":"IF(graph!$E$2=0,20,IF(AND(B264<graph!$E$10+graph!$E$32,B264>graph!$E$10-graph!$E$32),0.25,NA()))","v":20},null,null,null,null,null,null,{"$f":"IF(graph!$E$20=0,0,IF(graph!$E$2=0,20,IF(AND(B264<graph!$E$20+graph!$E$32,B264>graph!$E$20-graph!$E$32),0.25,0)))","v":0},{"$f":"IF(graph!$E$22=0,0,IF(graph!$E$2=0,20,IF(AND(B264>graph!$E$22-graph!$E$32,B264<graph!$E$22+graph!$E$32),0.25,0)))","v":0}]
[null,{"$f":"IF(graph!$E$2=0,\"\",B264+graph!$E$32)","v":""},{"$f":"IF(graph!$E$2=0,20,IF(SUM(K265+L265=0),NA(),0.25))","v":20},{"$f":"IF(graph!$E$2=0,20,IF(AND(B265<graph!$E$10+graph!$E$32,B265>graph!$E$10-graph!$E$32),0.25,NA()))","v":20},null,null,null,null,null,null,{"$f":"IF(graph!$E$20=0,0,IF(graph!$E$2=0,20,IF(AND(B265<graph!$E$20+graph!$E$32,B265>graph!$E$20-graph!$E$32),0.25,0)))","v":0},{"$f":"IF(graph!$E$22=0,0,IF(graph!$E$2=0,20,IF(AND(B265>graph!$E$22-graph!$E$32,B265<graph!$E$22+graph!$E$32),0.25,0)))","v":0}]
[null,{"$f":"IF(graph!$E$2=0,\"\",B265+graph!$E$32)","v":""},{"$f":"IF(graph!$E$2=0,20,IF(SUM(K266+L266=0),NA(),0.25))","v":20},{"$f":"IF(graph!$E$2=0,20,IF(AND(B266<graph!$E$10+graph!$E$32,B266>graph!$E$10-graph!$E$32),0.25,NA()))","v":20},null,null,null,null,null,null,{"$f":"IF(graph!$E$20=0,0,IF(graph!$E$2=0,20,IF(AND(B266<graph!$E$20+graph!$E$32,B266>graph!$E$20-graph!$E$32),0.25,0)))","v":0},{"$f":"IF(graph!$E$22=0,0,IF(graph!$E$2=0,20,IF(AND(B266>graph!$E$22-graph!$E$32,B266<graph!$E$22+graph!$E$32),0.25,0)))","v":0}]
[null,{"$f":"IF(graph!$E$2=0,\"\",B266+graph!$E$32)","v":""},{"$f":"IF(graph!$E$2=0,20,IF(SUM(K267+L267=0),NA(),0.25))","v":20},{"$f":"IF(graph!$E$2=0,20,IF(AND(B267<graph!$E$10+graph!$E$32,B267>graph!$E$10-graph!$E$32),0.25,NA()))","v":20},null,null,null,null,null,null,{"$f":"IF(graph!$E$20=0,0,IF(graph!$E$2=0,20,IF(AND(B267<graph!$E$20+graph!$E$32,B267>graph!$E$20-graph!$E$32),0.25,0)))","v":0},{"$f":"IF(graph!$E$22=0,0,IF(graph!$E$2=0,20,IF(AND(B267>graph!$E$22-graph!$E$32,B267<graph!$E$22+graph!$E$32),0.25,0)))","v":0}]
[null,{"$f":"IF(graph!$E$2=0,\"\",B267+graph!$E$32)","v":""},{"$f":"IF(graph!$E$2=0,20,IF(SUM(K268+L268=0),NA(),0.25))","v":20},{"$f":"IF(graph!$E$2=0,20,IF(AND(B268<graph!$E$10+graph!$E$32,B268>graph!$E$10-graph!$E$32),0.25,NA()))","v":20},null,null,null,null,null,null,{"$f":"IF(graph!$E$20=0,0,IF(graph!$E$2=0,20,IF(AND(B268<graph!$E$20+graph!$E$32,B268>graph!$E$20-graph!$E$32),0.25,0)))","v":0},{"$f":"IF(graph!$E$22=0,0,IF(graph!$E$2=0,20,IF(AND(B268>graph!$E$22-graph!$E$32,B268<graph!$E$22+graph!$E$32),0.25,0)))","v":0}]
[null,{"$f":"IF(graph!$E$2=0,\"\",B268+graph!$E$32)","v":""},{"$f":"IF(graph!$E$2=0,20,IF(SUM(K269+L269=0),NA(),0.25))","v":20},{"$f":"IF(graph!$E$2=0,20,IF(AND(B269<graph!$E$10+graph!$E$32,B269>graph!$E$10-graph!$E$32),0.25,NA()))","v":20},null,null,null,null,null,null,{"$f":"IF(graph!$E$20=0,0,IF(graph!$E$2=0,20,IF(AND(B269<graph!$E$20+graph!$E$32,B269>graph!$E$20-graph!$E$32),0.25,0)))","v":0},{"$f":"IF(graph!$E$22=0,0,IF(graph!$E$2=0,20,IF(AND(B269>graph!$E$22-graph!$E$32,B269<graph!$E$22+graph!$E$32),0.25,0)))","v":0}]
[null,{"$f":"IF(graph!$E$2=0,\"\",B269+graph!$E$32)","v":""},{"$f":"IF(graph!$E$2=0,20,IF(SUM(K270+L270=0),NA(),0.25))","v":20},{"$f":"IF(graph!$E$2=0,20,IF(AND(B270<graph!$E$10+graph!$E$32,B270>graph!$E$10-graph!$E$32),0.25,NA()))","v":20},null,null,null,null,null,null,{"$f":"IF(graph!$E$20=0,0,IF(graph!$E$2=0,20,IF(AND(B270<graph!$E$20+graph!$E$32,B270>graph!$E$20-graph!$E$32),0.25,0)))","v":0},{"$f":"IF(graph!$E$22=0,0,IF(graph!$E$2=0,20,IF(AND(B270>graph!$E$22-graph!$E$32,B270<graph!$E$22+graph!$E$32),0.25,0)))","v":0}]
[null,{"$f":"IF(graph!$E$2=0,\"\",B270+graph!$E$32)","v":""},{"$f":"IF(graph!$E$2=0,20,IF(SUM(K271+L271=0),NA(),0.25))","v":20},{"$f":"IF(graph!$E$2=0,20,IF(AND(B271<graph!$E$10+graph!$E$32,B271>graph!$E$10-graph!$E$32),0.25,NA()))","v":20},null,null,null,null,null,null,{"$f":"IF(graph!$E$20=0,0,IF(graph!$E$2=0,20,IF(AND(B271<graph!$E$20+graph!$E$32,B271>graph!$E$20-graph!$E$32),0.25,0)))","v":0},{"$f":"IF(graph!$E$22=0,0,IF(graph!$E$2=0,20,IF(AND(B271>graph!$E$22-graph!$E$32,B271<graph!$E$22+graph!$E$32),0.25,0)))","v":0}]
[null,{"$f":"IF(graph!$E$2=0,\"\",B271+graph!$E$32)","v":""},{"$f":"IF(graph!$E$2=0,20,IF(SUM(K272+L272=0),NA(),0.25))","v":20},{"$f":"IF(graph!$E$2=0,20,IF(AND(B272<graph!$E$10+graph!$E$32,B272>graph!$E$10-graph!$E$32),0.25,NA()))","v":20},null,null,null,null,null,null,{"$f":"IF(graph!$E$20=0,0,IF(graph!$E$2=0,20,IF(AND(B272<graph!$E$20+graph!$E$32,B272>graph!$E$20-graph!$E$32),0.25,0)))","v":0},{"$f":"IF(graph!$E$22=0,0,IF(graph!$E$2=0,20,IF(AND(B272>graph!$E$22-graph!$E$32,B272<graph!$E$22+graph!$E$32),0.25,0)))","v":0}]
[null,{"$f":"IF(graph!$E$2=0,\"\",B272+graph!$E$32)","v":""},{"$f":"IF(graph!$E$2=0,20,IF(SUM(K273+L273=0),NA(),0.25))","v":20},{"$f":"IF(graph!$E$2=0,20,IF(AND(B273<graph!$E$10+graph!$E$32,B273>graph!$E$10-graph!$E$32),0.25,NA()))","v":20},null,null,null,null,null,null,{"$f":"IF(graph!$E$20=0,0,IF(graph!$E$2=0,20,IF(AND(B273<graph!$E$20+graph!$E$32,B273>graph!$E$20-graph!$E$32),0.25,0)))","v":0},{"$f":"IF(graph!$E$22=0,0,IF(graph!$E$2=0,20,IF(AND(B273>graph!$E$22-graph!$E$32,B273<graph!$E$22+graph!$E$32),0.25,0)))","v":0}]
[null,{"$f":"IF(graph!$E$2=0,\"\",B273+graph!$E$32)","v":""},{"$f":"IF(graph!$E$2=0,20,IF(SUM(K274+L274=0),NA(),0.25))","v":20},{"$f":"IF(graph!$E$2=0,20,IF(AND(B274<graph!$E$10+graph!$E$32,B274>graph!$E$10-graph!$E$32),0.25,NA()))","v":20},null,null,null,null,null,null,{"$f":"IF(graph!$E$20=0,0,IF(graph!$E$2=0,20,IF(AND(B274<graph!$E$20+graph!$E$32,B274>graph!$E$20-graph!$E$32),0.25,0)))","v":0},{"$f":"IF(graph!$E$22=0,0,IF(graph!$E$2=0,20,IF(AND(B274>graph!$E$22-graph!$E$32,B274<graph!$E$22+graph!$E$32),0.25,0)))","v":0}]
[null,{"$f":"IF(graph!$E$2=0,\"\",B274+graph!$E$32)","v":""},{"$f":"IF(graph!$E$2=0,20,IF(SUM(K275+L275=0),NA(),0.25))","v":20},{"$f":"IF(graph!$E$2=0,20,IF(AND(B275<graph!$E$10+graph!$E$32,B275>graph!$E$10-graph!$E$32),0.25,NA()))","v":20},null,null,null,null,null,null,{"$f":"IF(graph!$E$20=0,0,IF(graph!$E$2=0,20,IF(AND(B275<graph!$E$20+graph!$E$32,B275>graph!$E$20-graph!$E$32),0.25,0)))","v":0},{"$f":"IF(graph!$E$22=0,0,IF(graph!$E$2=0,20,IF(AND(B275>graph!$E$22-graph!$E$32,B275<graph!$E$22+graph!$E$32),0.25,0)))","v":0}]
[null,{"$f":"IF(graph!$E$2=0,\"\",B275+graph!$E$32)","v":""},{"$f":"IF(graph!$E$2=0,20,IF(SUM(K276+L276=0),NA(),0.25))","v":20},{"$f":"IF(graph!$E$2=0,20,IF(AND(B276<graph!$E$10+graph!$E$32,B276>graph!$E$10-graph!$E$32),0.25,NA()))","v":20},null,null,null,null,null,null,{"$f":"IF(graph!$E$20=0,0,IF(graph!$E$2=0,20,IF(AND(B276<graph!$E$20+graph!$E$32,B276>graph!$E$20-graph!$E$32),0.25,0)))","v":0},{"$f":"IF(graph!$E$22=0,0,IF(graph!$E$2=0,20,IF(AND(B276>graph!$E$22-graph!$E$32,B276<graph!$E$22+graph!$E$32),0.25,0)))","v":0}]
[null,{"$f":"IF(graph!$E$2=0,\"\",B276+graph!$E$32)","v":""},{"$f":"IF(graph!$E$2=0,20,IF(SUM(K277+L277=0),NA(),0.25))","v":20},{"$f":"IF(graph!$E$2=0,20,IF(AND(B277<graph!$E$10+graph!$E$32,B277>graph!$E$10-graph!$E$32),0.25,NA()))","v":20},null,null,null,null,null,null,{"$f":"IF(graph!$E$20=0,0,IF(graph!$E$2=0,20,IF(AND(B277<graph!$E$20+graph!$E$32,B277>graph!$E$20-graph!$E$32),0.25,0)))","v":0},{"$f":"IF(graph!$E$22=0,0,IF(graph!$E$2=0,20,IF(AND(B277>graph!$E$22-graph!$E$32,B277<graph!$E$22+graph!$E$32),0.25,0)))","v":0}]
[null,{"$f":"IF(graph!$E$2=0,\"\",B277+graph!$E$32)","v":""},{"$f":"IF(graph!$E$2=0,20,IF(SUM(K278+L278=0),NA(),0.25))","v":20},{"$f":"IF(graph!$E$2=0,20,IF(AND(B278<graph!$E$10+graph!$E$32,B278>graph!$E$10-graph!$E$32),0.25,NA()))","v":20},null,null,null,null,null,null,{"$f":"IF(graph!$E$20=0,0,IF(graph!$E$2=0,20,IF(AND(B278<graph!$E$20+graph!$E$32,B278>graph!$E$20-graph!$E$32),0.25,0)))","v":0},{"$f":"IF(graph!$E$22=0,0,IF(graph!$E$2=0,20,IF(AND(B278>graph!$E$22-graph!$E$32,B278<graph!$E$22+graph!$E$32),0.25,0)))","v":0}]
[null,{"$f":"IF(graph!$E$2=0,\"\",B278+graph!$E$32)","v":""},{"$f":"IF(graph!$E$2=0,20,IF(SUM(K279+L279=0),NA(),0.25))","v":20},{"$f":"IF(graph!$E$2=0,20,IF(AND(B279<graph!$E$10+graph!$E$32,B279>graph!$E$10-graph!$E$32),0.25,NA()))","v":20},null,null,null,null,null,null,{"$f":"IF(graph!$E$20=0,0,IF(graph!$E$2=0,20,IF(AND(B279<graph!$E$20+graph!$E$32,B279>graph!$E$20-graph!$E$32),0.25,0)))","v":0},{"$f":"IF(graph!$E$22=0,0,IF(graph!$E$2=0,20,IF(AND(B279>graph!$E$22-graph!$E$32,B279<graph!$E$22+graph!$E$32),0.25,0)))","v":0}]
[null,{"$f":"IF(graph!$E$2=0,\"\",B279+graph!$E$32)","v":""},{"$f":"IF(graph!$E$2=0,20,IF(SUM(K280+L280=0),NA(),0.25))","v":20},{"$f":"IF(graph!$E$2=0,20,IF(AND(B280<graph!$E$10+graph!$E$32,B280>graph!$E$10-graph!$E$32),0.25,NA()))","v":20},null,null,null,null,null,null,{"$f":"IF(graph!$E$20=0,0,IF(graph!$E$2=0,20,IF(AND(B280<graph!$E$20+graph!$E$32,B280>graph!$E$20-graph!$E$32),0.25,0)))","v":0},{"$f":"IF(graph!$E$22=0,0,IF(graph!$E$2=0,20,IF(AND(B280>graph!$E$22-graph!$E$32,B280<graph!$E$22+graph!$E$32),0.25,0)))","v":0}]
[null,{"$f":"IF(graph!$E$2=0,\"\",B280+graph!$E$32)","v":""},{"$f":"IF(graph!$E$2=0,20,IF(SUM(K281+L281=0),NA(),0.25))","v":20},{"$f":"IF(graph!$E$2=0,20,IF(AND(B281<graph!$E$10+graph!$E$32,B281>graph!$E$10-graph!$E$32),0.25,NA()))","v":20},null,null,null,null,null,null,{"$f":"IF(graph!$E$20=0,0,IF(graph!$E$2=0,20,IF(AND(B281<graph!$E$20+graph!$E$32,B281>graph!$E$20-graph!$E$32),0.25,0)))","v":0},{"$f":"IF(graph!$E$22=0,0,IF(graph!$E$2=0,20,IF(AND(B281>graph!$E$22-graph!$E$32,B281<graph!$E$22+graph!$E$32),0.25,0)))","v":0}]
[null,{"$f":"IF(graph!$E$2=0,\"\",B281+graph!$E$32)","v":""},{"$f":"IF(graph!$E$2=0,20,IF(SUM(K282+L282=0),NA(),0.25))","v":20},{"$f":"IF(graph!$E$2=0,20,IF(AND(B282<graph!$E$10+graph!$E$32,B282>graph!$E$10-graph!$E$32),0.25,NA()))","v":20},null,null,null,null,null,null,{"$f":"IF(graph!$E$20=0,0,IF(graph!$E$2=0,20,IF(AND(B282<graph!$E$20+graph!$E$32,B282>graph!$E$20-graph!$E$32),0.25,0)))","v":0},{"$f":"IF(graph!$E$22=0,0,IF(graph!$E$2=0,20,IF(AND(B282>graph!$E$22-graph!$E$32,B282<graph!$E$22+graph!$E$32),0.25,0)))","v":0}]
[null,{"$f":"IF(graph!$E$2=0,\"\",B282+graph!$E$32)","v":""},{"$f":"IF(graph!$E$2=0,20,IF(SUM(K283+L283=0),NA(),0.25))","v":20},{"$f":"IF(graph!$E$2=0,20,IF(AND(B283<graph!$E$10+graph!$E$32,B283>graph!$E$10-graph!$E$32),0.25,NA()))","v":20},null,null,null,null,null,null,{"$f":"IF(graph!$E$20=0,0,IF(graph!$E$2=0,20,IF(AND(B283<graph!$E$20+graph!$E$32,B283>graph!$E$20-graph!$E$32),0.25,0)))","v":0},{"$f":"IF(graph!$E$22=0,0,IF(graph!$E$2=0,20,IF(AND(B283>graph!$E$22-graph!$E$32,B283<graph!$E$22+graph!$E$32),0.25,0)))","v":0}]
[null,{"$f":"IF(graph!$E$2=0,\"\",B283+graph!$E$32)","v":""},{"$f":"IF(graph!$E$2=0,20,IF(SUM(K284+L284=0),NA(),0.25))","v":20},{"$f":"IF(graph!$E$2=0,20,IF(AND(B284<graph!$E$10+graph!$E$32,B284>graph!$E$10-graph!$E$32),0.25,NA()))","v":20},null,null,null,null,null,null,{"$f":"IF(graph!$E$20=0,0,IF(graph!$E$2=0,20,IF(AND(B284<graph!$E$20+graph!$E$32,B284>graph!$E$20-graph!$E$32),0.25,0)))","v":0},{"$f":"IF(graph!$E$22=0,0,IF(graph!$E$2=0,20,IF(AND(B284>graph!$E$22-graph!$E$32,B284<graph!$E$22+graph!$E$32),0.25,0)))","v":0}]
[null,{"$f":"IF(graph!$E$2=0,\"\",B284+graph!$E$32)","v":""},{"$f":"IF(graph!$E$2=0,20,IF(SUM(K285+L285=0),NA(),0.25))","v":20},{"$f":"IF(graph!$E$2=0,20,IF(AND(B285<graph!$E$10+graph!$E$32,B285>graph!$E$10-graph!$E$32),0.25,NA()))","v":20},null,null,null,null,null,null,{"$f":"IF(graph!$E$20=0,0,IF(graph!$E$2=0,20,IF(AND(B285<graph!$E$20+graph!$E$32,B285>graph!$E$20-graph!$E$32),0.25,0)))","v":0},{"$f":"IF(graph!$E$22=0,0,IF(graph!$E$2=0,20,IF(AND(B285>graph!$E$22-graph!$E$32,B285<graph!$E$22+graph!$E$32),0.25,0)))","v":0}]
[null,{"$f":"IF(graph!$E$2=0,\"\",B285+graph!$E$32)","v":""},{"$f":"IF(graph!$E$2=0,20,IF(SUM(K286+L286=0),NA(),0.25))","v":20},{"$f":"IF(graph!$E$2=0,20,IF(AND(B286<graph!$E$10+graph!$E$32,B286>graph!$E$10-graph!$E$32),0.25,NA()))","v":20},null,null,null,null,null,null,{"$f":"IF(graph!$E$20=0,0,IF(graph!$E$2=0,20,IF(AND(B286<graph!$E$20+graph!$E$32,B286>graph!$E$20-graph!$E$32),0.25,0)))","v":0},{"$f":"IF(graph!$E$22=0,0,IF(graph!$E$2=0,20,IF(AND(B286>graph!$E$22-graph!$E$32,B286<graph!$E$22+graph!$E$32),0.25,0)))","v":0}]
[null,{"$f":"IF(graph!$E$2=0,\"\",B286+graph!$E$32)","v":""},{"$f":"IF(graph!$E$2=0,20,IF(SUM(K287+L287=0),NA(),0.25))","v":20},{"$f":"IF(graph!$E$2=0,20,IF(AND(B287<graph!$E$10+graph!$E$32,B287>graph!$E$10-graph!$E$32),0.25,NA()))","v":20},null,null,null,null,null,null,{"$f":"IF(graph!$E$20=0,0,IF(graph!$E$2=0,20,IF(AND(B287<graph!$E$20+graph!$E$32,B287>graph!$E$20-graph!$E$32),0.25,0)))","v":0},{"$f":"IF(graph!$E$22=0,0,IF(graph!$E$2=0,20,IF(AND(B287>graph!$E$22-graph!$E$32,B287<graph!$E$22+graph!$E$32),0.25,0)))","v":0}]
[null,{"$f":"IF(graph!$E$2=0,\"\",B287+graph!$E$32)","v":""},{"$f":"IF(graph!$E$2=0,20,IF(SUM(K288+L288=0),NA(),0.25))","v":20},{"$f":"IF(graph!$E$2=0,20,IF(AND(B288<graph!$E$10+graph!$E$32,B288>graph!$E$10-graph!$E$32),0.25,NA()))","v":20},null,null,null,null,null,null,{"$f":"IF(graph!$E$20=0,0,IF(graph!$E$2=0,20,IF(AND(B288<graph!$E$20+graph!$E$32,B288>graph!$E$20-graph!$E$32),0.25,0)))","v":0},{"$f":"IF(graph!$E$22=0,0,IF(graph!$E$2=0,20,IF(AND(B288>graph!$E$22-graph!$E$32,B288<graph!$E$22+graph!$E$32),0.25,0)))","v":0}]
[null,{"$f":"IF(graph!$E$2=0,\"\",B288+graph!$E$32)","v":""},{"$f":"IF(graph!$E$2=0,20,IF(SUM(K289+L289=0),NA(),0.25))","v":20},{"$f":"IF(graph!$E$2=0,20,IF(AND(B289<graph!$E$10+graph!$E$32,B289>graph!$E$10-graph!$E$32),0.25,NA()))","v":20},null,null,null,null,null,null,{"$f":"IF(graph!$E$20=0,0,IF(graph!$E$2=0,20,IF(AND(B289<graph!$E$20+graph!$E$32,B289>graph!$E$20-graph!$E$32),0.25,0)))","v":0},{"$f":"IF(graph!$E$22=0,0,IF(graph!$E$2=0,20,IF(AND(B289>graph!$E$22-graph!$E$32,B289<graph!$E$22+graph!$E$32),0.25,0)))","v":0}]
[null,{"$f":"IF(graph!$E$2=0,\"\",B289+graph!$E$32)","v":""},{"$f":"IF(graph!$E$2=0,20,IF(SUM(K290+L290=0),NA(),0.25))","v":20},{"$f":"IF(graph!$E$2=0,20,IF(AND(B290<graph!$E$10+graph!$E$32,B290>graph!$E$10-graph!$E$32),0.25,NA()))","v":20},null,null,null,null,null,null,{"$f":"IF(graph!$E$20=0,0,IF(graph!$E$2=0,20,IF(AND(B290<graph!$E$20+graph!$E$32,B290>graph!$E$20-graph!$E$32),0.25,0)))","v":0},{"$f":"IF(graph!$E$22=0,0,IF(graph!$E$2=0,20,IF(AND(B290>graph!$E$22-graph!$E$32,B290<graph!$E$22+graph!$E$32),0.25,0)))","v":0}]
[null,{"$f":"IF(graph!$E$2=0,\"\",B290+graph!$E$32)","v":""},{"$f":"IF(graph!$E$2=0,20,IF(SUM(K291+L291=0),NA(),0.25))","v":20},{"$f":"IF(graph!$E$2=0,20,IF(AND(B291<graph!$E$10+graph!$E$32,B291>graph!$E$10-graph!$E$32),0.25,NA()))","v":20},null,null,null,null,null,null,{"$f":"IF(graph!$E$20=0,0,IF(graph!$E$2=0,20,IF(AND(B291<graph!$E$20+graph!$E$32,B291>graph!$E$20-graph!$E$32),0.25,0)))","v":0},{"$f":"IF(graph!$E$22=0,0,IF(graph!$E$2=0,20,IF(AND(B291>graph!$E$22-graph!$E$32,B291<graph!$E$22+graph!$E$32),0.25,0)))","v":0}]
[null,{"$f":"IF(graph!$E$2=0,\"\",B291+graph!$E$32)","v":""},{"$f":"IF(graph!$E$2=0,20,IF(SUM(K292+L292=0),NA(),0.25))","v":20},{"$f":"IF(graph!$E$2=0,20,IF(AND(B292<graph!$E$10+graph!$E$32,B292>graph!$E$10-graph!$E$32),0.25,NA()))","v":20},null,null,null,null,null,null,{"$f":"IF(graph!$E$20=0,0,IF(graph!$E$2=0,20,IF(AND(B292<graph!$E$20+graph!$E$32,B292>graph!$E$20-graph!$E$32),0.25,0)))","v":0},{"$f":"IF(graph!$E$22=0,0,IF(graph!$E$2=0,20,IF(AND(B292>graph!$E$22-graph!$E$32,B292<graph!$E$22+graph!$E$32),0.25,0)))","v":0}]
[null,{"$f":"IF(graph!$E$2=0,\"\",B292+graph!$E$32)","v":""},{"$f":"IF(graph!$E$2=0,20,IF(SUM(K293+L293=0),NA(),0.25))","v":20},{"$f":"IF(graph!$E$2=0,20,IF(AND(B293<graph!$E$10+graph!$E$32,B293>graph!$E$10-graph!$E$32),0.25,NA()))","v":20},null,null,null,null,null,null,{"$f":"IF(graph!$E$20=0,0,IF(graph!$E$2=0,20,IF(AND(B293<graph!$E$20+graph!$E$32,B293>graph!$E$20-graph!$E$32),0.25,0)))","v":0},{"$f":"IF(graph!$E$22=0,0,IF(graph!$E$2=0,20,IF(AND(B293>graph!$E$22-graph!$E$32,B293<graph!$E$22+graph!$E$32),0.25,0)))","v":0}]
[null,{"$f":"IF(graph!$E$2=0,\"\",B293+graph!$E$32)","v":""},{"$f":"IF(graph!$E$2=0,20,IF(SUM(K294+L294=0),NA(),0.25))","v":20},{"$f":"IF(graph!$E$2=0,20,IF(AND(B294<graph!$E$10+graph!$E$32,B294>graph!$E$10-graph!$E$32),0.25,NA()))","v":20},null,null,null,null,null,null,{"$f":"IF(graph!$E$20=0,0,IF(graph!$E$2=0,20,IF(AND(B294<graph!$E$20+graph!$E$32,B294>graph!$E$20-graph!$E$32),0.25,0)))","v":0},{"$f":"IF(graph!$E$22=0,0,IF(graph!$E$2=0,20,IF(AND(B294>graph!$E$22-graph!$E$32,B294<graph!$E$22+graph!$E$32),0.25,0)))","v":0}]
[null,{"$f":"IF(graph!$E$2=0,\"\",B294+graph!$E$32)","v":""},{"$f":"IF(graph!$E$2=0,20,IF(SUM(K295+L295=0),NA(),0.25))","v":20},{"$f":"IF(graph!$E$2=0,20,IF(AND(B295<graph!$E$10+graph!$E$32,B295>graph!$E$10-graph!$E$32),0.25,NA()))","v":20},null,null,null,null,null,null,{"$f":"IF(graph!$E$20=0,0,IF(graph!$E$2=0,20,IF(AND(B295<graph!$E$20+graph!$E$32,B295>graph!$E$20-graph!$E$32),0.25,0)))","v":0},{"$f":"IF(graph!$E$22=0,0,IF(graph!$E$2=0,20,IF(AND(B295>graph!$E$22-graph!$E$32,B295<graph!$E$22+graph!$E$32),0.25,0)))","v":0}]
[null,{"$f":"IF(graph!$E$2=0,\"\",B295+graph!$E$32)","v":""},{"$f":"IF(graph!$E$2=0,20,IF(SUM(K296+L296=0),NA(),0.25))","v":20},{"$f":"IF(graph!$E$2=0,20,IF(AND(B296<graph!$E$10+graph!$E$32,B296>graph!$E$10-graph!$E$32),0.25,NA()))","v":20},null,null,null,null,null,null,{"$f":"IF(graph!$E$20=0,0,IF(graph!$E$2=0,20,IF(AND(B296<graph!$E$20+graph!$E$32,B296>graph!$E$20-graph!$E$32),0.25,0)))","v":0},{"$f":"IF(graph!$E$22=0,0,IF(graph!$E$2=0,20,IF(AND(B296>graph!$E$22-graph!$E$32,B296<graph!$E$22+graph!$E$32),0.25,0)))","v":0}]
[null,{"$f":"IF(graph!$E$2=0,\"\",B296+graph!$E$32)","v":""},{"$f":"IF(graph!$E$2=0,20,IF(SUM(K297+L297=0),NA(),0.25))","v":20},{"$f":"IF(graph!$E$2=0,20,IF(AND(B297<graph!$E$10+graph!$E$32,B297>graph!$E$10-graph!$E$32),0.25,NA()))","v":20},null,null,null,null,null,null,{"$f":"IF(graph!$E$20=0,0,IF(graph!$E$2=0,20,IF(AND(B297<graph!$E$20+graph!$E$32,B297>graph!$E$20-graph!$E$32),0.25,0)))","v":0},{"$f":"IF(graph!$E$22=0,0,IF(graph!$E$2=0,20,IF(AND(B297>graph!$E$22-graph!$E$32,B297<graph!$E$22+graph!$E$32),0.25,0)))","v":0}]
[null,{"$f":"IF(graph!$E$2=0,\"\",B297+graph!$E$32)","v":""},{"$f":"IF(graph!$E$2=0,20,IF(SUM(K298+L298=0),NA(),0.25))","v":20},{"$f":"IF(graph!$E$2=0,20,IF(AND(B298<graph!$E$10+graph!$E$32,B298>graph!$E$10-graph!$E$32),0.25,NA()))","v":20},null,null,null,null,null,null,{"$f":"IF(graph!$E$20=0,0,IF(graph!$E$2=0,20,IF(AND(B298<graph!$E$20+graph!$E$32,B298>graph!$E$20-graph!$E$32),0.25,0)))","v":0},{"$f":"IF(graph!$E$22=0,0,IF(graph!$E$2=0,20,IF(AND(B298>graph!$E$22-graph!$E$32,B298<graph!$E$22+graph!$E$32),0.25,0)))","v":0}]
[null,{"$f":"IF(graph!$E$2=0,\"\",B298+graph!$E$32)","v":""},{"$f":"IF(graph!$E$2=0,20,IF(SUM(K299+L299=0),NA(),0.25))","v":20},{"$f":"IF(graph!$E$2=0,20,IF(AND(B299<graph!$E$10+graph!$E$32,B299>graph!$E$10-graph!$E$32),0.25,NA()))","v":20},null,null,null,null,null,null,{"$f":"IF(graph!$E$20=0,0,IF(graph!$E$2=0,20,IF(AND(B299<graph!$E$20+graph!$E$32,B299>graph!$E$20-graph!$E$32),0.25,0)))","v":0},{"$f":"IF(graph!$E$22=0,0,IF(graph!$E$2=0,20,IF(AND(B299>graph!$E$22-graph!$E$32,B299<graph!$E$22+graph!$E$32),0.25,0)))","v":0}]
[null,{"$f":"IF(graph!$E$2=0,\"\",B299+graph!$E$32)","v":""},{"$f":"IF(graph!$E$2=0,20,IF(SUM(K300+L300=0),NA(),0.25))","v":20},{"$f":"IF(graph!$E$2=0,20,IF(AND(B300<graph!$E$10+graph!$E$32,B300>graph!$E$10-graph!$E$32),0.25,NA()))","v":20},null,null,null,null,null,null,{"$f":"IF(graph!$E$20=0,0,IF(graph!$E$2=0,20,IF(AND(B300<graph!$E$20+graph!$E$32,B300>graph!$E$20-graph!$E$32),0.25,0)))","v":0},{"$f":"IF(graph!$E$22=0,0,IF(graph!$E$2=0,20,IF(AND(B300>graph!$E$22-graph!$E$32,B300<graph!$E$22+graph!$E$32),0.25,0)))","v":0}]
[null,{"$f":"IF(graph!$E$2=0,\"\",B300+graph!$E$32)","v":""},{"$f":"IF(graph!$E$2=0,20,IF(SUM(K301+L301=0),NA(),0.25))","v":20},{"$f":"IF(graph!$E$2=0,20,IF(AND(B301<graph!$E$10+graph!$E$32,B301>graph!$E$10-graph!$E$32),0.25,NA()))","v":20},null,null,null,null,null,null,{"$f":"IF(graph!$E$20=0,0,IF(graph!$E$2=0,20,IF(AND(B301<graph!$E$20+graph!$E$32,B301>graph!$E$20-graph!$E$32),0.25,0)))","v":0},{"$f":"IF(graph!$E$22=0,0,IF(graph!$E$2=0,20,IF(AND(B301>graph!$E$22-graph!$E$32,B301<graph!$E$22+graph!$E$32),0.25,0)))","v":0}]
[null,{"$f":"IF(graph!$E$2=0,\"\",B301+graph!$E$32)","v":""},{"$f":"IF(graph!$E$2=0,20,IF(SUM(K302+L302=0),NA(),0.25))","v":20},{"$f":"IF(graph!$E$2=0,20,IF(AND(B302<graph!$E$10+graph!$E$32,B302>graph!$E$10-graph!$E$32),0.25,NA()))","v":20},null,null,null,null,null,null,{"$f":"IF(graph!$E$20=0,0,IF(graph!$E$2=0,20,IF(AND(B302<graph!$E$20+graph!$E$32,B302>graph!$E$20-graph!$E$32),0.25,0)))","v":0},{"$f":"IF(graph!$E$22=0,0,IF(graph!$E$2=0,20,IF(AND(B302>graph!$E$22-graph!$E$32,B302<graph!$E$22+graph!$E$32),0.25,0)))","v":0}]
[null,{"$f":"IF(graph!$E$2=0,\"\",B302+graph!$E$32)","v":""},{"$f":"IF(graph!$E$2=0,20,IF(SUM(K303+L303=0),NA(),0.25))","v":20},{"$f":"IF(graph!$E$2=0,20,IF(AND(B303<graph!$E$10+graph!$E$32,B303>graph!$E$10-graph!$E$32),0.25,NA()))","v":20},null,null,null,null,null,null,{"$f":"IF(graph!$E$20=0,0,IF(graph!$E$2=0,20,IF(AND(B303<graph!$E$20+graph!$E$32,B303>graph!$E$20-graph!$E$32),0.25,0)))","v":0},{"$f":"IF(graph!$E$22=0,0,IF(graph!$E$2=0,20,IF(AND(B303>graph!$E$22-graph!$E$32,B303<graph!$E$22+graph!$E$32),0.25,0)))","v":0}]
[null,{"$f":"IF(graph!$E$2=0,\"\",B303+graph!$E$32)","v":""},{"$f":"IF(graph!$E$2=0,20,IF(SUM(K304+L304=0),NA(),0.25))","v":20},{"$f":"IF(graph!$E$2=0,20,IF(AND(B304<graph!$E$10+graph!$E$32,B304>graph!$E$10-graph!$E$32),0.25,NA()))","v":20},null,null,null,null,null,null,{"$f":"IF(graph!$E$20=0,0,IF(graph!$E$2=0,20,IF(AND(B304<graph!$E$20+graph!$E$32,B304>graph!$E$20-graph!$E$32),0.25,0)))","v":0},{"$f":"IF(graph!$E$22=0,0,IF(graph!$E$2=0,20,IF(AND(B304>graph!$E$22-graph!$E$32,B304<graph!$E$22+graph!$E$32),0.25,0)))","v":0}]
[null,{"$f":"IF(graph!$E$2=0,\"\",B304+graph!$E$32)","v":""},{"$f":"IF(graph!$E$2=0,20,IF(SUM(K305+L305=0),NA(),0.25))","v":20},{"$f":"IF(graph!$E$2=0,20,IF(AND(B305<graph!$E$10+graph!$E$32,B305>graph!$E$10-graph!$E$32),0.25,NA()))","v":20},null,null,null,null,null,null,{"$f":"IF(graph!$E$20=0,0,IF(graph!$E$2=0,20,IF(AND(B305<graph!$E$20+graph!$E$32,B305>graph!$E$20-graph!$E$32),0.25,0)))","v":0},{"$f":"IF(graph!$E$22=0,0,IF(graph!$E$2=0,20,IF(AND(B305>graph!$E$22-graph!$E$32,B305<graph!$E$22+graph!$E$32),0.25,0)))","v":0}]
[null,{"$f":"IF(graph!$E$2=0,\"\",B305+graph!$E$32)","v":""},{"$f":"IF(graph!$E$2=0,20,IF(SUM(K306+L306=0),NA(),0.25))","v":20},{"$f":"IF(graph!$E$2=0,20,IF(AND(B306<graph!$E$10+graph!$E$32,B306>graph!$E$10-graph!$E$32),0.25,NA()))","v":20},null,null,null,null,null,null,{"$f":"IF(graph!$E$20=0,0,IF(graph!$E$2=0,20,IF(AND(B306<graph!$E$20+graph!$E$32,B306>graph!$E$20-graph!$E$32),0.25,0)))","v":0},{"$f":"IF(graph!$E$22=0,0,IF(graph!$E$2=0,20,IF(AND(B306>graph!$E$22-graph!$E$32,B306<graph!$E$22+graph!$E$32),0.25,0)))","v":0}]
[null,{"$f":"IF(graph!$E$2=0,\"\",B306+graph!$E$32)","v":""},{"$f":"IF(graph!$E$2=0,20,IF(SUM(K307+L307=0),NA(),0.25))","v":20},{"$f":"IF(graph!$E$2=0,20,IF(AND(B307<graph!$E$10+graph!$E$32,B307>graph!$E$10-graph!$E$32),0.25,NA()))","v":20},null,null,null,null,null,null,{"$f":"IF(graph!$E$20=0,0,IF(graph!$E$2=0,20,IF(AND(B307<graph!$E$20+graph!$E$32,B307>graph!$E$20-graph!$E$32),0.25,0)))","v":0},{"$f":"IF(graph!$E$22=0,0,IF(graph!$E$2=0,20,IF(AND(B307>graph!$E$22-graph!$E$32,B307<graph!$E$22+graph!$E$32),0.25,0)))","v":0}]
[null,{"$f":"IF(graph!$E$2=0,\"\",B307+graph!$E$32)","v":""},{"$f":"IF(graph!$E$2=0,20,IF(SUM(K308+L308=0),NA(),0.25))","v":20},{"$f":"IF(graph!$E$2=0,20,IF(AND(B308<graph!$E$10+graph!$E$32,B308>graph!$E$10-graph!$E$32),0.25,NA()))","v":20},null,null,null,null,null,null,{"$f":"IF(graph!$E$20=0,0,IF(graph!$E$2=0,20,IF(AND(B308<graph!$E$20+graph!$E$32,B308>graph!$E$20-graph!$E$32),0.25,0)))","v":0},{"$f":"IF(graph!$E$22=0,0,IF(graph!$E$2=0,20,IF(AND(B308>graph!$E$22-graph!$E$32,B308<graph!$E$22+graph!$E$32),0.25,0)))","v":0}]
[null,{"$f":"IF(graph!$E$2=0,\"\",B308+graph!$E$32)","v":""},{"$f":"IF(graph!$E$2=0,20,IF(SUM(K309+L309=0),NA(),0.25))","v":20},{"$f":"IF(graph!$E$2=0,20,IF(AND(B309<graph!$E$10+graph!$E$32,B309>graph!$E$10-graph!$E$32),0.25,NA()))","v":20},null,null,null,null,null,null,{"$f":"IF(graph!$E$20=0,0,IF(graph!$E$2=0,20,IF(AND(B309<graph!$E$20+graph!$E$32,B309>graph!$E$20-graph!$E$32),0.25,0)))","v":0},{"$f":"IF(graph!$E$22=0,0,IF(graph!$E$2=0,20,IF(AND(B309>graph!$E$22-graph!$E$32,B309<graph!$E$22+graph!$E$32),0.25,0)))","v":0}]
[null,{"$f":"IF(graph!$E$2=0,\"\",B309+graph!$E$32)","v":""},{"$f":"IF(graph!$E$2=0,20,IF(SUM(K310+L310=0),NA(),0.25))","v":20},{"$f":"IF(graph!$E$2=0,20,IF(AND(B310<graph!$E$10+graph!$E$32,B310>graph!$E$10-graph!$E$32),0.25,NA()))","v":20},null,null,null,null,null,null,{"$f":"IF(graph!$E$20=0,0,IF(graph!$E$2=0,20,IF(AND(B310<graph!$E$20+graph!$E$32,B310>graph!$E$20-graph!$E$32),0.25,0)))","v":0},{"$f":"IF(graph!$E$22=0,0,IF(graph!$E$2=0,20,IF(AND(B310>graph!$E$22-graph!$E$32,B310<graph!$E$22+graph!$E$32),0.25,0)))","v":0}]
[null,{"$f":"IF(graph!$E$2=0,\"\",B310+graph!$E$32)","v":""},{"$f":"IF(graph!$E$2=0,20,IF(SUM(K311+L311=0),NA(),0.25))","v":20},{"$f":"IF(graph!$E$2=0,20,IF(AND(B311<graph!$E$10+graph!$E$32,B311>graph!$E$10-graph!$E$32),0.25,NA()))","v":20},null,null,null,null,null,null,{"$f":"IF(graph!$E$20=0,0,IF(graph!$E$2=0,20,IF(AND(B311<graph!$E$20+graph!$E$32,B311>graph!$E$20-graph!$E$32),0.25,0)))","v":0},{"$f":"IF(graph!$E$22=0,0,IF(graph!$E$2=0,20,IF(AND(B311>graph!$E$22-graph!$E$32,B311<graph!$E$22+graph!$E$32),0.25,0)))","v":0}]
[null,{"$f":"IF(graph!$E$2=0,\"\",B311+graph!$E$32)","v":""},{"$f":"IF(graph!$E$2=0,20,IF(SUM(K312+L312=0),NA(),0.25))","v":20},{"$f":"IF(graph!$E$2=0,20,IF(AND(B312<graph!$E$10+graph!$E$32,B312>graph!$E$10-graph!$E$32),0.25,NA()))","v":20},null,null,null,null,null,null,{"$f":"IF(graph!$E$20=0,0,IF(graph!$E$2=0,20,IF(AND(B312<graph!$E$20+graph!$E$32,B312>graph!$E$20-graph!$E$32),0.25,0)))","v":0},{"$f":"IF(graph!$E$22=0,0,IF(graph!$E$2=0,20,IF(AND(B312>graph!$E$22-graph!$E$32,B312<graph!$E$22+graph!$E$32),0.25,0)))","v":0}]
[null,{"$f":"IF(graph!$E$2=0,\"\",B312+graph!$E$32)","v":""},{"$f":"IF(graph!$E$2=0,20,IF(SUM(K313+L313=0),NA(),0.25))","v":20},{"$f":"IF(graph!$E$2=0,20,IF(AND(B313<graph!$E$10+graph!$E$32,B313>graph!$E$10-graph!$E$32),0.25,NA()))","v":20},null,null,null,null,null,null,{"$f":"IF(graph!$E$20=0,0,IF(graph!$E$2=0,20,IF(AND(B313<graph!$E$20+graph!$E$32,B313>graph!$E$20-graph!$E$32),0.25,0)))","v":0},{"$f":"IF(graph!$E$22=0,0,IF(graph!$E$2=0,20,IF(AND(B313>graph!$E$22-graph!$E$32,B313<graph!$E$22+graph!$E$32),0.25,0)))","v":0}]
[null,{"$f":"IF(graph!$E$2=0,\"\",B313+graph!$E$32)","v":""},{"$f":"IF(graph!$E$2=0,20,IF(SUM(K314+L314=0),NA(),0.25))","v":20},{"$f":"IF(graph!$E$2=0,20,IF(AND(B314<graph!$E$10+graph!$E$32,B314>graph!$E$10-graph!$E$32),0.25,NA()))","v":20},null,null,null,null,null,null,{"$f":"IF(graph!$E$20=0,0,IF(graph!$E$2=0,20,IF(AND(B314<graph!$E$20+graph!$E$32,B314>graph!$E$20-graph!$E$32),0.25,0)))","v":0},{"$f":"IF(graph!$E$22=0,0,IF(graph!$E$2=0,20,IF(AND(B314>graph!$E$22-graph!$E$32,B314<graph!$E$22+graph!$E$32),0.25,0)))","v":0}]
[null,{"$f":"IF(graph!$E$2=0,\"\",B314+graph!$E$32)","v":""},{"$f":"IF(graph!$E$2=0,20,IF(SUM(K315+L315=0),NA(),0.25))","v":20},{"$f":"IF(graph!$E$2=0,20,IF(AND(B315<graph!$E$10+graph!$E$32,B315>graph!$E$10-graph!$E$32),0.25,NA()))","v":20},null,null,null,null,null,null,{"$f":"IF(graph!$E$20=0,0,IF(graph!$E$2=0,20,IF(AND(B315<graph!$E$20+graph!$E$32,B315>graph!$E$20-graph!$E$32),0.25,0)))","v":0},{"$f":"IF(graph!$E$22=0,0,IF(graph!$E$2=0,20,IF(AND(B315>graph!$E$22-graph!$E$32,B315<graph!$E$22+graph!$E$32),0.25,0)))","v":0}]
[null,{"$f":"IF(graph!$E$2=0,\"\",B315+graph!$E$32)","v":""},{"$f":"IF(graph!$E$2=0,20,IF(SUM(K316+L316=0),NA(),0.25))","v":20},{"$f":"IF(graph!$E$2=0,20,IF(AND(B316<graph!$E$10+graph!$E$32,B316>graph!$E$10-graph!$E$32),0.25,NA()))","v":20},null,null,null,null,null,null,{"$f":"IF(graph!$E$20=0,0,IF(graph!$E$2=0,20,IF(AND(B316<graph!$E$20+graph!$E$32,B316>graph!$E$20-graph!$E$32),0.25,0)))","v":0},{"$f":"IF(graph!$E$22=0,0,IF(graph!$E$2=0,20,IF(AND(B316>graph!$E$22-graph!$E$32,B316<graph!$E$22+graph!$E$32),0.25,0)))","v":0}]
[null,{"$f":"IF(graph!$E$2=0,\"\",B316+graph!$E$32)","v":""},{"$f":"IF(graph!$E$2=0,20,IF(SUM(K317+L317=0),NA(),0.25))","v":20},{"$f":"IF(graph!$E$2=0,20,IF(AND(B317<graph!$E$10+graph!$E$32,B317>graph!$E$10-graph!$E$32),0.25,NA()))","v":20},null,null,null,null,null,null,{"$f":"IF(graph!$E$20=0,0,IF(graph!$E$2=0,20,IF(AND(B317<graph!$E$20+graph!$E$32,B317>graph!$E$20-graph!$E$32),0.25,0)))","v":0},{"$f":"IF(graph!$E$22=0,0,IF(graph!$E$2=0,20,IF(AND(B317>graph!$E$22-graph!$E$32,B317<graph!$E$22+graph!$E$32),0.25,0)))","v":0}]
[null,{"$f":"IF(graph!$E$2=0,\"\",B317+graph!$E$32)","v":""},{"$f":"IF(graph!$E$2=0,20,IF(SUM(K318+L318=0),NA(),0.25))","v":20},{"$f":"IF(graph!$E$2=0,20,IF(AND(B318<graph!$E$10+graph!$E$32,B318>graph!$E$10-graph!$E$32),0.25,NA()))","v":20},null,null,null,null,null,null,{"$f":"IF(graph!$E$20=0,0,IF(graph!$E$2=0,20,IF(AND(B318<graph!$E$20+graph!$E$32,B318>graph!$E$20-graph!$E$32),0.25,0)))","v":0},{"$f":"IF(graph!$E$22=0,0,IF(graph!$E$2=0,20,IF(AND(B318>graph!$E$22-graph!$E$32,B318<graph!$E$22+graph!$E$32),0.25,0)))","v":0}]
[null,{"$f":"IF(graph!$E$2=0,\"\",B318+graph!$E$32)","v":""},{"$f":"IF(graph!$E$2=0,20,IF(SUM(K319+L319=0),NA(),0.25))","v":20},{"$f":"IF(graph!$E$2=0,20,IF(AND(B319<graph!$E$10+graph!$E$32,B319>graph!$E$10-graph!$E$32),0.25,NA()))","v":20},null,null,null,null,null,null,{"$f":"IF(graph!$E$20=0,0,IF(graph!$E$2=0,20,IF(AND(B319<graph!$E$20+graph!$E$32,B319>graph!$E$20-graph!$E$32),0.25,0)))","v":0},{"$f":"IF(graph!$E$22=0,0,IF(graph!$E$2=0,20,IF(AND(B319>graph!$E$22-graph!$E$32,B319<graph!$E$22+graph!$E$32),0.25,0)))","v":0}]
[null,{"$f":"IF(graph!$E$2=0,\"\",B319+graph!$E$32)","v":""},{"$f":"IF(graph!$E$2=0,20,IF(SUM(K320+L320=0),NA(),0.25))","v":20},{"$f":"IF(graph!$E$2=0,20,IF(AND(B320<graph!$E$10+graph!$E$32,B320>graph!$E$10-graph!$E$32),0.25,NA()))","v":20},null,null,null,null,null,null,{"$f":"IF(graph!$E$20=0,0,IF(graph!$E$2=0,20,IF(AND(B320<graph!$E$20+graph!$E$32,B320>graph!$E$20-graph!$E$32),0.25,0)))","v":0},{"$f":"IF(graph!$E$22=0,0,IF(graph!$E$2=0,20,IF(AND(B320>graph!$E$22-graph!$E$32,B320<graph!$E$22+graph!$E$32),0.25,0)))","v":0}]
[null,{"$f":"IF(graph!$E$2=0,\"\",B320+graph!$E$32)","v":""},{"$f":"IF(graph!$E$2=0,20,IF(SUM(K321+L321=0),NA(),0.25))","v":20},{"$f":"IF(graph!$E$2=0,20,IF(AND(B321<graph!$E$10+graph!$E$32,B321>graph!$E$10-graph!$E$32),0.25,NA()))","v":20},null,null,null,null,null,null,{"$f":"IF(graph!$E$20=0,0,IF(graph!$E$2=0,20,IF(AND(B321<graph!$E$20+graph!$E$32,B321>graph!$E$20-graph!$E$32),0.25,0)))","v":0},{"$f":"IF(graph!$E$22=0,0,IF(graph!$E$2=0,20,IF(AND(B321>graph!$E$22-graph!$E$32,B321<graph!$E$22+graph!$E$32),0.25,0)))","v":0}]
[null,{"$f":"IF(graph!$E$2=0,\"\",B321+graph!$E$32)","v":""},{"$f":"IF(graph!$E$2=0,20,IF(SUM(K322+L322=0),NA(),0.25))","v":20},{"$f":"IF(graph!$E$2=0,20,IF(AND(B322<graph!$E$10+graph!$E$32,B322>graph!$E$10-graph!$E$32),0.25,NA()))","v":20},null,null,null,null,null,null,{"$f":"IF(graph!$E$20=0,0,IF(graph!$E$2=0,20,IF(AND(B322<graph!$E$20+graph!$E$32,B322>graph!$E$20-graph!$E$32),0.25,0)))","v":0},{"$f":"IF(graph!$E$22=0,0,IF(graph!$E$2=0,20,IF(AND(B322>graph!$E$22-graph!$E$32,B322<graph!$E$22+graph!$E$32),0.25,0)))","v":0}]
[null,{"$f":"IF(graph!$E$2=0,\"\",B322+graph!$E$32)","v":""},{"$f":"IF(graph!$E$2=0,20,IF(SUM(K323+L323=0),NA(),0.25))","v":20},{"$f":"IF(graph!$E$2=0,20,IF(AND(B323<graph!$E$10+graph!$E$32,B323>graph!$E$10-graph!$E$32),0.25,NA()))","v":20},null,null,null,null,null,null,{"$f":"IF(graph!$E$20=0,0,IF(graph!$E$2=0,20,IF(AND(B323<graph!$E$20+graph!$E$32,B323>graph!$E$20-graph!$E$32),0.25,0)))","v":0},{"$f":"IF(graph!$E$22=0,0,IF(graph!$E$2=0,20,IF(AND(B323>graph!$E$22-graph!$E$32,B323<graph!$E$22+graph!$E$32),0.25,0)))","v":0}]
[null,{"$f":"IF(graph!$E$2=0,\"\",B323+graph!$E$32)","v":""},{"$f":"IF(graph!$E$2=0,20,IF(SUM(K324+L324=0),NA(),0.25))","v":20},{"$f":"IF(graph!$E$2=0,20,IF(AND(B324<graph!$E$10+graph!$E$32,B324>graph!$E$10-graph!$E$32),0.25,NA()))","v":20},null,null,null,null,null,null,{"$f":"IF(graph!$E$20=0,0,IF(graph!$E$2=0,20,IF(AND(B324<graph!$E$20+graph!$E$32,B324>graph!$E$20-graph!$E$32),0.25,0)))","v":0},{"$f":"IF(graph!$E$22=0,0,IF(graph!$E$2=0,20,IF(AND(B324>graph!$E$22-graph!$E$32,B324<graph!$E$22+graph!$E$32),0.25,0)))","v":0}]
[null,{"$f":"IF(graph!$E$2=0,\"\",B324+graph!$E$32)","v":""},{"$f":"IF(graph!$E$2=0,20,IF(SUM(K325+L325=0),NA(),0.25))","v":20},{"$f":"IF(graph!$E$2=0,20,IF(AND(B325<graph!$E$10+graph!$E$32,B325>graph!$E$10-graph!$E$32),0.25,NA()))","v":20},null,null,null,null,null,null,{"$f":"IF(graph!$E$20=0,0,IF(graph!$E$2=0,20,IF(AND(B325<graph!$E$20+graph!$E$32,B325>graph!$E$20-graph!$E$32),0.25,0)))","v":0},{"$f":"IF(graph!$E$22=0,0,IF(graph!$E$2=0,20,IF(AND(B325>graph!$E$22-graph!$E$32,B325<graph!$E$22+graph!$E$32),0.25,0)))","v":0}]
[null,{"$f":"IF(graph!$E$2=0,\"\",B325+graph!$E$32)","v":""},{"$f":"IF(graph!$E$2=0,20,IF(SUM(K326+L326=0),NA(),0.25))","v":20},{"$f":"IF(graph!$E$2=0,20,IF(AND(B326<graph!$E$10+graph!$E$32,B326>graph!$E$10-graph!$E$32),0.25,NA()))","v":20},null,null,null,null,null,null,{"$f":"IF(graph!$E$20=0,0,IF(graph!$E$2=0,20,IF(AND(B326<graph!$E$20+graph!$E$32,B326>graph!$E$20-graph!$E$32),0.25,0)))","v":0},{"$f":"IF(graph!$E$22=0,0,IF(graph!$E$2=0,20,IF(AND(B326>graph!$E$22-graph!$E$32,B326<graph!$E$22+graph!$E$32),0.25,0)))","v":0}]
[null,{"$f":"IF(graph!$E$2=0,\"\",B326+graph!$E$32)","v":""},{"$f":"IF(graph!$E$2=0,20,IF(SUM(K327+L327=0),NA(),0.25))","v":20},{"$f":"IF(graph!$E$2=0,20,IF(AND(B327<graph!$E$10+graph!$E$32,B327>graph!$E$10-graph!$E$32),0.25,NA()))","v":20},null,null,null,null,null,null,{"$f":"IF(graph!$E$20=0,0,IF(graph!$E$2=0,20,IF(AND(B327<graph!$E$20+graph!$E$32,B327>graph!$E$20-graph!$E$32),0.25,0)))","v":0},{"$f":"IF(graph!$E$22=0,0,IF(graph!$E$2=0,20,IF(AND(B327>graph!$E$22-graph!$E$32,B327<graph!$E$22+graph!$E$32),0.25,0)))","v":0}]
[null,{"$f":"IF(graph!$E$2=0,\"\",B327+graph!$E$32)","v":""},{"$f":"IF(graph!$E$2=0,20,IF(SUM(K328+L328=0),NA(),0.25))","v":20},{"$f":"IF(graph!$E$2=0,20,IF(AND(B328<graph!$E$10+graph!$E$32,B328>graph!$E$10-graph!$E$32),0.25,NA()))","v":20},null,null,null,null,null,null,{"$f":"IF(graph!$E$20=0,0,IF(graph!$E$2=0,20,IF(AND(B328<graph!$E$20+graph!$E$32,B328>graph!$E$20-graph!$E$32),0.25,0)))","v":0},{"$f":"IF(graph!$E$22=0,0,IF(graph!$E$2=0,20,IF(AND(B328>graph!$E$22-graph!$E$32,B328<graph!$E$22+graph!$E$32),0.25,0)))","v":0}]
[null,{"$f":"IF(graph!$E$2=0,\"\",B328+graph!$E$32)","v":""},{"$f":"IF(graph!$E$2=0,20,IF(SUM(K329+L329=0),NA(),0.25))","v":20},{"$f":"IF(graph!$E$2=0,20,IF(AND(B329<graph!$E$10+graph!$E$32,B329>graph!$E$10-graph!$E$32),0.25,NA()))","v":20},null,null,null,null,null,null,{"$f":"IF(graph!$E$20=0,0,IF(graph!$E$2=0,20,IF(AND(B329<graph!$E$20+graph!$E$32,B329>graph!$E$20-graph!$E$32),0.25,0)))","v":0},{"$f":"IF(graph!$E$22=0,0,IF(graph!$E$2=0,20,IF(AND(B329>graph!$E$22-graph!$E$32,B329<graph!$E$22+graph!$E$32),0.25,0)))","v":0}]
[null,{"$f":"IF(graph!$E$2=0,\"\",B329+graph!$E$32)","v":""},{"$f":"IF(graph!$E$2=0,20,IF(SUM(K330+L330=0),NA(),0.25))","v":20},{"$f":"IF(graph!$E$2=0,20,IF(AND(B330<graph!$E$10+graph!$E$32,B330>graph!$E$10-graph!$E$32),0.25,NA()))","v":20},null,null,null,null,null,null,{"$f":"IF(graph!$E$20=0,0,IF(graph!$E$2=0,20,IF(AND(B330<graph!$E$20+graph!$E$32,B330>graph!$E$20-graph!$E$32),0.25,0)))","v":0},{"$f":"IF(graph!$E$22=0,0,IF(graph!$E$2=0,20,IF(AND(B330>graph!$E$22-graph!$E$32,B330<graph!$E$22+graph!$E$32),0.25,0)))","v":0}]
[null,{"$f":"IF(graph!$E$2=0,\"\",B330+graph!$E$32)","v":""},{"$f":"IF(graph!$E$2=0,20,IF(SUM(K331+L331=0),NA(),0.25))","v":20},{"$f":"IF(graph!$E$2=0,20,IF(AND(B331<graph!$E$10+graph!$E$32,B331>graph!$E$10-graph!$E$32),0.25,NA()))","v":20},null,null,null,null,null,null,{"$f":"IF(graph!$E$20=0,0,IF(graph!$E$2=0,20,IF(AND(B331<graph!$E$20+graph!$E$32,B331>graph!$E$20-graph!$E$32),0.25,0)))","v":0},{"$f":"IF(graph!$E$22=0,0,IF(graph!$E$2=0,20,IF(AND(B331>graph!$E$22-graph!$E$32,B331<graph!$E$22+graph!$E$32),0.25,0)))","v":0}]
[null,{"$f":"IF(graph!$E$2=0,\"\",B331+graph!$E$32)","v":""},{"$f":"IF(graph!$E$2=0,20,IF(SUM(K332+L332=0),NA(),0.25))","v":20},{"$f":"IF(graph!$E$2=0,20,IF(AND(B332<graph!$E$10+graph!$E$32,B332>graph!$E$10-graph!$E$32),0.25,NA()))","v":20},null,null,null,null,null,null,{"$f":"IF(graph!$E$20=0,0,IF(graph!$E$2=0,20,IF(AND(B332<graph!$E$20+graph!$E$32,B332>graph!$E$20-graph!$E$32),0.25,0)))","v":0},{"$f":"IF(graph!$E$22=0,0,IF(graph!$E$2=0,20,IF(AND(B332>graph!$E$22-graph!$E$32,B332<graph!$E$22+graph!$E$32),0.25,0)))","v":0}]
[null,{"$f":"IF(graph!$E$2=0,\"\",B332+graph!$E$32)","v":""},{"$f":"IF(graph!$E$2=0,20,IF(SUM(K333+L333=0),NA(),0.25))","v":20},{"$f":"IF(graph!$E$2=0,20,IF(AND(B333<graph!$E$10+graph!$E$32,B333>graph!$E$10-graph!$E$32),0.25,NA()))","v":20},null,null,null,null,null,null,{"$f":"IF(graph!$E$20=0,0,IF(graph!$E$2=0,20,IF(AND(B333<graph!$E$20+graph!$E$32,B333>graph!$E$20-graph!$E$32),0.25,0)))","v":0},{"$f":"IF(graph!$E$22=0,0,IF(graph!$E$2=0,20,IF(AND(B333>graph!$E$22-graph!$E$32,B333<graph!$E$22+graph!$E$32),0.25,0)))","v":0}]
[null,{"$f":"IF(graph!$E$2=0,\"\",B333+graph!$E$32)","v":""},{"$f":"IF(graph!$E$2=0,20,IF(SUM(K334+L334=0),NA(),0.25))","v":20},{"$f":"IF(graph!$E$2=0,20,IF(AND(B334<graph!$E$10+graph!$E$32,B334>graph!$E$10-graph!$E$32),0.25,NA()))","v":20},null,null,null,null,null,null,{"$f":"IF(graph!$E$20=0,0,IF(graph!$E$2=0,20,IF(AND(B334<graph!$E$20+graph!$E$32,B334>graph!$E$20-graph!$E$32),0.25,0)))","v":0},{"$f":"IF(graph!$E$22=0,0,IF(graph!$E$2=0,20,IF(AND(B334>graph!$E$22-graph!$E$32,B334<graph!$E$22+graph!$E$32),0.25,0)))","v":0}]
[null,{"$f":"IF(graph!$E$2=0,\"\",B334+graph!$E$32)","v":""},{"$f":"IF(graph!$E$2=0,20,IF(SUM(K335+L335=0),NA(),0.25))","v":20},{"$f":"IF(graph!$E$2=0,20,IF(AND(B335<graph!$E$10+graph!$E$32,B335>graph!$E$10-graph!$E$32),0.25,NA()))","v":20},null,null,null,null,null,null,{"$f":"IF(graph!$E$20=0,0,IF(graph!$E$2=0,20,IF(AND(B335<graph!$E$20+graph!$E$32,B335>graph!$E$20-graph!$E$32),0.25,0)))","v":0},{"$f":"IF(graph!$E$22=0,0,IF(graph!$E$2=0,20,IF(AND(B335>graph!$E$22-graph!$E$32,B335<graph!$E$22+graph!$E$32),0.25,0)))","v":0}]
[null,{"$f":"IF(graph!$E$2=0,\"\",B335+graph!$E$32)","v":""},{"$f":"IF(graph!$E$2=0,20,IF(SUM(K336+L336=0),NA(),0.25))","v":20},{"$f":"IF(graph!$E$2=0,20,IF(AND(B336<graph!$E$10+graph!$E$32,B336>graph!$E$10-graph!$E$32),0.25,NA()))","v":20},null,null,null,null,null,null,{"$f":"IF(graph!$E$20=0,0,IF(graph!$E$2=0,20,IF(AND(B336<graph!$E$20+graph!$E$32,B336>graph!$E$20-graph!$E$32),0.25,0)))","v":0},{"$f":"IF(graph!$E$22=0,0,IF(graph!$E$2=0,20,IF(AND(B336>graph!$E$22-graph!$E$32,B336<graph!$E$22+graph!$E$32),0.25,0)))","v":0}]
[null,{"$f":"IF(graph!$E$2=0,\"\",B336+graph!$E$32)","v":""},{"$f":"IF(graph!$E$2=0,20,IF(SUM(K337+L337=0),NA(),0.25))","v":20},{"$f":"IF(graph!$E$2=0,20,IF(AND(B337<graph!$E$10+graph!$E$32,B337>graph!$E$10-graph!$E$32),0.25,NA()))","v":20},null,null,null,null,null,null,{"$f":"IF(graph!$E$20=0,0,IF(graph!$E$2=0,20,IF(AND(B337<graph!$E$20+graph!$E$32,B337>graph!$E$20-graph!$E$32),0.25,0)))","v":0},{"$f":"IF(graph!$E$22=0,0,IF(graph!$E$2=0,20,IF(AND(B337>graph!$E$22-graph!$E$32,B337<graph!$E$22+graph!$E$32),0.25,0)))","v":0}]
[null,{"$f":"IF(graph!$E$2=0,\"\",B337+graph!$E$32)","v":""},{"$f":"IF(graph!$E$2=0,20,IF(SUM(K338+L338=0),NA(),0.25))","v":20},{"$f":"IF(graph!$E$2=0,20,IF(AND(B338<graph!$E$10+graph!$E$32,B338>graph!$E$10-graph!$E$32),0.25,NA()))","v":20},null,null,null,null,null,null,{"$f":"IF(graph!$E$20=0,0,IF(graph!$E$2=0,20,IF(AND(B338<graph!$E$20+graph!$E$32,B338>graph!$E$20-graph!$E$32),0.25,0)))","v":0},{"$f":"IF(graph!$E$22=0,0,IF(graph!$E$2=0,20,IF(AND(B338>graph!$E$22-graph!$E$32,B338<graph!$E$22+graph!$E$32),0.25,0)))","v":0}]
[null,{"$f":"IF(graph!$E$2=0,\"\",B338+graph!$E$32)","v":""},{"$f":"IF(graph!$E$2=0,20,IF(SUM(K339+L339=0),NA(),0.25))","v":20},{"$f":"IF(graph!$E$2=0,20,IF(AND(B339<graph!$E$10+graph!$E$32,B339>graph!$E$10-graph!$E$32),0.25,NA()))","v":20},null,null,null,null,null,null,{"$f":"IF(graph!$E$20=0,0,IF(graph!$E$2=0,20,IF(AND(B339<graph!$E$20+graph!$E$32,B339>graph!$E$20-graph!$E$32),0.25,0)))","v":0},{"$f":"IF(graph!$E$22=0,0,IF(graph!$E$2=0,20,IF(AND(B339>graph!$E$22-graph!$E$32,B339<graph!$E$22+graph!$E$32),0.25,0)))","v":0}]
[null,{"$f":"IF(graph!$E$2=0,\"\",B339+graph!$E$32)","v":""},{"$f":"IF(graph!$E$2=0,20,IF(SUM(K340+L340=0),NA(),0.25))","v":20},{"$f":"IF(graph!$E$2=0,20,IF(AND(B340<graph!$E$10+graph!$E$32,B340>graph!$E$10-graph!$E$32),0.25,NA()))","v":20},null,null,null,null,null,null,{"$f":"IF(graph!$E$20=0,0,IF(graph!$E$2=0,20,IF(AND(B340<graph!$E$20+graph!$E$32,B340>graph!$E$20-graph!$E$32),0.25,0)))","v":0},{"$f":"IF(graph!$E$22=0,0,IF(graph!$E$2=0,20,IF(AND(B340>graph!$E$22-graph!$E$32,B340<graph!$E$22+graph!$E$32),0.25,0)))","v":0}]
[null,{"$f":"IF(graph!$E$2=0,\"\",B340+graph!$E$32)","v":""},{"$f":"IF(graph!$E$2=0,20,IF(SUM(K341+L341=0),NA(),0.25))","v":20},{"$f":"IF(graph!$E$2=0,20,IF(AND(B341<graph!$E$10+graph!$E$32,B341>graph!$E$10-graph!$E$32),0.25,NA()))","v":20},null,null,null,null,null,null,{"$f":"IF(graph!$E$20=0,0,IF(graph!$E$2=0,20,IF(AND(B341<graph!$E$20+graph!$E$32,B341>graph!$E$20-graph!$E$32),0.25,0)))","v":0},{"$f":"IF(graph!$E$22=0,0,IF(graph!$E$2=0,20,IF(AND(B341>graph!$E$22-graph!$E$32,B341<graph!$E$22+graph!$E$32),0.25,0)))","v":0}]
[null,{"$f":"IF(graph!$E$2=0,\"\",B341+graph!$E$32)","v":""},{"$f":"IF(graph!$E$2=0,20,IF(SUM(K342+L342=0),NA(),0.25))","v":20},{"$f":"IF(graph!$E$2=0,20,IF(AND(B342<graph!$E$10+graph!$E$32,B342>graph!$E$10-graph!$E$32),0.25,NA()))","v":20},null,null,null,null,null,null,{"$f":"IF(graph!$E$20=0,0,IF(graph!$E$2=0,20,IF(AND(B342<graph!$E$20+graph!$E$32,B342>graph!$E$20-graph!$E$32),0.25,0)))","v":0},{"$f":"IF(graph!$E$22=0,0,IF(graph!$E$2=0,20,IF(AND(B342>graph!$E$22-graph!$E$32,B342<graph!$E$22+graph!$E$32),0.25,0)))","v":0}]
[null,{"$f":"IF(graph!$E$2=0,\"\",B342+graph!$E$32)","v":""},{"$f":"IF(graph!$E$2=0,20,IF(SUM(K343+L343=0),NA(),0.25))","v":20},{"$f":"IF(graph!$E$2=0,20,IF(AND(B343<graph!$E$10+graph!$E$32,B343>graph!$E$10-graph!$E$32),0.25,NA()))","v":20},null,null,null,null,null,null,{"$f":"IF(graph!$E$20=0,0,IF(graph!$E$2=0,20,IF(AND(B343<graph!$E$20+graph!$E$32,B343>graph!$E$20-graph!$E$32),0.25,0)))","v":0},{"$f":"IF(graph!$E$22=0,0,IF(graph!$E$2=0,20,IF(AND(B343>graph!$E$22-graph!$E$32,B343<graph!$E$22+graph!$E$32),0.25,0)))","v":0}]
[null,{"$f":"IF(graph!$E$2=0,\"\",B343+graph!$E$32)","v":""},{"$f":"IF(graph!$E$2=0,20,IF(SUM(K344+L344=0),NA(),0.25))","v":20},{"$f":"IF(graph!$E$2=0,20,IF(AND(B344<graph!$E$10+graph!$E$32,B344>graph!$E$10-graph!$E$32),0.25,NA()))","v":20},null,null,null,null,null,null,{"$f":"IF(graph!$E$20=0,0,IF(graph!$E$2=0,20,IF(AND(B344<graph!$E$20+graph!$E$32,B344>graph!$E$20-graph!$E$32),0.25,0)))","v":0},{"$f":"IF(graph!$E$22=0,0,IF(graph!$E$2=0,20,IF(AND(B344>graph!$E$22-graph!$E$32,B344<graph!$E$22+graph!$E$32),0.25,0)))","v":0}]
[null,{"$f":"IF(graph!$E$2=0,\"\",B344+graph!$E$32)","v":""},{"$f":"IF(graph!$E$2=0,20,IF(SUM(K345+L345=0),NA(),0.25))","v":20},{"$f":"IF(graph!$E$2=0,20,IF(AND(B345<graph!$E$10+graph!$E$32,B345>graph!$E$10-graph!$E$32),0.25,NA()))","v":20},null,null,null,null,null,null,{"$f":"IF(graph!$E$20=0,0,IF(graph!$E$2=0,20,IF(AND(B345<graph!$E$20+graph!$E$32,B345>graph!$E$20-graph!$E$32),0.25,0)))","v":0},{"$f":"IF(graph!$E$22=0,0,IF(graph!$E$2=0,20,IF(AND(B345>graph!$E$22-graph!$E$32,B345<graph!$E$22+graph!$E$32),0.25,0)))","v":0}]
[null,{"$f":"IF(graph!$E$2=0,\"\",B345+graph!$E$32)","v":""},{"$f":"IF(graph!$E$2=0,20,IF(SUM(K346+L346=0),NA(),0.25))","v":20},{"$f":"IF(graph!$E$2=0,20,IF(AND(B346<graph!$E$10+graph!$E$32,B346>graph!$E$10-graph!$E$32),0.25,NA()))","v":20},null,null,null,null,null,null,{"$f":"IF(graph!$E$20=0,0,IF(graph!$E$2=0,20,IF(AND(B346<graph!$E$20+graph!$E$32,B346>graph!$E$20-graph!$E$32),0.25,0)))","v":0},{"$f":"IF(graph!$E$22=0,0,IF(graph!$E$2=0,20,IF(AND(B346>graph!$E$22-graph!$E$32,B346<graph!$E$22+graph!$E$32),0.25,0)))","v":0}]
[null,{"$f":"IF(graph!$E$2=0,\"\",B346+graph!$E$32)","v":""},{"$f":"IF(graph!$E$2=0,20,IF(SUM(K347+L347=0),NA(),0.25))","v":20},{"$f":"IF(graph!$E$2=0,20,IF(AND(B347<graph!$E$10+graph!$E$32,B347>graph!$E$10-graph!$E$32),0.25,NA()))","v":20},null,null,null,null,null,null,{"$f":"IF(graph!$E$20=0,0,IF(graph!$E$2=0,20,IF(AND(B347<graph!$E$20+graph!$E$32,B347>graph!$E$20-graph!$E$32),0.25,0)))","v":0},{"$f":"IF(graph!$E$22=0,0,IF(graph!$E$2=0,20,IF(AND(B347>graph!$E$22-graph!$E$32,B347<graph!$E$22+graph!$E$32),0.25,0)))","v":0}]
[null,{"$f":"IF(graph!$E$2=0,\"\",B347+graph!$E$32)","v":""},{"$f":"IF(graph!$E$2=0,20,IF(SUM(K348+L348=0),NA(),0.25))","v":20},{"$f":"IF(graph!$E$2=0,20,IF(AND(B348<graph!$E$10+graph!$E$32,B348>graph!$E$10-graph!$E$32),0.25,NA()))","v":20},null,null,null,null,null,null,{"$f":"IF(graph!$E$20=0,0,IF(graph!$E$2=0,20,IF(AND(B348<graph!$E$20+graph!$E$32,B348>graph!$E$20-graph!$E$32),0.25,0)))","v":0},{"$f":"IF(graph!$E$22=0,0,IF(graph!$E$2=0,20,IF(AND(B348>graph!$E$22-graph!$E$32,B348<graph!$E$22+graph!$E$32),0.25,0)))","v":0}]
[null,{"$f":"IF(graph!$E$2=0,\"\",B348+graph!$E$32)","v":""},{"$f":"IF(graph!$E$2=0,20,IF(SUM(K349+L349=0),NA(),0.25))","v":20},{"$f":"IF(graph!$E$2=0,20,IF(AND(B349<graph!$E$10+graph!$E$32,B349>graph!$E$10-graph!$E$32),0.25,NA()))","v":20},null,null,null,null,null,null,{"$f":"IF(graph!$E$20=0,0,IF(graph!$E$2=0,20,IF(AND(B349<graph!$E$20+graph!$E$32,B349>graph!$E$20-graph!$E$32),0.25,0)))","v":0},{"$f":"IF(graph!$E$22=0,0,IF(graph!$E$2=0,20,IF(AND(B349>graph!$E$22-graph!$E$32,B349<graph!$E$22+graph!$E$32),0.25,0)))","v":0}]
[null,{"$f":"IF(graph!$E$2=0,\"\",B349+graph!$E$32)","v":""},{"$f":"IF(graph!$E$2=0,20,IF(SUM(K350+L350=0),NA(),0.25))","v":20},{"$f":"IF(graph!$E$2=0,20,IF(AND(B350<graph!$E$10+graph!$E$32,B350>graph!$E$10-graph!$E$32),0.25,NA()))","v":20},null,null,null,null,null,null,{"$f":"IF(graph!$E$20=0,0,IF(graph!$E$2=0,20,IF(AND(B350<graph!$E$20+graph!$E$32,B350>graph!$E$20-graph!$E$32),0.25,0)))","v":0},{"$f":"IF(graph!$E$22=0,0,IF(graph!$E$2=0,20,IF(AND(B350>graph!$E$22-graph!$E$32,B350<graph!$E$22+graph!$E$32),0.25,0)))","v":0}]
[null,{"$f":"IF(graph!$E$2=0,\"\",B350+graph!$E$32)","v":""},{"$f":"IF(graph!$E$2=0,20,IF(SUM(K351+L351=0),NA(),0.25))","v":20},{"$f":"IF(graph!$E$2=0,20,IF(AND(B351<graph!$E$10+graph!$E$32,B351>graph!$E$10-graph!$E$32),0.25,NA()))","v":20},null,null,null,null,null,null,{"$f":"IF(graph!$E$20=0,0,IF(graph!$E$2=0,20,IF(AND(B351<graph!$E$20+graph!$E$32,B351>graph!$E$20-graph!$E$32),0.25,0)))","v":0},{"$f":"IF(graph!$E$22=0,0,IF(graph!$E$2=0,20,IF(AND(B351>graph!$E$22-graph!$E$32,B351<graph!$E$22+graph!$E$32),0.25,0)))","v":0}]
[null,{"$f":"IF(graph!$E$2=0,\"\",B351+graph!$E$32)","v":""},{"$f":"IF(graph!$E$2=0,20,IF(SUM(K352+L352=0),NA(),0.25))","v":20},{"$f":"IF(graph!$E$2=0,20,IF(AND(B352<graph!$E$10+graph!$E$32,B352>graph!$E$10-graph!$E$32),0.25,NA()))","v":20},null,null,null,null,null,null,{"$f":"IF(graph!$E$20=0,0,IF(graph!$E$2=0,20,IF(AND(B352<graph!$E$20+graph!$E$32,B352>graph!$E$20-graph!$E$32),0.25,0)))","v":0},{"$f":"IF(graph!$E$22=0,0,IF(graph!$E$2=0,20,IF(AND(B352>graph!$E$22-graph!$E$32,B352<graph!$E$22+graph!$E$32),0.25,0)))","v":0}]
[null,{"$f":"IF(graph!$E$2=0,\"\",B352+graph!$E$32)","v":""},{"$f":"IF(graph!$E$2=0,20,IF(SUM(K353+L353=0),NA(),0.25))","v":20},{"$f":"IF(graph!$E$2=0,20,IF(AND(B353<graph!$E$10+graph!$E$32,B353>graph!$E$10-graph!$E$32),0.25,NA()))","v":20},null,null,null,null,null,null,{"$f":"IF(graph!$E$20=0,0,IF(graph!$E$2=0,20,IF(AND(B353<graph!$E$20+graph!$E$32,B353>graph!$E$20-graph!$E$32),0.25,0)))","v":0},{"$f":"IF(graph!$E$22=0,0,IF(graph!$E$2=0,20,IF(AND(B353>graph!$E$22-graph!$E$32,B353<graph!$E$22+graph!$E$32),0.25,0)))","v":0}]
[null,{"$f":"IF(graph!$E$2=0,\"\",B353+graph!$E$32)","v":""},{"$f":"IF(graph!$E$2=0,20,IF(SUM(K354+L354=0),NA(),0.25))","v":20},{"$f":"IF(graph!$E$2=0,20,IF(AND(B354<graph!$E$10+graph!$E$32,B354>graph!$E$10-graph!$E$32),0.25,NA()))","v":20},null,null,null,null,null,null,{"$f":"IF(graph!$E$20=0,0,IF(graph!$E$2=0,20,IF(AND(B354<graph!$E$20+graph!$E$32,B354>graph!$E$20-graph!$E$32),0.25,0)))","v":0},{"$f":"IF(graph!$E$22=0,0,IF(graph!$E$2=0,20,IF(AND(B354>graph!$E$22-graph!$E$32,B354<graph!$E$22+graph!$E$32),0.25,0)))","v":0}]
[null,{"$f":"IF(graph!$E$2=0,\"\",B354+graph!$E$32)","v":""},{"$f":"IF(graph!$E$2=0,20,IF(SUM(K355+L355=0),NA(),0.25))","v":20},{"$f":"IF(graph!$E$2=0,20,IF(AND(B355<graph!$E$10+graph!$E$32,B355>graph!$E$10-graph!$E$32),0.25,NA()))","v":20},null,null,null,null,null,null,{"$f":"IF(graph!$E$20=0,0,IF(graph!$E$2=0,20,IF(AND(B355<graph!$E$20+graph!$E$32,B355>graph!$E$20-graph!$E$32),0.25,0)))","v":0},{"$f":"IF(graph!$E$22=0,0,IF(graph!$E$2=0,20,IF(AND(B355>graph!$E$22-graph!$E$32,B355<graph!$E$22+graph!$E$32),0.25,0)))","v":0}]
[null,{"$f":"IF(graph!$E$2=0,\"\",B355+graph!$E$32)","v":""},{"$f":"IF(graph!$E$2=0,20,IF(SUM(K356+L356=0),NA(),0.25))","v":20},{"$f":"IF(graph!$E$2=0,20,IF(AND(B356<graph!$E$10+graph!$E$32,B356>graph!$E$10-graph!$E$32),0.25,NA()))","v":20},null,null,null,null,null,null,{"$f":"IF(graph!$E$20=0,0,IF(graph!$E$2=0,20,IF(AND(B356<graph!$E$20+graph!$E$32,B356>graph!$E$20-graph!$E$32),0.25,0)))","v":0},{"$f":"IF(graph!$E$22=0,0,IF(graph!$E$2=0,20,IF(AND(B356>graph!$E$22-graph!$E$32,B356<graph!$E$22+graph!$E$32),0.25,0)))","v":0}]
[null,{"$f":"IF(graph!$E$2=0,\"\",B356+graph!$E$32)","v":""},{"$f":"IF(graph!$E$2=0,20,IF(SUM(K357+L357=0),NA(),0.25))","v":20},{"$f":"IF(graph!$E$2=0,20,IF(AND(B357<graph!$E$10+graph!$E$32,B357>graph!$E$10-graph!$E$32),0.25,NA()))","v":20},null,null,null,null,null,null,{"$f":"IF(graph!$E$20=0,0,IF(graph!$E$2=0,20,IF(AND(B357<graph!$E$20+graph!$E$32,B357>graph!$E$20-graph!$E$32),0.25,0)))","v":0},{"$f":"IF(graph!$E$22=0,0,IF(graph!$E$2=0,20,IF(AND(B357>graph!$E$22-graph!$E$32,B357<graph!$E$22+graph!$E$32),0.25,0)))","v":0}]
[null,{"$f":"IF(graph!$E$2=0,\"\",B357+graph!$E$32)","v":""},{"$f":"IF(graph!$E$2=0,20,IF(SUM(K358+L358=0),NA(),0.25))","v":20},{"$f":"IF(graph!$E$2=0,20,IF(AND(B358<graph!$E$10+graph!$E$32,B358>graph!$E$10-graph!$E$32),0.25,NA()))","v":20},null,null,null,null,null,null,{"$f":"IF(graph!$E$20=0,0,IF(graph!$E$2=0,20,IF(AND(B358<graph!$E$20+graph!$E$32,B358>graph!$E$20-graph!$E$32),0.25,0)))","v":0},{"$f":"IF(graph!$E$22=0,0,IF(graph!$E$2=0,20,IF(AND(B358>graph!$E$22-graph!$E$32,B358<graph!$E$22+graph!$E$32),0.25,0)))","v":0}]
[null,{"$f":"IF(graph!$E$2=0,\"\",B358+graph!$E$32)","v":""},{"$f":"IF(graph!$E$2=0,20,IF(SUM(K359+L359=0),NA(),0.25))","v":20},{"$f":"IF(graph!$E$2=0,20,IF(AND(B359<graph!$E$10+graph!$E$32,B359>graph!$E$10-graph!$E$32),0.25,NA()))","v":20},null,null,null,null,null,null,{"$f":"IF(graph!$E$20=0,0,IF(graph!$E$2=0,20,IF(AND(B359<graph!$E$20+graph!$E$32,B359>graph!$E$20-graph!$E$32),0.25,0)))","v":0},{"$f":"IF(graph!$E$22=0,0,IF(graph!$E$2=0,20,IF(AND(B359>graph!$E$22-graph!$E$32,B359<graph!$E$22+graph!$E$32),0.25,0)))","v":0}]
[null,{"$f":"IF(graph!$E$2=0,\"\",B359+graph!$E$32)","v":""},{"$f":"IF(graph!$E$2=0,20,IF(SUM(K360+L360=0),NA(),0.25))","v":20},{"$f":"IF(graph!$E$2=0,20,IF(AND(B360<graph!$E$10+graph!$E$32,B360>graph!$E$10-graph!$E$32),0.25,NA()))","v":20},null,null,null,null,null,null,{"$f":"IF(graph!$E$20=0,0,IF(graph!$E$2=0,20,IF(AND(B360<graph!$E$20+graph!$E$32,B360>graph!$E$20-graph!$E$32),0.25,0)))","v":0},{"$f":"IF(graph!$E$22=0,0,IF(graph!$E$2=0,20,IF(AND(B360>graph!$E$22-graph!$E$32,B360<graph!$E$22+graph!$E$32),0.25,0)))","v":0}]
[null,{"$f":"IF(graph!$E$2=0,\"\",B360+graph!$E$32)","v":""},{"$f":"IF(graph!$E$2=0,20,IF(SUM(K361+L361=0),NA(),0.25))","v":20},{"$f":"IF(graph!$E$2=0,20,IF(AND(B361<graph!$E$10+graph!$E$32,B361>graph!$E$10-graph!$E$32),0.25,NA()))","v":20},null,null,null,null,null,null,{"$f":"IF(graph!$E$20=0,0,IF(graph!$E$2=0,20,IF(AND(B361<graph!$E$20+graph!$E$32,B361>graph!$E$20-graph!$E$32),0.25,0)))","v":0},{"$f":"IF(graph!$E$22=0,0,IF(graph!$E$2=0,20,IF(AND(B361>graph!$E$22-graph!$E$32,B361<graph!$E$22+graph!$E$32),0.25,0)))","v":0}]
[null,{"$f":"IF(graph!$E$2=0,\"\",B361+graph!$E$32)","v":""},{"$f":"IF(graph!$E$2=0,20,IF(SUM(K362+L362=0),NA(),0.25))","v":20},{"$f":"IF(graph!$E$2=0,20,IF(AND(B362<graph!$E$10+graph!$E$32,B362>graph!$E$10-graph!$E$32),0.25,NA()))","v":20},null,null,null,null,null,null,{"$f":"IF(graph!$E$20=0,0,IF(graph!$E$2=0,20,IF(AND(B362<graph!$E$20+graph!$E$32,B362>graph!$E$20-graph!$E$32),0.25,0)))","v":0},{"$f":"IF(graph!$E$22=0,0,IF(graph!$E$2=0,20,IF(AND(B362>graph!$E$22-graph!$E$32,B362<graph!$E$22+graph!$E$32),0.25,0)))","v":0}]
[null,{"$f":"IF(graph!$E$2=0,\"\",B362+graph!$E$32)","v":""},{"$f":"IF(graph!$E$2=0,20,IF(SUM(K363+L363=0),NA(),0.25))","v":20},{"$f":"IF(graph!$E$2=0,20,IF(AND(B363<graph!$E$10+graph!$E$32,B363>graph!$E$10-graph!$E$32),0.25,NA()))","v":20},null,null,null,null,null,null,{"$f":"IF(graph!$E$20=0,0,IF(graph!$E$2=0,20,IF(AND(B363<graph!$E$20+graph!$E$32,B363>graph!$E$20-graph!$E$32),0.25,0)))","v":0},{"$f":"IF(graph!$E$22=0,0,IF(graph!$E$2=0,20,IF(AND(B363>graph!$E$22-graph!$E$32,B363<graph!$E$22+graph!$E$32),0.25,0)))","v":0}]
[null,{"$f":"IF(graph!$E$2=0,\"\",B363+graph!$E$32)","v":""},{"$f":"IF(graph!$E$2=0,20,IF(SUM(K364+L364=0),NA(),0.25))","v":20},{"$f":"IF(graph!$E$2=0,20,IF(AND(B364<graph!$E$10+graph!$E$32,B364>graph!$E$10-graph!$E$32),0.25,NA()))","v":20},null,null,null,null,null,null,{"$f":"IF(graph!$E$20=0,0,IF(graph!$E$2=0,20,IF(AND(B364<graph!$E$20+graph!$E$32,B364>graph!$E$20-graph!$E$32),0.25,0)))","v":0},{"$f":"IF(graph!$E$22=0,0,IF(graph!$E$2=0,20,IF(AND(B364>graph!$E$22-graph!$E$32,B364<graph!$E$22+graph!$E$32),0.25,0)))","v":0}]
[null,{"$f":"IF(graph!$E$2=0,\"\",B364+graph!$E$32)","v":""},{"$f":"IF(graph!$E$2=0,20,IF(SUM(K365+L365=0),NA(),0.25))","v":20},{"$f":"IF(graph!$E$2=0,20,IF(AND(B365<graph!$E$10+graph!$E$32,B365>graph!$E$10-graph!$E$32),0.25,NA()))","v":20},null,null,null,null,null,null,{"$f":"IF(graph!$E$20=0,0,IF(graph!$E$2=0,20,IF(AND(B365<graph!$E$20+graph!$E$32,B365>graph!$E$20-graph!$E$32),0.25,0)))","v":0},{"$f":"IF(graph!$E$22=0,0,IF(graph!$E$2=0,20,IF(AND(B365>graph!$E$22-graph!$E$32,B365<graph!$E$22+graph!$E$32),0.25,0)))","v":0}]
[null,{"$f":"IF(graph!$E$2=0,\"\",B365+graph!$E$32)","v":""},{"$f":"IF(graph!$E$2=0,20,IF(SUM(K366+L366=0),NA(),0.25))","v":20},{"$f":"IF(graph!$E$2=0,20,IF(AND(B366<graph!$E$10+graph!$E$32,B366>graph!$E$10-graph!$E$32),0.25,NA()))","v":20},null,null,null,null,null,null,{"$f":"IF(graph!$E$20=0,0,IF(graph!$E$2=0,20,IF(AND(B366<graph!$E$20+graph!$E$32,B366>graph!$E$20-graph!$E$32),0.25,0)))","v":0},{"$f":"IF(graph!$E$22=0,0,IF(graph!$E$2=0,20,IF(AND(B366>graph!$E$22-graph!$E$32,B366<graph!$E$22+graph!$E$32),0.25,0)))","v":0}]
[null,{"$f":"IF(graph!$E$2=0,\"\",B366+graph!$E$32)","v":""},{"$f":"IF(graph!$E$2=0,20,IF(SUM(K367+L367=0),NA(),0.25))","v":20},{"$f":"IF(graph!$E$2=0,20,IF(AND(B367<graph!$E$10+graph!$E$32,B367>graph!$E$10-graph!$E$32),0.25,NA()))","v":20},null,null,null,null,null,null,{"$f":"IF(graph!$E$20=0,0,IF(graph!$E$2=0,20,IF(AND(B367<graph!$E$20+graph!$E$32,B367>graph!$E$20-graph!$E$32),0.25,0)))","v":0},{"$f":"IF(graph!$E$22=0,0,IF(graph!$E$2=0,20,IF(AND(B367>graph!$E$22-graph!$E$32,B367<graph!$E$22+graph!$E$32),0.25,0)))","v":0}]
[null,{"$f":"IF(graph!$E$2=0,\"\",B367+graph!$E$32)","v":""},{"$f":"IF(graph!$E$2=0,20,IF(SUM(K368+L368=0),NA(),0.25))","v":20},{"$f":"IF(graph!$E$2=0,20,IF(AND(B368<graph!$E$10+graph!$E$32,B368>graph!$E$10-graph!$E$32),0.25,NA()))","v":20},null,null,null,null,null,null,{"$f":"IF(graph!$E$20=0,0,IF(graph!$E$2=0,20,IF(AND(B368<graph!$E$20+graph!$E$32,B368>graph!$E$20-graph!$E$32),0.25,0)))","v":0},{"$f":"IF(graph!$E$22=0,0,IF(graph!$E$2=0,20,IF(AND(B368>graph!$E$22-graph!$E$32,B368<graph!$E$22+graph!$E$32),0.25,0)))","v":0}]
[null,{"$f":"IF(graph!$E$2=0,\"\",B368+graph!$E$32)","v":""},{"$f":"IF(graph!$E$2=0,20,IF(SUM(K369+L369=0),NA(),0.25))","v":20},{"$f":"IF(graph!$E$2=0,20,IF(AND(B369<graph!$E$10+graph!$E$32,B369>graph!$E$10-graph!$E$32),0.25,NA()))","v":20},null,null,null,null,null,null,{"$f":"IF(graph!$E$20=0,0,IF(graph!$E$2=0,20,IF(AND(B369<graph!$E$20+graph!$E$32,B369>graph!$E$20-graph!$E$32),0.25,0)))","v":0},{"$f":"IF(graph!$E$22=0,0,IF(graph!$E$2=0,20,IF(AND(B369>graph!$E$22-graph!$E$32,B369<graph!$E$22+graph!$E$32),0.25,0)))","v":0}]
[null,{"$f":"IF(graph!$E$2=0,\"\",B369+graph!$E$32)","v":""},{"$f":"IF(graph!$E$2=0,20,IF(SUM(K370+L370=0),NA(),0.25))","v":20},{"$f":"IF(graph!$E$2=0,20,IF(AND(B370<graph!$E$10+graph!$E$32,B370>graph!$E$10-graph!$E$32),0.25,NA()))","v":20},null,null,null,null,null,null,{"$f":"IF(graph!$E$20=0,0,IF(graph!$E$2=0,20,IF(AND(B370<graph!$E$20+graph!$E$32,B370>graph!$E$20-graph!$E$32),0.25,0)))","v":0},{"$f":"IF(graph!$E$22=0,0,IF(graph!$E$2=0,20,IF(AND(B370>graph!$E$22-graph!$E$32,B370<graph!$E$22+graph!$E$32),0.25,0)))","v":0}]
[null,{"$f":"IF(graph!$E$2=0,\"\",B370+graph!$E$32)","v":""},{"$f":"IF(graph!$E$2=0,20,IF(SUM(K371+L371=0),NA(),0.25))","v":20},{"$f":"IF(graph!$E$2=0,20,IF(AND(B371<graph!$E$10+graph!$E$32,B371>graph!$E$10-graph!$E$32),0.25,NA()))","v":20},null,null,null,null,null,null,{"$f":"IF(graph!$E$20=0,0,IF(graph!$E$2=0,20,IF(AND(B371<graph!$E$20+graph!$E$32,B371>graph!$E$20-graph!$E$32),0.25,0)))","v":0},{"$f":"IF(graph!$E$22=0,0,IF(graph!$E$2=0,20,IF(AND(B371>graph!$E$22-graph!$E$32,B371<graph!$E$22+graph!$E$32),0.25,0)))","v":0}]
[null,{"$f":"IF(graph!$E$2=0,\"\",B371+graph!$E$32)","v":""},{"$f":"IF(graph!$E$2=0,20,IF(SUM(K372+L372=0),NA(),0.25))","v":20},{"$f":"IF(graph!$E$2=0,20,IF(AND(B372<graph!$E$10+graph!$E$32,B372>graph!$E$10-graph!$E$32),0.25,NA()))","v":20},null,null,null,null,null,null,{"$f":"IF(graph!$E$20=0,0,IF(graph!$E$2=0,20,IF(AND(B372<graph!$E$20+graph!$E$32,B372>graph!$E$20-graph!$E$32),0.25,0)))","v":0},{"$f":"IF(graph!$E$22=0,0,IF(graph!$E$2=0,20,IF(AND(B372>graph!$E$22-graph!$E$32,B372<graph!$E$22+graph!$E$32),0.25,0)))","v":0}]
[null,{"$f":"IF(graph!$E$2=0,\"\",B372+graph!$E$32)","v":""},{"$f":"IF(graph!$E$2=0,20,IF(SUM(K373+L373=0),NA(),0.25))","v":20},{"$f":"IF(graph!$E$2=0,20,IF(AND(B373<graph!$E$10+graph!$E$32,B373>graph!$E$10-graph!$E$32),0.25,NA()))","v":20},null,null,null,null,null,null,{"$f":"IF(graph!$E$20=0,0,IF(graph!$E$2=0,20,IF(AND(B373<graph!$E$20+graph!$E$32,B373>graph!$E$20-graph!$E$32),0.25,0)))","v":0},{"$f":"IF(graph!$E$22=0,0,IF(graph!$E$2=0,20,IF(AND(B373>graph!$E$22-graph!$E$32,B373<graph!$E$22+graph!$E$32),0.25,0)))","v":0}]
[null,{"$f":"IF(graph!$E$2=0,\"\",B373+graph!$E$32)","v":""},{"$f":"IF(graph!$E$2=0,20,IF(SUM(K374+L374=0),NA(),0.25))","v":20},{"$f":"IF(graph!$E$2=0,20,IF(AND(B374<graph!$E$10+graph!$E$32,B374>graph!$E$10-graph!$E$32),0.25,NA()))","v":20},null,null,null,null,null,null,{"$f":"IF(graph!$E$20=0,0,IF(graph!$E$2=0,20,IF(AND(B374<graph!$E$20+graph!$E$32,B374>graph!$E$20-graph!$E$32),0.25,0)))","v":0},{"$f":"IF(graph!$E$22=0,0,IF(graph!$E$2=0,20,IF(AND(B374>graph!$E$22-graph!$E$32,B374<graph!$E$22+graph!$E$32),0.25,0)))","v":0}]
[null,{"$f":"IF(graph!$E$2=0,\"\",B374+graph!$E$32)","v":""},{"$f":"IF(graph!$E$2=0,20,IF(SUM(K375+L375=0),NA(),0.25))","v":20},{"$f":"IF(graph!$E$2=0,20,IF(AND(B375<graph!$E$10+graph!$E$32,B375>graph!$E$10-graph!$E$32),0.25,NA()))","v":20},null,null,null,null,null,null,{"$f":"IF(graph!$E$20=0,0,IF(graph!$E$2=0,20,IF(AND(B375<graph!$E$20+graph!$E$32,B375>graph!$E$20-graph!$E$32),0.25,0)))","v":0},{"$f":"IF(graph!$E$22=0,0,IF(graph!$E$2=0,20,IF(AND(B375>graph!$E$22-graph!$E$32,B375<graph!$E$22+graph!$E$32),0.25,0)))","v":0}]
[null,{"$f":"IF(graph!$E$2=0,\"\",B375+graph!$E$32)","v":""},{"$f":"IF(graph!$E$2=0,20,IF(SUM(K376+L376=0),NA(),0.25))","v":20},{"$f":"IF(graph!$E$2=0,20,IF(AND(B376<graph!$E$10+graph!$E$32,B376>graph!$E$10-graph!$E$32),0.25,NA()))","v":20},null,null,null,null,null,null,{"$f":"IF(graph!$E$20=0,0,IF(graph!$E$2=0,20,IF(AND(B376<graph!$E$20+graph!$E$32,B376>graph!$E$20-graph!$E$32),0.25,0)))","v":0},{"$f":"IF(graph!$E$22=0,0,IF(graph!$E$2=0,20,IF(AND(B376>graph!$E$22-graph!$E$32,B376<graph!$E$22+graph!$E$32),0.25,0)))","v":0}]
[null,{"$f":"IF(graph!$E$2=0,\"\",B376+graph!$E$32)","v":""},{"$f":"IF(graph!$E$2=0,20,IF(SUM(K377+L377=0),NA(),0.25))","v":20},{"$f":"IF(graph!$E$2=0,20,IF(AND(B377<graph!$E$10+graph!$E$32,B377>graph!$E$10-graph!$E$32),0.25,NA()))","v":20},null,null,null,null,null,null,{"$f":"IF(graph!$E$20=0,0,IF(graph!$E$2=0,20,IF(AND(B377<graph!$E$20+graph!$E$32,B377>graph!$E$20-graph!$E$32),0.25,0)))","v":0},{"$f":"IF(graph!$E$22=0,0,IF(graph!$E$2=0,20,IF(AND(B377>graph!$E$22-graph!$E$32,B377<graph!$E$22+graph!$E$32),0.25,0)))","v":0}]
[null,{"$f":"IF(graph!$E$2=0,\"\",B377+graph!$E$32)","v":""},{"$f":"IF(graph!$E$2=0,20,IF(SUM(K378+L378=0),NA(),0.25))","v":20},{"$f":"IF(graph!$E$2=0,20,IF(AND(B378<graph!$E$10+graph!$E$32,B378>graph!$E$10-graph!$E$32),0.25,NA()))","v":20},null,null,null,null,null,null,{"$f":"IF(graph!$E$20=0,0,IF(graph!$E$2=0,20,IF(AND(B378<graph!$E$20+graph!$E$32,B378>graph!$E$20-graph!$E$32),0.25,0)))","v":0},{"$f":"IF(graph!$E$22=0,0,IF(graph!$E$2=0,20,IF(AND(B378>graph!$E$22-graph!$E$32,B378<graph!$E$22+graph!$E$32),0.25,0)))","v":0}]
[null,{"$f":"IF(graph!$E$2=0,\"\",B378+graph!$E$32)","v":""},{"$f":"IF(graph!$E$2=0,20,IF(SUM(K379+L379=0),NA(),0.25))","v":20},{"$f":"IF(graph!$E$2=0,20,IF(AND(B379<graph!$E$10+graph!$E$32,B379>graph!$E$10-graph!$E$32),0.25,NA()))","v":20},null,null,null,null,null,null,{"$f":"IF(graph!$E$20=0,0,IF(graph!$E$2=0,20,IF(AND(B379<graph!$E$20+graph!$E$32,B379>graph!$E$20-graph!$E$32),0.25,0)))","v":0},{"$f":"IF(graph!$E$22=0,0,IF(graph!$E$2=0,20,IF(AND(B379>graph!$E$22-graph!$E$32,B379<graph!$E$22+graph!$E$32),0.25,0)))","v":0}]
[null,{"$f":"IF(graph!$E$2=0,\"\",B379+graph!$E$32)","v":""},{"$f":"IF(graph!$E$2=0,20,IF(SUM(K380+L380=0),NA(),0.25))","v":20},{"$f":"IF(graph!$E$2=0,20,IF(AND(B380<graph!$E$10+graph!$E$32,B380>graph!$E$10-graph!$E$32),0.25,NA()))","v":20},null,null,null,null,null,null,{"$f":"IF(graph!$E$20=0,0,IF(graph!$E$2=0,20,IF(AND(B380<graph!$E$20+graph!$E$32,B380>graph!$E$20-graph!$E$32),0.25,0)))","v":0},{"$f":"IF(graph!$E$22=0,0,IF(graph!$E$2=0,20,IF(AND(B380>graph!$E$22-graph!$E$32,B380<graph!$E$22+graph!$E$32),0.25,0)))","v":0}]
[null,{"$f":"IF(graph!$E$2=0,\"\",B380+graph!$E$32)","v":""},{"$f":"IF(graph!$E$2=0,20,IF(SUM(K381+L381=0),NA(),0.25))","v":20},{"$f":"IF(graph!$E$2=0,20,IF(AND(B381<graph!$E$10+graph!$E$32,B381>graph!$E$10-graph!$E$32),0.25,NA()))","v":20},null,null,null,null,null,null,{"$f":"IF(graph!$E$20=0,0,IF(graph!$E$2=0,20,IF(AND(B381<graph!$E$20+graph!$E$32,B381>graph!$E$20-graph!$E$32),0.25,0)))","v":0},{"$f":"IF(graph!$E$22=0,0,IF(graph!$E$2=0,20,IF(AND(B381>graph!$E$22-graph!$E$32,B381<graph!$E$22+graph!$E$32),0.25,0)))","v":0}]
[null,{"$f":"IF(graph!$E$2=0,\"\",B381+graph!$E$32)","v":""},{"$f":"IF(graph!$E$2=0,20,IF(SUM(K382+L382=0),NA(),0.25))","v":20},{"$f":"IF(graph!$E$2=0,20,IF(AND(B382<graph!$E$10+graph!$E$32,B382>graph!$E$10-graph!$E$32),0.25,NA()))","v":20},null,null,null,null,null,null,{"$f":"IF(graph!$E$20=0,0,IF(graph!$E$2=0,20,IF(AND(B382<graph!$E$20+graph!$E$32,B382>graph!$E$20-graph!$E$32),0.25,0)))","v":0},{"$f":"IF(graph!$E$22=0,0,IF(graph!$E$2=0,20,IF(AND(B382>graph!$E$22-graph!$E$32,B382<graph!$E$22+graph!$E$32),0.25,0)))","v":0}]
[null,{"$f":"IF(graph!$E$2=0,\"\",B382+graph!$E$32)","v":""},{"$f":"IF(graph!$E$2=0,20,IF(SUM(K383+L383=0),NA(),0.25))","v":20},{"$f":"IF(graph!$E$2=0,20,IF(AND(B383<graph!$E$10+graph!$E$32,B383>graph!$E$10-graph!$E$32),0.25,NA()))","v":20},null,null,null,null,null,null,{"$f":"IF(graph!$E$20=0,0,IF(graph!$E$2=0,20,IF(AND(B383<graph!$E$20+graph!$E$32,B383>graph!$E$20-graph!$E$32),0.25,0)))","v":0},{"$f":"IF(graph!$E$22=0,0,IF(graph!$E$2=0,20,IF(AND(B383>graph!$E$22-graph!$E$32,B383<graph!$E$22+graph!$E$32),0.25,0)))","v":0}]
[null,{"$f":"IF(graph!$E$2=0,\"\",B383+graph!$E$32)","v":""},{"$f":"IF(graph!$E$2=0,20,IF(SUM(K384+L384=0),NA(),0.25))","v":20},{"$f":"IF(graph!$E$2=0,20,IF(AND(B384<graph!$E$10+graph!$E$32,B384>graph!$E$10-graph!$E$32),0.25,NA()))","v":20},null,null,null,null,null,null,{"$f":"IF(graph!$E$20=0,0,IF(graph!$E$2=0,20,IF(AND(B384<graph!$E$20+graph!$E$32,B384>graph!$E$20-graph!$E$32),0.25,0)))","v":0},{"$f":"IF(graph!$E$22=0,0,IF(graph!$E$2=0,20,IF(AND(B384>graph!$E$22-graph!$E$32,B384<graph!$E$22+graph!$E$32),0.25,0)))","v":0}]
[null,{"$f":"IF(graph!$E$2=0,\"\",B384+graph!$E$32)","v":""},{"$f":"IF(graph!$E$2=0,20,IF(SUM(K385+L385=0),NA(),0.25))","v":20},{"$f":"IF(graph!$E$2=0,20,IF(AND(B385<graph!$E$10+graph!$E$32,B385>graph!$E$10-graph!$E$32),0.25,NA()))","v":20},null,null,null,null,null,null,{"$f":"IF(graph!$E$20=0,0,IF(graph!$E$2=0,20,IF(AND(B385<graph!$E$20+graph!$E$32,B385>graph!$E$20-graph!$E$32),0.25,0)))","v":0},{"$f":"IF(graph!$E$22=0,0,IF(graph!$E$2=0,20,IF(AND(B385>graph!$E$22-graph!$E$32,B385<graph!$E$22+graph!$E$32),0.25,0)))","v":0}]
[null,{"$f":"IF(graph!$E$2=0,\"\",B385+graph!$E$32)","v":""},{"$f":"IF(graph!$E$2=0,20,IF(SUM(K386+L386=0),NA(),0.25))","v":20},{"$f":"IF(graph!$E$2=0,20,IF(AND(B386<graph!$E$10+graph!$E$32,B386>graph!$E$10-graph!$E$32),0.25,NA()))","v":20},null,null,null,null,null,null,{"$f":"IF(graph!$E$20=0,0,IF(graph!$E$2=0,20,IF(AND(B386<graph!$E$20+graph!$E$32,B386>graph!$E$20-graph!$E$32),0.25,0)))","v":0},{"$f":"IF(graph!$E$22=0,0,IF(graph!$E$2=0,20,IF(AND(B386>graph!$E$22-graph!$E$32,B386<graph!$E$22+graph!$E$32),0.25,0)))","v":0}]
[null,{"$f":"IF(graph!$E$2=0,\"\",B386+graph!$E$32)","v":""},{"$f":"IF(graph!$E$2=0,20,IF(SUM(K387+L387=0),NA(),0.25))","v":20},{"$f":"IF(graph!$E$2=0,20,IF(AND(B387<graph!$E$10+graph!$E$32,B387>graph!$E$10-graph!$E$32),0.25,NA()))","v":20},null,null,null,null,null,null,{"$f":"IF(graph!$E$20=0,0,IF(graph!$E$2=0,20,IF(AND(B387<graph!$E$20+graph!$E$32,B387>graph!$E$20-graph!$E$32),0.25,0)))","v":0},{"$f":"IF(graph!$E$22=0,0,IF(graph!$E$2=0,20,IF(AND(B387>graph!$E$22-graph!$E$32,B387<graph!$E$22+graph!$E$32),0.25,0)))","v":0}]
[null,{"$f":"IF(graph!$E$2=0,\"\",B387+graph!$E$32)","v":""},{"$f":"IF(graph!$E$2=0,20,IF(SUM(K388+L388=0),NA(),0.25))","v":20},{"$f":"IF(graph!$E$2=0,20,IF(AND(B388<graph!$E$10+graph!$E$32,B388>graph!$E$10-graph!$E$32),0.25,NA()))","v":20},null,null,null,null,null,null,{"$f":"IF(graph!$E$20=0,0,IF(graph!$E$2=0,20,IF(AND(B388<graph!$E$20+graph!$E$32,B388>graph!$E$20-graph!$E$32),0.25,0)))","v":0},{"$f":"IF(graph!$E$22=0,0,IF(graph!$E$2=0,20,IF(AND(B388>graph!$E$22-graph!$E$32,B388<graph!$E$22+graph!$E$32),0.25,0)))","v":0}]
[null,{"$f":"IF(graph!$E$2=0,\"\",B388+graph!$E$32)","v":""},{"$f":"IF(graph!$E$2=0,20,IF(SUM(K389+L389=0),NA(),0.25))","v":20},{"$f":"IF(graph!$E$2=0,20,IF(AND(B389<graph!$E$10+graph!$E$32,B389>graph!$E$10-graph!$E$32),0.25,NA()))","v":20},null,null,null,null,null,null,{"$f":"IF(graph!$E$20=0,0,IF(graph!$E$2=0,20,IF(AND(B389<graph!$E$20+graph!$E$32,B389>graph!$E$20-graph!$E$32),0.25,0)))","v":0},{"$f":"IF(graph!$E$22=0,0,IF(graph!$E$2=0,20,IF(AND(B389>graph!$E$22-graph!$E$32,B389<graph!$E$22+graph!$E$32),0.25,0)))","v":0}]
[null,{"$f":"IF(graph!$E$2=0,\"\",B389+graph!$E$32)","v":""},{"$f":"IF(graph!$E$2=0,20,IF(SUM(K390+L390=0),NA(),0.25))","v":20},{"$f":"IF(graph!$E$2=0,20,IF(AND(B390<graph!$E$10+graph!$E$32,B390>graph!$E$10-graph!$E$32),0.25,NA()))","v":20},null,null,null,null,null,null,{"$f":"IF(graph!$E$20=0,0,IF(graph!$E$2=0,20,IF(AND(B390<graph!$E$20+graph!$E$32,B390>graph!$E$20-graph!$E$32),0.25,0)))","v":0},{"$f":"IF(graph!$E$22=0,0,IF(graph!$E$2=0,20,IF(AND(B390>graph!$E$22-graph!$E$32,B390<graph!$E$22+graph!$E$32),0.25,0)))","v":0}]
[null,{"$f":"IF(graph!$E$2=0,\"\",B390+graph!$E$32)","v":""},{"$f":"IF(graph!$E$2=0,20,IF(SUM(K391+L391=0),NA(),0.25))","v":20},{"$f":"IF(graph!$E$2=0,20,IF(AND(B391<graph!$E$10+graph!$E$32,B391>graph!$E$10-graph!$E$32),0.25,NA()))","v":20},null,null,null,null,null,null,{"$f":"IF(graph!$E$20=0,0,IF(graph!$E$2=0,20,IF(AND(B391<graph!$E$20+graph!$E$32,B391>graph!$E$20-graph!$E$32),0.25,0)))","v":0},{"$f":"IF(graph!$E$22=0,0,IF(graph!$E$2=0,20,IF(AND(B391>graph!$E$22-graph!$E$32,B391<graph!$E$22+graph!$E$32),0.25,0)))","v":0}]
[null,{"$f":"IF(graph!$E$2=0,\"\",B391+graph!$E$32)","v":""},{"$f":"IF(graph!$E$2=0,20,IF(SUM(K392+L392=0),NA(),0.25))","v":20},{"$f":"IF(graph!$E$2=0,20,IF(AND(B392<graph!$E$10+graph!$E$32,B392>graph!$E$10-graph!$E$32),0.25,NA()))","v":20},null,null,null,null,null,null,{"$f":"IF(graph!$E$20=0,0,IF(graph!$E$2=0,20,IF(AND(B392<graph!$E$20+graph!$E$32,B392>graph!$E$20-graph!$E$32),0.25,0)))","v":0},{"$f":"IF(graph!$E$22=0,0,IF(graph!$E$2=0,20,IF(AND(B392>graph!$E$22-graph!$E$32,B392<graph!$E$22+graph!$E$32),0.25,0)))","v":0}]
[null,{"$f":"IF(graph!$E$2=0,\"\",B392+graph!$E$32)","v":""},{"$f":"IF(graph!$E$2=0,20,IF(SUM(K393+L393=0),NA(),0.25))","v":20},{"$f":"IF(graph!$E$2=0,20,IF(AND(B393<graph!$E$10+graph!$E$32,B393>graph!$E$10-graph!$E$32),0.25,NA()))","v":20},null,null,null,null,null,null,{"$f":"IF(graph!$E$20=0,0,IF(graph!$E$2=0,20,IF(AND(B393<graph!$E$20+graph!$E$32,B393>graph!$E$20-graph!$E$32),0.25,0)))","v":0},{"$f":"IF(graph!$E$22=0,0,IF(graph!$E$2=0,20,IF(AND(B393>graph!$E$22-graph!$E$32,B393<graph!$E$22+graph!$E$32),0.25,0)))","v":0}]
[null,{"$f":"IF(graph!$E$2=0,\"\",B393+graph!$E$32)","v":""},{"$f":"IF(graph!$E$2=0,20,IF(SUM(K394+L394=0),NA(),0.25))","v":20},{"$f":"IF(graph!$E$2=0,20,IF(AND(B394<graph!$E$10+graph!$E$32,B394>graph!$E$10-graph!$E$32),0.25,NA()))","v":20},null,null,null,null,null,null,{"$f":"IF(graph!$E$20=0,0,IF(graph!$E$2=0,20,IF(AND(B394<graph!$E$20+graph!$E$32,B394>graph!$E$20-graph!$E$32),0.25,0)))","v":0},{"$f":"IF(graph!$E$22=0,0,IF(graph!$E$2=0,20,IF(AND(B394>graph!$E$22-graph!$E$32,B394<graph!$E$22+graph!$E$32),0.25,0)))","v":0}]
[null,{"$f":"IF(graph!$E$2=0,\"\",B394+graph!$E$32)","v":""},{"$f":"IF(graph!$E$2=0,20,IF(SUM(K395+L395=0),NA(),0.25))","v":20},{"$f":"IF(graph!$E$2=0,20,IF(AND(B395<graph!$E$10+graph!$E$32,B395>graph!$E$10-graph!$E$32),0.25,NA()))","v":20},null,null,null,null,null,null,{"$f":"IF(graph!$E$20=0,0,IF(graph!$E$2=0,20,IF(AND(B395<graph!$E$20+graph!$E$32,B395>graph!$E$20-graph!$E$32),0.25,0)))","v":0},{"$f":"IF(graph!$E$22=0,0,IF(graph!$E$2=0,20,IF(AND(B395>graph!$E$22-graph!$E$32,B395<graph!$E$22+graph!$E$32),0.25,0)))","v":0}]
[null,{"$f":"IF(graph!$E$2=0,\"\",B395+graph!$E$32)","v":""},{"$f":"IF(graph!$E$2=0,20,IF(SUM(K396+L396=0),NA(),0.25))","v":20},{"$f":"IF(graph!$E$2=0,20,IF(AND(B396<graph!$E$10+graph!$E$32,B396>graph!$E$10-graph!$E$32),0.25,NA()))","v":20},null,null,null,null,null,null,{"$f":"IF(graph!$E$20=0,0,IF(graph!$E$2=0,20,IF(AND(B396<graph!$E$20+graph!$E$32,B396>graph!$E$20-graph!$E$32),0.25,0)))","v":0},{"$f":"IF(graph!$E$22=0,0,IF(graph!$E$2=0,20,IF(AND(B396>graph!$E$22-graph!$E$32,B396<graph!$E$22+graph!$E$32),0.25,0)))","v":0}]
[null,{"$f":"IF(graph!$E$2=0,\"\",B396+graph!$E$32)","v":""},{"$f":"IF(graph!$E$2=0,20,IF(SUM(K397+L397=0),NA(),0.25))","v":20},{"$f":"IF(graph!$E$2=0,20,IF(AND(B397<graph!$E$10+graph!$E$32,B397>graph!$E$10-graph!$E$32),0.25,NA()))","v":20},null,null,null,null,null,null,{"$f":"IF(graph!$E$20=0,0,IF(graph!$E$2=0,20,IF(AND(B397<graph!$E$20+graph!$E$32,B397>graph!$E$20-graph!$E$32),0.25,0)))","v":0},{"$f":"IF(graph!$E$22=0,0,IF(graph!$E$2=0,20,IF(AND(B397>graph!$E$22-graph!$E$32,B397<graph!$E$22+graph!$E$32),0.25,0)))","v":0}]
[null,{"$f":"IF(graph!$E$2=0,\"\",B397+graph!$E$32)","v":""},{"$f":"IF(graph!$E$2=0,20,IF(SUM(K398+L398=0),NA(),0.25))","v":20},{"$f":"IF(graph!$E$2=0,20,IF(AND(B398<graph!$E$10+graph!$E$32,B398>graph!$E$10-graph!$E$32),0.25,NA()))","v":20},null,null,null,null,null,null,{"$f":"IF(graph!$E$20=0,0,IF(graph!$E$2=0,20,IF(AND(B398<graph!$E$20+graph!$E$32,B398>graph!$E$20-graph!$E$32),0.25,0)))","v":0},{"$f":"IF(graph!$E$22=0,0,IF(graph!$E$2=0,20,IF(AND(B398>graph!$E$22-graph!$E$32,B398<graph!$E$22+graph!$E$32),0.25,0)))","v":0}]
[null,{"$f":"IF(graph!$E$2=0,\"\",B398+graph!$E$32)","v":""},{"$f":"IF(graph!$E$2=0,20,IF(SUM(K399+L399=0),NA(),0.25))","v":20},{"$f":"IF(graph!$E$2=0,20,IF(AND(B399<graph!$E$10+graph!$E$32,B399>graph!$E$10-graph!$E$32),0.25,NA()))","v":20},null,null,null,null,null,null,{"$f":"IF(graph!$E$20=0,0,IF(graph!$E$2=0,20,IF(AND(B399<graph!$E$20+graph!$E$32,B399>graph!$E$20-graph!$E$32),0.25,0)))","v":0},{"$f":"IF(graph!$E$22=0,0,IF(graph!$E$2=0,20,IF(AND(B399>graph!$E$22-graph!$E$32,B399<graph!$E$22+graph!$E$32),0.25,0)))","v":0}]
[null,{"$f":"IF(graph!$E$2=0,\"\",B399+graph!$E$32)","v":""},{"$f":"IF(graph!$E$2=0,20,IF(SUM(K400+L400=0),NA(),0.25))","v":20},{"$f":"IF(graph!$E$2=0,20,IF(AND(B400<graph!$E$10+graph!$E$32,B400>graph!$E$10-graph!$E$32),0.25,NA()))","v":20},null,null,null,null,null,null,{"$f":"IF(graph!$E$20=0,0,IF(graph!$E$2=0,20,IF(AND(B400<graph!$E$20+graph!$E$32,B400>graph!$E$20-graph!$E$32),0.25,0)))","v":0},{"$f":"IF(graph!$E$22=0,0,IF(graph!$E$2=0,20,IF(AND(B400>graph!$E$22-graph!$E$32,B400<graph!$E$22+graph!$E$32),0.25,0)))","v":0}]
[null,{"$f":"IF(graph!$E$2=0,\"\",B400+graph!$E$32)","v":""},{"$f":"IF(graph!$E$2=0,20,IF(SUM(K401+L401=0),NA(),0.25))","v":20},{"$f":"IF(graph!$E$2=0,20,IF(AND(B401<graph!$E$10+graph!$E$32,B401>graph!$E$10-graph!$E$32),0.25,NA()))","v":20},null,null,null,null,null,null,{"$f":"IF(graph!$E$20=0,0,IF(graph!$E$2=0,20,IF(AND(B401<graph!$E$20+graph!$E$32,B401>graph!$E$20-graph!$E$32),0.25,0)))","v":0},{"$f":"IF(graph!$E$22=0,0,IF(graph!$E$2=0,20,IF(AND(B401>graph!$E$22-graph!$E$32,B401<graph!$E$22+graph!$E$32),0.25,0)))","v":0}]
[null,{"$f":"IF(graph!$E$2=0,\"\",B401+graph!$E$32)","v":""},{"$f":"IF(graph!$E$2=0,20,IF(SUM(K402+L402=0),NA(),0.25))","v":20},{"$f":"IF(graph!$E$2=0,20,IF(AND(B402<graph!$E$10+graph!$E$32,B402>graph!$E$10-graph!$E$32),0.25,NA()))","v":20},null,null,null,null,null,null,{"$f":"IF(graph!$E$20=0,0,IF(graph!$E$2=0,20,IF(AND(B402<graph!$E$20+graph!$E$32,B402>graph!$E$20-graph!$E$32),0.25,0)))","v":0},{"$f":"IF(graph!$E$22=0,0,IF(graph!$E$2=0,20,IF(AND(B402>graph!$E$22-graph!$E$32,B402<graph!$E$22+graph!$E$32),0.25,0)))","v":0}]
[null,{"$f":"IF(graph!$E$2=0,\"\",B402+graph!$E$32)","v":""},{"$f":"IF(graph!$E$2=0,20,IF(SUM(K403+L403=0),NA(),0.25))","v":20},{"$f":"IF(graph!$E$2=0,20,IF(AND(B403<graph!$E$10+graph!$E$32,B403>graph!$E$10-graph!$E$32),0.25,NA()))","v":20},null,null,null,null,null,null,{"$f":"IF(graph!$E$20=0,0,IF(graph!$E$2=0,20,IF(AND(B403<graph!$E$20+graph!$E$32,B403>graph!$E$20-graph!$E$32),0.25,0)))","v":0},{"$f":"IF(graph!$E$22=0,0,IF(graph!$E$2=0,20,IF(AND(B403>graph!$E$22-graph!$E$32,B403<graph!$E$22+graph!$E$32),0.25,0)))","v":0}]
[null,{"$f":"IF(graph!$E$2=0,\"\",B403+graph!$E$32)","v":""},{"$f":"IF(graph!$E$2=0,20,IF(SUM(K404+L404=0),NA(),0.25))","v":20},{"$f":"IF(graph!$E$2=0,20,IF(AND(B404<graph!$E$10+graph!$E$32,B404>graph!$E$10-graph!$E$32),0.25,NA()))","v":20},null,null,null,null,null,null,{"$f":"IF(graph!$E$20=0,0,IF(graph!$E$2=0,20,IF(AND(B404<graph!$E$20+graph!$E$32,B404>graph!$E$20-graph!$E$32),0.25,0)))","v":0},{"$f":"IF(graph!$E$22=0,0,IF(graph!$E$2=0,20,IF(AND(B404>graph!$E$22-graph!$E$32,B404<graph!$E$22+graph!$E$32),0.25,0)))","v":0}]
[null,{"$f":"IF(graph!$E$2=0,\"\",B404+graph!$E$32)","v":""},{"$f":"IF(graph!$E$2=0,20,IF(SUM(K405+L405=0),NA(),0.25))","v":20},{"$f":"IF(graph!$E$2=0,20,IF(AND(B405<graph!$E$10+graph!$E$32,B405>graph!$E$10-graph!$E$32),0.25,NA()))","v":20},null,null,null,null,null,null,{"$f":"IF(graph!$E$20=0,0,IF(graph!$E$2=0,20,IF(AND(B405<graph!$E$20+graph!$E$32,B405>graph!$E$20-graph!$E$32),0.25,0)))","v":0},{"$f":"IF(graph!$E$22=0,0,IF(graph!$E$2=0,20,IF(AND(B405>graph!$E$22-graph!$E$32,B405<graph!$E$22+graph!$E$32),0.25,0)))","v":0}]
[null,{"$f":"IF(graph!$E$2=0,\"\",B405+graph!$E$32)","v":""},{"$f":"IF(graph!$E$2=0,20,IF(SUM(K406+L406=0),NA(),0.25))","v":20},{"$f":"IF(graph!$E$2=0,20,IF(AND(B406<graph!$E$10+graph!$E$32,B406>graph!$E$10-graph!$E$32),0.25,NA()))","v":20},null,null,null,null,null,null,{"$f":"IF(graph!$E$20=0,0,IF(graph!$E$2=0,20,IF(AND(B406<graph!$E$20+graph!$E$32,B406>graph!$E$20-graph!$E$32),0.25,0)))","v":0},{"$f":"IF(graph!$E$22=0,0,IF(graph!$E$2=0,20,IF(AND(B406>graph!$E$22-graph!$E$32,B406<graph!$E$22+graph!$E$32),0.25,0)))","v":0}]
[null,{"$f":"IF(graph!$E$2=0,\"\",B406+graph!$E$32)","v":""},{"$f":"IF(graph!$E$2=0,20,IF(SUM(K407+L407=0),NA(),0.25))","v":20},{"$f":"IF(graph!$E$2=0,20,IF(AND(B407<graph!$E$10+graph!$E$32,B407>graph!$E$10-graph!$E$32),0.25,NA()))","v":20},null,null,null,null,null,null,{"$f":"IF(graph!$E$20=0,0,IF(graph!$E$2=0,20,IF(AND(B407<graph!$E$20+graph!$E$32,B407>graph!$E$20-graph!$E$32),0.25,0)))","v":0},{"$f":"IF(graph!$E$22=0,0,IF(graph!$E$2=0,20,IF(AND(B407>graph!$E$22-graph!$E$32,B407<graph!$E$22+graph!$E$32),0.25,0)))","v":0}]
[null,{"$f":"IF(graph!$E$2=0,\"\",B407+graph!$E$32)","v":""},{"$f":"IF(graph!$E$2=0,20,IF(SUM(K408+L408=0),NA(),0.25))","v":20},{"$f":"IF(graph!$E$2=0,20,IF(AND(B408<graph!$E$10+graph!$E$32,B408>graph!$E$10-graph!$E$32),0.25,NA()))","v":20},null,null,null,null,null,null,{"$f":"IF(graph!$E$20=0,0,IF(graph!$E$2=0,20,IF(AND(B408<graph!$E$20+graph!$E$32,B408>graph!$E$20-graph!$E$32),0.25,0)))","v":0},{"$f":"IF(graph!$E$22=0,0,IF(graph!$E$2=0,20,IF(AND(B408>graph!$E$22-graph!$E$32,B408<graph!$E$22+graph!$E$32),0.25,0)))","v":0}]
[null,{"$f":"IF(graph!$E$2=0,\"\",B408+graph!$E$32)","v":""},{"$f":"IF(graph!$E$2=0,20,IF(SUM(K409+L409=0),NA(),0.25))","v":20},{"$f":"IF(graph!$E$2=0,20,IF(AND(B409<graph!$E$10+graph!$E$32,B409>graph!$E$10-graph!$E$32),0.25,NA()))","v":20},null,null,null,null,null,null,{"$f":"IF(graph!$E$20=0,0,IF(graph!$E$2=0,20,IF(AND(B409<graph!$E$20+graph!$E$32,B409>graph!$E$20-graph!$E$32),0.25,0)))","v":0},{"$f":"IF(graph!$E$22=0,0,IF(graph!$E$2=0,20,IF(AND(B409>graph!$E$22-graph!$E$32,B409<graph!$E$22+graph!$E$32),0.25,0)))","v":0}]
[null,{"$f":"IF(graph!$E$2=0,\"\",B409+graph!$E$32)","v":""},{"$f":"IF(graph!$E$2=0,20,IF(SUM(K410+L410=0),NA(),0.25))","v":20},{"$f":"IF(graph!$E$2=0,20,IF(AND(B410<graph!$E$10+graph!$E$32,B410>graph!$E$10-graph!$E$32),0.25,NA()))","v":20},null,null,null,null,null,null,{"$f":"IF(graph!$E$20=0,0,IF(graph!$E$2=0,20,IF(AND(B410<graph!$E$20+graph!$E$32,B410>graph!$E$20-graph!$E$32),0.25,0)))","v":0},{"$f":"IF(graph!$E$22=0,0,IF(graph!$E$2=0,20,IF(AND(B410>graph!$E$22-graph!$E$32,B410<graph!$E$22+graph!$E$32),0.25,0)))","v":0}]
[null,{"$f":"IF(graph!$E$2=0,\"\",B410+graph!$E$32)","v":""},{"$f":"IF(graph!$E$2=0,20,IF(SUM(K411+L411=0),NA(),0.25))","v":20},{"$f":"IF(graph!$E$2=0,20,IF(AND(B411<graph!$E$10+graph!$E$32,B411>graph!$E$10-graph!$E$32),0.25,NA()))","v":20},null,null,null,null,null,null,{"$f":"IF(graph!$E$20=0,0,IF(graph!$E$2=0,20,IF(AND(B411<graph!$E$20+graph!$E$32,B411>graph!$E$20-graph!$E$32),0.25,0)))","v":0},{"$f":"IF(graph!$E$22=0,0,IF(graph!$E$2=0,20,IF(AND(B411>graph!$E$22-graph!$E$32,B411<graph!$E$22+graph!$E$32),0.25,0)))","v":0}]
[null,{"$f":"IF(graph!$E$2=0,\"\",B411+graph!$E$32)","v":""},{"$f":"IF(graph!$E$2=0,20,IF(SUM(K412+L412=0),NA(),0.25))","v":20},{"$f":"IF(graph!$E$2=0,20,IF(AND(B412<graph!$E$10+graph!$E$32,B412>graph!$E$10-graph!$E$32),0.25,NA()))","v":20},null,null,null,null,null,null,{"$f":"IF(graph!$E$20=0,0,IF(graph!$E$2=0,20,IF(AND(B412<graph!$E$20+graph!$E$32,B412>graph!$E$20-graph!$E$32),0.25,0)))","v":0},{"$f":"IF(graph!$E$22=0,0,IF(graph!$E$2=0,20,IF(AND(B412>graph!$E$22-graph!$E$32,B412<graph!$E$22+graph!$E$32),0.25,0)))","v":0}]
[null,{"$f":"IF(graph!$E$2=0,\"\",B412+graph!$E$32)","v":""},{"$f":"IF(graph!$E$2=0,20,IF(SUM(K413+L413=0),NA(),0.25))","v":20},{"$f":"IF(graph!$E$2=0,20,IF(AND(B413<graph!$E$10+graph!$E$32,B413>graph!$E$10-graph!$E$32),0.25,NA()))","v":20},null,null,null,null,null,null,{"$f":"IF(graph!$E$20=0,0,IF(graph!$E$2=0,20,IF(AND(B413<graph!$E$20+graph!$E$32,B413>graph!$E$20-graph!$E$32),0.25,0)))","v":0},{"$f":"IF(graph!$E$22=0,0,IF(graph!$E$2=0,20,IF(AND(B413>graph!$E$22-graph!$E$32,B413<graph!$E$22+graph!$E$32),0.25,0)))","v":0}]
[null,{"$f":"IF(graph!$E$2=0,\"\",B413+graph!$E$32)","v":""},{"$f":"IF(graph!$E$2=0,20,IF(SUM(K414+L414=0),NA(),0.25))","v":20},{"$f":"IF(graph!$E$2=0,20,IF(AND(B414<graph!$E$10+graph!$E$32,B414>graph!$E$10-graph!$E$32),0.25,NA()))","v":20},null,null,null,null,null,null,{"$f":"IF(graph!$E$20=0,0,IF(graph!$E$2=0,20,IF(AND(B414<graph!$E$20+graph!$E$32,B414>graph!$E$20-graph!$E$32),0.25,0)))","v":0},{"$f":"IF(graph!$E$22=0,0,IF(graph!$E$2=0,20,IF(AND(B414>graph!$E$22-graph!$E$32,B414<graph!$E$22+graph!$E$32),0.25,0)))","v":0}]
[null,{"$f":"IF(graph!$E$2=0,\"\",B414+graph!$E$32)","v":""},{"$f":"IF(graph!$E$2=0,20,IF(SUM(K415+L415=0),NA(),0.25))","v":20},{"$f":"IF(graph!$E$2=0,20,IF(AND(B415<graph!$E$10+graph!$E$32,B415>graph!$E$10-graph!$E$32),0.25,NA()))","v":20},null,null,null,null,null,null,{"$f":"IF(graph!$E$20=0,0,IF(graph!$E$2=0,20,IF(AND(B415<graph!$E$20+graph!$E$32,B415>graph!$E$20-graph!$E$32),0.25,0)))","v":0},{"$f":"IF(graph!$E$22=0,0,IF(graph!$E$2=0,20,IF(AND(B415>graph!$E$22-graph!$E$32,B415<graph!$E$22+graph!$E$32),0.25,0)))","v":0}]
[null,{"$f":"IF(graph!$E$2=0,\"\",B415+graph!$E$32)","v":""},{"$f":"IF(graph!$E$2=0,20,IF(SUM(K416+L416=0),NA(),0.25))","v":20},{"$f":"IF(graph!$E$2=0,20,IF(AND(B416<graph!$E$10+graph!$E$32,B416>graph!$E$10-graph!$E$32),0.25,NA()))","v":20},null,null,null,null,null,null,{"$f":"IF(graph!$E$20=0,0,IF(graph!$E$2=0,20,IF(AND(B416<graph!$E$20+graph!$E$32,B416>graph!$E$20-graph!$E$32),0.25,0)))","v":0},{"$f":"IF(graph!$E$22=0,0,IF(graph!$E$2=0,20,IF(AND(B416>graph!$E$22-graph!$E$32,B416<graph!$E$22+graph!$E$32),0.25,0)))","v":0}]
[null,{"$f":"IF(graph!$E$2=0,\"\",B416+graph!$E$32)","v":""},{"$f":"IF(graph!$E$2=0,20,IF(SUM(K417+L417=0),NA(),0.25))","v":20},{"$f":"IF(graph!$E$2=0,20,IF(AND(B417<graph!$E$10+graph!$E$32,B417>graph!$E$10-graph!$E$32),0.25,NA()))","v":20},null,null,null,null,null,null,{"$f":"IF(graph!$E$20=0,0,IF(graph!$E$2=0,20,IF(AND(B417<graph!$E$20+graph!$E$32,B417>graph!$E$20-graph!$E$32),0.25,0)))","v":0},{"$f":"IF(graph!$E$22=0,0,IF(graph!$E$2=0,20,IF(AND(B417>graph!$E$22-graph!$E$32,B417<graph!$E$22+graph!$E$32),0.25,0)))","v":0}]
[null,{"$f":"IF(graph!$E$2=0,\"\",B417+graph!$E$32)","v":""},{"$f":"IF(graph!$E$2=0,20,IF(SUM(K418+L418=0),NA(),0.25))","v":20},{"$f":"IF(graph!$E$2=0,20,IF(AND(B418<graph!$E$10+graph!$E$32,B418>graph!$E$10-graph!$E$32),0.25,NA()))","v":20},null,null,null,null,null,null,{"$f":"IF(graph!$E$20=0,0,IF(graph!$E$2=0,20,IF(AND(B418<graph!$E$20+graph!$E$32,B418>graph!$E$20-graph!$E$32),0.25,0)))","v":0},{"$f":"IF(graph!$E$22=0,0,IF(graph!$E$2=0,20,IF(AND(B418>graph!$E$22-graph!$E$32,B418<graph!$E$22+graph!$E$32),0.25,0)))","v":0}]
[null,{"$f":"IF(graph!$E$2=0,\"\",B418+graph!$E$32)","v":""},{"$f":"IF(graph!$E$2=0,20,IF(SUM(K419+L419=0),NA(),0.25))","v":20},{"$f":"IF(graph!$E$2=0,20,IF(AND(B419<graph!$E$10+graph!$E$32,B419>graph!$E$10-graph!$E$32),0.25,NA()))","v":20},null,null,null,null,null,null,{"$f":"IF(graph!$E$20=0,0,IF(graph!$E$2=0,20,IF(AND(B419<graph!$E$20+graph!$E$32,B419>graph!$E$20-graph!$E$32),0.25,0)))","v":0},{"$f":"IF(graph!$E$22=0,0,IF(graph!$E$2=0,20,IF(AND(B419>graph!$E$22-graph!$E$32,B419<graph!$E$22+graph!$E$32),0.25,0)))","v":0}]
[null,{"$f":"IF(graph!$E$2=0,\"\",B419+graph!$E$32)","v":""},{"$f":"IF(graph!$E$2=0,20,IF(SUM(K420+L420=0),NA(),0.25))","v":20},{"$f":"IF(graph!$E$2=0,20,IF(AND(B420<graph!$E$10+graph!$E$32,B420>graph!$E$10-graph!$E$32),0.25,NA()))","v":20},null,null,null,null,null,null,{"$f":"IF(graph!$E$20=0,0,IF(graph!$E$2=0,20,IF(AND(B420<graph!$E$20+graph!$E$32,B420>graph!$E$20-graph!$E$32),0.25,0)))","v":0},{"$f":"IF(graph!$E$22=0,0,IF(graph!$E$2=0,20,IF(AND(B420>graph!$E$22-graph!$E$32,B420<graph!$E$22+graph!$E$32),0.25,0)))","v":0}]
[null,{"$f":"IF(graph!$E$2=0,\"\",B420+graph!$E$32)","v":""},{"$f":"IF(graph!$E$2=0,20,IF(SUM(K421+L421=0),NA(),0.25))","v":20},{"$f":"IF(graph!$E$2=0,20,IF(AND(B421<graph!$E$10+graph!$E$32,B421>graph!$E$10-graph!$E$32),0.25,NA()))","v":20},null,null,null,null,null,null,{"$f":"IF(graph!$E$20=0,0,IF(graph!$E$2=0,20,IF(AND(B421<graph!$E$20+graph!$E$32,B421>graph!$E$20-graph!$E$32),0.25,0)))","v":0},{"$f":"IF(graph!$E$22=0,0,IF(graph!$E$2=0,20,IF(AND(B421>graph!$E$22-graph!$E$32,B421<graph!$E$22+graph!$E$32),0.25,0)))","v":0}]
[null,{"$f":"IF(graph!$E$2=0,\"\",B421+graph!$E$32)","v":""},{"$f":"IF(graph!$E$2=0,20,IF(SUM(K422+L422=0),NA(),0.25))","v":20},{"$f":"IF(graph!$E$2=0,20,IF(AND(B422<graph!$E$10+graph!$E$32,B422>graph!$E$10-graph!$E$32),0.25,NA()))","v":20},null,null,null,null,null,null,{"$f":"IF(graph!$E$20=0,0,IF(graph!$E$2=0,20,IF(AND(B422<graph!$E$20+graph!$E$32,B422>graph!$E$20-graph!$E$32),0.25,0)))","v":0},{"$f":"IF(graph!$E$22=0,0,IF(graph!$E$2=0,20,IF(AND(B422>graph!$E$22-graph!$E$32,B422<graph!$E$22+graph!$E$32),0.25,0)))","v":0}]
[null,{"$f":"IF(graph!$E$2=0,\"\",B422+graph!$E$32)","v":""},{"$f":"IF(graph!$E$2=0,20,IF(SUM(K423+L423=0),NA(),0.25))","v":20},{"$f":"IF(graph!$E$2=0,20,IF(AND(B423<graph!$E$10+graph!$E$32,B423>graph!$E$10-graph!$E$32),0.25,NA()))","v":20},null,null,null,null,null,null,{"$f":"IF(graph!$E$20=0,0,IF(graph!$E$2=0,20,IF(AND(B423<graph!$E$20+graph!$E$32,B423>graph!$E$20-graph!$E$32),0.25,0)))","v":0},{"$f":"IF(graph!$E$22=0,0,IF(graph!$E$2=0,20,IF(AND(B423>graph!$E$22-graph!$E$32,B423<graph!$E$22+graph!$E$32),0.25,0)))","v":0}]
[null,{"$f":"IF(graph!$E$2=0,\"\",B423+graph!$E$32)","v":""},{"$f":"IF(graph!$E$2=0,20,IF(SUM(K424+L424=0),NA(),0.25))","v":20},{"$f":"IF(graph!$E$2=0,20,IF(AND(B424<graph!$E$10+graph!$E$32,B424>graph!$E$10-graph!$E$32),0.25,NA()))","v":20},null,null,null,null,null,null,{"$f":"IF(graph!$E$20=0,0,IF(graph!$E$2=0,20,IF(AND(B424<graph!$E$20+graph!$E$32,B424>graph!$E$20-graph!$E$32),0.25,0)))","v":0},{"$f":"IF(graph!$E$22=0,0,IF(graph!$E$2=0,20,IF(AND(B424>graph!$E$22-graph!$E$32,B424<graph!$E$22+graph!$E$32),0.25,0)))","v":0}]
[null,{"$f":"IF(graph!$E$2=0,\"\",B424+graph!$E$32)","v":""},{"$f":"IF(graph!$E$2=0,20,IF(SUM(K425+L425=0),NA(),0.25))","v":20},{"$f":"IF(graph!$E$2=0,20,IF(AND(B425<graph!$E$10+graph!$E$32,B425>graph!$E$10-graph!$E$32),0.25,NA()))","v":20},null,null,null,null,null,null,{"$f":"IF(graph!$E$20=0,0,IF(graph!$E$2=0,20,IF(AND(B425<graph!$E$20+graph!$E$32,B425>graph!$E$20-graph!$E$32),0.25,0)))","v":0},{"$f":"IF(graph!$E$22=0,0,IF(graph!$E$2=0,20,IF(AND(B425>graph!$E$22-graph!$E$32,B425<graph!$E$22+graph!$E$32),0.25,0)))","v":0}]
[null,{"$f":"IF(graph!$E$2=0,\"\",B425+graph!$E$32)","v":""},{"$f":"IF(graph!$E$2=0,20,IF(SUM(K426+L426=0),NA(),0.25))","v":20},{"$f":"IF(graph!$E$2=0,20,IF(AND(B426<graph!$E$10+graph!$E$32,B426>graph!$E$10-graph!$E$32),0.25,NA()))","v":20},null,null,null,null,null,null,{"$f":"IF(graph!$E$20=0,0,IF(graph!$E$2=0,20,IF(AND(B426<graph!$E$20+graph!$E$32,B426>graph!$E$20-graph!$E$32),0.25,0)))","v":0},{"$f":"IF(graph!$E$22=0,0,IF(graph!$E$2=0,20,IF(AND(B426>graph!$E$22-graph!$E$32,B426<graph!$E$22+graph!$E$32),0.25,0)))","v":0}]
[null,{"$f":"IF(graph!$E$2=0,\"\",B426+graph!$E$32)","v":""},{"$f":"IF(graph!$E$2=0,20,IF(SUM(K427+L427=0),NA(),0.25))","v":20},{"$f":"IF(graph!$E$2=0,20,IF(AND(B427<graph!$E$10+graph!$E$32,B427>graph!$E$10-graph!$E$32),0.25,NA()))","v":20},null,null,null,null,null,null,{"$f":"IF(graph!$E$20=0,0,IF(graph!$E$2=0,20,IF(AND(B427<graph!$E$20+graph!$E$32,B427>graph!$E$20-graph!$E$32),0.25,0)))","v":0},{"$f":"IF(graph!$E$22=0,0,IF(graph!$E$2=0,20,IF(AND(B427>graph!$E$22-graph!$E$32,B427<graph!$E$22+graph!$E$32),0.25,0)))","v":0}]
[null,{"$f":"IF(graph!$E$2=0,\"\",B427+graph!$E$32)","v":""},{"$f":"IF(graph!$E$2=0,20,IF(SUM(K428+L428=0),NA(),0.25))","v":20},{"$f":"IF(graph!$E$2=0,20,IF(AND(B428<graph!$E$10+graph!$E$32,B428>graph!$E$10-graph!$E$32),0.25,NA()))","v":20},null,null,null,null,null,null,{"$f":"IF(graph!$E$20=0,0,IF(graph!$E$2=0,20,IF(AND(B428<graph!$E$20+graph!$E$32,B428>graph!$E$20-graph!$E$32),0.25,0)))","v":0},{"$f":"IF(graph!$E$22=0,0,IF(graph!$E$2=0,20,IF(AND(B428>graph!$E$22-graph!$E$32,B428<graph!$E$22+graph!$E$32),0.25,0)))","v":0}]
[null,{"$f":"IF(graph!$E$2=0,\"\",B428+graph!$E$32)","v":""},{"$f":"IF(graph!$E$2=0,20,IF(SUM(K429+L429=0),NA(),0.25))","v":20},{"$f":"IF(graph!$E$2=0,20,IF(AND(B429<graph!$E$10+graph!$E$32,B429>graph!$E$10-graph!$E$32),0.25,NA()))","v":20},null,null,null,null,null,null,{"$f":"IF(graph!$E$20=0,0,IF(graph!$E$2=0,20,IF(AND(B429<graph!$E$20+graph!$E$32,B429>graph!$E$20-graph!$E$32),0.25,0)))","v":0},{"$f":"IF(graph!$E$22=0,0,IF(graph!$E$2=0,20,IF(AND(B429>graph!$E$22-graph!$E$32,B429<graph!$E$22+graph!$E$32),0.25,0)))","v":0}]
[null,{"$f":"IF(graph!$E$2=0,\"\",B429+graph!$E$32)","v":""},{"$f":"IF(graph!$E$2=0,20,IF(SUM(K430+L430=0),NA(),0.25))","v":20},{"$f":"IF(graph!$E$2=0,20,IF(AND(B430<graph!$E$10+graph!$E$32,B430>graph!$E$10-graph!$E$32),0.25,NA()))","v":20},null,null,null,null,null,null,{"$f":"IF(graph!$E$20=0,0,IF(graph!$E$2=0,20,IF(AND(B430<graph!$E$20+graph!$E$32,B430>graph!$E$20-graph!$E$32),0.25,0)))","v":0},{"$f":"IF(graph!$E$22=0,0,IF(graph!$E$2=0,20,IF(AND(B430>graph!$E$22-graph!$E$32,B430<graph!$E$22+graph!$E$32),0.25,0)))","v":0}]
[null,{"$f":"IF(graph!$E$2=0,\"\",B430+graph!$E$32)","v":""},{"$f":"IF(graph!$E$2=0,20,IF(SUM(K431+L431=0),NA(),0.25))","v":20},{"$f":"IF(graph!$E$2=0,20,IF(AND(B431<graph!$E$10+graph!$E$32,B431>graph!$E$10-graph!$E$32),0.25,NA()))","v":20},null,null,null,null,null,null,{"$f":"IF(graph!$E$20=0,0,IF(graph!$E$2=0,20,IF(AND(B431<graph!$E$20+graph!$E$32,B431>graph!$E$20-graph!$E$32),0.25,0)))","v":0},{"$f":"IF(graph!$E$22=0,0,IF(graph!$E$2=0,20,IF(AND(B431>graph!$E$22-graph!$E$32,B431<graph!$E$22+graph!$E$32),0.25,0)))","v":0}]
[null,{"$f":"IF(graph!$E$2=0,\"\",B431+graph!$E$32)","v":""},{"$f":"IF(graph!$E$2=0,20,IF(SUM(K432+L432=0),NA(),0.25))","v":20},{"$f":"IF(graph!$E$2=0,20,IF(AND(B432<graph!$E$10+graph!$E$32,B432>graph!$E$10-graph!$E$32),0.25,NA()))","v":20},null,null,null,null,null,null,{"$f":"IF(graph!$E$20=0,0,IF(graph!$E$2=0,20,IF(AND(B432<graph!$E$20+graph!$E$32,B432>graph!$E$20-graph!$E$32),0.25,0)))","v":0},{"$f":"IF(graph!$E$22=0,0,IF(graph!$E$2=0,20,IF(AND(B432>graph!$E$22-graph!$E$32,B432<graph!$E$22+graph!$E$32),0.25,0)))","v":0}]
[null,{"$f":"IF(graph!$E$2=0,\"\",B432+graph!$E$32)","v":""},{"$f":"IF(graph!$E$2=0,20,IF(SUM(K433+L433=0),NA(),0.25))","v":20},{"$f":"IF(graph!$E$2=0,20,IF(AND(B433<graph!$E$10+graph!$E$32,B433>graph!$E$10-graph!$E$32),0.25,NA()))","v":20},null,null,null,null,null,null,{"$f":"IF(graph!$E$20=0,0,IF(graph!$E$2=0,20,IF(AND(B433<graph!$E$20+graph!$E$32,B433>graph!$E$20-graph!$E$32),0.25,0)))","v":0},{"$f":"IF(graph!$E$22=0,0,IF(graph!$E$2=0,20,IF(AND(B433>graph!$E$22-graph!$E$32,B433<graph!$E$22+graph!$E$32),0.25,0)))","v":0}]
[null,{"$f":"IF(graph!$E$2=0,\"\",B433+graph!$E$32)","v":""},{"$f":"IF(graph!$E$2=0,20,IF(SUM(K434+L434=0),NA(),0.25))","v":20},{"$f":"IF(graph!$E$2=0,20,IF(AND(B434<graph!$E$10+graph!$E$32,B434>graph!$E$10-graph!$E$32),0.25,NA()))","v":20},null,null,null,null,null,null,{"$f":"IF(graph!$E$20=0,0,IF(graph!$E$2=0,20,IF(AND(B434<graph!$E$20+graph!$E$32,B434>graph!$E$20-graph!$E$32),0.25,0)))","v":0},{"$f":"IF(graph!$E$22=0,0,IF(graph!$E$2=0,20,IF(AND(B434>graph!$E$22-graph!$E$32,B434<graph!$E$22+graph!$E$32),0.25,0)))","v":0}]
[null,{"$f":"IF(graph!$E$2=0,\"\",B434+graph!$E$32)","v":""},{"$f":"IF(graph!$E$2=0,20,IF(SUM(K435+L435=0),NA(),0.25))","v":20},{"$f":"IF(graph!$E$2=0,20,IF(AND(B435<graph!$E$10+graph!$E$32,B435>graph!$E$10-graph!$E$32),0.25,NA()))","v":20},null,null,null,null,null,null,{"$f":"IF(graph!$E$20=0,0,IF(graph!$E$2=0,20,IF(AND(B435<graph!$E$20+graph!$E$32,B435>graph!$E$20-graph!$E$32),0.25,0)))","v":0},{"$f":"IF(graph!$E$22=0,0,IF(graph!$E$2=0,20,IF(AND(B435>graph!$E$22-graph!$E$32,B435<graph!$E$22+graph!$E$32),0.25,0)))","v":0}]
[null,{"$f":"IF(graph!$E$2=0,\"\",B435+graph!$E$32)","v":""},{"$f":"IF(graph!$E$2=0,20,IF(SUM(K436+L436=0),NA(),0.25))","v":20},{"$f":"IF(graph!$E$2=0,20,IF(AND(B436<graph!$E$10+graph!$E$32,B436>graph!$E$10-graph!$E$32),0.25,NA()))","v":20},null,null,null,null,null,null,{"$f":"IF(graph!$E$20=0,0,IF(graph!$E$2=0,20,IF(AND(B436<graph!$E$20+graph!$E$32,B436>graph!$E$20-graph!$E$32),0.25,0)))","v":0},{"$f":"IF(graph!$E$22=0,0,IF(graph!$E$2=0,20,IF(AND(B436>graph!$E$22-graph!$E$32,B436<graph!$E$22+graph!$E$32),0.25,0)))","v":0}]
[null,{"$f":"IF(graph!$E$2=0,\"\",B436+graph!$E$32)","v":""},{"$f":"IF(graph!$E$2=0,20,IF(SUM(K437+L437=0),NA(),0.25))","v":20},{"$f":"IF(graph!$E$2=0,20,IF(AND(B437<graph!$E$10+graph!$E$32,B437>graph!$E$10-graph!$E$32),0.25,NA()))","v":20},null,null,null,null,null,null,{"$f":"IF(graph!$E$20=0,0,IF(graph!$E$2=0,20,IF(AND(B437<graph!$E$20+graph!$E$32,B437>graph!$E$20-graph!$E$32),0.25,0)))","v":0},{"$f":"IF(graph!$E$22=0,0,IF(graph!$E$2=0,20,IF(AND(B437>graph!$E$22-graph!$E$32,B437<graph!$E$22+graph!$E$32),0.25,0)))","v":0}]
[null,{"$f":"IF(graph!$E$2=0,\"\",B437+graph!$E$32)","v":""},{"$f":"IF(graph!$E$2=0,20,IF(SUM(K438+L438=0),NA(),0.25))","v":20},{"$f":"IF(graph!$E$2=0,20,IF(AND(B438<graph!$E$10+graph!$E$32,B438>graph!$E$10-graph!$E$32),0.25,NA()))","v":20},null,null,null,null,null,null,{"$f":"IF(graph!$E$20=0,0,IF(graph!$E$2=0,20,IF(AND(B438<graph!$E$20+graph!$E$32,B438>graph!$E$20-graph!$E$32),0.25,0)))","v":0},{"$f":"IF(graph!$E$22=0,0,IF(graph!$E$2=0,20,IF(AND(B438>graph!$E$22-graph!$E$32,B438<graph!$E$22+graph!$E$32),0.25,0)))","v":0}]
[null,{"$f":"IF(graph!$E$2=0,\"\",B438+graph!$E$32)","v":""},{"$f":"IF(graph!$E$2=0,20,IF(SUM(K439+L439=0),NA(),0.25))","v":20},{"$f":"IF(graph!$E$2=0,20,IF(AND(B439<graph!$E$10+graph!$E$32,B439>graph!$E$10-graph!$E$32),0.25,NA()))","v":20},null,null,null,null,null,null,{"$f":"IF(graph!$E$20=0,0,IF(graph!$E$2=0,20,IF(AND(B439<graph!$E$20+graph!$E$32,B439>graph!$E$20-graph!$E$32),0.25,0)))","v":0},{"$f":"IF(graph!$E$22=0,0,IF(graph!$E$2=0,20,IF(AND(B439>graph!$E$22-graph!$E$32,B439<graph!$E$22+graph!$E$32),0.25,0)))","v":0}]
[null,{"$f":"IF(graph!$E$2=0,\"\",B439+graph!$E$32)","v":""},{"$f":"IF(graph!$E$2=0,20,IF(SUM(K440+L440=0),NA(),0.25))","v":20},{"$f":"IF(graph!$E$2=0,20,IF(AND(B440<graph!$E$10+graph!$E$32,B440>graph!$E$10-graph!$E$32),0.25,NA()))","v":20},null,null,null,null,null,null,{"$f":"IF(graph!$E$20=0,0,IF(graph!$E$2=0,20,IF(AND(B440<graph!$E$20+graph!$E$32,B440>graph!$E$20-graph!$E$32),0.25,0)))","v":0},{"$f":"IF(graph!$E$22=0,0,IF(graph!$E$2=0,20,IF(AND(B440>graph!$E$22-graph!$E$32,B440<graph!$E$22+graph!$E$32),0.25,0)))","v":0}]
[null,{"$f":"IF(graph!$E$2=0,\"\",B440+graph!$E$32)","v":""},{"$f":"IF(graph!$E$2=0,20,IF(SUM(K441+L441=0),NA(),0.25))","v":20},{"$f":"IF(graph!$E$2=0,20,IF(AND(B441<graph!$E$10+graph!$E$32,B441>graph!$E$10-graph!$E$32),0.25,NA()))","v":20},null,null,null,null,null,null,{"$f":"IF(graph!$E$20=0,0,IF(graph!$E$2=0,20,IF(AND(B441<graph!$E$20+graph!$E$32,B441>graph!$E$20-graph!$E$32),0.25,0)))","v":0},{"$f":"IF(graph!$E$22=0,0,IF(graph!$E$2=0,20,IF(AND(B441>graph!$E$22-graph!$E$32,B441<graph!$E$22+graph!$E$32),0.25,0)))","v":0}]
[null,{"$f":"IF(graph!$E$2=0,\"\",B441+graph!$E$32)","v":""},{"$f":"IF(graph!$E$2=0,20,IF(SUM(K442+L442=0),NA(),0.25))","v":20},{"$f":"IF(graph!$E$2=0,20,IF(AND(B442<graph!$E$10+graph!$E$32,B442>graph!$E$10-graph!$E$32),0.25,NA()))","v":20},null,null,null,null,null,null,{"$f":"IF(graph!$E$20=0,0,IF(graph!$E$2=0,20,IF(AND(B442<graph!$E$20+graph!$E$32,B442>graph!$E$20-graph!$E$32),0.25,0)))","v":0},{"$f":"IF(graph!$E$22=0,0,IF(graph!$E$2=0,20,IF(AND(B442>graph!$E$22-graph!$E$32,B442<graph!$E$22+graph!$E$32),0.25,0)))","v":0}]
[null,{"$f":"IF(graph!$E$2=0,\"\",B442+graph!$E$32)","v":""},{"$f":"IF(graph!$E$2=0,20,IF(SUM(K443+L443=0),NA(),0.25))","v":20},{"$f":"IF(graph!$E$2=0,20,IF(AND(B443<graph!$E$10+graph!$E$32,B443>graph!$E$10-graph!$E$32),0.25,NA()))","v":20},null,null,null,null,null,null,{"$f":"IF(graph!$E$20=0,0,IF(graph!$E$2=0,20,IF(AND(B443<graph!$E$20+graph!$E$32,B443>graph!$E$20-graph!$E$32),0.25,0)))","v":0},{"$f":"IF(graph!$E$22=0,0,IF(graph!$E$2=0,20,IF(AND(B443>graph!$E$22-graph!$E$32,B443<graph!$E$22+graph!$E$32),0.25,0)))","v":0}]
[null,{"$f":"IF(graph!$E$2=0,\"\",B443+graph!$E$32)","v":""},{"$f":"IF(graph!$E$2=0,20,IF(SUM(K444+L444=0),NA(),0.25))","v":20},{"$f":"IF(graph!$E$2=0,20,IF(AND(B444<graph!$E$10+graph!$E$32,B444>graph!$E$10-graph!$E$32),0.25,NA()))","v":20},null,null,null,null,null,null,{"$f":"IF(graph!$E$20=0,0,IF(graph!$E$2=0,20,IF(AND(B444<graph!$E$20+graph!$E$32,B444>graph!$E$20-graph!$E$32),0.25,0)))","v":0},{"$f":"IF(graph!$E$22=0,0,IF(graph!$E$2=0,20,IF(AND(B444>graph!$E$22-graph!$E$32,B444<graph!$E$22+graph!$E$32),0.25,0)))","v":0}]
[null,{"$f":"IF(graph!$E$2=0,\"\",B444+graph!$E$32)","v":""},{"$f":"IF(graph!$E$2=0,20,IF(SUM(K445+L445=0),NA(),0.25))","v":20},{"$f":"IF(graph!$E$2=0,20,IF(AND(B445<graph!$E$10+graph!$E$32,B445>graph!$E$10-graph!$E$32),0.25,NA()))","v":20},null,null,null,null,null,null,{"$f":"IF(graph!$E$20=0,0,IF(graph!$E$2=0,20,IF(AND(B445<graph!$E$20+graph!$E$32,B445>graph!$E$20-graph!$E$32),0.25,0)))","v":0},{"$f":"IF(graph!$E$22=0,0,IF(graph!$E$2=0,20,IF(AND(B445>graph!$E$22-graph!$E$32,B445<graph!$E$22+graph!$E$32),0.25,0)))","v":0}]
[null,{"$f":"IF(graph!$E$2=0,\"\",B445+graph!$E$32)","v":""},{"$f":"IF(graph!$E$2=0,20,IF(SUM(K446+L446=0),NA(),0.25))","v":20},{"$f":"IF(graph!$E$2=0,20,IF(AND(B446<graph!$E$10+graph!$E$32,B446>graph!$E$10-graph!$E$32),0.25,NA()))","v":20},null,null,null,null,null,null,{"$f":"IF(graph!$E$20=0,0,IF(graph!$E$2=0,20,IF(AND(B446<graph!$E$20+graph!$E$32,B446>graph!$E$20-graph!$E$32),0.25,0)))","v":0},{"$f":"IF(graph!$E$22=0,0,IF(graph!$E$2=0,20,IF(AND(B446>graph!$E$22-graph!$E$32,B446<graph!$E$22+graph!$E$32),0.25,0)))","v":0}]
[null,{"$f":"IF(graph!$E$2=0,\"\",B446+graph!$E$32)","v":""},{"$f":"IF(graph!$E$2=0,20,IF(SUM(K447+L447=0),NA(),0.25))","v":20},{"$f":"IF(graph!$E$2=0,20,IF(AND(B447<graph!$E$10+graph!$E$32,B447>graph!$E$10-graph!$E$32),0.25,NA()))","v":20},null,null,null,null,null,null,{"$f":"IF(graph!$E$20=0,0,IF(graph!$E$2=0,20,IF(AND(B447<graph!$E$20+graph!$E$32,B447>graph!$E$20-graph!$E$32),0.25,0)))","v":0},{"$f":"IF(graph!$E$22=0,0,IF(graph!$E$2=0,20,IF(AND(B447>graph!$E$22-graph!$E$32,B447<graph!$E$22+graph!$E$32),0.25,0)))","v":0}]
[null,{"$f":"IF(graph!$E$2=0,\"\",B447+graph!$E$32)","v":""},{"$f":"IF(graph!$E$2=0,20,IF(SUM(K448+L448=0),NA(),0.25))","v":20},{"$f":"IF(graph!$E$2=0,20,IF(AND(B448<graph!$E$10+graph!$E$32,B448>graph!$E$10-graph!$E$32),0.25,NA()))","v":20},null,null,null,null,null,null,{"$f":"IF(graph!$E$20=0,0,IF(graph!$E$2=0,20,IF(AND(B448<graph!$E$20+graph!$E$32,B448>graph!$E$20-graph!$E$32),0.25,0)))","v":0},{"$f":"IF(graph!$E$22=0,0,IF(graph!$E$2=0,20,IF(AND(B448>graph!$E$22-graph!$E$32,B448<graph!$E$22+graph!$E$32),0.25,0)))","v":0}]
[null,{"$f":"IF(graph!$E$2=0,\"\",B448+graph!$E$32)","v":""},{"$f":"IF(graph!$E$2=0,20,IF(SUM(K449+L449=0),NA(),0.25))","v":20},{"$f":"IF(graph!$E$2=0,20,IF(AND(B449<graph!$E$10+graph!$E$32,B449>graph!$E$10-graph!$E$32),0.25,NA()))","v":20},null,null,null,null,null,null,{"$f":"IF(graph!$E$20=0,0,IF(graph!$E$2=0,20,IF(AND(B449<graph!$E$20+graph!$E$32,B449>graph!$E$20-graph!$E$32),0.25,0)))","v":0},{"$f":"IF(graph!$E$22=0,0,IF(graph!$E$2=0,20,IF(AND(B449>graph!$E$22-graph!$E$32,B449<graph!$E$22+graph!$E$32),0.25,0)))","v":0}]
[null,{"$f":"IF(graph!$E$2=0,\"\",B449+graph!$E$32)","v":""},{"$f":"IF(graph!$E$2=0,20,IF(SUM(K450+L450=0),NA(),0.25))","v":20},{"$f":"IF(graph!$E$2=0,20,IF(AND(B450<graph!$E$10+graph!$E$32,B450>graph!$E$10-graph!$E$32),0.25,NA()))","v":20},null,null,null,null,null,null,{"$f":"IF(graph!$E$20=0,0,IF(graph!$E$2=0,20,IF(AND(B450<graph!$E$20+graph!$E$32,B450>graph!$E$20-graph!$E$32),0.25,0)))","v":0},{"$f":"IF(graph!$E$22=0,0,IF(graph!$E$2=0,20,IF(AND(B450>graph!$E$22-graph!$E$32,B450<graph!$E$22+graph!$E$32),0.25,0)))","v":0}]
[null,{"$f":"IF(graph!$E$2=0,\"\",B450+graph!$E$32)","v":""},{"$f":"IF(graph!$E$2=0,20,IF(SUM(K451+L451=0),NA(),0.25))","v":20},{"$f":"IF(graph!$E$2=0,20,IF(AND(B451<graph!$E$10+graph!$E$32,B451>graph!$E$10-graph!$E$32),0.25,NA()))","v":20},null,null,null,null,null,null,{"$f":"IF(graph!$E$20=0,0,IF(graph!$E$2=0,20,IF(AND(B451<graph!$E$20+graph!$E$32,B451>graph!$E$20-graph!$E$32),0.25,0)))","v":0},{"$f":"IF(graph!$E$22=0,0,IF(graph!$E$2=0,20,IF(AND(B451>graph!$E$22-graph!$E$32,B451<graph!$E$22+graph!$E$32),0.25,0)))","v":0}]
[null,{"$f":"IF(graph!$E$2=0,\"\",B451+graph!$E$32)","v":""},{"$f":"IF(graph!$E$2=0,20,IF(SUM(K452+L452=0),NA(),0.25))","v":20},{"$f":"IF(graph!$E$2=0,20,IF(AND(B452<graph!$E$10+graph!$E$32,B452>graph!$E$10-graph!$E$32),0.25,NA()))","v":20},null,null,null,null,null,null,{"$f":"IF(graph!$E$20=0,0,IF(graph!$E$2=0,20,IF(AND(B452<graph!$E$20+graph!$E$32,B452>graph!$E$20-graph!$E$32),0.25,0)))","v":0},{"$f":"IF(graph!$E$22=0,0,IF(graph!$E$2=0,20,IF(AND(B452>graph!$E$22-graph!$E$32,B452<graph!$E$22+graph!$E$32),0.25,0)))","v":0}]
[null,{"$f":"IF(graph!$E$2=0,\"\",B452+graph!$E$32)","v":""},{"$f":"IF(graph!$E$2=0,20,IF(SUM(K453+L453=0),NA(),0.25))","v":20},{"$f":"IF(graph!$E$2=0,20,IF(AND(B453<graph!$E$10+graph!$E$32,B453>graph!$E$10-graph!$E$32),0.25,NA()))","v":20},null,null,null,null,null,null,{"$f":"IF(graph!$E$20=0,0,IF(graph!$E$2=0,20,IF(AND(B453<graph!$E$20+graph!$E$32,B453>graph!$E$20-graph!$E$32),0.25,0)))","v":0},{"$f":"IF(graph!$E$22=0,0,IF(graph!$E$2=0,20,IF(AND(B453>graph!$E$22-graph!$E$32,B453<graph!$E$22+graph!$E$32),0.25,0)))","v":0}]
[null,{"$f":"IF(graph!$E$2=0,\"\",B453+graph!$E$32)","v":""},{"$f":"IF(graph!$E$2=0,20,IF(SUM(K454+L454=0),NA(),0.25))","v":20},{"$f":"IF(graph!$E$2=0,20,IF(AND(B454<graph!$E$10+graph!$E$32,B454>graph!$E$10-graph!$E$32),0.25,NA()))","v":20},null,null,null,null,null,null,{"$f":"IF(graph!$E$20=0,0,IF(graph!$E$2=0,20,IF(AND(B454<graph!$E$20+graph!$E$32,B454>graph!$E$20-graph!$E$32),0.25,0)))","v":0},{"$f":"IF(graph!$E$22=0,0,IF(graph!$E$2=0,20,IF(AND(B454>graph!$E$22-graph!$E$32,B454<graph!$E$22+graph!$E$32),0.25,0)))","v":0}]
[null,{"$f":"IF(graph!$E$2=0,\"\",B454+graph!$E$32)","v":""},{"$f":"IF(graph!$E$2=0,20,IF(SUM(K455+L455=0),NA(),0.25))","v":20},{"$f":"IF(graph!$E$2=0,20,IF(AND(B455<graph!$E$10+graph!$E$32,B455>graph!$E$10-graph!$E$32),0.25,NA()))","v":20},null,null,null,null,null,null,{"$f":"IF(graph!$E$20=0,0,IF(graph!$E$2=0,20,IF(AND(B455<graph!$E$20+graph!$E$32,B455>graph!$E$20-graph!$E$32),0.25,0)))","v":0},{"$f":"IF(graph!$E$22=0,0,IF(graph!$E$2=0,20,IF(AND(B455>graph!$E$22-graph!$E$32,B455<graph!$E$22+graph!$E$32),0.25,0)))","v":0}]
[null,{"$f":"IF(graph!$E$2=0,\"\",B455+graph!$E$32)","v":""},{"$f":"IF(graph!$E$2=0,20,IF(SUM(K456+L456=0),NA(),0.25))","v":20},{"$f":"IF(graph!$E$2=0,20,IF(AND(B456<graph!$E$10+graph!$E$32,B456>graph!$E$10-graph!$E$32),0.25,NA()))","v":20},null,null,null,null,null,null,{"$f":"IF(graph!$E$20=0,0,IF(graph!$E$2=0,20,IF(AND(B456<graph!$E$20+graph!$E$32,B456>graph!$E$20-graph!$E$32),0.25,0)))","v":0},{"$f":"IF(graph!$E$22=0,0,IF(graph!$E$2=0,20,IF(AND(B456>graph!$E$22-graph!$E$32,B456<graph!$E$22+graph!$E$32),0.25,0)))","v":0}]
[null,{"$f":"IF(graph!$E$2=0,\"\",B456+graph!$E$32)","v":""},{"$f":"IF(graph!$E$2=0,20,IF(SUM(K457+L457=0),NA(),0.25))","v":20},{"$f":"IF(graph!$E$2=0,20,IF(AND(B457<graph!$E$10+graph!$E$32,B457>graph!$E$10-graph!$E$32),0.25,NA()))","v":20},null,null,null,null,null,null,{"$f":"IF(graph!$E$20=0,0,IF(graph!$E$2=0,20,IF(AND(B457<graph!$E$20+graph!$E$32,B457>graph!$E$20-graph!$E$32),0.25,0)))","v":0},{"$f":"IF(graph!$E$22=0,0,IF(graph!$E$2=0,20,IF(AND(B457>graph!$E$22-graph!$E$32,B457<graph!$E$22+graph!$E$32),0.25,0)))","v":0}]
[null,{"$f":"IF(graph!$E$2=0,\"\",B457+graph!$E$32)","v":""},{"$f":"IF(graph!$E$2=0,20,IF(SUM(K458+L458=0),NA(),0.25))","v":20},{"$f":"IF(graph!$E$2=0,20,IF(AND(B458<graph!$E$10+graph!$E$32,B458>graph!$E$10-graph!$E$32),0.25,NA()))","v":20},null,null,null,null,null,null,{"$f":"IF(graph!$E$20=0,0,IF(graph!$E$2=0,20,IF(AND(B458<graph!$E$20+graph!$E$32,B458>graph!$E$20-graph!$E$32),0.25,0)))","v":0},{"$f":"IF(graph!$E$22=0,0,IF(graph!$E$2=0,20,IF(AND(B458>graph!$E$22-graph!$E$32,B458<graph!$E$22+graph!$E$32),0.25,0)))","v":0}]
[null,{"$f":"IF(graph!$E$2=0,\"\",B458+graph!$E$32)","v":""},{"$f":"IF(graph!$E$2=0,20,IF(SUM(K459+L459=0),NA(),0.25))","v":20},{"$f":"IF(graph!$E$2=0,20,IF(AND(B459<graph!$E$10+graph!$E$32,B459>graph!$E$10-graph!$E$32),0.25,NA()))","v":20},null,null,null,null,null,null,{"$f":"IF(graph!$E$20=0,0,IF(graph!$E$2=0,20,IF(AND(B459<graph!$E$20+graph!$E$32,B459>graph!$E$20-graph!$E$32),0.25,0)))","v":0},{"$f":"IF(graph!$E$22=0,0,IF(graph!$E$2=0,20,IF(AND(B459>graph!$E$22-graph!$E$32,B459<graph!$E$22+graph!$E$32),0.25,0)))","v":0}]
[null,{"$f":"IF(graph!$E$2=0,\"\",B459+graph!$E$32)","v":""},{"$f":"IF(graph!$E$2=0,20,IF(SUM(K460+L460=0),NA(),0.25))","v":20},{"$f":"IF(graph!$E$2=0,20,IF(AND(B460<graph!$E$10+graph!$E$32,B460>graph!$E$10-graph!$E$32),0.25,NA()))","v":20},null,null,null,null,null,null,{"$f":"IF(graph!$E$20=0,0,IF(graph!$E$2=0,20,IF(AND(B460<graph!$E$20+graph!$E$32,B460>graph!$E$20-graph!$E$32),0.25,0)))","v":0},{"$f":"IF(graph!$E$22=0,0,IF(graph!$E$2=0,20,IF(AND(B460>graph!$E$22-graph!$E$32,B460<graph!$E$22+graph!$E$32),0.25,0)))","v":0}]
[null,{"$f":"IF(graph!$E$2=0,\"\",B460+graph!$E$32)","v":""},{"$f":"IF(graph!$E$2=0,20,IF(SUM(K461+L461=0),NA(),0.25))","v":20},{"$f":"IF(graph!$E$2=0,20,IF(AND(B461<graph!$E$10+graph!$E$32,B461>graph!$E$10-graph!$E$32),0.25,NA()))","v":20},null,null,null,null,null,null,{"$f":"IF(graph!$E$20=0,0,IF(graph!$E$2=0,20,IF(AND(B461<graph!$E$20+graph!$E$32,B461>graph!$E$20-graph!$E$32),0.25,0)))","v":0},{"$f":"IF(graph!$E$22=0,0,IF(graph!$E$2=0,20,IF(AND(B461>graph!$E$22-graph!$E$32,B461<graph!$E$22+graph!$E$32),0.25,0)))","v":0}]
[null,{"$f":"IF(graph!$E$2=0,\"\",B461+graph!$E$32)","v":""},{"$f":"IF(graph!$E$2=0,20,IF(SUM(K462+L462=0),NA(),0.25))","v":20},{"$f":"IF(graph!$E$2=0,20,IF(AND(B462<graph!$E$10+graph!$E$32,B462>graph!$E$10-graph!$E$32),0.25,NA()))","v":20},null,null,null,null,null,null,{"$f":"IF(graph!$E$20=0,0,IF(graph!$E$2=0,20,IF(AND(B462<graph!$E$20+graph!$E$32,B462>graph!$E$20-graph!$E$32),0.25,0)))","v":0},{"$f":"IF(graph!$E$22=0,0,IF(graph!$E$2=0,20,IF(AND(B462>graph!$E$22-graph!$E$32,B462<graph!$E$22+graph!$E$32),0.25,0)))","v":0}]
[null,{"$f":"IF(graph!$E$2=0,\"\",B462+graph!$E$32)","v":""},{"$f":"IF(graph!$E$2=0,20,IF(SUM(K463+L463=0),NA(),0.25))","v":20},{"$f":"IF(graph!$E$2=0,20,IF(AND(B463<graph!$E$10+graph!$E$32,B463>graph!$E$10-graph!$E$32),0.25,NA()))","v":20},null,null,null,null,null,null,{"$f":"IF(graph!$E$20=0,0,IF(graph!$E$2=0,20,IF(AND(B463<graph!$E$20+graph!$E$32,B463>graph!$E$20-graph!$E$32),0.25,0)))","v":0},{"$f":"IF(graph!$E$22=0,0,IF(graph!$E$2=0,20,IF(AND(B463>graph!$E$22-graph!$E$32,B463<graph!$E$22+graph!$E$32),0.25,0)))","v":0}]
[null,{"$f":"IF(graph!$E$2=0,\"\",B463+graph!$E$32)","v":""},{"$f":"IF(graph!$E$2=0,20,IF(SUM(K464+L464=0),NA(),0.25))","v":20},{"$f":"IF(graph!$E$2=0,20,IF(AND(B464<graph!$E$10+graph!$E$32,B464>graph!$E$10-graph!$E$32),0.25,NA()))","v":20},null,null,null,null,null,null,{"$f":"IF(graph!$E$20=0,0,IF(graph!$E$2=0,20,IF(AND(B464<graph!$E$20+graph!$E$32,B464>graph!$E$20-graph!$E$32),0.25,0)))","v":0},{"$f":"IF(graph!$E$22=0,0,IF(graph!$E$2=0,20,IF(AND(B464>graph!$E$22-graph!$E$32,B464<graph!$E$22+graph!$E$32),0.25,0)))","v":0}]
[null,{"$f":"IF(graph!$E$2=0,\"\",B464+graph!$E$32)","v":""},{"$f":"IF(graph!$E$2=0,20,IF(SUM(K465+L465=0),NA(),0.25))","v":20},{"$f":"IF(graph!$E$2=0,20,IF(AND(B465<graph!$E$10+graph!$E$32,B465>graph!$E$10-graph!$E$32),0.25,NA()))","v":20},null,null,null,null,null,null,{"$f":"IF(graph!$E$20=0,0,IF(graph!$E$2=0,20,IF(AND(B465<graph!$E$20+graph!$E$32,B465>graph!$E$20-graph!$E$32),0.25,0)))","v":0},{"$f":"IF(graph!$E$22=0,0,IF(graph!$E$2=0,20,IF(AND(B465>graph!$E$22-graph!$E$32,B465<graph!$E$22+graph!$E$32),0.25,0)))","v":0}]
[null,{"$f":"IF(graph!$E$2=0,\"\",B465+graph!$E$32)","v":""},{"$f":"IF(graph!$E$2=0,20,IF(SUM(K466+L466=0),NA(),0.25))","v":20},{"$f":"IF(graph!$E$2=0,20,IF(AND(B466<graph!$E$10+graph!$E$32,B466>graph!$E$10-graph!$E$32),0.25,NA()))","v":20},null,null,null,null,null,null,{"$f":"IF(graph!$E$20=0,0,IF(graph!$E$2=0,20,IF(AND(B466<graph!$E$20+graph!$E$32,B466>graph!$E$20-graph!$E$32),0.25,0)))","v":0},{"$f":"IF(graph!$E$22=0,0,IF(graph!$E$2=0,20,IF(AND(B466>graph!$E$22-graph!$E$32,B466<graph!$E$22+graph!$E$32),0.25,0)))","v":0}]
[null,{"$f":"IF(graph!$E$2=0,\"\",B466+graph!$E$32)","v":""},{"$f":"IF(graph!$E$2=0,20,IF(SUM(K467+L467=0),NA(),0.25))","v":20},{"$f":"IF(graph!$E$2=0,20,IF(AND(B467<graph!$E$10+graph!$E$32,B467>graph!$E$10-graph!$E$32),0.25,NA()))","v":20},null,null,null,null,null,null,{"$f":"IF(graph!$E$20=0,0,IF(graph!$E$2=0,20,IF(AND(B467<graph!$E$20+graph!$E$32,B467>graph!$E$20-graph!$E$32),0.25,0)))","v":0},{"$f":"IF(graph!$E$22=0,0,IF(graph!$E$2=0,20,IF(AND(B467>graph!$E$22-graph!$E$32,B467<graph!$E$22+graph!$E$32),0.25,0)))","v":0}]
[null,{"$f":"IF(graph!$E$2=0,\"\",B467+graph!$E$32)","v":""},{"$f":"IF(graph!$E$2=0,20,IF(SUM(K468+L468=0),NA(),0.25))","v":20},{"$f":"IF(graph!$E$2=0,20,IF(AND(B468<graph!$E$10+graph!$E$32,B468>graph!$E$10-graph!$E$32),0.25,NA()))","v":20},null,null,null,null,null,null,{"$f":"IF(graph!$E$20=0,0,IF(graph!$E$2=0,20,IF(AND(B468<graph!$E$20+graph!$E$32,B468>graph!$E$20-graph!$E$32),0.25,0)))","v":0},{"$f":"IF(graph!$E$22=0,0,IF(graph!$E$2=0,20,IF(AND(B468>graph!$E$22-graph!$E$32,B468<graph!$E$22+graph!$E$32),0.25,0)))","v":0}]
[null,{"$f":"IF(graph!$E$2=0,\"\",B468+graph!$E$32)","v":""},{"$f":"IF(graph!$E$2=0,20,IF(SUM(K469+L469=0),NA(),0.25))","v":20},{"$f":"IF(graph!$E$2=0,20,IF(AND(B469<graph!$E$10+graph!$E$32,B469>graph!$E$10-graph!$E$32),0.25,NA()))","v":20},null,null,null,null,null,null,{"$f":"IF(graph!$E$20=0,0,IF(graph!$E$2=0,20,IF(AND(B469<graph!$E$20+graph!$E$32,B469>graph!$E$20-graph!$E$32),0.25,0)))","v":0},{"$f":"IF(graph!$E$22=0,0,IF(graph!$E$2=0,20,IF(AND(B469>graph!$E$22-graph!$E$32,B469<graph!$E$22+graph!$E$32),0.25,0)))","v":0}]
[null,{"$f":"IF(graph!$E$2=0,\"\",B469+graph!$E$32)","v":""},{"$f":"IF(graph!$E$2=0,20,IF(SUM(K470+L470=0),NA(),0.25))","v":20},{"$f":"IF(graph!$E$2=0,20,IF(AND(B470<graph!$E$10+graph!$E$32,B470>graph!$E$10-graph!$E$32),0.25,NA()))","v":20},null,null,null,null,null,null,{"$f":"IF(graph!$E$20=0,0,IF(graph!$E$2=0,20,IF(AND(B470<graph!$E$20+graph!$E$32,B470>graph!$E$20-graph!$E$32),0.25,0)))","v":0},{"$f":"IF(graph!$E$22=0,0,IF(graph!$E$2=0,20,IF(AND(B470>graph!$E$22-graph!$E$32,B470<graph!$E$22+graph!$E$32),0.25,0)))","v":0}]
[null,{"$f":"IF(graph!$E$2=0,\"\",B470+graph!$E$32)","v":""},{"$f":"IF(graph!$E$2=0,20,IF(SUM(K471+L471=0),NA(),0.25))","v":20},{"$f":"IF(graph!$E$2=0,20,IF(AND(B471<graph!$E$10+graph!$E$32,B471>graph!$E$10-graph!$E$32),0.25,NA()))","v":20},null,null,null,null,null,null,{"$f":"IF(graph!$E$20=0,0,IF(graph!$E$2=0,20,IF(AND(B471<graph!$E$20+graph!$E$32,B471>graph!$E$20-graph!$E$32),0.25,0)))","v":0},{"$f":"IF(graph!$E$22=0,0,IF(graph!$E$2=0,20,IF(AND(B471>graph!$E$22-graph!$E$32,B471<graph!$E$22+graph!$E$32),0.25,0)))","v":0}]
[null,{"$f":"IF(graph!$E$2=0,\"\",B471+graph!$E$32)","v":""},{"$f":"IF(graph!$E$2=0,20,IF(SUM(K472+L472=0),NA(),0.25))","v":20},{"$f":"IF(graph!$E$2=0,20,IF(AND(B472<graph!$E$10+graph!$E$32,B472>graph!$E$10-graph!$E$32),0.25,NA()))","v":20},null,null,null,null,null,null,{"$f":"IF(graph!$E$20=0,0,IF(graph!$E$2=0,20,IF(AND(B472<graph!$E$20+graph!$E$32,B472>graph!$E$20-graph!$E$32),0.25,0)))","v":0},{"$f":"IF(graph!$E$22=0,0,IF(graph!$E$2=0,20,IF(AND(B472>graph!$E$22-graph!$E$32,B472<graph!$E$22+graph!$E$32),0.25,0)))","v":0}]
[null,{"$f":"IF(graph!$E$2=0,\"\",B472+graph!$E$32)","v":""},{"$f":"IF(graph!$E$2=0,20,IF(SUM(K473+L473=0),NA(),0.25))","v":20},{"$f":"IF(graph!$E$2=0,20,IF(AND(B473<graph!$E$10+graph!$E$32,B473>graph!$E$10-graph!$E$32),0.25,NA()))","v":20},null,null,null,null,null,null,{"$f":"IF(graph!$E$20=0,0,IF(graph!$E$2=0,20,IF(AND(B473<graph!$E$20+graph!$E$32,B473>graph!$E$20-graph!$E$32),0.25,0)))","v":0},{"$f":"IF(graph!$E$22=0,0,IF(graph!$E$2=0,20,IF(AND(B473>graph!$E$22-graph!$E$32,B473<graph!$E$22+graph!$E$32),0.25,0)))","v":0}]
[null,{"$f":"IF(graph!$E$2=0,\"\",B473+graph!$E$32)","v":""},{"$f":"IF(graph!$E$2=0,20,IF(SUM(K474+L474=0),NA(),0.25))","v":20},{"$f":"IF(graph!$E$2=0,20,IF(AND(B474<graph!$E$10+graph!$E$32,B474>graph!$E$10-graph!$E$32),0.25,NA()))","v":20},null,null,null,null,null,null,{"$f":"IF(graph!$E$20=0,0,IF(graph!$E$2=0,20,IF(AND(B474<graph!$E$20+graph!$E$32,B474>graph!$E$20-graph!$E$32),0.25,0)))","v":0},{"$f":"IF(graph!$E$22=0,0,IF(graph!$E$2=0,20,IF(AND(B474>graph!$E$22-graph!$E$32,B474<graph!$E$22+graph!$E$32),0.25,0)))","v":0}]
[null,{"$f":"IF(graph!$E$2=0,\"\",B474+graph!$E$32)","v":""},{"$f":"IF(graph!$E$2=0,20,IF(SUM(K475+L475=0),NA(),0.25))","v":20},{"$f":"IF(graph!$E$2=0,20,IF(AND(B475<graph!$E$10+graph!$E$32,B475>graph!$E$10-graph!$E$32),0.25,NA()))","v":20},null,null,null,null,null,null,{"$f":"IF(graph!$E$20=0,0,IF(graph!$E$2=0,20,IF(AND(B475<graph!$E$20+graph!$E$32,B475>graph!$E$20-graph!$E$32),0.25,0)))","v":0},{"$f":"IF(graph!$E$22=0,0,IF(graph!$E$2=0,20,IF(AND(B475>graph!$E$22-graph!$E$32,B475<graph!$E$22+graph!$E$32),0.25,0)))","v":0}]
[null,{"$f":"IF(graph!$E$2=0,\"\",B475+graph!$E$32)","v":""},{"$f":"IF(graph!$E$2=0,20,IF(SUM(K476+L476=0),NA(),0.25))","v":20},{"$f":"IF(graph!$E$2=0,20,IF(AND(B476<graph!$E$10+graph!$E$32,B476>graph!$E$10-graph!$E$32),0.25,NA()))","v":20},null,null,null,null,null,null,{"$f":"IF(graph!$E$20=0,0,IF(graph!$E$2=0,20,IF(AND(B476<graph!$E$20+graph!$E$32,B476>graph!$E$20-graph!$E$32),0.25,0)))","v":0},{"$f":"IF(graph!$E$22=0,0,IF(graph!$E$2=0,20,IF(AND(B476>graph!$E$22-graph!$E$32,B476<graph!$E$22+graph!$E$32),0.25,0)))","v":0}]
[null,{"$f":"IF(graph!$E$2=0,\"\",B476+graph!$E$32)","v":""},{"$f":"IF(graph!$E$2=0,20,IF(SUM(K477+L477=0),NA(),0.25))","v":20},{"$f":"IF(graph!$E$2=0,20,IF(AND(B477<graph!$E$10+graph!$E$32,B477>graph!$E$10-graph!$E$32),0.25,NA()))","v":20},null,null,null,null,null,null,{"$f":"IF(graph!$E$20=0,0,IF(graph!$E$2=0,20,IF(AND(B477<graph!$E$20+graph!$E$32,B477>graph!$E$20-graph!$E$32),0.25,0)))","v":0},{"$f":"IF(graph!$E$22=0,0,IF(graph!$E$2=0,20,IF(AND(B477>graph!$E$22-graph!$E$32,B477<graph!$E$22+graph!$E$32),0.25,0)))","v":0}]
[null,{"$f":"IF(graph!$E$2=0,\"\",B477+graph!$E$32)","v":""},{"$f":"IF(graph!$E$2=0,20,IF(SUM(K478+L478=0),NA(),0.25))","v":20},{"$f":"IF(graph!$E$2=0,20,IF(AND(B478<graph!$E$10+graph!$E$32,B478>graph!$E$10-graph!$E$32),0.25,NA()))","v":20},null,null,null,null,null,null,{"$f":"IF(graph!$E$20=0,0,IF(graph!$E$2=0,20,IF(AND(B478<graph!$E$20+graph!$E$32,B478>graph!$E$20-graph!$E$32),0.25,0)))","v":0},{"$f":"IF(graph!$E$22=0,0,IF(graph!$E$2=0,20,IF(AND(B478>graph!$E$22-graph!$E$32,B478<graph!$E$22+graph!$E$32),0.25,0)))","v":0}]
[null,{"$f":"IF(graph!$E$2=0,\"\",B478+graph!$E$32)","v":""},{"$f":"IF(graph!$E$2=0,20,IF(SUM(K479+L479=0),NA(),0.25))","v":20},{"$f":"IF(graph!$E$2=0,20,IF(AND(B479<graph!$E$10+graph!$E$32,B479>graph!$E$10-graph!$E$32),0.25,NA()))","v":20},null,null,null,null,null,null,{"$f":"IF(graph!$E$20=0,0,IF(graph!$E$2=0,20,IF(AND(B479<graph!$E$20+graph!$E$32,B479>graph!$E$20-graph!$E$32),0.25,0)))","v":0},{"$f":"IF(graph!$E$22=0,0,IF(graph!$E$2=0,20,IF(AND(B479>graph!$E$22-graph!$E$32,B479<graph!$E$22+graph!$E$32),0.25,0)))","v":0}]
[null,{"$f":"IF(graph!$E$2=0,\"\",B479+graph!$E$32)","v":""},{"$f":"IF(graph!$E$2=0,20,IF(SUM(K480+L480=0),NA(),0.25))","v":20},{"$f":"IF(graph!$E$2=0,20,IF(AND(B480<graph!$E$10+graph!$E$32,B480>graph!$E$10-graph!$E$32),0.25,NA()))","v":20},null,null,null,null,null,null,{"$f":"IF(graph!$E$20=0,0,IF(graph!$E$2=0,20,IF(AND(B480<graph!$E$20+graph!$E$32,B480>graph!$E$20-graph!$E$32),0.25,0)))","v":0},{"$f":"IF(graph!$E$22=0,0,IF(graph!$E$2=0,20,IF(AND(B480>graph!$E$22-graph!$E$32,B480<graph!$E$22+graph!$E$32),0.25,0)))","v":0}]
[null,{"$f":"IF(graph!$E$2=0,\"\",B480+graph!$E$32)","v":""},{"$f":"IF(graph!$E$2=0,20,IF(SUM(K481+L481=0),NA(),0.25))","v":20},{"$f":"IF(graph!$E$2=0,20,IF(AND(B481<graph!$E$10+graph!$E$32,B481>graph!$E$10-graph!$E$32),0.25,NA()))","v":20},null,null,null,null,null,null,{"$f":"IF(graph!$E$20=0,0,IF(graph!$E$2=0,20,IF(AND(B481<graph!$E$20+graph!$E$32,B481>graph!$E$20-graph!$E$32),0.25,0)))","v":0},{"$f":"IF(graph!$E$22=0,0,IF(graph!$E$2=0,20,IF(AND(B481>graph!$E$22-graph!$E$32,B481<graph!$E$22+graph!$E$32),0.25,0)))","v":0}]
[null,{"$f":"IF(graph!$E$2=0,\"\",B481+graph!$E$32)","v":""},{"$f":"IF(graph!$E$2=0,20,IF(SUM(K482+L482=0),NA(),0.25))","v":20},{"$f":"IF(graph!$E$2=0,20,IF(AND(B482<graph!$E$10+graph!$E$32,B482>graph!$E$10-graph!$E$32),0.25,NA()))","v":20},null,null,null,null,null,null,{"$f":"IF(graph!$E$20=0,0,IF(graph!$E$2=0,20,IF(AND(B482<graph!$E$20+graph!$E$32,B482>graph!$E$20-graph!$E$32),0.25,0)))","v":0},{"$f":"IF(graph!$E$22=0,0,IF(graph!$E$2=0,20,IF(AND(B482>graph!$E$22-graph!$E$32,B482<graph!$E$22+graph!$E$32),0.25,0)))","v":0}]
[null,{"$f":"IF(graph!$E$2=0,\"\",B482+graph!$E$32)","v":""},{"$f":"IF(graph!$E$2=0,20,IF(SUM(K483+L483=0),NA(),0.25))","v":20},{"$f":"IF(graph!$E$2=0,20,IF(AND(B483<graph!$E$10+graph!$E$32,B483>graph!$E$10-graph!$E$32),0.25,NA()))","v":20},null,null,null,null,null,null,{"$f":"IF(graph!$E$20=0,0,IF(graph!$E$2=0,20,IF(AND(B483<graph!$E$20+graph!$E$32,B483>graph!$E$20-graph!$E$32),0.25,0)))","v":0},{"$f":"IF(graph!$E$22=0,0,IF(graph!$E$2=0,20,IF(AND(B483>graph!$E$22-graph!$E$32,B483<graph!$E$22+graph!$E$32),0.25,0)))","v":0}]
[null,{"$f":"IF(graph!$E$2=0,\"\",B483+graph!$E$32)","v":""},{"$f":"IF(graph!$E$2=0,20,IF(SUM(K484+L484=0),NA(),0.25))","v":20},{"$f":"IF(graph!$E$2=0,20,IF(AND(B484<graph!$E$10+graph!$E$32,B484>graph!$E$10-graph!$E$32),0.25,NA()))","v":20},null,null,null,null,null,null,{"$f":"IF(graph!$E$20=0,0,IF(graph!$E$2=0,20,IF(AND(B484<graph!$E$20+graph!$E$32,B484>graph!$E$20-graph!$E$32),0.25,0)))","v":0},{"$f":"IF(graph!$E$22=0,0,IF(graph!$E$2=0,20,IF(AND(B484>graph!$E$22-graph!$E$32,B484<graph!$E$22+graph!$E$32),0.25,0)))","v":0}]
[null,{"$f":"IF(graph!$E$2=0,\"\",B484+graph!$E$32)","v":""},{"$f":"IF(graph!$E$2=0,20,IF(SUM(K485+L485=0),NA(),0.25))","v":20},{"$f":"IF(graph!$E$2=0,20,IF(AND(B485<graph!$E$10+graph!$E$32,B485>graph!$E$10-graph!$E$32),0.25,NA()))","v":20},null,null,null,null,null,null,{"$f":"IF(graph!$E$20=0,0,IF(graph!$E$2=0,20,IF(AND(B485<graph!$E$20+graph!$E$32,B485>graph!$E$20-graph!$E$32),0.25,0)))","v":0},{"$f":"IF(graph!$E$22=0,0,IF(graph!$E$2=0,20,IF(AND(B485>graph!$E$22-graph!$E$32,B485<graph!$E$22+graph!$E$32),0.25,0)))","v":0}]
[null,{"$f":"IF(graph!$E$2=0,\"\",B485+graph!$E$32)","v":""},{"$f":"IF(graph!$E$2=0,20,IF(SUM(K486+L486=0),NA(),0.25))","v":20},{"$f":"IF(graph!$E$2=0,20,IF(AND(B486<graph!$E$10+graph!$E$32,B486>graph!$E$10-graph!$E$32),0.25,NA()))","v":20},null,null,null,null,null,null,{"$f":"IF(graph!$E$20=0,0,IF(graph!$E$2=0,20,IF(AND(B486<graph!$E$20+graph!$E$32,B486>graph!$E$20-graph!$E$32),0.25,0)))","v":0},{"$f":"IF(graph!$E$22=0,0,IF(graph!$E$2=0,20,IF(AND(B486>graph!$E$22-graph!$E$32,B486<graph!$E$22+graph!$E$32),0.25,0)))","v":0}]
[null,{"$f":"IF(graph!$E$2=0,\"\",B486+graph!$E$32)","v":""},{"$f":"IF(graph!$E$2=0,20,IF(SUM(K487+L487=0),NA(),0.25))","v":20},{"$f":"IF(graph!$E$2=0,20,IF(AND(B487<graph!$E$10+graph!$E$32,B487>graph!$E$10-graph!$E$32),0.25,NA()))","v":20},null,null,null,null,null,null,{"$f":"IF(graph!$E$20=0,0,IF(graph!$E$2=0,20,IF(AND(B487<graph!$E$20+graph!$E$32,B487>graph!$E$20-graph!$E$32),0.25,0)))","v":0},{"$f":"IF(graph!$E$22=0,0,IF(graph!$E$2=0,20,IF(AND(B487>graph!$E$22-graph!$E$32,B487<graph!$E$22+graph!$E$32),0.25,0)))","v":0}]
[null,{"$f":"IF(graph!$E$2=0,\"\",B487+graph!$E$32)","v":""},{"$f":"IF(graph!$E$2=0,20,IF(SUM(K488+L488=0),NA(),0.25))","v":20},{"$f":"IF(graph!$E$2=0,20,IF(AND(B488<graph!$E$10+graph!$E$32,B488>graph!$E$10-graph!$E$32),0.25,NA()))","v":20},null,null,null,null,null,null,{"$f":"IF(graph!$E$20=0,0,IF(graph!$E$2=0,20,IF(AND(B488<graph!$E$20+graph!$E$32,B488>graph!$E$20-graph!$E$32),0.25,0)))","v":0},{"$f":"IF(graph!$E$22=0,0,IF(graph!$E$2=0,20,IF(AND(B488>graph!$E$22-graph!$E$32,B488<graph!$E$22+graph!$E$32),0.25,0)))","v":0}]
[null,{"$f":"IF(graph!$E$2=0,\"\",B488+graph!$E$32)","v":""},{"$f":"IF(graph!$E$2=0,20,IF(SUM(K489+L489=0),NA(),0.25))","v":20},{"$f":"IF(graph!$E$2=0,20,IF(AND(B489<graph!$E$10+graph!$E$32,B489>graph!$E$10-graph!$E$32),0.25,NA()))","v":20},null,null,null,null,null,null,{"$f":"IF(graph!$E$20=0,0,IF(graph!$E$2=0,20,IF(AND(B489<graph!$E$20+graph!$E$32,B489>graph!$E$20-graph!$E$32),0.25,0)))","v":0},{"$f":"IF(graph!$E$22=0,0,IF(graph!$E$2=0,20,IF(AND(B489>graph!$E$22-graph!$E$32,B489<graph!$E$22+graph!$E$32),0.25,0)))","v":0}]
[null,{"$f":"IF(graph!$E$2=0,\"\",B489+graph!$E$32)","v":""},{"$f":"IF(graph!$E$2=0,20,IF(SUM(K490+L490=0),NA(),0.25))","v":20},{"$f":"IF(graph!$E$2=0,20,IF(AND(B490<graph!$E$10+graph!$E$32,B490>graph!$E$10-graph!$E$32),0.25,NA()))","v":20},null,null,null,null,null,null,{"$f":"IF(graph!$E$20=0,0,IF(graph!$E$2=0,20,IF(AND(B490<graph!$E$20+graph!$E$32,B490>graph!$E$20-graph!$E$32),0.25,0)))","v":0},{"$f":"IF(graph!$E$22=0,0,IF(graph!$E$2=0,20,IF(AND(B490>graph!$E$22-graph!$E$32,B490<graph!$E$22+graph!$E$32),0.25,0)))","v":0}]
[null,{"$f":"IF(graph!$E$2=0,\"\",B490+graph!$E$32)","v":""},{"$f":"IF(graph!$E$2=0,20,IF(SUM(K491+L491=0),NA(),0.25))","v":20},{"$f":"IF(graph!$E$2=0,20,IF(AND(B491<graph!$E$10+graph!$E$32,B491>graph!$E$10-graph!$E$32),0.25,NA()))","v":20},null,null,null,null,null,null,{"$f":"IF(graph!$E$20=0,0,IF(graph!$E$2=0,20,IF(AND(B491<graph!$E$20+graph!$E$32,B491>graph!$E$20-graph!$E$32),0.25,0)))","v":0},{"$f":"IF(graph!$E$22=0,0,IF(graph!$E$2=0,20,IF(AND(B491>graph!$E$22-graph!$E$32,B491<graph!$E$22+graph!$E$32),0.25,0)))","v":0}]
[null,{"$f":"IF(graph!$E$2=0,\"\",B491+graph!$E$32)","v":""},{"$f":"IF(graph!$E$2=0,20,IF(SUM(K492+L492=0),NA(),0.25))","v":20},{"$f":"IF(graph!$E$2=0,20,IF(AND(B492<graph!$E$10+graph!$E$32,B492>graph!$E$10-graph!$E$32),0.25,NA()))","v":20},null,null,null,null,null,null,{"$f":"IF(graph!$E$20=0,0,IF(graph!$E$2=0,20,IF(AND(B492<graph!$E$20+graph!$E$32,B492>graph!$E$20-graph!$E$32),0.25,0)))","v":0},{"$f":"IF(graph!$E$22=0,0,IF(graph!$E$2=0,20,IF(AND(B492>graph!$E$22-graph!$E$32,B492<graph!$E$22+graph!$E$32),0.25,0)))","v":0}]
[null,{"$f":"IF(graph!$E$2=0,\"\",B492+graph!$E$32)","v":""},{"$f":"IF(graph!$E$2=0,20,IF(SUM(K493+L493=0),NA(),0.25))","v":20},{"$f":"IF(graph!$E$2=0,20,IF(AND(B493<graph!$E$10+graph!$E$32,B493>graph!$E$10-graph!$E$32),0.25,NA()))","v":20},null,null,null,null,null,null,{"$f":"IF(graph!$E$20=0,0,IF(graph!$E$2=0,20,IF(AND(B493<graph!$E$20+graph!$E$32,B493>graph!$E$20-graph!$E$32),0.25,0)))","v":0},{"$f":"IF(graph!$E$22=0,0,IF(graph!$E$2=0,20,IF(AND(B493>graph!$E$22-graph!$E$32,B493<graph!$E$22+graph!$E$32),0.25,0)))","v":0}]
[null,{"$f":"IF(graph!$E$2=0,\"\",B493+graph!$E$32)","v":""},{"$f":"IF(graph!$E$2=0,20,IF(SUM(K494+L494=0),NA(),0.25))","v":20},{"$f":"IF(graph!$E$2=0,20,IF(AND(B494<graph!$E$10+graph!$E$32,B494>graph!$E$10-graph!$E$32),0.25,NA()))","v":20},null,null,null,null,null,null,{"$f":"IF(graph!$E$20=0,0,IF(graph!$E$2=0,20,IF(AND(B494<graph!$E$20+graph!$E$32,B494>graph!$E$20-graph!$E$32),0.25,0)))","v":0},{"$f":"IF(graph!$E$22=0,0,IF(graph!$E$2=0,20,IF(AND(B494>graph!$E$22-graph!$E$32,B494<graph!$E$22+graph!$E$32),0.25,0)))","v":0}]
[null,{"$f":"IF(graph!$E$2=0,\"\",B494+graph!$E$32)","v":""},{"$f":"IF(graph!$E$2=0,20,IF(SUM(K495+L495=0),NA(),0.25))","v":20},{"$f":"IF(graph!$E$2=0,20,IF(AND(B495<graph!$E$10+graph!$E$32,B495>graph!$E$10-graph!$E$32),0.25,NA()))","v":20},null,null,null,null,null,null,{"$f":"IF(graph!$E$20=0,0,IF(graph!$E$2=0,20,IF(AND(B495<graph!$E$20+graph!$E$32,B495>graph!$E$20-graph!$E$32),0.25,0)))","v":0},{"$f":"IF(graph!$E$22=0,0,IF(graph!$E$2=0,20,IF(AND(B495>graph!$E$22-graph!$E$32,B495<graph!$E$22+graph!$E$32),0.25,0)))","v":0}]
[null,{"$f":"IF(graph!$E$2=0,\"\",B495+graph!$E$32)","v":""},{"$f":"IF(graph!$E$2=0,20,IF(SUM(K496+L496=0),NA(),0.25))","v":20},{"$f":"IF(graph!$E$2=0,20,IF(AND(B496<graph!$E$10+graph!$E$32,B496>graph!$E$10-graph!$E$32),0.25,NA()))","v":20},null,null,null,null,null,null,{"$f":"IF(graph!$E$20=0,0,IF(graph!$E$2=0,20,IF(AND(B496<graph!$E$20+graph!$E$32,B496>graph!$E$20-graph!$E$32),0.25,0)))","v":0},{"$f":"IF(graph!$E$22=0,0,IF(graph!$E$2=0,20,IF(AND(B496>graph!$E$22-graph!$E$32,B496<graph!$E$22+graph!$E$32),0.25,0)))","v":0}]
[null,{"$f":"IF(graph!$E$2=0,\"\",B496+graph!$E$32)","v":""},{"$f":"IF(graph!$E$2=0,20,IF(SUM(K497+L497=0),NA(),0.25))","v":20},{"$f":"IF(graph!$E$2=0,20,IF(AND(B497<graph!$E$10+graph!$E$32,B497>graph!$E$10-graph!$E$32),0.25,NA()))","v":20},null,null,null,null,null,null,{"$f":"IF(graph!$E$20=0,0,IF(graph!$E$2=0,20,IF(AND(B497<graph!$E$20+graph!$E$32,B497>graph!$E$20-graph!$E$32),0.25,0)))","v":0},{"$f":"IF(graph!$E$22=0,0,IF(graph!$E$2=0,20,IF(AND(B497>graph!$E$22-graph!$E$32,B497<graph!$E$22+graph!$E$32),0.25,0)))","v":0}]
[null,{"$f":"IF(graph!$E$2=0,\"\",B497+graph!$E$32)","v":""},{"$f":"IF(graph!$E$2=0,20,IF(SUM(K498+L498=0),NA(),0.25))","v":20},{"$f":"IF(graph!$E$2=0,20,IF(AND(B498<graph!$E$10+graph!$E$32,B498>graph!$E$10-graph!$E$32),0.25,NA()))","v":20},null,null,null,null,null,null,{"$f":"IF(graph!$E$20=0,0,IF(graph!$E$2=0,20,IF(AND(B498<graph!$E$20+graph!$E$32,B498>graph!$E$20-graph!$E$32),0.25,0)))","v":0},{"$f":"IF(graph!$E$22=0,0,IF(graph!$E$2=0,20,IF(AND(B498>graph!$E$22-graph!$E$32,B498<graph!$E$22+graph!$E$32),0.25,0)))","v":0}]
[null,{"$f":"IF(graph!$E$2=0,\"\",B498+graph!$E$32)","v":""},{"$f":"IF(graph!$E$2=0,20,IF(SUM(K499+L499=0),NA(),0.25))","v":20},{"$f":"IF(graph!$E$2=0,20,IF(AND(B499<graph!$E$10+graph!$E$32,B499>graph!$E$10-graph!$E$32),0.25,NA()))","v":20},null,null,null,null,null,null,{"$f":"IF(graph!$E$20=0,0,IF(graph!$E$2=0,20,IF(AND(B499<graph!$E$20+graph!$E$32,B499>graph!$E$20-graph!$E$32),0.25,0)))","v":0},{"$f":"IF(graph!$E$22=0,0,IF(graph!$E$2=0,20,IF(AND(B499>graph!$E$22-graph!$E$32,B499<graph!$E$22+graph!$E$32),0.25,0)))","v":0}]
[null,{"$f":"IF(graph!$E$2=0,\"\",B499+graph!$E$32)","v":""},{"$f":"IF(graph!$E$2=0,20,IF(SUM(K500+L500=0),NA(),0.25))","v":20},{"$f":"IF(graph!$E$2=0,20,IF(AND(B500<graph!$E$10+graph!$E$32,B500>graph!$E$10-graph!$E$32),0.25,NA()))","v":20},null,null,null,null,null,null,{"$f":"IF(graph!$E$20=0,0,IF(graph!$E$2=0,20,IF(AND(B500<graph!$E$20+graph!$E$32,B500>graph!$E$20-graph!$E$32),0.25,0)))","v":0},{"$f":"IF(graph!$E$22=0,0,IF(graph!$E$2=0,20,IF(AND(B500>graph!$E$22-graph!$E$32,B500<graph!$E$22+graph!$E$32),0.25,0)))","v":0}]
[null,{"$f":"IF(graph!$E$2=0,\"\",B500+graph!$E$32)","v":""},{"$f":"IF(graph!$E$2=0,20,IF(SUM(K501+L501=0),NA(),0.25))","v":20},{"$f":"IF(graph!$E$2=0,20,IF(AND(B501<graph!$E$10+graph!$E$32,B501>graph!$E$10-graph!$E$32),0.25,NA()))","v":20},null,null,null,null,null,null,{"$f":"IF(graph!$E$20=0,0,IF(graph!$E$2=0,20,IF(AND(B501<graph!$E$20+graph!$E$32,B501>graph!$E$20-graph!$E$32),0.25,0)))","v":0},{"$f":"IF(graph!$E$22=0,0,IF(graph!$E$2=0,20,IF(AND(B501>graph!$E$22-graph!$E$32,B501<graph!$E$22+graph!$E$32),0.25,0)))","v":0}]
[null,{"$f":"IF(graph!$E$2=0,\"\",B501+graph!$E$32)","v":""},{"$f":"IF(graph!$E$2=0,20,IF(SUM(K502+L502=0),NA(),0.25))","v":20},{"$f":"IF(graph!$E$2=0,20,IF(AND(B502<graph!$E$10+graph!$E$32,B502>graph!$E$10-graph!$E$32),0.25,NA()))","v":20},null,null,null,null,null,null,{"$f":"IF(graph!$E$20=0,0,IF(graph!$E$2=0,20,IF(AND(B502<graph!$E$20+graph!$E$32,B502>graph!$E$20-graph!$E$32),0.25,0)))","v":0},{"$f":"IF(graph!$E$22=0,0,IF(graph!$E$2=0,20,IF(AND(B502>graph!$E$22-graph!$E$32,B502<graph!$E$22+graph!$E$32),0.25,0)))","v":0}]
[null,{"$f":"IF(graph!$E$2=0,\"\",B502+graph!$E$32)","v":""},{"$f":"IF(graph!$E$2=0,20,IF(SUM(K503+L503=0),NA(),0.25))","v":20},{"$f":"IF(graph!$E$2=0,20,IF(AND(B503<graph!$E$10+graph!$E$32,B503>graph!$E$10-graph!$E$32),0.25,NA()))","v":20},null,null,null,null,null,null,{"$f":"IF(graph!$E$20=0,0,IF(graph!$E$2=0,20,IF(AND(B503<graph!$E$20+graph!$E$32,B503>graph!$E$20-graph!$E$32),0.25,0)))","v":0},{"$f":"IF(graph!$E$22=0,0,IF(graph!$E$2=0,20,IF(AND(B503>graph!$E$22-graph!$E$32,B503<graph!$E$22+graph!$E$32),0.25,0)))","v":0}]
[null,{"$f":"IF(graph!$E$2=0,\"\",B503+graph!$E$32)","v":""},{"$f":"IF(graph!$E$2=0,20,IF(SUM(K504+L504=0),NA(),0.25))","v":20},{"$f":"IF(graph!$E$2=0,20,IF(AND(B504<graph!$E$10+graph!$E$32,B504>graph!$E$10-graph!$E$32),0.25,NA()))","v":20},null,null,null,null,null,null,{"$f":"IF(graph!$E$20=0,0,IF(graph!$E$2=0,20,IF(AND(B504<graph!$E$20+graph!$E$32,B504>graph!$E$20-graph!$E$32),0.25,0)))","v":0},{"$f":"IF(graph!$E$22=0,0,IF(graph!$E$2=0,20,IF(AND(B504>graph!$E$22-graph!$E$32,B504<graph!$E$22+graph!$E$32),0.25,0)))","v":0}]
[null,{"$f":"IF(graph!$E$2=0,\"\",B504+graph!$E$32)","v":""},{"$f":"IF(graph!$E$2=0,20,IF(SUM(K505+L505=0),NA(),0.25))","v":20},{"$f":"IF(graph!$E$2=0,20,IF(AND(B505<graph!$E$10+graph!$E$32,B505>graph!$E$10-graph!$E$32),0.25,NA()))","v":20},null,null,null,null,null,null,{"$f":"IF(graph!$E$20=0,0,IF(graph!$E$2=0,20,IF(AND(B505<graph!$E$20+graph!$E$32,B505>graph!$E$20-graph!$E$32),0.25,0)))","v":0},{"$f":"IF(graph!$E$22=0,0,IF(graph!$E$2=0,20,IF(AND(B505>graph!$E$22-graph!$E$32,B505<graph!$E$22+graph!$E$32),0.25,0)))","v":0}]
[null,{"$f":"IF(graph!$E$2=0,\"\",B505+graph!$E$32)","v":""},{"$f":"IF(graph!$E$2=0,20,IF(SUM(K506+L506=0),NA(),0.25))","v":20},{"$f":"IF(graph!$E$2=0,20,IF(AND(B506<graph!$E$10+graph!$E$32,B506>graph!$E$10-graph!$E$32),0.25,NA()))","v":20},null,null,null,null,null,null,{"$f":"IF(graph!$E$20=0,0,IF(graph!$E$2=0,20,IF(AND(B506<graph!$E$20+graph!$E$32,B506>graph!$E$20-graph!$E$32),0.25,0)))","v":0},{"$f":"IF(graph!$E$22=0,0,IF(graph!$E$2=0,20,IF(AND(B506>graph!$E$22-graph!$E$32,B506<graph!$E$22+graph!$E$32),0.25,0)))","v":0}]
[null,{"$f":"IF(graph!$E$2=0,\"\",B506+graph!$E$32)","v":""},{"$f":"IF(graph!$E$2=0,20,IF(SUM(K507+L507=0),NA(),0.25))","v":20},{"$f":"IF(graph!$E$2=0,20,IF(AND(B507<graph!$E$10+graph!$E$32,B507>graph!$E$10-graph!$E$32),0.25,NA()))","v":20},null,null,null,null,null,null,{"$f":"IF(graph!$E$20=0,0,IF(graph!$E$2=0,20,IF(AND(B507<graph!$E$20+graph!$E$32,B507>graph!$E$20-graph!$E$32),0.25,0)))","v":0},{"$f":"IF(graph!$E$22=0,0,IF(graph!$E$2=0,20,IF(AND(B507>graph!$E$22-graph!$E$32,B507<graph!$E$22+graph!$E$32),0.25,0)))","v":0}]
[null,{"$f":"IF(graph!$E$2=0,\"\",B507+graph!$E$32)","v":""},{"$f":"IF(graph!$E$2=0,20,IF(SUM(K508+L508=0),NA(),0.25))","v":20},{"$f":"IF(graph!$E$2=0,20,IF(AND(B508<graph!$E$10+graph!$E$32,B508>graph!$E$10-graph!$E$32),0.25,NA()))","v":20},null,null,null,null,null,null,{"$f":"IF(graph!$E$20=0,0,IF(graph!$E$2=0,20,IF(AND(B508<graph!$E$20+graph!$E$32,B508>graph!$E$20-graph!$E$32),0.25,0)))","v":0},{"$f":"IF(graph!$E$22=0,0,IF(graph!$E$2=0,20,IF(AND(B508>graph!$E$22-graph!$E$32,B508<graph!$E$22+graph!$E$32),0.25,0)))","v":0}]
[null,{"$f":"IF(graph!$E$2=0,\"\",B508+graph!$E$32)","v":""},{"$f":"IF(graph!$E$2=0,20,IF(SUM(K509+L509=0),NA(),0.25))","v":20},{"$f":"IF(graph!$E$2=0,20,IF(AND(B509<graph!$E$10+graph!$E$32,B509>graph!$E$10-graph!$E$32),0.25,NA()))","v":20},null,null,null,null,null,null,{"$f":"IF(graph!$E$20=0,0,IF(graph!$E$2=0,20,IF(AND(B509<graph!$E$20+graph!$E$32,B509>graph!$E$20-graph!$E$32),0.25,0)))","v":0},{"$f":"IF(graph!$E$22=0,0,IF(graph!$E$2=0,20,IF(AND(B509>graph!$E$22-graph!$E$32,B509<graph!$E$22+graph!$E$32),0.25,0)))","v":0}]
[null,{"$f":"IF(graph!$E$2=0,\"\",B509+graph!$E$32)","v":""},{"$f":"IF(graph!$E$2=0,20,IF(SUM(K510+L510=0),NA(),0.25))","v":20},{"$f":"IF(graph!$E$2=0,20,IF(AND(B510<graph!$E$10+graph!$E$32,B510>graph!$E$10-graph!$E$32),0.25,NA()))","v":20},null,null,null,null,null,null,{"$f":"IF(graph!$E$20=0,0,IF(graph!$E$2=0,20,IF(AND(B510<graph!$E$20+graph!$E$32,B510>graph!$E$20-graph!$E$32),0.25,0)))","v":0},{"$f":"IF(graph!$E$22=0,0,IF(graph!$E$2=0,20,IF(AND(B510>graph!$E$22-graph!$E$32,B510<graph!$E$22+graph!$E$32),0.25,0)))","v":0}]
[null,{"$f":"IF(graph!$E$2=0,\"\",B510+graph!$E$32)","v":""},{"$f":"IF(graph!$E$2=0,20,IF(SUM(K511+L511=0),NA(),0.25))","v":20},{"$f":"IF(graph!$E$2=0,20,IF(AND(B511<graph!$E$10+graph!$E$32,B511>graph!$E$10-graph!$E$32),0.25,NA()))","v":20},null,null,null,null,null,null,{"$f":"IF(graph!$E$20=0,0,IF(graph!$E$2=0,20,IF(AND(B511<graph!$E$20+graph!$E$32,B511>graph!$E$20-graph!$E$32),0.25,0)))","v":0},{"$f":"IF(graph!$E$22=0,0,IF(graph!$E$2=0,20,IF(AND(B511>graph!$E$22-graph!$E$32,B511<graph!$E$22+graph!$E$32),0.25,0)))","v":0}]
[null,{"$f":"IF(graph!$E$2=0,\"\",B511+graph!$E$32)","v":""},{"$f":"IF(graph!$E$2=0,20,IF(SUM(K512+L512=0),NA(),0.25))","v":20},{"$f":"IF(graph!$E$2=0,20,IF(AND(B512<graph!$E$10+graph!$E$32,B512>graph!$E$10-graph!$E$32),0.25,NA()))","v":20},null,null,null,null,null,null,{"$f":"IF(graph!$E$20=0,0,IF(graph!$E$2=0,20,IF(AND(B512<graph!$E$20+graph!$E$32,B512>graph!$E$20-graph!$E$32),0.25,0)))","v":0},{"$f":"IF(graph!$E$22=0,0,IF(graph!$E$2=0,20,IF(AND(B512>graph!$E$22-graph!$E$32,B512<graph!$E$22+graph!$E$32),0.25,0)))","v":0}]
[null,{"$f":"IF(graph!$E$2=0,\"\",B512+graph!$E$32)","v":""},{"$f":"IF(graph!$E$2=0,20,IF(SUM(K513+L513=0),NA(),0.25))","v":20},{"$f":"IF(graph!$E$2=0,20,IF(AND(B513<graph!$E$10+graph!$E$32,B513>graph!$E$10-graph!$E$32),0.25,NA()))","v":20},null,null,null,null,null,null,{"$f":"IF(graph!$E$20=0,0,IF(graph!$E$2=0,20,IF(AND(B513<graph!$E$20+graph!$E$32,B513>graph!$E$20-graph!$E$32),0.25,0)))","v":0},{"$f":"IF(graph!$E$22=0,0,IF(graph!$E$2=0,20,IF(AND(B513>graph!$E$22-graph!$E$32,B513<graph!$E$22+graph!$E$32),0.25,0)))","v":0}]
[null,{"$f":"IF(graph!$E$2=0,\"\",B513+graph!$E$32)","v":""},{"$f":"IF(graph!$E$2=0,20,IF(SUM(K514+L514=0),NA(),0.25))","v":20},{"$f":"IF(graph!$E$2=0,20,IF(AND(B514<graph!$E$10+graph!$E$32,B514>graph!$E$10-graph!$E$32),0.25,NA()))","v":20},null,null,null,null,null,null,{"$f":"IF(graph!$E$20=0,0,IF(graph!$E$2=0,20,IF(AND(B514<graph!$E$20+graph!$E$32,B514>graph!$E$20-graph!$E$32),0.25,0)))","v":0},{"$f":"IF(graph!$E$22=0,0,IF(graph!$E$2=0,20,IF(AND(B514>graph!$E$22-graph!$E$32,B514<graph!$E$22+graph!$E$32),0.25,0)))","v":0}]
[null,{"$f":"IF(graph!$E$2=0,\"\",B514+graph!$E$32)","v":""},{"$f":"IF(graph!$E$2=0,20,IF(SUM(K515+L515=0),NA(),0.25))","v":20},{"$f":"IF(graph!$E$2=0,20,IF(AND(B515<graph!$E$10+graph!$E$32,B515>graph!$E$10-graph!$E$32),0.25,NA()))","v":20},null,null,null,null,null,null,{"$f":"IF(graph!$E$20=0,0,IF(graph!$E$2=0,20,IF(AND(B515<graph!$E$20+graph!$E$32,B515>graph!$E$20-graph!$E$32),0.25,0)))","v":0},{"$f":"IF(graph!$E$22=0,0,IF(graph!$E$2=0,20,IF(AND(B515>graph!$E$22-graph!$E$32,B515<graph!$E$22+graph!$E$32),0.25,0)))","v":0}]
[null,{"$f":"IF(graph!$E$2=0,\"\",B515+graph!$E$32)","v":""},{"$f":"IF(graph!$E$2=0,20,IF(SUM(K516+L516=0),NA(),0.25))","v":20},{"$f":"IF(graph!$E$2=0,20,IF(AND(B516<graph!$E$10+graph!$E$32,B516>graph!$E$10-graph!$E$32),0.25,NA()))","v":20},null,null,null,null,null,null,{"$f":"IF(graph!$E$20=0,0,IF(graph!$E$2=0,20,IF(AND(B516<graph!$E$20+graph!$E$32,B516>graph!$E$20-graph!$E$32),0.25,0)))","v":0},{"$f":"IF(graph!$E$22=0,0,IF(graph!$E$2=0,20,IF(AND(B516>graph!$E$22-graph!$E$32,B516<graph!$E$22+graph!$E$32),0.25,0)))","v":0}]
[null,{"$f":"IF(graph!$E$2=0,\"\",B516+graph!$E$32)","v":""},{"$f":"IF(graph!$E$2=0,20,IF(SUM(K517+L517=0),NA(),0.25))","v":20},{"$f":"IF(graph!$E$2=0,20,IF(AND(B517<graph!$E$10+graph!$E$32,B517>graph!$E$10-graph!$E$32),0.25,NA()))","v":20},null,null,null,null,null,null,{"$f":"IF(graph!$E$20=0,0,IF(graph!$E$2=0,20,IF(AND(B517<graph!$E$20+graph!$E$32,B517>graph!$E$20-graph!$E$32),0.25,0)))","v":0},{"$f":"IF(graph!$E$22=0,0,IF(graph!$E$2=0,20,IF(AND(B517>graph!$E$22-graph!$E$32,B517<graph!$E$22+graph!$E$32),0.25,0)))","v":0}]
[null,{"$f":"IF(graph!$E$2=0,\"\",B517+graph!$E$32)","v":""},{"$f":"IF(graph!$E$2=0,20,IF(SUM(K518+L518=0),NA(),0.25))","v":20},{"$f":"IF(graph!$E$2=0,20,IF(AND(B518<graph!$E$10+graph!$E$32,B518>graph!$E$10-graph!$E$32),0.25,NA()))","v":20},null,null,null,null,null,null,{"$f":"IF(graph!$E$20=0,0,IF(graph!$E$2=0,20,IF(AND(B518<graph!$E$20+graph!$E$32,B518>graph!$E$20-graph!$E$32),0.25,0)))","v":0},{"$f":"IF(graph!$E$22=0,0,IF(graph!$E$2=0,20,IF(AND(B518>graph!$E$22-graph!$E$32,B518<graph!$E$22+graph!$E$32),0.25,0)))","v":0}]
[null,{"$f":"IF(graph!$E$2=0,\"\",B518+graph!$E$32)","v":""},{"$f":"IF(graph!$E$2=0,20,IF(SUM(K519+L519=0),NA(),0.25))","v":20},{"$f":"IF(graph!$E$2=0,20,IF(AND(B519<graph!$E$10+graph!$E$32,B519>graph!$E$10-graph!$E$32),0.25,NA()))","v":20},null,null,null,null,null,null,{"$f":"IF(graph!$E$20=0,0,IF(graph!$E$2=0,20,IF(AND(B519<graph!$E$20+graph!$E$32,B519>graph!$E$20-graph!$E$32),0.25,0)))","v":0},{"$f":"IF(graph!$E$22=0,0,IF(graph!$E$2=0,20,IF(AND(B519>graph!$E$22-graph!$E$32,B519<graph!$E$22+graph!$E$32),0.25,0)))","v":0}]
[null,{"$f":"IF(graph!$E$2=0,\"\",B519+graph!$E$32)","v":""},{"$f":"IF(graph!$E$2=0,20,IF(SUM(K520+L520=0),NA(),0.25))","v":20},{"$f":"IF(graph!$E$2=0,20,IF(AND(B520<graph!$E$10+graph!$E$32,B520>graph!$E$10-graph!$E$32),0.25,NA()))","v":20},null,null,null,null,null,null,{"$f":"IF(graph!$E$20=0,0,IF(graph!$E$2=0,20,IF(AND(B520<graph!$E$20+graph!$E$32,B520>graph!$E$20-graph!$E$32),0.25,0)))","v":0},{"$f":"IF(graph!$E$22=0,0,IF(graph!$E$2=0,20,IF(AND(B520>graph!$E$22-graph!$E$32,B520<graph!$E$22+graph!$E$32),0.25,0)))","v":0}]
[null,{"$f":"IF(graph!$E$2=0,\"\",B520+graph!$E$32)","v":""},{"$f":"IF(graph!$E$2=0,20,IF(SUM(K521+L521=0),NA(),0.25))","v":20},{"$f":"IF(graph!$E$2=0,20,IF(AND(B521<graph!$E$10+graph!$E$32,B521>graph!$E$10-graph!$E$32),0.25,NA()))","v":20},null,null,null,null,null,null,{"$f":"IF(graph!$E$20=0,0,IF(graph!$E$2=0,20,IF(AND(B521<graph!$E$20+graph!$E$32,B521>graph!$E$20-graph!$E$32),0.25,0)))","v":0},{"$f":"IF(graph!$E$22=0,0,IF(graph!$E$2=0,20,IF(AND(B521>graph!$E$22-graph!$E$32,B521<graph!$E$22+graph!$E$32),0.25,0)))","v":0}]
[null,{"$f":"IF(graph!$E$2=0,\"\",B521+graph!$E$32)","v":""},{"$f":"IF(graph!$E$2=0,20,IF(SUM(K522+L522=0),NA(),0.25))","v":20},{"$f":"IF(graph!$E$2=0,20,IF(AND(B522<graph!$E$10+graph!$E$32,B522>graph!$E$10-graph!$E$32),0.25,NA()))","v":20},null,null,null,null,null,null,{"$f":"IF(graph!$E$20=0,0,IF(graph!$E$2=0,20,IF(AND(B522<graph!$E$20+graph!$E$32,B522>graph!$E$20-graph!$E$32),0.25,0)))","v":0},{"$f":"IF(graph!$E$22=0,0,IF(graph!$E$2=0,20,IF(AND(B522>graph!$E$22-graph!$E$32,B522<graph!$E$22+graph!$E$32),0.25,0)))","v":0}]
[null,{"$f":"IF(graph!$E$2=0,\"\",B522+graph!$E$32)","v":""},{"$f":"IF(graph!$E$2=0,20,IF(SUM(K523+L523=0),NA(),0.25))","v":20},{"$f":"IF(graph!$E$2=0,20,IF(AND(B523<graph!$E$10+graph!$E$32,B523>graph!$E$10-graph!$E$32),0.25,NA()))","v":20},null,null,null,null,null,null,{"$f":"IF(graph!$E$20=0,0,IF(graph!$E$2=0,20,IF(AND(B523<graph!$E$20+graph!$E$32,B523>graph!$E$20-graph!$E$32),0.25,0)))","v":0},{"$f":"IF(graph!$E$22=0,0,IF(graph!$E$2=0,20,IF(AND(B523>graph!$E$22-graph!$E$32,B523<graph!$E$22+graph!$E$32),0.25,0)))","v":0}]
[null,{"$f":"IF(graph!$E$2=0,\"\",B523+graph!$E$32)","v":""},{"$f":"IF(graph!$E$2=0,20,IF(SUM(K524+L524=0),NA(),0.25))","v":20},{"$f":"IF(graph!$E$2=0,20,IF(AND(B524<graph!$E$10+graph!$E$32,B524>graph!$E$10-graph!$E$32),0.25,NA()))","v":20},null,null,null,null,null,null,{"$f":"IF(graph!$E$20=0,0,IF(graph!$E$2=0,20,IF(AND(B524<graph!$E$20+graph!$E$32,B524>graph!$E$20-graph!$E$32),0.25,0)))","v":0},{"$f":"IF(graph!$E$22=0,0,IF(graph!$E$2=0,20,IF(AND(B524>graph!$E$22-graph!$E$32,B524<graph!$E$22+graph!$E$32),0.25,0)))","v":0}]
[null,{"$f":"IF(graph!$E$2=0,\"\",B524+graph!$E$32)","v":""},{"$f":"IF(graph!$E$2=0,20,IF(SUM(K525+L525=0),NA(),0.25))","v":20},{"$f":"IF(graph!$E$2=0,20,IF(AND(B525<graph!$E$10+graph!$E$32,B525>graph!$E$10-graph!$E$32),0.25,NA()))","v":20},null,null,null,null,null,null,{"$f":"IF(graph!$E$20=0,0,IF(graph!$E$2=0,20,IF(AND(B525<graph!$E$20+graph!$E$32,B525>graph!$E$20-graph!$E$32),0.25,0)))","v":0},{"$f":"IF(graph!$E$22=0,0,IF(graph!$E$2=0,20,IF(AND(B525>graph!$E$22-graph!$E$32,B525<graph!$E$22+graph!$E$32),0.25,0)))","v":0}]
[null,{"$f":"IF(graph!$E$2=0,\"\",B525+graph!$E$32)","v":""},{"$f":"IF(graph!$E$2=0,20,IF(SUM(K526+L526=0),NA(),0.25))","v":20},{"$f":"IF(graph!$E$2=0,20,IF(AND(B526<graph!$E$10+graph!$E$32,B526>graph!$E$10-graph!$E$32),0.25,NA()))","v":20},null,null,null,null,null,null,{"$f":"IF(graph!$E$20=0,0,IF(graph!$E$2=0,20,IF(AND(B526<graph!$E$20+graph!$E$32,B526>graph!$E$20-graph!$E$32),0.25,0)))","v":0},{"$f":"IF(graph!$E$22=0,0,IF(graph!$E$2=0,20,IF(AND(B526>graph!$E$22-graph!$E$32,B526<graph!$E$22+graph!$E$32),0.25,0)))","v":0}]
[null,{"$f":"IF(graph!$E$2=0,\"\",B526+graph!$E$32)","v":""},{"$f":"IF(graph!$E$2=0,20,IF(SUM(K527+L527=0),NA(),0.25))","v":20},{"$f":"IF(graph!$E$2=0,20,IF(AND(B527<graph!$E$10+graph!$E$32,B527>graph!$E$10-graph!$E$32),0.25,NA()))","v":20},null,null,null,null,null,null,{"$f":"IF(graph!$E$20=0,0,IF(graph!$E$2=0,20,IF(AND(B527<graph!$E$20+graph!$E$32,B527>graph!$E$20-graph!$E$32),0.25,0)))","v":0},{"$f":"IF(graph!$E$22=0,0,IF(graph!$E$2=0,20,IF(AND(B527>graph!$E$22-graph!$E$32,B527<graph!$E$22+graph!$E$32),0.25,0)))","v":0}]
[null,{"$f":"IF(graph!$E$2=0,\"\",B527+graph!$E$32)","v":""},{"$f":"IF(graph!$E$2=0,20,IF(SUM(K528+L528=0),NA(),0.25))","v":20},{"$f":"IF(graph!$E$2=0,20,IF(AND(B528<graph!$E$10+graph!$E$32,B528>graph!$E$10-graph!$E$32),0.25,NA()))","v":20},null,null,null,null,null,null,{"$f":"IF(graph!$E$20=0,0,IF(graph!$E$2=0,20,IF(AND(B528<graph!$E$20+graph!$E$32,B528>graph!$E$20-graph!$E$32),0.25,0)))","v":0},{"$f":"IF(graph!$E$22=0,0,IF(graph!$E$2=0,20,IF(AND(B528>graph!$E$22-graph!$E$32,B528<graph!$E$22+graph!$E$32),0.25,0)))","v":0}]
[null,{"$f":"IF(graph!$E$2=0,\"\",B528+graph!$E$32)","v":""},{"$f":"IF(graph!$E$2=0,20,IF(SUM(K529+L529=0),NA(),0.25))","v":20},{"$f":"IF(graph!$E$2=0,20,IF(AND(B529<graph!$E$10+graph!$E$32,B529>graph!$E$10-graph!$E$32),0.25,NA()))","v":20},null,null,null,null,null,null,{"$f":"IF(graph!$E$20=0,0,IF(graph!$E$2=0,20,IF(AND(B529<graph!$E$20+graph!$E$32,B529>graph!$E$20-graph!$E$32),0.25,0)))","v":0},{"$f":"IF(graph!$E$22=0,0,IF(graph!$E$2=0,20,IF(AND(B529>graph!$E$22-graph!$E$32,B529<graph!$E$22+graph!$E$32),0.25,0)))","v":0}]
[null,{"$f":"IF(graph!$E$2=0,\"\",B529+graph!$E$32)","v":""},{"$f":"IF(graph!$E$2=0,20,IF(SUM(K530+L530=0),NA(),0.25))","v":20},{"$f":"IF(graph!$E$2=0,20,IF(AND(B530<graph!$E$10+graph!$E$32,B530>graph!$E$10-graph!$E$32),0.25,NA()))","v":20},null,null,null,null,null,null,{"$f":"IF(graph!$E$20=0,0,IF(graph!$E$2=0,20,IF(AND(B530<graph!$E$20+graph!$E$32,B530>graph!$E$20-graph!$E$32),0.25,0)))","v":0},{"$f":"IF(graph!$E$22=0,0,IF(graph!$E$2=0,20,IF(AND(B530>graph!$E$22-graph!$E$32,B530<graph!$E$22+graph!$E$32),0.25,0)))","v":0}]
[null,{"$f":"IF(graph!$E$2=0,\"\",B530+graph!$E$32)","v":""},{"$f":"IF(graph!$E$2=0,20,IF(SUM(K531+L531=0),NA(),0.25))","v":20},{"$f":"IF(graph!$E$2=0,20,IF(AND(B531<graph!$E$10+graph!$E$32,B531>graph!$E$10-graph!$E$32),0.25,NA()))","v":20},null,null,null,null,null,null,{"$f":"IF(graph!$E$20=0,0,IF(graph!$E$2=0,20,IF(AND(B531<graph!$E$20+graph!$E$32,B531>graph!$E$20-graph!$E$32),0.25,0)))","v":0},{"$f":"IF(graph!$E$22=0,0,IF(graph!$E$2=0,20,IF(AND(B531>graph!$E$22-graph!$E$32,B531<graph!$E$22+graph!$E$32),0.25,0)))","v":0}]
[null,{"$f":"IF(graph!$E$2=0,\"\",B531+graph!$E$32)","v":""},{"$f":"IF(graph!$E$2=0,20,IF(SUM(K532+L532=0),NA(),0.25))","v":20},{"$f":"IF(graph!$E$2=0,20,IF(AND(B532<graph!$E$10+graph!$E$32,B532>graph!$E$10-graph!$E$32),0.25,NA()))","v":20},null,null,null,null,null,null,{"$f":"IF(graph!$E$20=0,0,IF(graph!$E$2=0,20,IF(AND(B532<graph!$E$20+graph!$E$32,B532>graph!$E$20-graph!$E$32),0.25,0)))","v":0},{"$f":"IF(graph!$E$22=0,0,IF(graph!$E$2=0,20,IF(AND(B532>graph!$E$22-graph!$E$32,B532<graph!$E$22+graph!$E$32),0.25,0)))","v":0}]
[null,{"$f":"IF(graph!$E$2=0,\"\",B532+graph!$E$32)","v":""},{"$f":"IF(graph!$E$2=0,20,IF(SUM(K533+L533=0),NA(),0.25))","v":20},{"$f":"IF(graph!$E$2=0,20,IF(AND(B533<graph!$E$10+graph!$E$32,B533>graph!$E$10-graph!$E$32),0.25,NA()))","v":20},null,null,null,null,null,null,{"$f":"IF(graph!$E$20=0,0,IF(graph!$E$2=0,20,IF(AND(B533<graph!$E$20+graph!$E$32,B533>graph!$E$20-graph!$E$32),0.25,0)))","v":0},{"$f":"IF(graph!$E$22=0,0,IF(graph!$E$2=0,20,IF(AND(B533>graph!$E$22-graph!$E$32,B533<graph!$E$22+graph!$E$32),0.25,0)))","v":0}]
[null,{"$f":"IF(graph!$E$2=0,\"\",B533+graph!$E$32)","v":""},{"$f":"IF(graph!$E$2=0,20,IF(SUM(K534+L534=0),NA(),0.25))","v":20},{"$f":"IF(graph!$E$2=0,20,IF(AND(B534<graph!$E$10+graph!$E$32,B534>graph!$E$10-graph!$E$32),0.25,NA()))","v":20},null,null,null,null,null,null,{"$f":"IF(graph!$E$20=0,0,IF(graph!$E$2=0,20,IF(AND(B534<graph!$E$20+graph!$E$32,B534>graph!$E$20-graph!$E$32),0.25,0)))","v":0},{"$f":"IF(graph!$E$22=0,0,IF(graph!$E$2=0,20,IF(AND(B534>graph!$E$22-graph!$E$32,B534<graph!$E$22+graph!$E$32),0.25,0)))","v":0}]
[null,{"$f":"IF(graph!$E$2=0,\"\",B534+graph!$E$32)","v":""},{"$f":"IF(graph!$E$2=0,20,IF(SUM(K535+L535=0),NA(),0.25))","v":20},{"$f":"IF(graph!$E$2=0,20,IF(AND(B535<graph!$E$10+graph!$E$32,B535>graph!$E$10-graph!$E$32),0.25,NA()))","v":20},null,null,null,null,null,null,{"$f":"IF(graph!$E$20=0,0,IF(graph!$E$2=0,20,IF(AND(B535<graph!$E$20+graph!$E$32,B535>graph!$E$20-graph!$E$32),0.25,0)))","v":0},{"$f":"IF(graph!$E$22=0,0,IF(graph!$E$2=0,20,IF(AND(B535>graph!$E$22-graph!$E$32,B535<graph!$E$22+graph!$E$32),0.25,0)))","v":0}]
[null,{"$f":"IF(graph!$E$2=0,\"\",B535+graph!$E$32)","v":""},{"$f":"IF(graph!$E$2=0,20,IF(SUM(K536+L536=0),NA(),0.25))","v":20},{"$f":"IF(graph!$E$2=0,20,IF(AND(B536<graph!$E$10+graph!$E$32,B536>graph!$E$10-graph!$E$32),0.25,NA()))","v":20},null,null,null,null,null,null,{"$f":"IF(graph!$E$20=0,0,IF(graph!$E$2=0,20,IF(AND(B536<graph!$E$20+graph!$E$32,B536>graph!$E$20-graph!$E$32),0.25,0)))","v":0},{"$f":"IF(graph!$E$22=0,0,IF(graph!$E$2=0,20,IF(AND(B536>graph!$E$22-graph!$E$32,B536<graph!$E$22+graph!$E$32),0.25,0)))","v":0}]
[null,{"$f":"IF(graph!$E$2=0,\"\",B536+graph!$E$32)","v":""},{"$f":"IF(graph!$E$2=0,20,IF(SUM(K537+L537=0),NA(),0.25))","v":20},{"$f":"IF(graph!$E$2=0,20,IF(AND(B537<graph!$E$10+graph!$E$32,B537>graph!$E$10-graph!$E$32),0.25,NA()))","v":20},null,null,null,null,null,null,{"$f":"IF(graph!$E$20=0,0,IF(graph!$E$2=0,20,IF(AND(B537<graph!$E$20+graph!$E$32,B537>graph!$E$20-graph!$E$32),0.25,0)))","v":0},{"$f":"IF(graph!$E$22=0,0,IF(graph!$E$2=0,20,IF(AND(B537>graph!$E$22-graph!$E$32,B537<graph!$E$22+graph!$E$32),0.25,0)))","v":0}]
[null,{"$f":"IF(graph!$E$2=0,\"\",B537+graph!$E$32)","v":""},{"$f":"IF(graph!$E$2=0,20,IF(SUM(K538+L538=0),NA(),0.25))","v":20},{"$f":"IF(graph!$E$2=0,20,IF(AND(B538<graph!$E$10+graph!$E$32,B538>graph!$E$10-graph!$E$32),0.25,NA()))","v":20},null,null,null,null,null,null,{"$f":"IF(graph!$E$20=0,0,IF(graph!$E$2=0,20,IF(AND(B538<graph!$E$20+graph!$E$32,B538>graph!$E$20-graph!$E$32),0.25,0)))","v":0},{"$f":"IF(graph!$E$22=0,0,IF(graph!$E$2=0,20,IF(AND(B538>graph!$E$22-graph!$E$32,B538<graph!$E$22+graph!$E$32),0.25,0)))","v":0}]
[null,{"$f":"IF(graph!$E$2=0,\"\",B538+graph!$E$32)","v":""},{"$f":"IF(graph!$E$2=0,20,IF(SUM(K539+L539=0),NA(),0.25))","v":20},{"$f":"IF(graph!$E$2=0,20,IF(AND(B539<graph!$E$10+graph!$E$32,B539>graph!$E$10-graph!$E$32),0.25,NA()))","v":20},null,null,null,null,null,null,{"$f":"IF(graph!$E$20=0,0,IF(graph!$E$2=0,20,IF(AND(B539<graph!$E$20+graph!$E$32,B539>graph!$E$20-graph!$E$32),0.25,0)))","v":0},{"$f":"IF(graph!$E$22=0,0,IF(graph!$E$2=0,20,IF(AND(B539>graph!$E$22-graph!$E$32,B539<graph!$E$22+graph!$E$32),0.25,0)))","v":0}]
[null,{"$f":"IF(graph!$E$2=0,\"\",B539+graph!$E$32)","v":""},{"$f":"IF(graph!$E$2=0,20,IF(SUM(K540+L540=0),NA(),0.25))","v":20},{"$f":"IF(graph!$E$2=0,20,IF(AND(B540<graph!$E$10+graph!$E$32,B540>graph!$E$10-graph!$E$32),0.25,NA()))","v":20},null,null,null,null,null,null,{"$f":"IF(graph!$E$20=0,0,IF(graph!$E$2=0,20,IF(AND(B540<graph!$E$20+graph!$E$32,B540>graph!$E$20-graph!$E$32),0.25,0)))","v":0},{"$f":"IF(graph!$E$22=0,0,IF(graph!$E$2=0,20,IF(AND(B540>graph!$E$22-graph!$E$32,B540<graph!$E$22+graph!$E$32),0.25,0)))","v":0}]
[null,{"$f":"IF(graph!$E$2=0,\"\",B540+graph!$E$32)","v":""},{"$f":"IF(graph!$E$2=0,20,IF(SUM(K541+L541=0),NA(),0.25))","v":20},{"$f":"IF(graph!$E$2=0,20,IF(AND(B541<graph!$E$10+graph!$E$32,B541>graph!$E$10-graph!$E$32),0.25,NA()))","v":20},null,null,null,null,null,null,{"$f":"IF(graph!$E$20=0,0,IF(graph!$E$2=0,20,IF(AND(B541<graph!$E$20+graph!$E$32,B541>graph!$E$20-graph!$E$32),0.25,0)))","v":0},{"$f":"IF(graph!$E$22=0,0,IF(graph!$E$2=0,20,IF(AND(B541>graph!$E$22-graph!$E$32,B541<graph!$E$22+graph!$E$32),0.25,0)))","v":0}]
[null,{"$f":"IF(graph!$E$2=0,\"\",B541+graph!$E$32)","v":""},{"$f":"IF(graph!$E$2=0,20,IF(SUM(K542+L542=0),NA(),0.25))","v":20},{"$f":"IF(graph!$E$2=0,20,IF(AND(B542<graph!$E$10+graph!$E$32,B542>graph!$E$10-graph!$E$32),0.25,NA()))","v":20},null,null,null,null,null,null,{"$f":"IF(graph!$E$20=0,0,IF(graph!$E$2=0,20,IF(AND(B542<graph!$E$20+graph!$E$32,B542>graph!$E$20-graph!$E$32),0.25,0)))","v":0},{"$f":"IF(graph!$E$22=0,0,IF(graph!$E$2=0,20,IF(AND(B542>graph!$E$22-graph!$E$32,B542<graph!$E$22+graph!$E$32),0.25,0)))","v":0}]
[null,{"$f":"IF(graph!$E$2=0,\"\",B542+graph!$E$32)","v":""},{"$f":"IF(graph!$E$2=0,20,IF(SUM(K543+L543=0),NA(),0.25))","v":20},{"$f":"IF(graph!$E$2=0,20,IF(AND(B543<graph!$E$10+graph!$E$32,B543>graph!$E$10-graph!$E$32),0.25,NA()))","v":20},null,null,null,null,null,null,{"$f":"IF(graph!$E$20=0,0,IF(graph!$E$2=0,20,IF(AND(B543<graph!$E$20+graph!$E$32,B543>graph!$E$20-graph!$E$32),0.25,0)))","v":0},{"$f":"IF(graph!$E$22=0,0,IF(graph!$E$2=0,20,IF(AND(B543>graph!$E$22-graph!$E$32,B543<graph!$E$22+graph!$E$32),0.25,0)))","v":0}]
[null,{"$f":"IF(graph!$E$2=0,\"\",B543+graph!$E$32)","v":""},{"$f":"IF(graph!$E$2=0,20,IF(SUM(K544+L544=0),NA(),0.25))","v":20},{"$f":"IF(graph!$E$2=0,20,IF(AND(B544<graph!$E$10+graph!$E$32,B544>graph!$E$10-graph!$E$32),0.25,NA()))","v":20},null,null,null,null,null,null,{"$f":"IF(graph!$E$20=0,0,IF(graph!$E$2=0,20,IF(AND(B544<graph!$E$20+graph!$E$32,B544>graph!$E$20-graph!$E$32),0.25,0)))","v":0},{"$f":"IF(graph!$E$22=0,0,IF(graph!$E$2=0,20,IF(AND(B544>graph!$E$22-graph!$E$32,B544<graph!$E$22+graph!$E$32),0.25,0)))","v":0}]
[null,{"$f":"IF(graph!$E$2=0,\"\",B544+graph!$E$32)","v":""},{"$f":"IF(graph!$E$2=0,20,IF(SUM(K545+L545=0),NA(),0.25))","v":20},{"$f":"IF(graph!$E$2=0,20,IF(AND(B545<graph!$E$10+graph!$E$32,B545>graph!$E$10-graph!$E$32),0.25,NA()))","v":20},null,null,null,null,null,null,{"$f":"IF(graph!$E$20=0,0,IF(graph!$E$2=0,20,IF(AND(B545<graph!$E$20+graph!$E$32,B545>graph!$E$20-graph!$E$32),0.25,0)))","v":0},{"$f":"IF(graph!$E$22=0,0,IF(graph!$E$2=0,20,IF(AND(B545>graph!$E$22-graph!$E$32,B545<graph!$E$22+graph!$E$32),0.25,0)))","v":0}]
[null,{"$f":"IF(graph!$E$2=0,\"\",B545+graph!$E$32)","v":""},{"$f":"IF(graph!$E$2=0,20,IF(SUM(K546+L546=0),NA(),0.25))","v":20},{"$f":"IF(graph!$E$2=0,20,IF(AND(B546<graph!$E$10+graph!$E$32,B546>graph!$E$10-graph!$E$32),0.25,NA()))","v":20},null,null,null,null,null,null,{"$f":"IF(graph!$E$20=0,0,IF(graph!$E$2=0,20,IF(AND(B546<graph!$E$20+graph!$E$32,B546>graph!$E$20-graph!$E$32),0.25,0)))","v":0},{"$f":"IF(graph!$E$22=0,0,IF(graph!$E$2=0,20,IF(AND(B546>graph!$E$22-graph!$E$32,B546<graph!$E$22+graph!$E$32),0.25,0)))","v":0}]
[null,{"$f":"IF(graph!$E$2=0,\"\",B546+graph!$E$32)","v":""},{"$f":"IF(graph!$E$2=0,20,IF(SUM(K547+L547=0),NA(),0.25))","v":20},{"$f":"IF(graph!$E$2=0,20,IF(AND(B547<graph!$E$10+graph!$E$32,B547>graph!$E$10-graph!$E$32),0.25,NA()))","v":20},null,null,null,null,null,null,{"$f":"IF(graph!$E$20=0,0,IF(graph!$E$2=0,20,IF(AND(B547<graph!$E$20+graph!$E$32,B547>graph!$E$20-graph!$E$32),0.25,0)))","v":0},{"$f":"IF(graph!$E$22=0,0,IF(graph!$E$2=0,20,IF(AND(B547>graph!$E$22-graph!$E$32,B547<graph!$E$22+graph!$E$32),0.25,0)))","v":0}]
[null,{"$f":"IF(graph!$E$2=0,\"\",B547+graph!$E$32)","v":""},{"$f":"IF(graph!$E$2=0,20,IF(SUM(K548+L548=0),NA(),0.25))","v":20},{"$f":"IF(graph!$E$2=0,20,IF(AND(B548<graph!$E$10+graph!$E$32,B548>graph!$E$10-graph!$E$32),0.25,NA()))","v":20},null,null,null,null,null,null,{"$f":"IF(graph!$E$20=0,0,IF(graph!$E$2=0,20,IF(AND(B548<graph!$E$20+graph!$E$32,B548>graph!$E$20-graph!$E$32),0.25,0)))","v":0},{"$f":"IF(graph!$E$22=0,0,IF(graph!$E$2=0,20,IF(AND(B548>graph!$E$22-graph!$E$32,B548<graph!$E$22+graph!$E$32),0.25,0)))","v":0}]
[null,{"$f":"IF(graph!$E$2=0,\"\",B548+graph!$E$32)","v":""},{"$f":"IF(graph!$E$2=0,20,IF(SUM(K549+L549=0),NA(),0.25))","v":20},{"$f":"IF(graph!$E$2=0,20,IF(AND(B549<graph!$E$10+graph!$E$32,B549>graph!$E$10-graph!$E$32),0.25,NA()))","v":20},null,null,null,null,null,null,{"$f":"IF(graph!$E$20=0,0,IF(graph!$E$2=0,20,IF(AND(B549<graph!$E$20+graph!$E$32,B549>graph!$E$20-graph!$E$32),0.25,0)))","v":0},{"$f":"IF(graph!$E$22=0,0,IF(graph!$E$2=0,20,IF(AND(B549>graph!$E$22-graph!$E$32,B549<graph!$E$22+graph!$E$32),0.25,0)))","v":0}]
[null,{"$f":"IF(graph!$E$2=0,\"\",B549+graph!$E$32)","v":""},{"$f":"IF(graph!$E$2=0,20,IF(SUM(K550+L550=0),NA(),0.25))","v":20},{"$f":"IF(graph!$E$2=0,20,IF(AND(B550<graph!$E$10+graph!$E$32,B550>graph!$E$10-graph!$E$32),0.25,NA()))","v":20},null,null,null,null,null,null,{"$f":"IF(graph!$E$20=0,0,IF(graph!$E$2=0,20,IF(AND(B550<graph!$E$20+graph!$E$32,B550>graph!$E$20-graph!$E$32),0.25,0)))","v":0},{"$f":"IF(graph!$E$22=0,0,IF(graph!$E$2=0,20,IF(AND(B550>graph!$E$22-graph!$E$32,B550<graph!$E$22+graph!$E$32),0.25,0)))","v":0}]
[null,{"$f":"IF(graph!$E$2=0,\"\",B550+graph!$E$32)","v":""},{"$f":"IF(graph!$E$2=0,20,IF(SUM(K551+L551=0),NA(),0.25))","v":20},{"$f":"IF(graph!$E$2=0,20,IF(AND(B551<graph!$E$10+graph!$E$32,B551>graph!$E$10-graph!$E$32),0.25,NA()))","v":20},null,null,null,null,null,null,{"$f":"IF(graph!$E$20=0,0,IF(graph!$E$2=0,20,IF(AND(B551<graph!$E$20+graph!$E$32,B551>graph!$E$20-graph!$E$32),0.25,0)))","v":0},{"$f":"IF(graph!$E$22=0,0,IF(graph!$E$2=0,20,IF(AND(B551>graph!$E$22-graph!$E$32,B551<graph!$E$22+graph!$E$32),0.25,0)))","v":0}]
[null,{"$f":"IF(graph!$E$2=0,\"\",B551+graph!$E$32)","v":""},{"$f":"IF(graph!$E$2=0,20,IF(SUM(K552+L552=0),NA(),0.25))","v":20},{"$f":"IF(graph!$E$2=0,20,IF(AND(B552<graph!$E$10+graph!$E$32,B552>graph!$E$10-graph!$E$32),0.25,NA()))","v":20},null,null,null,null,null,null,{"$f":"IF(graph!$E$20=0,0,IF(graph!$E$2=0,20,IF(AND(B552<graph!$E$20+graph!$E$32,B552>graph!$E$20-graph!$E$32),0.25,0)))","v":0},{"$f":"IF(graph!$E$22=0,0,IF(graph!$E$2=0,20,IF(AND(B552>graph!$E$22-graph!$E$32,B552<graph!$E$22+graph!$E$32),0.25,0)))","v":0}]
[null,{"$f":"IF(graph!$E$2=0,\"\",B552+graph!$E$32)","v":""},{"$f":"IF(graph!$E$2=0,20,IF(SUM(K553+L553=0),NA(),0.25))","v":20},{"$f":"IF(graph!$E$2=0,20,IF(AND(B553<graph!$E$10+graph!$E$32,B553>graph!$E$10-graph!$E$32),0.25,NA()))","v":20},null,null,null,null,null,null,{"$f":"IF(graph!$E$20=0,0,IF(graph!$E$2=0,20,IF(AND(B553<graph!$E$20+graph!$E$32,B553>graph!$E$20-graph!$E$32),0.25,0)))","v":0},{"$f":"IF(graph!$E$22=0,0,IF(graph!$E$2=0,20,IF(AND(B553>graph!$E$22-graph!$E$32,B553<graph!$E$22+graph!$E$32),0.25,0)))","v":0}]
[null,{"$f":"IF(graph!$E$2=0,\"\",B553+graph!$E$32)","v":""},{"$f":"IF(graph!$E$2=0,20,IF(SUM(K554+L554=0),NA(),0.25))","v":20},{"$f":"IF(graph!$E$2=0,20,IF(AND(B554<graph!$E$10+graph!$E$32,B554>graph!$E$10-graph!$E$32),0.25,NA()))","v":20},null,null,null,null,null,null,{"$f":"IF(graph!$E$20=0,0,IF(graph!$E$2=0,20,IF(AND(B554<graph!$E$20+graph!$E$32,B554>graph!$E$20-graph!$E$32),0.25,0)))","v":0},{"$f":"IF(graph!$E$22=0,0,IF(graph!$E$2=0,20,IF(AND(B554>graph!$E$22-graph!$E$32,B554<graph!$E$22+graph!$E$32),0.25,0)))","v":0}]
[null,{"$f":"IF(graph!$E$2=0,\"\",B554+graph!$E$32)","v":""},{"$f":"IF(graph!$E$2=0,20,IF(SUM(K555+L555=0),NA(),0.25))","v":20},{"$f":"IF(graph!$E$2=0,20,IF(AND(B555<graph!$E$10+graph!$E$32,B555>graph!$E$10-graph!$E$32),0.25,NA()))","v":20},null,null,null,null,null,null,{"$f":"IF(graph!$E$20=0,0,IF(graph!$E$2=0,20,IF(AND(B555<graph!$E$20+graph!$E$32,B555>graph!$E$20-graph!$E$32),0.25,0)))","v":0},{"$f":"IF(graph!$E$22=0,0,IF(graph!$E$2=0,20,IF(AND(B555>graph!$E$22-graph!$E$32,B555<graph!$E$22+graph!$E$32),0.25,0)))","v":0}]
[null,{"$f":"IF(graph!$E$2=0,\"\",B555+graph!$E$32)","v":""},{"$f":"IF(graph!$E$2=0,20,IF(SUM(K556+L556=0),NA(),0.25))","v":20},{"$f":"IF(graph!$E$2=0,20,IF(AND(B556<graph!$E$10+graph!$E$32,B556>graph!$E$10-graph!$E$32),0.25,NA()))","v":20},null,null,null,null,null,null,{"$f":"IF(graph!$E$20=0,0,IF(graph!$E$2=0,20,IF(AND(B556<graph!$E$20+graph!$E$32,B556>graph!$E$20-graph!$E$32),0.25,0)))","v":0},{"$f":"IF(graph!$E$22=0,0,IF(graph!$E$2=0,20,IF(AND(B556>graph!$E$22-graph!$E$32,B556<graph!$E$22+graph!$E$32),0.25,0)))","v":0}]
[null,{"$f":"IF(graph!$E$2=0,\"\",B556+graph!$E$32)","v":""},{"$f":"IF(graph!$E$2=0,20,IF(SUM(K557+L557=0),NA(),0.25))","v":20},{"$f":"IF(graph!$E$2=0,20,IF(AND(B557<graph!$E$10+graph!$E$32,B557>graph!$E$10-graph!$E$32),0.25,NA()))","v":20},null,null,null,null,null,null,{"$f":"IF(graph!$E$20=0,0,IF(graph!$E$2=0,20,IF(AND(B557<graph!$E$20+graph!$E$32,B557>graph!$E$20-graph!$E$32),0.25,0)))","v":0},{"$f":"IF(graph!$E$22=0,0,IF(graph!$E$2=0,20,IF(AND(B557>graph!$E$22-graph!$E$32,B557<graph!$E$22+graph!$E$32),0.25,0)))","v":0}]
[null,{"$f":"IF(graph!$E$2=0,\"\",B557+graph!$E$32)","v":""},{"$f":"IF(graph!$E$2=0,20,IF(SUM(K558+L558=0),NA(),0.25))","v":20},{"$f":"IF(graph!$E$2=0,20,IF(AND(B558<graph!$E$10+graph!$E$32,B558>graph!$E$10-graph!$E$32),0.25,NA()))","v":20},null,null,null,null,null,null,{"$f":"IF(graph!$E$20=0,0,IF(graph!$E$2=0,20,IF(AND(B558<graph!$E$20+graph!$E$32,B558>graph!$E$20-graph!$E$32),0.25,0)))","v":0},{"$f":"IF(graph!$E$22=0,0,IF(graph!$E$2=0,20,IF(AND(B558>graph!$E$22-graph!$E$32,B558<graph!$E$22+graph!$E$32),0.25,0)))","v":0}]
[null,{"$f":"IF(graph!$E$2=0,\"\",B558+graph!$E$32)","v":""},{"$f":"IF(graph!$E$2=0,20,IF(SUM(K559+L559=0),NA(),0.25))","v":20},{"$f":"IF(graph!$E$2=0,20,IF(AND(B559<graph!$E$10+graph!$E$32,B559>graph!$E$10-graph!$E$32),0.25,NA()))","v":20},null,null,null,null,null,null,{"$f":"IF(graph!$E$20=0,0,IF(graph!$E$2=0,20,IF(AND(B559<graph!$E$20+graph!$E$32,B559>graph!$E$20-graph!$E$32),0.25,0)))","v":0},{"$f":"IF(graph!$E$22=0,0,IF(graph!$E$2=0,20,IF(AND(B559>graph!$E$22-graph!$E$32,B559<graph!$E$22+graph!$E$32),0.25,0)))","v":0}]
[null,{"$f":"IF(graph!$E$2=0,\"\",B559+graph!$E$32)","v":""},{"$f":"IF(graph!$E$2=0,20,IF(SUM(K560+L560=0),NA(),0.25))","v":20},{"$f":"IF(graph!$E$2=0,20,IF(AND(B560<graph!$E$10+graph!$E$32,B560>graph!$E$10-graph!$E$32),0.25,NA()))","v":20},null,null,null,null,null,null,{"$f":"IF(graph!$E$20=0,0,IF(graph!$E$2=0,20,IF(AND(B560<graph!$E$20+graph!$E$32,B560>graph!$E$20-graph!$E$32),0.25,0)))","v":0},{"$f":"IF(graph!$E$22=0,0,IF(graph!$E$2=0,20,IF(AND(B560>graph!$E$22-graph!$E$32,B560<graph!$E$22+graph!$E$32),0.25,0)))","v":0}]
[null,{"$f":"IF(graph!$E$2=0,\"\",B560+graph!$E$32)","v":""},{"$f":"IF(graph!$E$2=0,20,IF(SUM(K561+L561=0),NA(),0.25))","v":20},{"$f":"IF(graph!$E$2=0,20,IF(AND(B561<graph!$E$10+graph!$E$32,B561>graph!$E$10-graph!$E$32),0.25,NA()))","v":20},null,null,null,null,null,null,{"$f":"IF(graph!$E$20=0,0,IF(graph!$E$2=0,20,IF(AND(B561<graph!$E$20+graph!$E$32,B561>graph!$E$20-graph!$E$32),0.25,0)))","v":0},{"$f":"IF(graph!$E$22=0,0,IF(graph!$E$2=0,20,IF(AND(B561>graph!$E$22-graph!$E$32,B561<graph!$E$22+graph!$E$32),0.25,0)))","v":0}]
[null,{"$f":"IF(graph!$E$2=0,\"\",B561+graph!$E$32)","v":""},{"$f":"IF(graph!$E$2=0,20,IF(SUM(K562+L562=0),NA(),0.25))","v":20},{"$f":"IF(graph!$E$2=0,20,IF(AND(B562<graph!$E$10+graph!$E$32,B562>graph!$E$10-graph!$E$32),0.25,NA()))","v":20},null,null,null,null,null,null,{"$f":"IF(graph!$E$20=0,0,IF(graph!$E$2=0,20,IF(AND(B562<graph!$E$20+graph!$E$32,B562>graph!$E$20-graph!$E$32),0.25,0)))","v":0},{"$f":"IF(graph!$E$22=0,0,IF(graph!$E$2=0,20,IF(AND(B562>graph!$E$22-graph!$E$32,B562<graph!$E$22+graph!$E$32),0.25,0)))","v":0}]
[null,{"$f":"IF(graph!$E$2=0,\"\",B562+graph!$E$32)","v":""},{"$f":"IF(graph!$E$2=0,20,IF(SUM(K563+L563=0),NA(),0.25))","v":20},{"$f":"IF(graph!$E$2=0,20,IF(AND(B563<graph!$E$10+graph!$E$32,B563>graph!$E$10-graph!$E$32),0.25,NA()))","v":20},null,null,null,null,null,null,{"$f":"IF(graph!$E$20=0,0,IF(graph!$E$2=0,20,IF(AND(B563<graph!$E$20+graph!$E$32,B563>graph!$E$20-graph!$E$32),0.25,0)))","v":0},{"$f":"IF(graph!$E$22=0,0,IF(graph!$E$2=0,20,IF(AND(B563>graph!$E$22-graph!$E$32,B563<graph!$E$22+graph!$E$32),0.25,0)))","v":0}]
[null,{"$f":"IF(graph!$E$2=0,\"\",B563+graph!$E$32)","v":""},{"$f":"IF(graph!$E$2=0,20,IF(SUM(K564+L564=0),NA(),0.25))","v":20},{"$f":"IF(graph!$E$2=0,20,IF(AND(B564<graph!$E$10+graph!$E$32,B564>graph!$E$10-graph!$E$32),0.25,NA()))","v":20},null,null,null,null,null,null,{"$f":"IF(graph!$E$20=0,0,IF(graph!$E$2=0,20,IF(AND(B564<graph!$E$20+graph!$E$32,B564>graph!$E$20-graph!$E$32),0.25,0)))","v":0},{"$f":"IF(graph!$E$22=0,0,IF(graph!$E$2=0,20,IF(AND(B564>graph!$E$22-graph!$E$32,B564<graph!$E$22+graph!$E$32),0.25,0)))","v":0}]
[null,{"$f":"IF(graph!$E$2=0,\"\",B564+graph!$E$32)","v":""},{"$f":"IF(graph!$E$2=0,20,IF(SUM(K565+L565=0),NA(),0.25))","v":20},{"$f":"IF(graph!$E$2=0,20,IF(AND(B565<graph!$E$10+graph!$E$32,B565>graph!$E$10-graph!$E$32),0.25,NA()))","v":20},null,null,null,null,null,null,{"$f":"IF(graph!$E$20=0,0,IF(graph!$E$2=0,20,IF(AND(B565<graph!$E$20+graph!$E$32,B565>graph!$E$20-graph!$E$32),0.25,0)))","v":0},{"$f":"IF(graph!$E$22=0,0,IF(graph!$E$2=0,20,IF(AND(B565>graph!$E$22-graph!$E$32,B565<graph!$E$22+graph!$E$32),0.25,0)))","v":0}]
[null,{"$f":"IF(graph!$E$2=0,\"\",B565+graph!$E$32)","v":""},{"$f":"IF(graph!$E$2=0,20,IF(SUM(K566+L566=0),NA(),0.25))","v":20},{"$f":"IF(graph!$E$2=0,20,IF(AND(B566<graph!$E$10+graph!$E$32,B566>graph!$E$10-graph!$E$32),0.25,NA()))","v":20},null,null,null,null,null,null,{"$f":"IF(graph!$E$20=0,0,IF(graph!$E$2=0,20,IF(AND(B566<graph!$E$20+graph!$E$32,B566>graph!$E$20-graph!$E$32),0.25,0)))","v":0},{"$f":"IF(graph!$E$22=0,0,IF(graph!$E$2=0,20,IF(AND(B566>graph!$E$22-graph!$E$32,B566<graph!$E$22+graph!$E$32),0.25,0)))","v":0}]
[null,{"$f":"IF(graph!$E$2=0,\"\",B566+graph!$E$32)","v":""},{"$f":"IF(graph!$E$2=0,20,IF(SUM(K567+L567=0),NA(),0.25))","v":20},{"$f":"IF(graph!$E$2=0,20,IF(AND(B567<graph!$E$10+graph!$E$32,B567>graph!$E$10-graph!$E$32),0.25,NA()))","v":20},null,null,null,null,null,null,{"$f":"IF(graph!$E$20=0,0,IF(graph!$E$2=0,20,IF(AND(B567<graph!$E$20+graph!$E$32,B567>graph!$E$20-graph!$E$32),0.25,0)))","v":0},{"$f":"IF(graph!$E$22=0,0,IF(graph!$E$2=0,20,IF(AND(B567>graph!$E$22-graph!$E$32,B567<graph!$E$22+graph!$E$32),0.25,0)))","v":0}]
[null,{"$f":"IF(graph!$E$2=0,\"\",B567+graph!$E$32)","v":""},{"$f":"IF(graph!$E$2=0,20,IF(SUM(K568+L568=0),NA(),0.25))","v":20},{"$f":"IF(graph!$E$2=0,20,IF(AND(B568<graph!$E$10+graph!$E$32,B568>graph!$E$10-graph!$E$32),0.25,NA()))","v":20},null,null,null,null,null,null,{"$f":"IF(graph!$E$20=0,0,IF(graph!$E$2=0,20,IF(AND(B568<graph!$E$20+graph!$E$32,B568>graph!$E$20-graph!$E$32),0.25,0)))","v":0},{"$f":"IF(graph!$E$22=0,0,IF(graph!$E$2=0,20,IF(AND(B568>graph!$E$22-graph!$E$32,B568<graph!$E$22+graph!$E$32),0.25,0)))","v":0}]
[null,{"$f":"IF(graph!$E$2=0,\"\",B568+graph!$E$32)","v":""},{"$f":"IF(graph!$E$2=0,20,IF(SUM(K569+L569=0),NA(),0.25))","v":20},{"$f":"IF(graph!$E$2=0,20,IF(AND(B569<graph!$E$10+graph!$E$32,B569>graph!$E$10-graph!$E$32),0.25,NA()))","v":20},null,null,null,null,null,null,{"$f":"IF(graph!$E$20=0,0,IF(graph!$E$2=0,20,IF(AND(B569<graph!$E$20+graph!$E$32,B569>graph!$E$20-graph!$E$32),0.25,0)))","v":0},{"$f":"IF(graph!$E$22=0,0,IF(graph!$E$2=0,20,IF(AND(B569>graph!$E$22-graph!$E$32,B569<graph!$E$22+graph!$E$32),0.25,0)))","v":0}]
[null,{"$f":"IF(graph!$E$2=0,\"\",B569+graph!$E$32)","v":""},{"$f":"IF(graph!$E$2=0,20,IF(SUM(K570+L570=0),NA(),0.25))","v":20},{"$f":"IF(graph!$E$2=0,20,IF(AND(B570<graph!$E$10+graph!$E$32,B570>graph!$E$10-graph!$E$32),0.25,NA()))","v":20},null,null,null,null,null,null,{"$f":"IF(graph!$E$20=0,0,IF(graph!$E$2=0,20,IF(AND(B570<graph!$E$20+graph!$E$32,B570>graph!$E$20-graph!$E$32),0.25,0)))","v":0},{"$f":"IF(graph!$E$22=0,0,IF(graph!$E$2=0,20,IF(AND(B570>graph!$E$22-graph!$E$32,B570<graph!$E$22+graph!$E$32),0.25,0)))","v":0}]
[null,{"$f":"IF(graph!$E$2=0,\"\",B570+graph!$E$32)","v":""},{"$f":"IF(graph!$E$2=0,20,IF(SUM(K571+L571=0),NA(),0.25))","v":20},{"$f":"IF(graph!$E$2=0,20,IF(AND(B571<graph!$E$10+graph!$E$32,B571>graph!$E$10-graph!$E$32),0.25,NA()))","v":20},null,null,null,null,null,null,{"$f":"IF(graph!$E$20=0,0,IF(graph!$E$2=0,20,IF(AND(B571<graph!$E$20+graph!$E$32,B571>graph!$E$20-graph!$E$32),0.25,0)))","v":0},{"$f":"IF(graph!$E$22=0,0,IF(graph!$E$2=0,20,IF(AND(B571>graph!$E$22-graph!$E$32,B571<graph!$E$22+graph!$E$32),0.25,0)))","v":0}]
[null,{"$f":"IF(graph!$E$2=0,\"\",B571+graph!$E$32)","v":""},{"$f":"IF(graph!$E$2=0,20,IF(SUM(K572+L572=0),NA(),0.25))","v":20},{"$f":"IF(graph!$E$2=0,20,IF(AND(B572<graph!$E$10+graph!$E$32,B572>graph!$E$10-graph!$E$32),0.25,NA()))","v":20},null,null,null,null,null,null,{"$f":"IF(graph!$E$20=0,0,IF(graph!$E$2=0,20,IF(AND(B572<graph!$E$20+graph!$E$32,B572>graph!$E$20-graph!$E$32),0.25,0)))","v":0},{"$f":"IF(graph!$E$22=0,0,IF(graph!$E$2=0,20,IF(AND(B572>graph!$E$22-graph!$E$32,B572<graph!$E$22+graph!$E$32),0.25,0)))","v":0}]
[null,{"$f":"IF(graph!$E$2=0,\"\",B572+graph!$E$32)","v":""},{"$f":"IF(graph!$E$2=0,20,IF(SUM(K573+L573=0),NA(),0.25))","v":20},{"$f":"IF(graph!$E$2=0,20,IF(AND(B573<graph!$E$10+graph!$E$32,B573>graph!$E$10-graph!$E$32),0.25,NA()))","v":20},null,null,null,null,null,null,{"$f":"IF(graph!$E$20=0,0,IF(graph!$E$2=0,20,IF(AND(B573<graph!$E$20+graph!$E$32,B573>graph!$E$20-graph!$E$32),0.25,0)))","v":0},{"$f":"IF(graph!$E$22=0,0,IF(graph!$E$2=0,20,IF(AND(B573>graph!$E$22-graph!$E$32,B573<graph!$E$22+graph!$E$32),0.25,0)))","v":0}]
[null,{"$f":"IF(graph!$E$2=0,\"\",B573+graph!$E$32)","v":""},{"$f":"IF(graph!$E$2=0,20,IF(SUM(K574+L574=0),NA(),0.25))","v":20},{"$f":"IF(graph!$E$2=0,20,IF(AND(B574<graph!$E$10+graph!$E$32,B574>graph!$E$10-graph!$E$32),0.25,NA()))","v":20},null,null,null,null,null,null,{"$f":"IF(graph!$E$20=0,0,IF(graph!$E$2=0,20,IF(AND(B574<graph!$E$20+graph!$E$32,B574>graph!$E$20-graph!$E$32),0.25,0)))","v":0},{"$f":"IF(graph!$E$22=0,0,IF(graph!$E$2=0,20,IF(AND(B574>graph!$E$22-graph!$E$32,B574<graph!$E$22+graph!$E$32),0.25,0)))","v":0}]
[null,{"$f":"IF(graph!$E$2=0,\"\",B574+graph!$E$32)","v":""},{"$f":"IF(graph!$E$2=0,20,IF(SUM(K575+L575=0),NA(),0.25))","v":20},{"$f":"IF(graph!$E$2=0,20,IF(AND(B575<graph!$E$10+graph!$E$32,B575>graph!$E$10-graph!$E$32),0.25,NA()))","v":20},null,null,null,null,null,null,{"$f":"IF(graph!$E$20=0,0,IF(graph!$E$2=0,20,IF(AND(B575<graph!$E$20+graph!$E$32,B575>graph!$E$20-graph!$E$32),0.25,0)))","v":0},{"$f":"IF(graph!$E$22=0,0,IF(graph!$E$2=0,20,IF(AND(B575>graph!$E$22-graph!$E$32,B575<graph!$E$22+graph!$E$32),0.25,0)))","v":0}]
[null,{"$f":"IF(graph!$E$2=0,\"\",B575+graph!$E$32)","v":""},{"$f":"IF(graph!$E$2=0,20,IF(SUM(K576+L576=0),NA(),0.25))","v":20},{"$f":"IF(graph!$E$2=0,20,IF(AND(B576<graph!$E$10+graph!$E$32,B576>graph!$E$10-graph!$E$32),0.25,NA()))","v":20},null,null,null,null,null,null,{"$f":"IF(graph!$E$20=0,0,IF(graph!$E$2=0,20,IF(AND(B576<graph!$E$20+graph!$E$32,B576>graph!$E$20-graph!$E$32),0.25,0)))","v":0},{"$f":"IF(graph!$E$22=0,0,IF(graph!$E$2=0,20,IF(AND(B576>graph!$E$22-graph!$E$32,B576<graph!$E$22+graph!$E$32),0.25,0)))","v":0}]
[null,{"$f":"IF(graph!$E$2=0,\"\",B576+graph!$E$32)","v":""},{"$f":"IF(graph!$E$2=0,20,IF(SUM(K577+L577=0),NA(),0.25))","v":20},{"$f":"IF(graph!$E$2=0,20,IF(AND(B577<graph!$E$10+graph!$E$32,B577>graph!$E$10-graph!$E$32),0.25,NA()))","v":20},null,null,null,null,null,null,{"$f":"IF(graph!$E$20=0,0,IF(graph!$E$2=0,20,IF(AND(B577<graph!$E$20+graph!$E$32,B577>graph!$E$20-graph!$E$32),0.25,0)))","v":0},{"$f":"IF(graph!$E$22=0,0,IF(graph!$E$2=0,20,IF(AND(B577>graph!$E$22-graph!$E$32,B577<graph!$E$22+graph!$E$32),0.25,0)))","v":0}]
[null,{"$f":"IF(graph!$E$2=0,\"\",B577+graph!$E$32)","v":""},{"$f":"IF(graph!$E$2=0,20,IF(SUM(K578+L578=0),NA(),0.25))","v":20},{"$f":"IF(graph!$E$2=0,20,IF(AND(B578<graph!$E$10+graph!$E$32,B578>graph!$E$10-graph!$E$32),0.25,NA()))","v":20},null,null,null,null,null,null,{"$f":"IF(graph!$E$20=0,0,IF(graph!$E$2=0,20,IF(AND(B578<graph!$E$20+graph!$E$32,B578>graph!$E$20-graph!$E$32),0.25,0)))","v":0},{"$f":"IF(graph!$E$22=0,0,IF(graph!$E$2=0,20,IF(AND(B578>graph!$E$22-graph!$E$32,B578<graph!$E$22+graph!$E$32),0.25,0)))","v":0}]
[null,{"$f":"IF(graph!$E$2=0,\"\",B578+graph!$E$32)","v":""},{"$f":"IF(graph!$E$2=0,20,IF(SUM(K579+L579=0),NA(),0.25))","v":20},{"$f":"IF(graph!$E$2=0,20,IF(AND(B579<graph!$E$10+graph!$E$32,B579>graph!$E$10-graph!$E$32),0.25,NA()))","v":20},null,null,null,null,null,null,{"$f":"IF(graph!$E$20=0,0,IF(graph!$E$2=0,20,IF(AND(B579<graph!$E$20+graph!$E$32,B579>graph!$E$20-graph!$E$32),0.25,0)))","v":0},{"$f":"IF(graph!$E$22=0,0,IF(graph!$E$2=0,20,IF(AND(B579>graph!$E$22-graph!$E$32,B579<graph!$E$22+graph!$E$32),0.25,0)))","v":0}]
[null,{"$f":"IF(graph!$E$2=0,\"\",B579+graph!$E$32)","v":""},{"$f":"IF(graph!$E$2=0,20,IF(SUM(K580+L580=0),NA(),0.25))","v":20},{"$f":"IF(graph!$E$2=0,20,IF(AND(B580<graph!$E$10+graph!$E$32,B580>graph!$E$10-graph!$E$32),0.25,NA()))","v":20},null,null,null,null,null,null,{"$f":"IF(graph!$E$20=0,0,IF(graph!$E$2=0,20,IF(AND(B580<graph!$E$20+graph!$E$32,B580>graph!$E$20-graph!$E$32),0.25,0)))","v":0},{"$f":"IF(graph!$E$22=0,0,IF(graph!$E$2=0,20,IF(AND(B580>graph!$E$22-graph!$E$32,B580<graph!$E$22+graph!$E$32),0.25,0)))","v":0}]
[null,{"$f":"IF(graph!$E$2=0,\"\",B580+graph!$E$32)","v":""},{"$f":"IF(graph!$E$2=0,20,IF(SUM(K581+L581=0),NA(),0.25))","v":20},{"$f":"IF(graph!$E$2=0,20,IF(AND(B581<graph!$E$10+graph!$E$32,B581>graph!$E$10-graph!$E$32),0.25,NA()))","v":20},null,null,null,null,null,null,{"$f":"IF(graph!$E$20=0,0,IF(graph!$E$2=0,20,IF(AND(B581<graph!$E$20+graph!$E$32,B581>graph!$E$20-graph!$E$32),0.25,0)))","v":0},{"$f":"IF(graph!$E$22=0,0,IF(graph!$E$2=0,20,IF(AND(B581>graph!$E$22-graph!$E$32,B581<graph!$E$22+graph!$E$32),0.25,0)))","v":0}]
[null,{"$f":"IF(graph!$E$2=0,\"\",B581+graph!$E$32)","v":""},{"$f":"IF(graph!$E$2=0,20,IF(SUM(K582+L582=0),NA(),0.25))","v":20},{"$f":"IF(graph!$E$2=0,20,IF(AND(B582<graph!$E$10+graph!$E$32,B582>graph!$E$10-graph!$E$32),0.25,NA()))","v":20},null,null,null,null,null,null,{"$f":"IF(graph!$E$20=0,0,IF(graph!$E$2=0,20,IF(AND(B582<graph!$E$20+graph!$E$32,B582>graph!$E$20-graph!$E$32),0.25,0)))","v":0},{"$f":"IF(graph!$E$22=0,0,IF(graph!$E$2=0,20,IF(AND(B582>graph!$E$22-graph!$E$32,B582<graph!$E$22+graph!$E$32),0.25,0)))","v":0}]
[null,{"$f":"IF(graph!$E$2=0,\"\",B582+graph!$E$32)","v":""},{"$f":"IF(graph!$E$2=0,20,IF(SUM(K583+L583=0),NA(),0.25))","v":20},{"$f":"IF(graph!$E$2=0,20,IF(AND(B583<graph!$E$10+graph!$E$32,B583>graph!$E$10-graph!$E$32),0.25,NA()))","v":20},null,null,null,null,null,null,{"$f":"IF(graph!$E$20=0,0,IF(graph!$E$2=0,20,IF(AND(B583<graph!$E$20+graph!$E$32,B583>graph!$E$20-graph!$E$32),0.25,0)))","v":0},{"$f":"IF(graph!$E$22=0,0,IF(graph!$E$2=0,20,IF(AND(B583>graph!$E$22-graph!$E$32,B583<graph!$E$22+graph!$E$32),0.25,0)))","v":0}]
[null,{"$f":"IF(graph!$E$2=0,\"\",B583+graph!$E$32)","v":""},{"$f":"IF(graph!$E$2=0,20,IF(SUM(K584+L584=0),NA(),0.25))","v":20},{"$f":"IF(graph!$E$2=0,20,IF(AND(B584<graph!$E$10+graph!$E$32,B584>graph!$E$10-graph!$E$32),0.25,NA()))","v":20},null,null,null,null,null,null,{"$f":"IF(graph!$E$20=0,0,IF(graph!$E$2=0,20,IF(AND(B584<graph!$E$20+graph!$E$32,B584>graph!$E$20-graph!$E$32),0.25,0)))","v":0},{"$f":"IF(graph!$E$22=0,0,IF(graph!$E$2=0,20,IF(AND(B584>graph!$E$22-graph!$E$32,B584<graph!$E$22+graph!$E$32),0.25,0)))","v":0}]
[null,{"$f":"IF(graph!$E$2=0,\"\",B584+graph!$E$32)","v":""},{"$f":"IF(graph!$E$2=0,20,IF(SUM(K585+L585=0),NA(),0.25))","v":20},{"$f":"IF(graph!$E$2=0,20,IF(AND(B585<graph!$E$10+graph!$E$32,B585>graph!$E$10-graph!$E$32),0.25,NA()))","v":20},null,null,null,null,null,null,{"$f":"IF(graph!$E$20=0,0,IF(graph!$E$2=0,20,IF(AND(B585<graph!$E$20+graph!$E$32,B585>graph!$E$20-graph!$E$32),0.25,0)))","v":0},{"$f":"IF(graph!$E$22=0,0,IF(graph!$E$2=0,20,IF(AND(B585>graph!$E$22-graph!$E$32,B585<graph!$E$22+graph!$E$32),0.25,0)))","v":0}]
[null,{"$f":"IF(graph!$E$2=0,\"\",B585+graph!$E$32)","v":""},{"$f":"IF(graph!$E$2=0,20,IF(SUM(K586+L586=0),NA(),0.25))","v":20},{"$f":"IF(graph!$E$2=0,20,IF(AND(B586<graph!$E$10+graph!$E$32,B586>graph!$E$10-graph!$E$32),0.25,NA()))","v":20},null,null,null,null,null,null,{"$f":"IF(graph!$E$20=0,0,IF(graph!$E$2=0,20,IF(AND(B586<graph!$E$20+graph!$E$32,B586>graph!$E$20-graph!$E$32),0.25,0)))","v":0},{"$f":"IF(graph!$E$22=0,0,IF(graph!$E$2=0,20,IF(AND(B586>graph!$E$22-graph!$E$32,B586<graph!$E$22+graph!$E$32),0.25,0)))","v":0}]
[null,{"$f":"IF(graph!$E$2=0,\"\",B586+graph!$E$32)","v":""},{"$f":"IF(graph!$E$2=0,20,IF(SUM(K587+L587=0),NA(),0.25))","v":20},{"$f":"IF(graph!$E$2=0,20,IF(AND(B587<graph!$E$10+graph!$E$32,B587>graph!$E$10-graph!$E$32),0.25,NA()))","v":20},null,null,null,null,null,null,{"$f":"IF(graph!$E$20=0,0,IF(graph!$E$2=0,20,IF(AND(B587<graph!$E$20+graph!$E$32,B587>graph!$E$20-graph!$E$32),0.25,0)))","v":0},{"$f":"IF(graph!$E$22=0,0,IF(graph!$E$2=0,20,IF(AND(B587>graph!$E$22-graph!$E$32,B587<graph!$E$22+graph!$E$32),0.25,0)))","v":0}]
[null,{"$f":"IF(graph!$E$2=0,\"\",B587+graph!$E$32)","v":""},{"$f":"IF(graph!$E$2=0,20,IF(SUM(K588+L588=0),NA(),0.25))","v":20},{"$f":"IF(graph!$E$2=0,20,IF(AND(B588<graph!$E$10+graph!$E$32,B588>graph!$E$10-graph!$E$32),0.25,NA()))","v":20},null,null,null,null,null,null,{"$f":"IF(graph!$E$20=0,0,IF(graph!$E$2=0,20,IF(AND(B588<graph!$E$20+graph!$E$32,B588>graph!$E$20-graph!$E$32),0.25,0)))","v":0},{"$f":"IF(graph!$E$22=0,0,IF(graph!$E$2=0,20,IF(AND(B588>graph!$E$22-graph!$E$32,B588<graph!$E$22+graph!$E$32),0.25,0)))","v":0}]
[null,{"$f":"IF(graph!$E$2=0,\"\",B588+graph!$E$32)","v":""},{"$f":"IF(graph!$E$2=0,20,IF(SUM(K589+L589=0),NA(),0.25))","v":20},{"$f":"IF(graph!$E$2=0,20,IF(AND(B589<graph!$E$10+graph!$E$32,B589>graph!$E$10-graph!$E$32),0.25,NA()))","v":20},null,null,null,null,null,null,{"$f":"IF(graph!$E$20=0,0,IF(graph!$E$2=0,20,IF(AND(B589<graph!$E$20+graph!$E$32,B589>graph!$E$20-graph!$E$32),0.25,0)))","v":0},{"$f":"IF(graph!$E$22=0,0,IF(graph!$E$2=0,20,IF(AND(B589>graph!$E$22-graph!$E$32,B589<graph!$E$22+graph!$E$32),0.25,0)))","v":0}]
[null,{"$f":"IF(graph!$E$2=0,\"\",B589+graph!$E$32)","v":""},{"$f":"IF(graph!$E$2=0,20,IF(SUM(K590+L590=0),NA(),0.25))","v":20},{"$f":"IF(graph!$E$2=0,20,IF(AND(B590<graph!$E$10+graph!$E$32,B590>graph!$E$10-graph!$E$32),0.25,NA()))","v":20},null,null,null,null,null,null,{"$f":"IF(graph!$E$20=0,0,IF(graph!$E$2=0,20,IF(AND(B590<graph!$E$20+graph!$E$32,B590>graph!$E$20-graph!$E$32),0.25,0)))","v":0},{"$f":"IF(graph!$E$22=0,0,IF(graph!$E$2=0,20,IF(AND(B590>graph!$E$22-graph!$E$32,B590<graph!$E$22+graph!$E$32),0.25,0)))","v":0}]
[null,{"$f":"IF(graph!$E$2=0,\"\",B590+graph!$E$32)","v":""},{"$f":"IF(graph!$E$2=0,20,IF(SUM(K591+L591=0),NA(),0.25))","v":20},{"$f":"IF(graph!$E$2=0,20,IF(AND(B591<graph!$E$10+graph!$E$32,B591>graph!$E$10-graph!$E$32),0.25,NA()))","v":20},null,null,null,null,null,null,{"$f":"IF(graph!$E$20=0,0,IF(graph!$E$2=0,20,IF(AND(B591<graph!$E$20+graph!$E$32,B591>graph!$E$20-graph!$E$32),0.25,0)))","v":0},{"$f":"IF(graph!$E$22=0,0,IF(graph!$E$2=0,20,IF(AND(B591>graph!$E$22-graph!$E$32,B591<graph!$E$22+graph!$E$32),0.25,0)))","v":0}]
[null,{"$f":"IF(graph!$E$2=0,\"\",B591+graph!$E$32)","v":""},{"$f":"IF(graph!$E$2=0,20,IF(SUM(K592+L592=0),NA(),0.25))","v":20},{"$f":"IF(graph!$E$2=0,20,IF(AND(B592<graph!$E$10+graph!$E$32,B592>graph!$E$10-graph!$E$32),0.25,NA()))","v":20},null,null,null,null,null,null,{"$f":"IF(graph!$E$20=0,0,IF(graph!$E$2=0,20,IF(AND(B592<graph!$E$20+graph!$E$32,B592>graph!$E$20-graph!$E$32),0.25,0)))","v":0},{"$f":"IF(graph!$E$22=0,0,IF(graph!$E$2=0,20,IF(AND(B592>graph!$E$22-graph!$E$32,B592<graph!$E$22+graph!$E$32),0.25,0)))","v":0}]
[null,{"$f":"IF(graph!$E$2=0,\"\",B592+graph!$E$32)","v":""},{"$f":"IF(graph!$E$2=0,20,IF(SUM(K593+L593=0),NA(),0.25))","v":20},{"$f":"IF(graph!$E$2=0,20,IF(AND(B593<graph!$E$10+graph!$E$32,B593>graph!$E$10-graph!$E$32),0.25,NA()))","v":20},null,null,null,null,null,null,{"$f":"IF(graph!$E$20=0,0,IF(graph!$E$2=0,20,IF(AND(B593<graph!$E$20+graph!$E$32,B593>graph!$E$20-graph!$E$32),0.25,0)))","v":0},{"$f":"IF(graph!$E$22=0,0,IF(graph!$E$2=0,20,IF(AND(B593>graph!$E$22-graph!$E$32,B593<graph!$E$22+graph!$E$32),0.25,0)))","v":0}]
[null,{"$f":"IF(graph!$E$2=0,\"\",B593+graph!$E$32)","v":""},{"$f":"IF(graph!$E$2=0,20,IF(SUM(K594+L594=0),NA(),0.25))","v":20},{"$f":"IF(graph!$E$2=0,20,IF(AND(B594<graph!$E$10+graph!$E$32,B594>graph!$E$10-graph!$E$32),0.25,NA()))","v":20},null,null,null,null,null,null,{"$f":"IF(graph!$E$20=0,0,IF(graph!$E$2=0,20,IF(AND(B594<graph!$E$20+graph!$E$32,B594>graph!$E$20-graph!$E$32),0.25,0)))","v":0},{"$f":"IF(graph!$E$22=0,0,IF(graph!$E$2=0,20,IF(AND(B594>graph!$E$22-graph!$E$32,B594<graph!$E$22+graph!$E$32),0.25,0)))","v":0}]
[null,{"$f":"IF(graph!$E$2=0,\"\",B594+graph!$E$32)","v":""},{"$f":"IF(graph!$E$2=0,20,IF(SUM(K595+L595=0),NA(),0.25))","v":20},{"$f":"IF(graph!$E$2=0,20,IF(AND(B595<graph!$E$10+graph!$E$32,B595>graph!$E$10-graph!$E$32),0.25,NA()))","v":20},null,null,null,null,null,null,{"$f":"IF(graph!$E$20=0,0,IF(graph!$E$2=0,20,IF(AND(B595<graph!$E$20+graph!$E$32,B595>graph!$E$20-graph!$E$32),0.25,0)))","v":0},{"$f":"IF(graph!$E$22=0,0,IF(graph!$E$2=0,20,IF(AND(B595>graph!$E$22-graph!$E$32,B595<graph!$E$22+graph!$E$32),0.25,0)))","v":0}]
[null,{"$f":"IF(graph!$E$2=0,\"\",B595+graph!$E$32)","v":""},{"$f":"IF(graph!$E$2=0,20,IF(SUM(K596+L596=0),NA(),0.25))","v":20},{"$f":"IF(graph!$E$2=0,20,IF(AND(B596<graph!$E$10+graph!$E$32,B596>graph!$E$10-graph!$E$32),0.25,NA()))","v":20},null,null,null,null,null,null,{"$f":"IF(graph!$E$20=0,0,IF(graph!$E$2=0,20,IF(AND(B596<graph!$E$20+graph!$E$32,B596>graph!$E$20-graph!$E$32),0.25,0)))","v":0},{"$f":"IF(graph!$E$22=0,0,IF(graph!$E$2=0,20,IF(AND(B596>graph!$E$22-graph!$E$32,B596<graph!$E$22+graph!$E$32),0.25,0)))","v":0}]
[null,{"$f":"IF(graph!$E$2=0,\"\",B596+graph!$E$32)","v":""},{"$f":"IF(graph!$E$2=0,20,IF(SUM(K597+L597=0),NA(),0.25))","v":20},{"$f":"IF(graph!$E$2=0,20,IF(AND(B597<graph!$E$10+graph!$E$32,B597>graph!$E$10-graph!$E$32),0.25,NA()))","v":20},null,null,null,null,null,null,{"$f":"IF(graph!$E$20=0,0,IF(graph!$E$2=0,20,IF(AND(B597<graph!$E$20+graph!$E$32,B597>graph!$E$20-graph!$E$32),0.25,0)))","v":0},{"$f":"IF(graph!$E$22=0,0,IF(graph!$E$2=0,20,IF(AND(B597>graph!$E$22-graph!$E$32,B597<graph!$E$22+graph!$E$32),0.25,0)))","v":0}]
[null,{"$f":"IF(graph!$E$2=0,\"\",B597+graph!$E$32)","v":""},{"$f":"IF(graph!$E$2=0,20,IF(SUM(K598+L598=0),NA(),0.25))","v":20},{"$f":"IF(graph!$E$2=0,20,IF(AND(B598<graph!$E$10+graph!$E$32,B598>graph!$E$10-graph!$E$32),0.25,NA()))","v":20},null,null,null,null,null,null,{"$f":"IF(graph!$E$20=0,0,IF(graph!$E$2=0,20,IF(AND(B598<graph!$E$20+graph!$E$32,B598>graph!$E$20-graph!$E$32),0.25,0)))","v":0},{"$f":"IF(graph!$E$22=0,0,IF(graph!$E$2=0,20,IF(AND(B598>graph!$E$22-graph!$E$32,B598<graph!$E$22+graph!$E$32),0.25,0)))","v":0}]
[null,{"$f":"IF(graph!$E$2=0,\"\",B598+graph!$E$32)","v":""},{"$f":"IF(graph!$E$2=0,20,IF(SUM(K599+L599=0),NA(),0.25))","v":20},{"$f":"IF(graph!$E$2=0,20,IF(AND(B599<graph!$E$10+graph!$E$32,B599>graph!$E$10-graph!$E$32),0.25,NA()))","v":20},null,null,null,null,null,null,{"$f":"IF(graph!$E$20=0,0,IF(graph!$E$2=0,20,IF(AND(B599<graph!$E$20+graph!$E$32,B599>graph!$E$20-graph!$E$32),0.25,0)))","v":0},{"$f":"IF(graph!$E$22=0,0,IF(graph!$E$2=0,20,IF(AND(B599>graph!$E$22-graph!$E$32,B599<graph!$E$22+graph!$E$32),0.25,0)))","v":0}]
[null,{"$f":"IF(graph!$E$2=0,\"\",B599+graph!$E$32)","v":""},{"$f":"IF(graph!$E$2=0,20,IF(SUM(K600+L600=0),NA(),0.25))","v":20},{"$f":"IF(graph!$E$2=0,20,IF(AND(B600<graph!$E$10+graph!$E$32,B600>graph!$E$10-graph!$E$32),0.25,NA()))","v":20},null,null,null,null,null,null,{"$f":"IF(graph!$E$20=0,0,IF(graph!$E$2=0,20,IF(AND(B600<graph!$E$20+graph!$E$32,B600>graph!$E$20-graph!$E$32),0.25,0)))","v":0},{"$f":"IF(graph!$E$22=0,0,IF(graph!$E$2=0,20,IF(AND(B600>graph!$E$22-graph!$E$32,B600<graph!$E$22+graph!$E$32),0.25,0)))","v":0}]
[null,{"$f":"IF(graph!$E$2=0,\"\",B600+graph!$E$32)","v":""},{"$f":"IF(graph!$E$2=0,20,IF(SUM(K601+L601=0),NA(),0.25))","v":20},{"$f":"IF(graph!$E$2=0,20,IF(AND(B601<graph!$E$10+graph!$E$32,B601>graph!$E$10-graph!$E$32),0.25,NA()))","v":20},null,null,null,null,null,null,{"$f":"IF(graph!$E$20=0,0,IF(graph!$E$2=0,20,IF(AND(B601<graph!$E$20+graph!$E$32,B601>graph!$E$20-graph!$E$32),0.25,0)))","v":0},{"$f":"IF(graph!$E$22=0,0,IF(graph!$E$2=0,20,IF(AND(B601>graph!$E$22-graph!$E$32,B601<graph!$E$22+graph!$E$32),0.25,0)))","v":0}]
[null,{"$f":"IF(graph!$E$2=0,\"\",B601+graph!$E$32)","v":""},{"$f":"IF(graph!$E$2=0,20,IF(SUM(K602+L602=0),NA(),0.25))","v":20},{"$f":"IF(graph!$E$2=0,20,IF(AND(B602<graph!$E$10+graph!$E$32,B602>graph!$E$10-graph!$E$32),0.25,NA()))","v":20},null,null,null,null,null,null,{"$f":"IF(graph!$E$20=0,0,IF(graph!$E$2=0,20,IF(AND(B602<graph!$E$20+graph!$E$32,B602>graph!$E$20-graph!$E$32),0.25,0)))","v":0},{"$f":"IF(graph!$E$22=0,0,IF(graph!$E$2=0,20,IF(AND(B602>graph!$E$22-graph!$E$32,B602<graph!$E$22+graph!$E$32),0.25,0)))","v":0}]
[null,{"$f":"IF(graph!$E$2=0,\"\",B602+graph!$E$32)","v":""},{"$f":"IF(graph!$E$2=0,20,IF(SUM(K603+L603=0),NA(),0.25))","v":20},{"$f":"IF(graph!$E$2=0,20,IF(AND(B603<graph!$E$10+graph!$E$32,B603>graph!$E$10-graph!$E$32),0.25,NA()))","v":20},null,null,null,null,null,null,{"$f":"IF(graph!$E$20=0,0,IF(graph!$E$2=0,20,IF(AND(B603<graph!$E$20+graph!$E$32,B603>graph!$E$20-graph!$E$32),0.25,0)))","v":0},{"$f":"IF(graph!$E$22=0,0,IF(graph!$E$2=0,20,IF(AND(B603>graph!$E$22-graph!$E$32,B603<graph!$E$22+graph!$E$32),0.25,0)))","v":0}]
[null,{"$f":"IF(graph!$E$2=0,\"\",B603+graph!$E$32)","v":""},{"$f":"IF(graph!$E$2=0,20,IF(SUM(K604+L604=0),NA(),0.25))","v":20},{"$f":"IF(graph!$E$2=0,20,IF(AND(B604<graph!$E$10+graph!$E$32,B604>graph!$E$10-graph!$E$32),0.25,NA()))","v":20},null,null,null,null,null,null,{"$f":"IF(graph!$E$20=0,0,IF(graph!$E$2=0,20,IF(AND(B604<graph!$E$20+graph!$E$32,B604>graph!$E$20-graph!$E$32),0.25,0)))","v":0},{"$f":"IF(graph!$E$22=0,0,IF(graph!$E$2=0,20,IF(AND(B604>graph!$E$22-graph!$E$32,B604<graph!$E$22+graph!$E$32),0.25,0)))","v":0}]
[null,{"$f":"IF(graph!$E$2=0,\"\",B604+graph!$E$32)","v":""},{"$f":"IF(graph!$E$2=0,20,IF(SUM(K605+L605=0),NA(),0.25))","v":20},{"$f":"IF(graph!$E$2=0,20,IF(AND(B605<graph!$E$10+graph!$E$32,B605>graph!$E$10-graph!$E$32),0.25,NA()))","v":20},null,null,null,null,null,null,{"$f":"IF(graph!$E$20=0,0,IF(graph!$E$2=0,20,IF(AND(B605<graph!$E$20+graph!$E$32,B605>graph!$E$20-graph!$E$32),0.25,0)))","v":0},{"$f":"IF(graph!$E$22=0,0,IF(graph!$E$2=0,20,IF(AND(B605>graph!$E$22-graph!$E$32,B605<graph!$E$22+graph!$E$32),0.25,0)))","v":0}]
[null,{"$f":"IF(graph!$E$2=0,\"\",B605+graph!$E$32)","v":""},{"$f":"IF(graph!$E$2=0,20,IF(SUM(K606+L606=0),NA(),0.25))","v":20},{"$f":"IF(graph!$E$2=0,20,IF(AND(B606<graph!$E$10+graph!$E$32,B606>graph!$E$10-graph!$E$32),0.25,NA()))","v":20},null,null,null,null,null,null,{"$f":"IF(graph!$E$20=0,0,IF(graph!$E$2=0,20,IF(AND(B606<graph!$E$20+graph!$E$32,B606>graph!$E$20-graph!$E$32),0.25,0)))","v":0},{"$f":"IF(graph!$E$22=0,0,IF(graph!$E$2=0,20,IF(AND(B606>graph!$E$22-graph!$E$32,B606<graph!$E$22+graph!$E$32),0.25,0)))","v":0}]
[null,{"$f":"IF(graph!$E$2=0,\"\",B606+graph!$E$32)","v":""},{"$f":"IF(graph!$E$2=0,20,IF(SUM(K607+L607=0),NA(),0.25))","v":20},{"$f":"IF(graph!$E$2=0,20,IF(AND(B607<graph!$E$10+graph!$E$32,B607>graph!$E$10-graph!$E$32),0.25,NA()))","v":20},null,null,null,null,null,null,{"$f":"IF(graph!$E$20=0,0,IF(graph!$E$2=0,20,IF(AND(B607<graph!$E$20+graph!$E$32,B607>graph!$E$20-graph!$E$32),0.25,0)))","v":0},{"$f":"IF(graph!$E$22=0,0,IF(graph!$E$2=0,20,IF(AND(B607>graph!$E$22-graph!$E$32,B607<graph!$E$22+graph!$E$32),0.25,0)))","v":0}]
[null,{"$f":"IF(graph!$E$2=0,\"\",B607+graph!$E$32)","v":""},{"$f":"IF(graph!$E$2=0,20,IF(SUM(K608+L608=0),NA(),0.25))","v":20},{"$f":"IF(graph!$E$2=0,20,IF(AND(B608<graph!$E$10+graph!$E$32,B608>graph!$E$10-graph!$E$32),0.25,NA()))","v":20},null,null,null,null,null,null,{"$f":"IF(graph!$E$20=0,0,IF(graph!$E$2=0,20,IF(AND(B608<graph!$E$20+graph!$E$32,B608>graph!$E$20-graph!$E$32),0.25,0)))","v":0},{"$f":"IF(graph!$E$22=0,0,IF(graph!$E$2=0,20,IF(AND(B608>graph!$E$22-graph!$E$32,B608<graph!$E$22+graph!$E$32),0.25,0)))","v":0}]
[null,{"$f":"IF(graph!$E$2=0,\"\",B608+graph!$E$32)","v":""},{"$f":"IF(graph!$E$2=0,20,IF(SUM(K609+L609=0),NA(),0.25))","v":20},{"$f":"IF(graph!$E$2=0,20,IF(AND(B609<graph!$E$10+graph!$E$32,B609>graph!$E$10-graph!$E$32),0.25,NA()))","v":20},null,null,null,null,null,null,{"$f":"IF(graph!$E$20=0,0,IF(graph!$E$2=0,20,IF(AND(B609<graph!$E$20+graph!$E$32,B609>graph!$E$20-graph!$E$32),0.25,0)))","v":0},{"$f":"IF(graph!$E$22=0,0,IF(graph!$E$2=0,20,IF(AND(B609>graph!$E$22-graph!$E$32,B609<graph!$E$22+graph!$E$32),0.25,0)))","v":0}]
[null,{"$f":"IF(graph!$E$2=0,\"\",B609+graph!$E$32)","v":""},{"$f":"IF(graph!$E$2=0,20,IF(SUM(K610+L610=0),NA(),0.25))","v":20},{"$f":"IF(graph!$E$2=0,20,IF(AND(B610<graph!$E$10+graph!$E$32,B610>graph!$E$10-graph!$E$32),0.25,NA()))","v":20},null,null,null,null,null,null,{"$f":"IF(graph!$E$20=0,0,IF(graph!$E$2=0,20,IF(AND(B610<graph!$E$20+graph!$E$32,B610>graph!$E$20-graph!$E$32),0.25,0)))","v":0},{"$f":"IF(graph!$E$22=0,0,IF(graph!$E$2=0,20,IF(AND(B610>graph!$E$22-graph!$E$32,B610<graph!$E$22+graph!$E$32),0.25,0)))","v":0}]
[null,{"$f":"IF(graph!$E$2=0,\"\",B610+graph!$E$32)","v":""},{"$f":"IF(graph!$E$2=0,20,IF(SUM(K611+L611=0),NA(),0.25))","v":20},{"$f":"IF(graph!$E$2=0,20,IF(AND(B611<graph!$E$10+graph!$E$32,B611>graph!$E$10-graph!$E$32),0.25,NA()))","v":20},null,null,null,null,null,null,{"$f":"IF(graph!$E$20=0,0,IF(graph!$E$2=0,20,IF(AND(B611<graph!$E$20+graph!$E$32,B611>graph!$E$20-graph!$E$32),0.25,0)))","v":0},{"$f":"IF(graph!$E$22=0,0,IF(graph!$E$2=0,20,IF(AND(B611>graph!$E$22-graph!$E$32,B611<graph!$E$22+graph!$E$32),0.25,0)))","v":0}]
[null,{"$f":"IF(graph!$E$2=0,\"\",B611+graph!$E$32)","v":""},{"$f":"IF(graph!$E$2=0,20,IF(SUM(K612+L612=0),NA(),0.25))","v":20},{"$f":"IF(graph!$E$2=0,20,IF(AND(B612<graph!$E$10+graph!$E$32,B612>graph!$E$10-graph!$E$32),0.25,NA()))","v":20},null,null,null,null,null,null,{"$f":"IF(graph!$E$20=0,0,IF(graph!$E$2=0,20,IF(AND(B612<graph!$E$20+graph!$E$32,B612>graph!$E$20-graph!$E$32),0.25,0)))","v":0},{"$f":"IF(graph!$E$22=0,0,IF(graph!$E$2=0,20,IF(AND(B612>graph!$E$22-graph!$E$32,B612<graph!$E$22+graph!$E$32),0.25,0)))","v":0}]
[null,{"$f":"IF(graph!$E$2=0,\"\",B612+graph!$E$32)","v":""},{"$f":"IF(graph!$E$2=0,20,IF(SUM(K613+L613=0),NA(),0.25))","v":20},{"$f":"IF(graph!$E$2=0,20,IF(AND(B613<graph!$E$10+graph!$E$32,B613>graph!$E$10-graph!$E$32),0.25,NA()))","v":20},null,null,null,null,null,null,{"$f":"IF(graph!$E$20=0,0,IF(graph!$E$2=0,20,IF(AND(B613<graph!$E$20+graph!$E$32,B613>graph!$E$20-graph!$E$32),0.25,0)))","v":0},{"$f":"IF(graph!$E$22=0,0,IF(graph!$E$2=0,20,IF(AND(B613>graph!$E$22-graph!$E$32,B613<graph!$E$22+graph!$E$32),0.25,0)))","v":0}]
[null,{"$f":"IF(graph!$E$2=0,\"\",B613+graph!$E$32)","v":""},{"$f":"IF(graph!$E$2=0,20,IF(SUM(K614+L614=0),NA(),0.25))","v":20},{"$f":"IF(graph!$E$2=0,20,IF(AND(B614<graph!$E$10+graph!$E$32,B614>graph!$E$10-graph!$E$32),0.25,NA()))","v":20},null,null,null,null,null,null,{"$f":"IF(graph!$E$20=0,0,IF(graph!$E$2=0,20,IF(AND(B614<graph!$E$20+graph!$E$32,B614>graph!$E$20-graph!$E$32),0.25,0)))","v":0},{"$f":"IF(graph!$E$22=0,0,IF(graph!$E$2=0,20,IF(AND(B614>graph!$E$22-graph!$E$32,B614<graph!$E$22+graph!$E$32),0.25,0)))","v":0}]
[null,{"$f":"IF(graph!$E$2=0,\"\",B614+graph!$E$32)","v":""},{"$f":"IF(graph!$E$2=0,20,IF(SUM(K615+L615=0),NA(),0.25))","v":20},{"$f":"IF(graph!$E$2=0,20,IF(AND(B615<graph!$E$10+graph!$E$32,B615>graph!$E$10-graph!$E$32),0.25,NA()))","v":20},null,null,null,null,null,null,{"$f":"IF(graph!$E$20=0,0,IF(graph!$E$2=0,20,IF(AND(B615<graph!$E$20+graph!$E$32,B615>graph!$E$20-graph!$E$32),0.25,0)))","v":0},{"$f":"IF(graph!$E$22=0,0,IF(graph!$E$2=0,20,IF(AND(B615>graph!$E$22-graph!$E$32,B615<graph!$E$22+graph!$E$32),0.25,0)))","v":0}]
[null,{"$f":"IF(graph!$E$2=0,\"\",B615+graph!$E$32)","v":""},{"$f":"IF(graph!$E$2=0,20,IF(SUM(K616+L616=0),NA(),0.25))","v":20},{"$f":"IF(graph!$E$2=0,20,IF(AND(B616<graph!$E$10+graph!$E$32,B616>graph!$E$10-graph!$E$32),0.25,NA()))","v":20},null,null,null,null,null,null,{"$f":"IF(graph!$E$20=0,0,IF(graph!$E$2=0,20,IF(AND(B616<graph!$E$20+graph!$E$32,B616>graph!$E$20-graph!$E$32),0.25,0)))","v":0},{"$f":"IF(graph!$E$22=0,0,IF(graph!$E$2=0,20,IF(AND(B616>graph!$E$22-graph!$E$32,B616<graph!$E$22+graph!$E$32),0.25,0)))","v":0}]
[null,{"$f":"IF(graph!$E$2=0,\"\",B616+graph!$E$32)","v":""},{"$f":"IF(graph!$E$2=0,20,IF(SUM(K617+L617=0),NA(),0.25))","v":20},{"$f":"IF(graph!$E$2=0,20,IF(AND(B617<graph!$E$10+graph!$E$32,B617>graph!$E$10-graph!$E$32),0.25,NA()))","v":20},null,null,null,null,null,null,{"$f":"IF(graph!$E$20=0,0,IF(graph!$E$2=0,20,IF(AND(B617<graph!$E$20+graph!$E$32,B617>graph!$E$20-graph!$E$32),0.25,0)))","v":0},{"$f":"IF(graph!$E$22=0,0,IF(graph!$E$2=0,20,IF(AND(B617>graph!$E$22-graph!$E$32,B617<graph!$E$22+graph!$E$32),0.25,0)))","v":0}]
[null,{"$f":"IF(graph!$E$2=0,\"\",B617+graph!$E$32)","v":""},{"$f":"IF(graph!$E$2=0,20,IF(SUM(K618+L618=0),NA(),0.25))","v":20},{"$f":"IF(graph!$E$2=0,20,IF(AND(B618<graph!$E$10+graph!$E$32,B618>graph!$E$10-graph!$E$32),0.25,NA()))","v":20},null,null,null,null,null,null,{"$f":"IF(graph!$E$20=0,0,IF(graph!$E$2=0,20,IF(AND(B618<graph!$E$20+graph!$E$32,B618>graph!$E$20-graph!$E$32),0.25,0)))","v":0},{"$f":"IF(graph!$E$22=0,0,IF(graph!$E$2=0,20,IF(AND(B618>graph!$E$22-graph!$E$32,B618<graph!$E$22+graph!$E$32),0.25,0)))","v":0}]
[null,{"$f":"IF(graph!$E$2=0,\"\",B618+graph!$E$32)","v":""},{"$f":"IF(graph!$E$2=0,20,IF(SUM(K619+L619=0),NA(),0.25))","v":20},{"$f":"IF(graph!$E$2=0,20,IF(AND(B619<graph!$E$10+graph!$E$32,B619>graph!$E$10-graph!$E$32),0.25,NA()))","v":20},null,null,null,null,null,null,{"$f":"IF(graph!$E$20=0,0,IF(graph!$E$2=0,20,IF(AND(B619<graph!$E$20+graph!$E$32,B619>graph!$E$20-graph!$E$32),0.25,0)))","v":0},{"$f":"IF(graph!$E$22=0,0,IF(graph!$E$2=0,20,IF(AND(B619>graph!$E$22-graph!$E$32,B619<graph!$E$22+graph!$E$32),0.25,0)))","v":0}]
[null,{"$f":"IF(graph!$E$2=0,\"\",B619+graph!$E$32)","v":""},{"$f":"IF(graph!$E$2=0,20,IF(SUM(K620+L620=0),NA(),0.25))","v":20},{"$f":"IF(graph!$E$2=0,20,IF(AND(B620<graph!$E$10+graph!$E$32,B620>graph!$E$10-graph!$E$32),0.25,NA()))","v":20},null,null,null,null,null,null,{"$f":"IF(graph!$E$20=0,0,IF(graph!$E$2=0,20,IF(AND(B620<graph!$E$20+graph!$E$32,B620>graph!$E$20-graph!$E$32),0.25,0)))","v":0},{"$f":"IF(graph!$E$22=0,0,IF(graph!$E$2=0,20,IF(AND(B620>graph!$E$22-graph!$E$32,B620<graph!$E$22+graph!$E$32),0.25,0)))","v":0}]
[null,{"$f":"IF(graph!$E$2=0,\"\",B620+graph!$E$32)","v":""},{"$f":"IF(graph!$E$2=0,20,IF(SUM(K621+L621=0),NA(),0.25))","v":20},{"$f":"IF(graph!$E$2=0,20,IF(AND(B621<graph!$E$10+graph!$E$32,B621>graph!$E$10-graph!$E$32),0.25,NA()))","v":20},null,null,null,null,null,null,{"$f":"IF(graph!$E$20=0,0,IF(graph!$E$2=0,20,IF(AND(B621<graph!$E$20+graph!$E$32,B621>graph!$E$20-graph!$E$32),0.25,0)))","v":0},{"$f":"IF(graph!$E$22=0,0,IF(graph!$E$2=0,20,IF(AND(B621>graph!$E$22-graph!$E$32,B621<graph!$E$22+graph!$E$32),0.25,0)))","v":0}]
[null,{"$f":"IF(graph!$E$2=0,\"\",B621+graph!$E$32)","v":""},{"$f":"IF(graph!$E$2=0,20,IF(SUM(K622+L622=0),NA(),0.25))","v":20},{"$f":"IF(graph!$E$2=0,20,IF(AND(B622<graph!$E$10+graph!$E$32,B622>graph!$E$10-graph!$E$32),0.25,NA()))","v":20},null,null,null,null,null,null,{"$f":"IF(graph!$E$20=0,0,IF(graph!$E$2=0,20,IF(AND(B622<graph!$E$20+graph!$E$32,B622>graph!$E$20-graph!$E$32),0.25,0)))","v":0},{"$f":"IF(graph!$E$22=0,0,IF(graph!$E$2=0,20,IF(AND(B622>graph!$E$22-graph!$E$32,B622<graph!$E$22+graph!$E$32),0.25,0)))","v":0}]
[null,{"$f":"IF(graph!$E$2=0,\"\",B622+graph!$E$32)","v":""},{"$f":"IF(graph!$E$2=0,20,IF(SUM(K623+L623=0),NA(),0.25))","v":20},{"$f":"IF(graph!$E$2=0,20,IF(AND(B623<graph!$E$10+graph!$E$32,B623>graph!$E$10-graph!$E$32),0.25,NA()))","v":20},null,null,null,null,null,null,{"$f":"IF(graph!$E$20=0,0,IF(graph!$E$2=0,20,IF(AND(B623<graph!$E$20+graph!$E$32,B623>graph!$E$20-graph!$E$32),0.25,0)))","v":0},{"$f":"IF(graph!$E$22=0,0,IF(graph!$E$2=0,20,IF(AND(B623>graph!$E$22-graph!$E$32,B623<graph!$E$22+graph!$E$32),0.25,0)))","v":0}]
[null,{"$f":"IF(graph!$E$2=0,\"\",B623+graph!$E$32)","v":""},{"$f":"IF(graph!$E$2=0,20,IF(SUM(K624+L624=0),NA(),0.25))","v":20},{"$f":"IF(graph!$E$2=0,20,IF(AND(B624<graph!$E$10+graph!$E$32,B624>graph!$E$10-graph!$E$32),0.25,NA()))","v":20},null,null,null,null,null,null,{"$f":"IF(graph!$E$20=0,0,IF(graph!$E$2=0,20,IF(AND(B624<graph!$E$20+graph!$E$32,B624>graph!$E$20-graph!$E$32),0.25,0)))","v":0},{"$f":"IF(graph!$E$22=0,0,IF(graph!$E$2=0,20,IF(AND(B624>graph!$E$22-graph!$E$32,B624<graph!$E$22+graph!$E$32),0.25,0)))","v":0}]
[null,{"$f":"IF(graph!$E$2=0,\"\",B624+graph!$E$32)","v":""},{"$f":"IF(graph!$E$2=0,20,IF(SUM(K625+L625=0),NA(),0.25))","v":20},{"$f":"IF(graph!$E$2=0,20,IF(AND(B625<graph!$E$10+graph!$E$32,B625>graph!$E$10-graph!$E$32),0.25,NA()))","v":20},null,null,null,null,null,null,{"$f":"IF(graph!$E$20=0,0,IF(graph!$E$2=0,20,IF(AND(B625<graph!$E$20+graph!$E$32,B625>graph!$E$20-graph!$E$32),0.25,0)))","v":0},{"$f":"IF(graph!$E$22=0,0,IF(graph!$E$2=0,20,IF(AND(B625>graph!$E$22-graph!$E$32,B625<graph!$E$22+graph!$E$32),0.25,0)))","v":0}]
[null,{"$f":"IF(graph!$E$2=0,\"\",B625+graph!$E$32)","v":""},{"$f":"IF(graph!$E$2=0,20,IF(SUM(K626+L626=0),NA(),0.25))","v":20},{"$f":"IF(graph!$E$2=0,20,IF(AND(B626<graph!$E$10+graph!$E$32,B626>graph!$E$10-graph!$E$32),0.25,NA()))","v":20},null,null,null,null,null,null,{"$f":"IF(graph!$E$20=0,0,IF(graph!$E$2=0,20,IF(AND(B626<graph!$E$20+graph!$E$32,B626>graph!$E$20-graph!$E$32),0.25,0)))","v":0},{"$f":"IF(graph!$E$22=0,0,IF(graph!$E$2=0,20,IF(AND(B626>graph!$E$22-graph!$E$32,B626<graph!$E$22+graph!$E$32),0.25,0)))","v":0}]
[null,{"$f":"IF(graph!$E$2=0,\"\",B626+graph!$E$32)","v":""},{"$f":"IF(graph!$E$2=0,20,IF(SUM(K627+L627=0),NA(),0.25))","v":20},{"$f":"IF(graph!$E$2=0,20,IF(AND(B627<graph!$E$10+graph!$E$32,B627>graph!$E$10-graph!$E$32),0.25,NA()))","v":20},null,null,null,null,null,null,{"$f":"IF(graph!$E$20=0,0,IF(graph!$E$2=0,20,IF(AND(B627<graph!$E$20+graph!$E$32,B627>graph!$E$20-graph!$E$32),0.25,0)))","v":0},{"$f":"IF(graph!$E$22=0,0,IF(graph!$E$2=0,20,IF(AND(B627>graph!$E$22-graph!$E$32,B627<graph!$E$22+graph!$E$32),0.25,0)))","v":0}]
[null,{"$f":"IF(graph!$E$2=0,\"\",B627+graph!$E$32)","v":""},{"$f":"IF(graph!$E$2=0,20,IF(SUM(K628+L628=0),NA(),0.25))","v":20},{"$f":"IF(graph!$E$2=0,20,IF(AND(B628<graph!$E$10+graph!$E$32,B628>graph!$E$10-graph!$E$32),0.25,NA()))","v":20},null,null,null,null,null,null,{"$f":"IF(graph!$E$20=0,0,IF(graph!$E$2=0,20,IF(AND(B628<graph!$E$20+graph!$E$32,B628>graph!$E$20-graph!$E$32),0.25,0)))","v":0},{"$f":"IF(graph!$E$22=0,0,IF(graph!$E$2=0,20,IF(AND(B628>graph!$E$22-graph!$E$32,B628<graph!$E$22+graph!$E$32),0.25,0)))","v":0}]
[null,{"$f":"IF(graph!$E$2=0,\"\",B628+graph!$E$32)","v":""},{"$f":"IF(graph!$E$2=0,20,IF(SUM(K629+L629=0),NA(),0.25))","v":20},{"$f":"IF(graph!$E$2=0,20,IF(AND(B629<graph!$E$10+graph!$E$32,B629>graph!$E$10-graph!$E$32),0.25,NA()))","v":20},null,null,null,null,null,null,{"$f":"IF(graph!$E$20=0,0,IF(graph!$E$2=0,20,IF(AND(B629<graph!$E$20+graph!$E$32,B629>graph!$E$20-graph!$E$32),0.25,0)))","v":0},{"$f":"IF(graph!$E$22=0,0,IF(graph!$E$2=0,20,IF(AND(B629>graph!$E$22-graph!$E$32,B629<graph!$E$22+graph!$E$32),0.25,0)))","v":0}]
[null,{"$f":"IF(graph!$E$2=0,\"\",B629+graph!$E$32)","v":""},{"$f":"IF(graph!$E$2=0,20,IF(SUM(K630+L630=0),NA(),0.25))","v":20},{"$f":"IF(graph!$E$2=0,20,IF(AND(B630<graph!$E$10+graph!$E$32,B630>graph!$E$10-graph!$E$32),0.25,NA()))","v":20},null,null,null,null,null,null,{"$f":"IF(graph!$E$20=0,0,IF(graph!$E$2=0,20,IF(AND(B630<graph!$E$20+graph!$E$32,B630>graph!$E$20-graph!$E$32),0.25,0)))","v":0},{"$f":"IF(graph!$E$22=0,0,IF(graph!$E$2=0,20,IF(AND(B630>graph!$E$22-graph!$E$32,B630<graph!$E$22+graph!$E$32),0.25,0)))","v":0}]
[null,{"$f":"IF(graph!$E$2=0,\"\",B630+graph!$E$32)","v":""},{"$f":"IF(graph!$E$2=0,20,IF(SUM(K631+L631=0),NA(),0.25))","v":20},{"$f":"IF(graph!$E$2=0,20,IF(AND(B631<graph!$E$10+graph!$E$32,B631>graph!$E$10-graph!$E$32),0.25,NA()))","v":20},null,null,null,null,null,null,{"$f":"IF(graph!$E$20=0,0,IF(graph!$E$2=0,20,IF(AND(B631<graph!$E$20+graph!$E$32,B631>graph!$E$20-graph!$E$32),0.25,0)))","v":0},{"$f":"IF(graph!$E$22=0,0,IF(graph!$E$2=0,20,IF(AND(B631>graph!$E$22-graph!$E$32,B631<graph!$E$22+graph!$E$32),0.25,0)))","v":0}]
[null,{"$f":"IF(graph!$E$2=0,\"\",B631+graph!$E$32)","v":""},{"$f":"IF(graph!$E$2=0,20,IF(SUM(K632+L632=0),NA(),0.25))","v":20},{"$f":"IF(graph!$E$2=0,20,IF(AND(B632<graph!$E$10+graph!$E$32,B632>graph!$E$10-graph!$E$32),0.25,NA()))","v":20},null,null,null,null,null,null,{"$f":"IF(graph!$E$20=0,0,IF(graph!$E$2=0,20,IF(AND(B632<graph!$E$20+graph!$E$32,B632>graph!$E$20-graph!$E$32),0.25,0)))","v":0},{"$f":"IF(graph!$E$22=0,0,IF(graph!$E$2=0,20,IF(AND(B632>graph!$E$22-graph!$E$32,B632<graph!$E$22+graph!$E$32),0.25,0)))","v":0}]
[null,{"$f":"IF(graph!$E$2=0,\"\",B632+graph!$E$32)","v":""},{"$f":"IF(graph!$E$2=0,20,IF(SUM(K633+L633=0),NA(),0.25))","v":20},{"$f":"IF(graph!$E$2=0,20,IF(AND(B633<graph!$E$10+graph!$E$32,B633>graph!$E$10-graph!$E$32),0.25,NA()))","v":20},null,null,null,null,null,null,{"$f":"IF(graph!$E$20=0,0,IF(graph!$E$2=0,20,IF(AND(B633<graph!$E$20+graph!$E$32,B633>graph!$E$20-graph!$E$32),0.25,0)))","v":0},{"$f":"IF(graph!$E$22=0,0,IF(graph!$E$2=0,20,IF(AND(B633>graph!$E$22-graph!$E$32,B633<graph!$E$22+graph!$E$32),0.25,0)))","v":0}]
[null,{"$f":"IF(graph!$E$2=0,\"\",B633+graph!$E$32)","v":""},{"$f":"IF(graph!$E$2=0,20,IF(SUM(K634+L634=0),NA(),0.25))","v":20},{"$f":"IF(graph!$E$2=0,20,IF(AND(B634<graph!$E$10+graph!$E$32,B634>graph!$E$10-graph!$E$32),0.25,NA()))","v":20},null,null,null,null,null,null,{"$f":"IF(graph!$E$20=0,0,IF(graph!$E$2=0,20,IF(AND(B634<graph!$E$20+graph!$E$32,B634>graph!$E$20-graph!$E$32),0.25,0)))","v":0},{"$f":"IF(graph!$E$22=0,0,IF(graph!$E$2=0,20,IF(AND(B634>graph!$E$22-graph!$E$32,B634<graph!$E$22+graph!$E$32),0.25,0)))","v":0}]
[null,{"$f":"IF(graph!$E$2=0,\"\",B634+graph!$E$32)","v":""},{"$f":"IF(graph!$E$2=0,20,IF(SUM(K635+L635=0),NA(),0.25))","v":20},{"$f":"IF(graph!$E$2=0,20,IF(AND(B635<graph!$E$10+graph!$E$32,B635>graph!$E$10-graph!$E$32),0.25,NA()))","v":20},null,null,null,null,null,null,{"$f":"IF(graph!$E$20=0,0,IF(graph!$E$2=0,20,IF(AND(B635<graph!$E$20+graph!$E$32,B635>graph!$E$20-graph!$E$32),0.25,0)))","v":0},{"$f":"IF(graph!$E$22=0,0,IF(graph!$E$2=0,20,IF(AND(B635>graph!$E$22-graph!$E$32,B635<graph!$E$22+graph!$E$32),0.25,0)))","v":0}]
[null,{"$f":"IF(graph!$E$2=0,\"\",B635+graph!$E$32)","v":""},{"$f":"IF(graph!$E$2=0,20,IF(SUM(K636+L636=0),NA(),0.25))","v":20},{"$f":"IF(graph!$E$2=0,20,IF(AND(B636<graph!$E$10+graph!$E$32,B636>graph!$E$10-graph!$E$32),0.25,NA()))","v":20},null,null,null,null,null,null,{"$f":"IF(graph!$E$20=0,0,IF(graph!$E$2=0,20,IF(AND(B636<graph!$E$20+graph!$E$32,B636>graph!$E$20-graph!$E$32),0.25,0)))","v":0},{"$f":"IF(graph!$E$22=0,0,IF(graph!$E$2=0,20,IF(AND(B636>graph!$E$22-graph!$E$32,B636<graph!$E$22+graph!$E$32),0.25,0)))","v":0}]
[null,{"$f":"IF(graph!$E$2=0,\"\",B636+graph!$E$32)","v":""},{"$f":"IF(graph!$E$2=0,20,IF(SUM(K637+L637=0),NA(),0.25))","v":20},{"$f":"IF(graph!$E$2=0,20,IF(AND(B637<graph!$E$10+graph!$E$32,B637>graph!$E$10-graph!$E$32),0.25,NA()))","v":20},null,null,null,null,null,null,{"$f":"IF(graph!$E$20=0,0,IF(graph!$E$2=0,20,IF(AND(B637<graph!$E$20+graph!$E$32,B637>graph!$E$20-graph!$E$32),0.25,0)))","v":0},{"$f":"IF(graph!$E$22=0,0,IF(graph!$E$2=0,20,IF(AND(B637>graph!$E$22-graph!$E$32,B637<graph!$E$22+graph!$E$32),0.25,0)))","v":0}]
[null,{"$f":"IF(graph!$E$2=0,\"\",B637+graph!$E$32)","v":""},{"$f":"IF(graph!$E$2=0,20,IF(SUM(K638+L638=0),NA(),0.25))","v":20},{"$f":"IF(graph!$E$2=0,20,IF(AND(B638<graph!$E$10+graph!$E$32,B638>graph!$E$10-graph!$E$32),0.25,NA()))","v":20},null,null,null,null,null,null,{"$f":"IF(graph!$E$20=0,0,IF(graph!$E$2=0,20,IF(AND(B638<graph!$E$20+graph!$E$32,B638>graph!$E$20-graph!$E$32),0.25,0)))","v":0},{"$f":"IF(graph!$E$22=0,0,IF(graph!$E$2=0,20,IF(AND(B638>graph!$E$22-graph!$E$32,B638<graph!$E$22+graph!$E$32),0.25,0)))","v":0}]
[null,{"$f":"IF(graph!$E$2=0,\"\",B638+graph!$E$32)","v":""},{"$f":"IF(graph!$E$2=0,20,IF(SUM(K639+L639=0),NA(),0.25))","v":20},{"$f":"IF(graph!$E$2=0,20,IF(AND(B639<graph!$E$10+graph!$E$32,B639>graph!$E$10-graph!$E$32),0.25,NA()))","v":20},null,null,null,null,null,null,{"$f":"IF(graph!$E$20=0,0,IF(graph!$E$2=0,20,IF(AND(B639<graph!$E$20+graph!$E$32,B639>graph!$E$20-graph!$E$32),0.25,0)))","v":0},{"$f":"IF(graph!$E$22=0,0,IF(graph!$E$2=0,20,IF(AND(B639>graph!$E$22-graph!$E$32,B639<graph!$E$22+graph!$E$32),0.25,0)))","v":0}]
[null,{"$f":"IF(graph!$E$2=0,\"\",B639+graph!$E$32)","v":""},{"$f":"IF(graph!$E$2=0,20,IF(SUM(K640+L640=0),NA(),0.25))","v":20},{"$f":"IF(graph!$E$2=0,20,IF(AND(B640<graph!$E$10+graph!$E$32,B640>graph!$E$10-graph!$E$32),0.25,NA()))","v":20},null,null,null,null,null,null,{"$f":"IF(graph!$E$20=0,0,IF(graph!$E$2=0,20,IF(AND(B640<graph!$E$20+graph!$E$32,B640>graph!$E$20-graph!$E$32),0.25,0)))","v":0},{"$f":"IF(graph!$E$22=0,0,IF(graph!$E$2=0,20,IF(AND(B640>graph!$E$22-graph!$E$32,B640<graph!$E$22+graph!$E$32),0.25,0)))","v":0}]
[null,{"$f":"IF(graph!$E$2=0,\"\",B640+graph!$E$32)","v":""},{"$f":"IF(graph!$E$2=0,20,IF(SUM(K641+L641=0),NA(),0.25))","v":20},{"$f":"IF(graph!$E$2=0,20,IF(AND(B641<graph!$E$10+graph!$E$32,B641>graph!$E$10-graph!$E$32),0.25,NA()))","v":20},null,null,null,null,null,null,{"$f":"IF(graph!$E$20=0,0,IF(graph!$E$2=0,20,IF(AND(B641<graph!$E$20+graph!$E$32,B641>graph!$E$20-graph!$E$32),0.25,0)))","v":0},{"$f":"IF(graph!$E$22=0,0,IF(graph!$E$2=0,20,IF(AND(B641>graph!$E$22-graph!$E$32,B641<graph!$E$22+graph!$E$32),0.25,0)))","v":0}]
[null,{"$f":"IF(graph!$E$2=0,\"\",B641+graph!$E$32)","v":""},{"$f":"IF(graph!$E$2=0,20,IF(SUM(K642+L642=0),NA(),0.25))","v":20},{"$f":"IF(graph!$E$2=0,20,IF(AND(B642<graph!$E$10+graph!$E$32,B642>graph!$E$10-graph!$E$32),0.25,NA()))","v":20},null,null,null,null,null,null,{"$f":"IF(graph!$E$20=0,0,IF(graph!$E$2=0,20,IF(AND(B642<graph!$E$20+graph!$E$32,B642>graph!$E$20-graph!$E$32),0.25,0)))","v":0},{"$f":"IF(graph!$E$22=0,0,IF(graph!$E$2=0,20,IF(AND(B642>graph!$E$22-graph!$E$32,B642<graph!$E$22+graph!$E$32),0.25,0)))","v":0}]
[null,{"$f":"IF(graph!$E$2=0,\"\",B642+graph!$E$32)","v":""},{"$f":"IF(graph!$E$2=0,20,IF(SUM(K643+L643=0),NA(),0.25))","v":20},{"$f":"IF(graph!$E$2=0,20,IF(AND(B643<graph!$E$10+graph!$E$32,B643>graph!$E$10-graph!$E$32),0.25,NA()))","v":20},null,null,null,null,null,null,{"$f":"IF(graph!$E$20=0,0,IF(graph!$E$2=0,20,IF(AND(B643<graph!$E$20+graph!$E$32,B643>graph!$E$20-graph!$E$32),0.25,0)))","v":0},{"$f":"IF(graph!$E$22=0,0,IF(graph!$E$2=0,20,IF(AND(B643>graph!$E$22-graph!$E$32,B643<graph!$E$22+graph!$E$32),0.25,0)))","v":0}]
[null,{"$f":"IF(graph!$E$2=0,\"\",B643+graph!$E$32)","v":""},{"$f":"IF(graph!$E$2=0,20,IF(SUM(K644+L644=0),NA(),0.25))","v":20},{"$f":"IF(graph!$E$2=0,20,IF(AND(B644<graph!$E$10+graph!$E$32,B644>graph!$E$10-graph!$E$32),0.25,NA()))","v":20},null,null,null,null,null,null,{"$f":"IF(graph!$E$20=0,0,IF(graph!$E$2=0,20,IF(AND(B644<graph!$E$20+graph!$E$32,B644>graph!$E$20-graph!$E$32),0.25,0)))","v":0},{"$f":"IF(graph!$E$22=0,0,IF(graph!$E$2=0,20,IF(AND(B644>graph!$E$22-graph!$E$32,B644<graph!$E$22+graph!$E$32),0.25,0)))","v":0}]
[null,{"$f":"IF(graph!$E$2=0,\"\",B644+graph!$E$32)","v":""},{"$f":"IF(graph!$E$2=0,20,IF(SUM(K645+L645=0),NA(),0.25))","v":20},{"$f":"IF(graph!$E$2=0,20,IF(AND(B645<graph!$E$10+graph!$E$32,B645>graph!$E$10-graph!$E$32),0.25,NA()))","v":20},null,null,null,null,null,null,{"$f":"IF(graph!$E$20=0,0,IF(graph!$E$2=0,20,IF(AND(B645<graph!$E$20+graph!$E$32,B645>graph!$E$20-graph!$E$32),0.25,0)))","v":0},{"$f":"IF(graph!$E$22=0,0,IF(graph!$E$2=0,20,IF(AND(B645>graph!$E$22-graph!$E$32,B645<graph!$E$22+graph!$E$32),0.25,0)))","v":0}]
[null,{"$f":"IF(graph!$E$2=0,\"\",B645+graph!$E$32)","v":""},{"$f":"IF(graph!$E$2=0,20,IF(SUM(K646+L646=0),NA(),0.25))","v":20},{"$f":"IF(graph!$E$2=0,20,IF(AND(B646<graph!$E$10+graph!$E$32,B646>graph!$E$10-graph!$E$32),0.25,NA()))","v":20},null,null,null,null,null,null,{"$f":"IF(graph!$E$20=0,0,IF(graph!$E$2=0,20,IF(AND(B646<graph!$E$20+graph!$E$32,B646>graph!$E$20-graph!$E$32),0.25,0)))","v":0},{"$f":"IF(graph!$E$22=0,0,IF(graph!$E$2=0,20,IF(AND(B646>graph!$E$22-graph!$E$32,B646<graph!$E$22+graph!$E$32),0.25,0)))","v":0}]
[null,{"$f":"IF(graph!$E$2=0,\"\",B646+graph!$E$32)","v":""},{"$f":"IF(graph!$E$2=0,20,IF(SUM(K647+L647=0),NA(),0.25))","v":20},{"$f":"IF(graph!$E$2=0,20,IF(AND(B647<graph!$E$10+graph!$E$32,B647>graph!$E$10-graph!$E$32),0.25,NA()))","v":20},null,null,null,null,null,null,{"$f":"IF(graph!$E$20=0,0,IF(graph!$E$2=0,20,IF(AND(B647<graph!$E$20+graph!$E$32,B647>graph!$E$20-graph!$E$32),0.25,0)))","v":0},{"$f":"IF(graph!$E$22=0,0,IF(graph!$E$2=0,20,IF(AND(B647>graph!$E$22-graph!$E$32,B647<graph!$E$22+graph!$E$32),0.25,0)))","v":0}]
[null,{"$f":"IF(graph!$E$2=0,\"\",B647+graph!$E$32)","v":""},{"$f":"IF(graph!$E$2=0,20,IF(SUM(K648+L648=0),NA(),0.25))","v":20},{"$f":"IF(graph!$E$2=0,20,IF(AND(B648<graph!$E$10+graph!$E$32,B648>graph!$E$10-graph!$E$32),0.25,NA()))","v":20},null,null,null,null,null,null,{"$f":"IF(graph!$E$20=0,0,IF(graph!$E$2=0,20,IF(AND(B648<graph!$E$20+graph!$E$32,B648>graph!$E$20-graph!$E$32),0.25,0)))","v":0},{"$f":"IF(graph!$E$22=0,0,IF(graph!$E$2=0,20,IF(AND(B648>graph!$E$22-graph!$E$32,B648<graph!$E$22+graph!$E$32),0.25,0)))","v":0}]
[null,{"$f":"IF(graph!$E$2=0,\"\",B648+graph!$E$32)","v":""},{"$f":"IF(graph!$E$2=0,20,IF(SUM(K649+L649=0),NA(),0.25))","v":20},{"$f":"IF(graph!$E$2=0,20,IF(AND(B649<graph!$E$10+graph!$E$32,B649>graph!$E$10-graph!$E$32),0.25,NA()))","v":20},null,null,null,null,null,null,{"$f":"IF(graph!$E$20=0,0,IF(graph!$E$2=0,20,IF(AND(B649<graph!$E$20+graph!$E$32,B649>graph!$E$20-graph!$E$32),0.25,0)))","v":0},{"$f":"IF(graph!$E$22=0,0,IF(graph!$E$2=0,20,IF(AND(B649>graph!$E$22-graph!$E$32,B649<graph!$E$22+graph!$E$32),0.25,0)))","v":0}]
[null,{"$f":"IF(graph!$E$2=0,\"\",B649+graph!$E$32)","v":""},{"$f":"IF(graph!$E$2=0,20,IF(SUM(K650+L650=0),NA(),0.25))","v":20},{"$f":"IF(graph!$E$2=0,20,IF(AND(B650<graph!$E$10+graph!$E$32,B650>graph!$E$10-graph!$E$32),0.25,NA()))","v":20},null,null,null,null,null,null,{"$f":"IF(graph!$E$20=0,0,IF(graph!$E$2=0,20,IF(AND(B650<graph!$E$20+graph!$E$32,B650>graph!$E$20-graph!$E$32),0.25,0)))","v":0},{"$f":"IF(graph!$E$22=0,0,IF(graph!$E$2=0,20,IF(AND(B650>graph!$E$22-graph!$E$32,B650<graph!$E$22+graph!$E$32),0.25,0)))","v":0}]
[null,{"$f":"IF(graph!$E$2=0,\"\",B650+graph!$E$32)","v":""},{"$f":"IF(graph!$E$2=0,20,IF(SUM(K651+L651=0),NA(),0.25))","v":20},{"$f":"IF(graph!$E$2=0,20,IF(AND(B651<graph!$E$10+graph!$E$32,B651>graph!$E$10-graph!$E$32),0.25,NA()))","v":20},null,null,null,null,null,null,{"$f":"IF(graph!$E$20=0,0,IF(graph!$E$2=0,20,IF(AND(B651<graph!$E$20+graph!$E$32,B651>graph!$E$20-graph!$E$32),0.25,0)))","v":0},{"$f":"IF(graph!$E$22=0,0,IF(graph!$E$2=0,20,IF(AND(B651>graph!$E$22-graph!$E$32,B651<graph!$E$22+graph!$E$32),0.25,0)))","v":0}]
[null,{"$f":"IF(graph!$E$2=0,\"\",B651+graph!$E$32)","v":""},{"$f":"IF(graph!$E$2=0,20,IF(SUM(K652+L652=0),NA(),0.25))","v":20},{"$f":"IF(graph!$E$2=0,20,IF(AND(B652<graph!$E$10+graph!$E$32,B652>graph!$E$10-graph!$E$32),0.25,NA()))","v":20},null,null,null,null,null,null,{"$f":"IF(graph!$E$20=0,0,IF(graph!$E$2=0,20,IF(AND(B652<graph!$E$20+graph!$E$32,B652>graph!$E$20-graph!$E$32),0.25,0)))","v":0},{"$f":"IF(graph!$E$22=0,0,IF(graph!$E$2=0,20,IF(AND(B652>graph!$E$22-graph!$E$32,B652<graph!$E$22+graph!$E$32),0.25,0)))","v":0}]
[null,{"$f":"IF(graph!$E$2=0,\"\",B652+graph!$E$32)","v":""},{"$f":"IF(graph!$E$2=0,20,IF(SUM(K653+L653=0),NA(),0.25))","v":20},{"$f":"IF(graph!$E$2=0,20,IF(AND(B653<graph!$E$10+graph!$E$32,B653>graph!$E$10-graph!$E$32),0.25,NA()))","v":20},null,null,null,null,null,null,{"$f":"IF(graph!$E$20=0,0,IF(graph!$E$2=0,20,IF(AND(B653<graph!$E$20+graph!$E$32,B653>graph!$E$20-graph!$E$32),0.25,0)))","v":0},{"$f":"IF(graph!$E$22=0,0,IF(graph!$E$2=0,20,IF(AND(B653>graph!$E$22-graph!$E$32,B653<graph!$E$22+graph!$E$32),0.25,0)))","v":0}]
[null,{"$f":"IF(graph!$E$2=0,\"\",B653+graph!$E$32)","v":""},{"$f":"IF(graph!$E$2=0,20,IF(SUM(K654+L654=0),NA(),0.25))","v":20},{"$f":"IF(graph!$E$2=0,20,IF(AND(B654<graph!$E$10+graph!$E$32,B654>graph!$E$10-graph!$E$32),0.25,NA()))","v":20},null,null,null,null,null,null,{"$f":"IF(graph!$E$20=0,0,IF(graph!$E$2=0,20,IF(AND(B654<graph!$E$20+graph!$E$32,B654>graph!$E$20-graph!$E$32),0.25,0)))","v":0},{"$f":"IF(graph!$E$22=0,0,IF(graph!$E$2=0,20,IF(AND(B654>graph!$E$22-graph!$E$32,B654<graph!$E$22+graph!$E$32),0.25,0)))","v":0}]
[null,{"$f":"IF(graph!$E$2=0,\"\",B654+graph!$E$32)","v":""},{"$f":"IF(graph!$E$2=0,20,IF(SUM(K655+L655=0),NA(),0.25))","v":20},{"$f":"IF(graph!$E$2=0,20,IF(AND(B655<graph!$E$10+graph!$E$32,B655>graph!$E$10-graph!$E$32),0.25,NA()))","v":20},null,null,null,null,null,null,{"$f":"IF(graph!$E$20=0,0,IF(graph!$E$2=0,20,IF(AND(B655<graph!$E$20+graph!$E$32,B655>graph!$E$20-graph!$E$32),0.25,0)))","v":0},{"$f":"IF(graph!$E$22=0,0,IF(graph!$E$2=0,20,IF(AND(B655>graph!$E$22-graph!$E$32,B655<graph!$E$22+graph!$E$32),0.25,0)))","v":0}]
[null,{"$f":"IF(graph!$E$2=0,\"\",B655+graph!$E$32)","v":""},{"$f":"IF(graph!$E$2=0,20,IF(SUM(K656+L656=0),NA(),0.25))","v":20},{"$f":"IF(graph!$E$2=0,20,IF(AND(B656<graph!$E$10+graph!$E$32,B656>graph!$E$10-graph!$E$32),0.25,NA()))","v":20},null,null,null,null,null,null,{"$f":"IF(graph!$E$20=0,0,IF(graph!$E$2=0,20,IF(AND(B656<graph!$E$20+graph!$E$32,B656>graph!$E$20-graph!$E$32),0.25,0)))","v":0},{"$f":"IF(graph!$E$22=0,0,IF(graph!$E$2=0,20,IF(AND(B656>graph!$E$22-graph!$E$32,B656<graph!$E$22+graph!$E$32),0.25,0)))","v":0}]
[null,{"$f":"IF(graph!$E$2=0,\"\",B656+graph!$E$32)","v":""},{"$f":"IF(graph!$E$2=0,20,IF(SUM(K657+L657=0),NA(),0.25))","v":20},{"$f":"IF(graph!$E$2=0,20,IF(AND(B657<graph!$E$10+graph!$E$32,B657>graph!$E$10-graph!$E$32),0.25,NA()))","v":20},null,null,null,null,null,null,{"$f":"IF(graph!$E$20=0,0,IF(graph!$E$2=0,20,IF(AND(B657<graph!$E$20+graph!$E$32,B657>graph!$E$20-graph!$E$32),0.25,0)))","v":0},{"$f":"IF(graph!$E$22=0,0,IF(graph!$E$2=0,20,IF(AND(B657>graph!$E$22-graph!$E$32,B657<graph!$E$22+graph!$E$32),0.25,0)))","v":0}]
[null,{"$f":"IF(graph!$E$2=0,\"\",B657+graph!$E$32)","v":""},{"$f":"IF(graph!$E$2=0,20,IF(SUM(K658+L658=0),NA(),0.25))","v":20},{"$f":"IF(graph!$E$2=0,20,IF(AND(B658<graph!$E$10+graph!$E$32,B658>graph!$E$10-graph!$E$32),0.25,NA()))","v":20},null,null,null,null,null,null,{"$f":"IF(graph!$E$20=0,0,IF(graph!$E$2=0,20,IF(AND(B658<graph!$E$20+graph!$E$32,B658>graph!$E$20-graph!$E$32),0.25,0)))","v":0},{"$f":"IF(graph!$E$22=0,0,IF(graph!$E$2=0,20,IF(AND(B658>graph!$E$22-graph!$E$32,B658<graph!$E$22+graph!$E$32),0.25,0)))","v":0}]
[null,{"$f":"IF(graph!$E$2=0,\"\",B658+graph!$E$32)","v":""},{"$f":"IF(graph!$E$2=0,20,IF(SUM(K659+L659=0),NA(),0.25))","v":20},{"$f":"IF(graph!$E$2=0,20,IF(AND(B659<graph!$E$10+graph!$E$32,B659>graph!$E$10-graph!$E$32),0.25,NA()))","v":20},null,null,null,null,null,null,{"$f":"IF(graph!$E$20=0,0,IF(graph!$E$2=0,20,IF(AND(B659<graph!$E$20+graph!$E$32,B659>graph!$E$20-graph!$E$32),0.25,0)))","v":0},{"$f":"IF(graph!$E$22=0,0,IF(graph!$E$2=0,20,IF(AND(B659>graph!$E$22-graph!$E$32,B659<graph!$E$22+graph!$E$32),0.25,0)))","v":0}]
[null,{"$f":"IF(graph!$E$2=0,\"\",B659+graph!$E$32)","v":""},{"$f":"IF(graph!$E$2=0,20,IF(SUM(K660+L660=0),NA(),0.25))","v":20},{"$f":"IF(graph!$E$2=0,20,IF(AND(B660<graph!$E$10+graph!$E$32,B660>graph!$E$10-graph!$E$32),0.25,NA()))","v":20},null,null,null,null,null,null,{"$f":"IF(graph!$E$20=0,0,IF(graph!$E$2=0,20,IF(AND(B660<graph!$E$20+graph!$E$32,B660>graph!$E$20-graph!$E$32),0.25,0)))","v":0},{"$f":"IF(graph!$E$22=0,0,IF(graph!$E$2=0,20,IF(AND(B660>graph!$E$22-graph!$E$32,B660<graph!$E$22+graph!$E$32),0.25,0)))","v":0}]
[null,{"$f":"IF(graph!$E$2=0,\"\",B660+graph!$E$32)","v":""},{"$f":"IF(graph!$E$2=0,20,IF(SUM(K661+L661=0),NA(),0.25))","v":20},{"$f":"IF(graph!$E$2=0,20,IF(AND(B661<graph!$E$10+graph!$E$32,B661>graph!$E$10-graph!$E$32),0.25,NA()))","v":20},null,null,null,null,null,null,{"$f":"IF(graph!$E$20=0,0,IF(graph!$E$2=0,20,IF(AND(B661<graph!$E$20+graph!$E$32,B661>graph!$E$20-graph!$E$32),0.25,0)))","v":0},{"$f":"IF(graph!$E$22=0,0,IF(graph!$E$2=0,20,IF(AND(B661>graph!$E$22-graph!$E$32,B661<graph!$E$22+graph!$E$32),0.25,0)))","v":0}]
[null,{"$f":"IF(graph!$E$2=0,\"\",B661+graph!$E$32)","v":""},{"$f":"IF(graph!$E$2=0,20,IF(SUM(K662+L662=0),NA(),0.25))","v":20},{"$f":"IF(graph!$E$2=0,20,IF(AND(B662<graph!$E$10+graph!$E$32,B662>graph!$E$10-graph!$E$32),0.25,NA()))","v":20},null,null,null,null,null,null,{"$f":"IF(graph!$E$20=0,0,IF(graph!$E$2=0,20,IF(AND(B662<graph!$E$20+graph!$E$32,B662>graph!$E$20-graph!$E$32),0.25,0)))","v":0},{"$f":"IF(graph!$E$22=0,0,IF(graph!$E$2=0,20,IF(AND(B662>graph!$E$22-graph!$E$32,B662<graph!$E$22+graph!$E$32),0.25,0)))","v":0}]
[null,{"$f":"IF(graph!$E$2=0,\"\",B662+graph!$E$32)","v":""},{"$f":"IF(graph!$E$2=0,20,IF(SUM(K663+L663=0),NA(),0.25))","v":20},{"$f":"IF(graph!$E$2=0,20,IF(AND(B663<graph!$E$10+graph!$E$32,B663>graph!$E$10-graph!$E$32),0.25,NA()))","v":20},null,null,null,null,null,null,{"$f":"IF(graph!$E$20=0,0,IF(graph!$E$2=0,20,IF(AND(B663<graph!$E$20+graph!$E$32,B663>graph!$E$20-graph!$E$32),0.25,0)))","v":0},{"$f":"IF(graph!$E$22=0,0,IF(graph!$E$2=0,20,IF(AND(B663>graph!$E$22-graph!$E$32,B663<graph!$E$22+graph!$E$32),0.25,0)))","v":0}]
[null,{"$f":"IF(graph!$E$2=0,\"\",B663+graph!$E$32)","v":""},{"$f":"IF(graph!$E$2=0,20,IF(SUM(K664+L664=0),NA(),0.25))","v":20},{"$f":"IF(graph!$E$2=0,20,IF(AND(B664<graph!$E$10+graph!$E$32,B664>graph!$E$10-graph!$E$32),0.25,NA()))","v":20},null,null,null,null,null,null,{"$f":"IF(graph!$E$20=0,0,IF(graph!$E$2=0,20,IF(AND(B664<graph!$E$20+graph!$E$32,B664>graph!$E$20-graph!$E$32),0.25,0)))","v":0},{"$f":"IF(graph!$E$22=0,0,IF(graph!$E$2=0,20,IF(AND(B664>graph!$E$22-graph!$E$32,B664<graph!$E$22+graph!$E$32),0.25,0)))","v":0}]
[null,{"$f":"IF(graph!$E$2=0,\"\",B664+graph!$E$32)","v":""},{"$f":"IF(graph!$E$2=0,20,IF(SUM(K665+L665=0),NA(),0.25))","v":20},{"$f":"IF(graph!$E$2=0,20,IF(AND(B665<graph!$E$10+graph!$E$32,B665>graph!$E$10-graph!$E$32),0.25,NA()))","v":20},null,null,null,null,null,null,{"$f":"IF(graph!$E$20=0,0,IF(graph!$E$2=0,20,IF(AND(B665<graph!$E$20+graph!$E$32,B665>graph!$E$20-graph!$E$32),0.25,0)))","v":0},{"$f":"IF(graph!$E$22=0,0,IF(graph!$E$2=0,20,IF(AND(B665>graph!$E$22-graph!$E$32,B665<graph!$E$22+graph!$E$32),0.25,0)))","v":0}]
[null,{"$f":"IF(graph!$E$2=0,\"\",B665+graph!$E$32)","v":""},{"$f":"IF(graph!$E$2=0,20,IF(SUM(K666+L666=0),NA(),0.25))","v":20},{"$f":"IF(graph!$E$2=0,20,IF(AND(B666<graph!$E$10+graph!$E$32,B666>graph!$E$10-graph!$E$32),0.25,NA()))","v":20},null,null,null,null,null,null,{"$f":"IF(graph!$E$20=0,0,IF(graph!$E$2=0,20,IF(AND(B666<graph!$E$20+graph!$E$32,B666>graph!$E$20-graph!$E$32),0.25,0)))","v":0},{"$f":"IF(graph!$E$22=0,0,IF(graph!$E$2=0,20,IF(AND(B666>graph!$E$22-graph!$E$32,B666<graph!$E$22+graph!$E$32),0.25,0)))","v":0}]
[null,{"$f":"IF(graph!$E$2=0,\"\",B666+graph!$E$32)","v":""},{"$f":"IF(graph!$E$2=0,20,IF(SUM(K667+L667=0),NA(),0.25))","v":20},{"$f":"IF(graph!$E$2=0,20,IF(AND(B667<graph!$E$10+graph!$E$32,B667>graph!$E$10-graph!$E$32),0.25,NA()))","v":20},null,null,null,null,null,null,{"$f":"IF(graph!$E$20=0,0,IF(graph!$E$2=0,20,IF(AND(B667<graph!$E$20+graph!$E$32,B667>graph!$E$20-graph!$E$32),0.25,0)))","v":0},{"$f":"IF(graph!$E$22=0,0,IF(graph!$E$2=0,20,IF(AND(B667>graph!$E$22-graph!$E$32,B667<graph!$E$22+graph!$E$32),0.25,0)))","v":0}]
[null,{"$f":"IF(graph!$E$2=0,\"\",B667+graph!$E$32)","v":""},{"$f":"IF(graph!$E$2=0,20,IF(SUM(K668+L668=0),NA(),0.25))","v":20},{"$f":"IF(graph!$E$2=0,20,IF(AND(B668<graph!$E$10+graph!$E$32,B668>graph!$E$10-graph!$E$32),0.25,NA()))","v":20},null,null,null,null,null,null,{"$f":"IF(graph!$E$20=0,0,IF(graph!$E$2=0,20,IF(AND(B668<graph!$E$20+graph!$E$32,B668>graph!$E$20-graph!$E$32),0.25,0)))","v":0},{"$f":"IF(graph!$E$22=0,0,IF(graph!$E$2=0,20,IF(AND(B668>graph!$E$22-graph!$E$32,B668<graph!$E$22+graph!$E$32),0.25,0)))","v":0}]
[null,{"$f":"IF(graph!$E$2=0,\"\",B668+graph!$E$32)","v":""},{"$f":"IF(graph!$E$2=0,20,IF(SUM(K669+L669=0),NA(),0.25))","v":20},{"$f":"IF(graph!$E$2=0,20,IF(AND(B669<graph!$E$10+graph!$E$32,B669>graph!$E$10-graph!$E$32),0.25,NA()))","v":20},null,null,null,null,null,null,{"$f":"IF(graph!$E$20=0,0,IF(graph!$E$2=0,20,IF(AND(B669<graph!$E$20+graph!$E$32,B669>graph!$E$20-graph!$E$32),0.25,0)))","v":0},{"$f":"IF(graph!$E$22=0,0,IF(graph!$E$2=0,20,IF(AND(B669>graph!$E$22-graph!$E$32,B669<graph!$E$22+graph!$E$32),0.25,0)))","v":0}]
[null,{"$f":"IF(graph!$E$2=0,\"\",B669+graph!$E$32)","v":""},{"$f":"IF(graph!$E$2=0,20,IF(SUM(K670+L670=0),NA(),0.25))","v":20},{"$f":"IF(graph!$E$2=0,20,IF(AND(B670<graph!$E$10+graph!$E$32,B670>graph!$E$10-graph!$E$32),0.25,NA()))","v":20},null,null,null,null,null,null,{"$f":"IF(graph!$E$20=0,0,IF(graph!$E$2=0,20,IF(AND(B670<graph!$E$20+graph!$E$32,B670>graph!$E$20-graph!$E$32),0.25,0)))","v":0},{"$f":"IF(graph!$E$22=0,0,IF(graph!$E$2=0,20,IF(AND(B670>graph!$E$22-graph!$E$32,B670<graph!$E$22+graph!$E$32),0.25,0)))","v":0}]
[null,{"$f":"IF(graph!$E$2=0,\"\",B670+graph!$E$32)","v":""},{"$f":"IF(graph!$E$2=0,20,IF(SUM(K671+L671=0),NA(),0.25))","v":20},{"$f":"IF(graph!$E$2=0,20,IF(AND(B671<graph!$E$10+graph!$E$32,B671>graph!$E$10-graph!$E$32),0.25,NA()))","v":20},null,null,null,null,null,null,{"$f":"IF(graph!$E$20=0,0,IF(graph!$E$2=0,20,IF(AND(B671<graph!$E$20+graph!$E$32,B671>graph!$E$20-graph!$E$32),0.25,0)))","v":0},{"$f":"IF(graph!$E$22=0,0,IF(graph!$E$2=0,20,IF(AND(B671>graph!$E$22-graph!$E$32,B671<graph!$E$22+graph!$E$32),0.25,0)))","v":0}]
[null,{"$f":"IF(graph!$E$2=0,\"\",B671+graph!$E$32)","v":""},{"$f":"IF(graph!$E$2=0,20,IF(SUM(K672+L672=0),NA(),0.25))","v":20},{"$f":"IF(graph!$E$2=0,20,IF(AND(B672<graph!$E$10+graph!$E$32,B672>graph!$E$10-graph!$E$32),0.25,NA()))","v":20},null,null,null,null,null,null,{"$f":"IF(graph!$E$20=0,0,IF(graph!$E$2=0,20,IF(AND(B672<graph!$E$20+graph!$E$32,B672>graph!$E$20-graph!$E$32),0.25,0)))","v":0},{"$f":"IF(graph!$E$22=0,0,IF(graph!$E$2=0,20,IF(AND(B672>graph!$E$22-graph!$E$32,B672<graph!$E$22+graph!$E$32),0.25,0)))","v":0}]
[null,{"$f":"IF(graph!$E$2=0,\"\",B672+graph!$E$32)","v":""},{"$f":"IF(graph!$E$2=0,20,IF(SUM(K673+L673=0),NA(),0.25))","v":20},{"$f":"IF(graph!$E$2=0,20,IF(AND(B673<graph!$E$10+graph!$E$32,B673>graph!$E$10-graph!$E$32),0.25,NA()))","v":20},null,null,null,null,null,null,{"$f":"IF(graph!$E$20=0,0,IF(graph!$E$2=0,20,IF(AND(B673<graph!$E$20+graph!$E$32,B673>graph!$E$20-graph!$E$32),0.25,0)))","v":0},{"$f":"IF(graph!$E$22=0,0,IF(graph!$E$2=0,20,IF(AND(B673>graph!$E$22-graph!$E$32,B673<graph!$E$22+graph!$E$32),0.25,0)))","v":0}]
[null,{"$f":"IF(graph!$E$2=0,\"\",B673+graph!$E$32)","v":""},{"$f":"IF(graph!$E$2=0,20,IF(SUM(K674+L674=0),NA(),0.25))","v":20},{"$f":"IF(graph!$E$2=0,20,IF(AND(B674<graph!$E$10+graph!$E$32,B674>graph!$E$10-graph!$E$32),0.25,NA()))","v":20},null,null,null,null,null,null,{"$f":"IF(graph!$E$20=0,0,IF(graph!$E$2=0,20,IF(AND(B674<graph!$E$20+graph!$E$32,B674>graph!$E$20-graph!$E$32),0.25,0)))","v":0},{"$f":"IF(graph!$E$22=0,0,IF(graph!$E$2=0,20,IF(AND(B674>graph!$E$22-graph!$E$32,B674<graph!$E$22+graph!$E$32),0.25,0)))","v":0}]
[null,{"$f":"IF(graph!$E$2=0,\"\",B674+graph!$E$32)","v":""},{"$f":"IF(graph!$E$2=0,20,IF(SUM(K675+L675=0),NA(),0.25))","v":20},{"$f":"IF(graph!$E$2=0,20,IF(AND(B675<graph!$E$10+graph!$E$32,B675>graph!$E$10-graph!$E$32),0.25,NA()))","v":20},null,null,null,null,null,null,{"$f":"IF(graph!$E$20=0,0,IF(graph!$E$2=0,20,IF(AND(B675<graph!$E$20+graph!$E$32,B675>graph!$E$20-graph!$E$32),0.25,0)))","v":0},{"$f":"IF(graph!$E$22=0,0,IF(graph!$E$2=0,20,IF(AND(B675>graph!$E$22-graph!$E$32,B675<graph!$E$22+graph!$E$32),0.25,0)))","v":0}]
[null,{"$f":"IF(graph!$E$2=0,\"\",B675+graph!$E$32)","v":""},{"$f":"IF(graph!$E$2=0,20,IF(SUM(K676+L676=0),NA(),0.25))","v":20},{"$f":"IF(graph!$E$2=0,20,IF(AND(B676<graph!$E$10+graph!$E$32,B676>graph!$E$10-graph!$E$32),0.25,NA()))","v":20},null,null,null,null,null,null,{"$f":"IF(graph!$E$20=0,0,IF(graph!$E$2=0,20,IF(AND(B676<graph!$E$20+graph!$E$32,B676>graph!$E$20-graph!$E$32),0.25,0)))","v":0},{"$f":"IF(graph!$E$22=0,0,IF(graph!$E$2=0,20,IF(AND(B676>graph!$E$22-graph!$E$32,B676<graph!$E$22+graph!$E$32),0.25,0)))","v":0}]
[null,{"$f":"IF(graph!$E$2=0,\"\",B676+graph!$E$32)","v":""},{"$f":"IF(graph!$E$2=0,20,IF(SUM(K677+L677=0),NA(),0.25))","v":20},{"$f":"IF(graph!$E$2=0,20,IF(AND(B677<graph!$E$10+graph!$E$32,B677>graph!$E$10-graph!$E$32),0.25,NA()))","v":20},null,null,null,null,null,null,{"$f":"IF(graph!$E$20=0,0,IF(graph!$E$2=0,20,IF(AND(B677<graph!$E$20+graph!$E$32,B677>graph!$E$20-graph!$E$32),0.25,0)))","v":0},{"$f":"IF(graph!$E$22=0,0,IF(graph!$E$2=0,20,IF(AND(B677>graph!$E$22-graph!$E$32,B677<graph!$E$22+graph!$E$32),0.25,0)))","v":0}]
[null,{"$f":"IF(graph!$E$2=0,\"\",B677+graph!$E$32)","v":""},{"$f":"IF(graph!$E$2=0,20,IF(SUM(K678+L678=0),NA(),0.25))","v":20},{"$f":"IF(graph!$E$2=0,20,IF(AND(B678<graph!$E$10+graph!$E$32,B678>graph!$E$10-graph!$E$32),0.25,NA()))","v":20},null,null,null,null,null,null,{"$f":"IF(graph!$E$20=0,0,IF(graph!$E$2=0,20,IF(AND(B678<graph!$E$20+graph!$E$32,B678>graph!$E$20-graph!$E$32),0.25,0)))","v":0},{"$f":"IF(graph!$E$22=0,0,IF(graph!$E$2=0,20,IF(AND(B678>graph!$E$22-graph!$E$32,B678<graph!$E$22+graph!$E$32),0.25,0)))","v":0}]
[null,{"$f":"IF(graph!$E$2=0,\"\",B678+graph!$E$32)","v":""},{"$f":"IF(graph!$E$2=0,20,IF(SUM(K679+L679=0),NA(),0.25))","v":20},{"$f":"IF(graph!$E$2=0,20,IF(AND(B679<graph!$E$10+graph!$E$32,B679>graph!$E$10-graph!$E$32),0.25,NA()))","v":20},null,null,null,null,null,null,{"$f":"IF(graph!$E$20=0,0,IF(graph!$E$2=0,20,IF(AND(B679<graph!$E$20+graph!$E$32,B679>graph!$E$20-graph!$E$32),0.25,0)))","v":0},{"$f":"IF(graph!$E$22=0,0,IF(graph!$E$2=0,20,IF(AND(B679>graph!$E$22-graph!$E$32,B679<graph!$E$22+graph!$E$32),0.25,0)))","v":0}]
[null,{"$f":"IF(graph!$E$2=0,\"\",B679+graph!$E$32)","v":""},{"$f":"IF(graph!$E$2=0,20,IF(SUM(K680+L680=0),NA(),0.25))","v":20},{"$f":"IF(graph!$E$2=0,20,IF(AND(B680<graph!$E$10+graph!$E$32,B680>graph!$E$10-graph!$E$32),0.25,NA()))","v":20},null,null,null,null,null,null,{"$f":"IF(graph!$E$20=0,0,IF(graph!$E$2=0,20,IF(AND(B680<graph!$E$20+graph!$E$32,B680>graph!$E$20-graph!$E$32),0.25,0)))","v":0},{"$f":"IF(graph!$E$22=0,0,IF(graph!$E$2=0,20,IF(AND(B680>graph!$E$22-graph!$E$32,B680<graph!$E$22+graph!$E$32),0.25,0)))","v":0}]
[null,{"$f":"IF(graph!$E$2=0,\"\",B680+graph!$E$32)","v":""},{"$f":"IF(graph!$E$2=0,20,IF(SUM(K681+L681=0),NA(),0.25))","v":20},{"$f":"IF(graph!$E$2=0,20,IF(AND(B681<graph!$E$10+graph!$E$32,B681>graph!$E$10-graph!$E$32),0.25,NA()))","v":20},null,null,null,null,null,null,{"$f":"IF(graph!$E$20=0,0,IF(graph!$E$2=0,20,IF(AND(B681<graph!$E$20+graph!$E$32,B681>graph!$E$20-graph!$E$32),0.25,0)))","v":0},{"$f":"IF(graph!$E$22=0,0,IF(graph!$E$2=0,20,IF(AND(B681>graph!$E$22-graph!$E$32,B681<graph!$E$22+graph!$E$32),0.25,0)))","v":0}]
[null,{"$f":"IF(graph!$E$2=0,\"\",B681+graph!$E$32)","v":""},{"$f":"IF(graph!$E$2=0,20,IF(SUM(K682+L682=0),NA(),0.25))","v":20},{"$f":"IF(graph!$E$2=0,20,IF(AND(B682<graph!$E$10+graph!$E$32,B682>graph!$E$10-graph!$E$32),0.25,NA()))","v":20},null,null,null,null,null,null,{"$f":"IF(graph!$E$20=0,0,IF(graph!$E$2=0,20,IF(AND(B682<graph!$E$20+graph!$E$32,B682>graph!$E$20-graph!$E$32),0.25,0)))","v":0},{"$f":"IF(graph!$E$22=0,0,IF(graph!$E$2=0,20,IF(AND(B682>graph!$E$22-graph!$E$32,B682<graph!$E$22+graph!$E$32),0.25,0)))","v":0}]
[null,{"$f":"IF(graph!$E$2=0,\"\",B682+graph!$E$32)","v":""},{"$f":"IF(graph!$E$2=0,20,IF(SUM(K683+L683=0),NA(),0.25))","v":20},{"$f":"IF(graph!$E$2=0,20,IF(AND(B683<graph!$E$10+graph!$E$32,B683>graph!$E$10-graph!$E$32),0.25,NA()))","v":20},null,null,null,null,null,null,{"$f":"IF(graph!$E$20=0,0,IF(graph!$E$2=0,20,IF(AND(B683<graph!$E$20+graph!$E$32,B683>graph!$E$20-graph!$E$32),0.25,0)))","v":0},{"$f":"IF(graph!$E$22=0,0,IF(graph!$E$2=0,20,IF(AND(B683>graph!$E$22-graph!$E$32,B683<graph!$E$22+graph!$E$32),0.25,0)))","v":0}]
[null,{"$f":"IF(graph!$E$2=0,\"\",B683+graph!$E$32)","v":""},{"$f":"IF(graph!$E$2=0,20,IF(SUM(K684+L684=0),NA(),0.25))","v":20},{"$f":"IF(graph!$E$2=0,20,IF(AND(B684<graph!$E$10+graph!$E$32,B684>graph!$E$10-graph!$E$32),0.25,NA()))","v":20},null,null,null,null,null,null,{"$f":"IF(graph!$E$20=0,0,IF(graph!$E$2=0,20,IF(AND(B684<graph!$E$20+graph!$E$32,B684>graph!$E$20-graph!$E$32),0.25,0)))","v":0},{"$f":"IF(graph!$E$22=0,0,IF(graph!$E$2=0,20,IF(AND(B684>graph!$E$22-graph!$E$32,B684<graph!$E$22+graph!$E$32),0.25,0)))","v":0}]
[null,{"$f":"IF(graph!$E$2=0,\"\",B684+graph!$E$32)","v":""},{"$f":"IF(graph!$E$2=0,20,IF(SUM(K685+L685=0),NA(),0.25))","v":20},{"$f":"IF(graph!$E$2=0,20,IF(AND(B685<graph!$E$10+graph!$E$32,B685>graph!$E$10-graph!$E$32),0.25,NA()))","v":20},null,null,null,null,null,null,{"$f":"IF(graph!$E$20=0,0,IF(graph!$E$2=0,20,IF(AND(B685<graph!$E$20+graph!$E$32,B685>graph!$E$20-graph!$E$32),0.25,0)))","v":0},{"$f":"IF(graph!$E$22=0,0,IF(graph!$E$2=0,20,IF(AND(B685>graph!$E$22-graph!$E$32,B685<graph!$E$22+graph!$E$32),0.25,0)))","v":0}]
[null,{"$f":"IF(graph!$E$2=0,\"\",B685+graph!$E$32)","v":""},{"$f":"IF(graph!$E$2=0,20,IF(SUM(K686+L686=0),NA(),0.25))","v":20},{"$f":"IF(graph!$E$2=0,20,IF(AND(B686<graph!$E$10+graph!$E$32,B686>graph!$E$10-graph!$E$32),0.25,NA()))","v":20},null,null,null,null,null,null,{"$f":"IF(graph!$E$20=0,0,IF(graph!$E$2=0,20,IF(AND(B686<graph!$E$20+graph!$E$32,B686>graph!$E$20-graph!$E$32),0.25,0)))","v":0},{"$f":"IF(graph!$E$22=0,0,IF(graph!$E$2=0,20,IF(AND(B686>graph!$E$22-graph!$E$32,B686<graph!$E$22+graph!$E$32),0.25,0)))","v":0}]
[null,{"$f":"IF(graph!$E$2=0,\"\",B686+graph!$E$32)","v":""},{"$f":"IF(graph!$E$2=0,20,IF(SUM(K687+L687=0),NA(),0.25))","v":20},{"$f":"IF(graph!$E$2=0,20,IF(AND(B687<graph!$E$10+graph!$E$32,B687>graph!$E$10-graph!$E$32),0.25,NA()))","v":20},null,null,null,null,null,null,{"$f":"IF(graph!$E$20=0,0,IF(graph!$E$2=0,20,IF(AND(B687<graph!$E$20+graph!$E$32,B687>graph!$E$20-graph!$E$32),0.25,0)))","v":0},{"$f":"IF(graph!$E$22=0,0,IF(graph!$E$2=0,20,IF(AND(B687>graph!$E$22-graph!$E$32,B687<graph!$E$22+graph!$E$32),0.25,0)))","v":0}]
[null,{"$f":"IF(graph!$E$2=0,\"\",B687+graph!$E$32)","v":""},{"$f":"IF(graph!$E$2=0,20,IF(SUM(K688+L688=0),NA(),0.25))","v":20},{"$f":"IF(graph!$E$2=0,20,IF(AND(B688<graph!$E$10+graph!$E$32,B688>graph!$E$10-graph!$E$32),0.25,NA()))","v":20},null,null,null,null,null,null,{"$f":"IF(graph!$E$20=0,0,IF(graph!$E$2=0,20,IF(AND(B688<graph!$E$20+graph!$E$32,B688>graph!$E$20-graph!$E$32),0.25,0)))","v":0},{"$f":"IF(graph!$E$22=0,0,IF(graph!$E$2=0,20,IF(AND(B688>graph!$E$22-graph!$E$32,B688<graph!$E$22+graph!$E$32),0.25,0)))","v":0}]
[null,{"$f":"IF(graph!$E$2=0,\"\",B688+graph!$E$32)","v":""},{"$f":"IF(graph!$E$2=0,20,IF(SUM(K689+L689=0),NA(),0.25))","v":20},{"$f":"IF(graph!$E$2=0,20,IF(AND(B689<graph!$E$10+graph!$E$32,B689>graph!$E$10-graph!$E$32),0.25,NA()))","v":20},null,null,null,null,null,null,{"$f":"IF(graph!$E$20=0,0,IF(graph!$E$2=0,20,IF(AND(B689<graph!$E$20+graph!$E$32,B689>graph!$E$20-graph!$E$32),0.25,0)))","v":0},{"$f":"IF(graph!$E$22=0,0,IF(graph!$E$2=0,20,IF(AND(B689>graph!$E$22-graph!$E$32,B689<graph!$E$22+graph!$E$32),0.25,0)))","v":0}]
[null,{"$f":"IF(graph!$E$2=0,\"\",B689+graph!$E$32)","v":""},{"$f":"IF(graph!$E$2=0,20,IF(SUM(K690+L690=0),NA(),0.25))","v":20},{"$f":"IF(graph!$E$2=0,20,IF(AND(B690<graph!$E$10+graph!$E$32,B690>graph!$E$10-graph!$E$32),0.25,NA()))","v":20},null,null,null,null,null,null,{"$f":"IF(graph!$E$20=0,0,IF(graph!$E$2=0,20,IF(AND(B690<graph!$E$20+graph!$E$32,B690>graph!$E$20-graph!$E$32),0.25,0)))","v":0},{"$f":"IF(graph!$E$22=0,0,IF(graph!$E$2=0,20,IF(AND(B690>graph!$E$22-graph!$E$32,B690<graph!$E$22+graph!$E$32),0.25,0)))","v":0}]
[null,{"$f":"IF(graph!$E$2=0,\"\",B690+graph!$E$32)","v":""},{"$f":"IF(graph!$E$2=0,20,IF(SUM(K691+L691=0),NA(),0.25))","v":20},{"$f":"IF(graph!$E$2=0,20,IF(AND(B691<graph!$E$10+graph!$E$32,B691>graph!$E$10-graph!$E$32),0.25,NA()))","v":20},null,null,null,null,null,null,{"$f":"IF(graph!$E$20=0,0,IF(graph!$E$2=0,20,IF(AND(B691<graph!$E$20+graph!$E$32,B691>graph!$E$20-graph!$E$32),0.25,0)))","v":0},{"$f":"IF(graph!$E$22=0,0,IF(graph!$E$2=0,20,IF(AND(B691>graph!$E$22-graph!$E$32,B691<graph!$E$22+graph!$E$32),0.25,0)))","v":0}]
[null,{"$f":"IF(graph!$E$2=0,\"\",B691+graph!$E$32)","v":""},{"$f":"IF(graph!$E$2=0,20,IF(SUM(K692+L692=0),NA(),0.25))","v":20},{"$f":"IF(graph!$E$2=0,20,IF(AND(B692<graph!$E$10+graph!$E$32,B692>graph!$E$10-graph!$E$32),0.25,NA()))","v":20},null,null,null,null,null,null,{"$f":"IF(graph!$E$20=0,0,IF(graph!$E$2=0,20,IF(AND(B692<graph!$E$20+graph!$E$32,B692>graph!$E$20-graph!$E$32),0.25,0)))","v":0},{"$f":"IF(graph!$E$22=0,0,IF(graph!$E$2=0,20,IF(AND(B692>graph!$E$22-graph!$E$32,B692<graph!$E$22+graph!$E$32),0.25,0)))","v":0}]
[null,{"$f":"IF(graph!$E$2=0,\"\",B692+graph!$E$32)","v":""},{"$f":"IF(graph!$E$2=0,20,IF(SUM(K693+L693=0),NA(),0.25))","v":20},{"$f":"IF(graph!$E$2=0,20,IF(AND(B693<graph!$E$10+graph!$E$32,B693>graph!$E$10-graph!$E$32),0.25,NA()))","v":20},null,null,null,null,null,null,{"$f":"IF(graph!$E$20=0,0,IF(graph!$E$2=0,20,IF(AND(B693<graph!$E$20+graph!$E$32,B693>graph!$E$20-graph!$E$32),0.25,0)))","v":0},{"$f":"IF(graph!$E$22=0,0,IF(graph!$E$2=0,20,IF(AND(B693>graph!$E$22-graph!$E$32,B693<graph!$E$22+graph!$E$32),0.25,0)))","v":0}]
[null,{"$f":"IF(graph!$E$2=0,\"\",B693+graph!$E$32)","v":""},{"$f":"IF(graph!$E$2=0,20,IF(SUM(K694+L694=0),NA(),0.25))","v":20},{"$f":"IF(graph!$E$2=0,20,IF(AND(B694<graph!$E$10+graph!$E$32,B694>graph!$E$10-graph!$E$32),0.25,NA()))","v":20},null,null,null,null,null,null,{"$f":"IF(graph!$E$20=0,0,IF(graph!$E$2=0,20,IF(AND(B694<graph!$E$20+graph!$E$32,B694>graph!$E$20-graph!$E$32),0.25,0)))","v":0},{"$f":"IF(graph!$E$22=0,0,IF(graph!$E$2=0,20,IF(AND(B694>graph!$E$22-graph!$E$32,B694<graph!$E$22+graph!$E$32),0.25,0)))","v":0}]
[null,{"$f":"IF(graph!$E$2=0,\"\",B694+graph!$E$32)","v":""},{"$f":"IF(graph!$E$2=0,20,IF(SUM(K695+L695=0),NA(),0.25))","v":20},{"$f":"IF(graph!$E$2=0,20,IF(AND(B695<graph!$E$10+graph!$E$32,B695>graph!$E$10-graph!$E$32),0.25,NA()))","v":20},null,null,null,null,null,null,{"$f":"IF(graph!$E$20=0,0,IF(graph!$E$2=0,20,IF(AND(B695<graph!$E$20+graph!$E$32,B695>graph!$E$20-graph!$E$32),0.25,0)))","v":0},{"$f":"IF(graph!$E$22=0,0,IF(graph!$E$2=0,20,IF(AND(B695>graph!$E$22-graph!$E$32,B695<graph!$E$22+graph!$E$32),0.25,0)))","v":0}]
[null,{"$f":"IF(graph!$E$2=0,\"\",B695+graph!$E$32)","v":""},{"$f":"IF(graph!$E$2=0,20,IF(SUM(K696+L696=0),NA(),0.25))","v":20},{"$f":"IF(graph!$E$2=0,20,IF(AND(B696<graph!$E$10+graph!$E$32,B696>graph!$E$10-graph!$E$32),0.25,NA()))","v":20},null,null,null,null,null,null,{"$f":"IF(graph!$E$20=0,0,IF(graph!$E$2=0,20,IF(AND(B696<graph!$E$20+graph!$E$32,B696>graph!$E$20-graph!$E$32),0.25,0)))","v":0},{"$f":"IF(graph!$E$22=0,0,IF(graph!$E$2=0,20,IF(AND(B696>graph!$E$22-graph!$E$32,B696<graph!$E$22+graph!$E$32),0.25,0)))","v":0}]
[null,{"$f":"IF(graph!$E$2=0,\"\",B696+graph!$E$32)","v":""},{"$f":"IF(graph!$E$2=0,20,IF(SUM(K697+L697=0),NA(),0.25))","v":20},{"$f":"IF(graph!$E$2=0,20,IF(AND(B697<graph!$E$10+graph!$E$32,B697>graph!$E$10-graph!$E$32),0.25,NA()))","v":20},null,null,null,null,null,null,{"$f":"IF(graph!$E$20=0,0,IF(graph!$E$2=0,20,IF(AND(B697<graph!$E$20+graph!$E$32,B697>graph!$E$20-graph!$E$32),0.25,0)))","v":0},{"$f":"IF(graph!$E$22=0,0,IF(graph!$E$2=0,20,IF(AND(B697>graph!$E$22-graph!$E$32,B697<graph!$E$22+graph!$E$32),0.25,0)))","v":0}]
[null,{"$f":"IF(graph!$E$2=0,\"\",B697+graph!$E$32)","v":""},{"$f":"IF(graph!$E$2=0,20,IF(SUM(K698+L698=0),NA(),0.25))","v":20},{"$f":"IF(graph!$E$2=0,20,IF(AND(B698<graph!$E$10+graph!$E$32,B698>graph!$E$10-graph!$E$32),0.25,NA()))","v":20},null,null,null,null,null,null,{"$f":"IF(graph!$E$20=0,0,IF(graph!$E$2=0,20,IF(AND(B698<graph!$E$20+graph!$E$32,B698>graph!$E$20-graph!$E$32),0.25,0)))","v":0},{"$f":"IF(graph!$E$22=0,0,IF(graph!$E$2=0,20,IF(AND(B698>graph!$E$22-graph!$E$32,B698<graph!$E$22+graph!$E$32),0.25,0)))","v":0}]
[null,{"$f":"IF(graph!$E$2=0,\"\",B698+graph!$E$32)","v":""},{"$f":"IF(graph!$E$2=0,20,IF(SUM(K699+L699=0),NA(),0.25))","v":20},{"$f":"IF(graph!$E$2=0,20,IF(AND(B699<graph!$E$10+graph!$E$32,B699>graph!$E$10-graph!$E$32),0.25,NA()))","v":20},null,null,null,null,null,null,{"$f":"IF(graph!$E$20=0,0,IF(graph!$E$2=0,20,IF(AND(B699<graph!$E$20+graph!$E$32,B699>graph!$E$20-graph!$E$32),0.25,0)))","v":0},{"$f":"IF(graph!$E$22=0,0,IF(graph!$E$2=0,20,IF(AND(B699>graph!$E$22-graph!$E$32,B699<graph!$E$22+graph!$E$32),0.25,0)))","v":0}]
[null,{"$f":"IF(graph!$E$2=0,\"\",B699+graph!$E$32)","v":""},{"$f":"IF(graph!$E$2=0,20,IF(SUM(K700+L700=0),NA(),0.25))","v":20},{"$f":"IF(graph!$E$2=0,20,IF(AND(B700<graph!$E$10+graph!$E$32,B700>graph!$E$10-graph!$E$32),0.25,NA()))","v":20},null,null,null,null,null,null,{"$f":"IF(graph!$E$20=0,0,IF(graph!$E$2=0,20,IF(AND(B700<graph!$E$20+graph!$E$32,B700>graph!$E$20-graph!$E$32),0.25,0)))","v":0},{"$f":"IF(graph!$E$22=0,0,IF(graph!$E$2=0,20,IF(AND(B700>graph!$E$22-graph!$E$32,B700<graph!$E$22+graph!$E$32),0.25,0)))","v":0}]
[null,{"$f":"IF(graph!$E$2=0,\"\",B700+graph!$E$32)","v":""},{"$f":"IF(graph!$E$2=0,20,IF(SUM(K701+L701=0),NA(),0.25))","v":20},{"$f":"IF(graph!$E$2=0,20,IF(AND(B701<graph!$E$10+graph!$E$32,B701>graph!$E$10-graph!$E$32),0.25,NA()))","v":20},null,null,null,null,null,null,{"$f":"IF(graph!$E$20=0,0,IF(graph!$E$2=0,20,IF(AND(B701<graph!$E$20+graph!$E$32,B701>graph!$E$20-graph!$E$32),0.25,0)))","v":0},{"$f":"IF(graph!$E$22=0,0,IF(graph!$E$2=0,20,IF(AND(B701>graph!$E$22-graph!$E$32,B701<graph!$E$22+graph!$E$32),0.25,0)))","v":0}]
[null,{"$f":"IF(graph!$E$2=0,\"\",B701+graph!$E$32)","v":""},{"$f":"IF(graph!$E$2=0,20,IF(SUM(K702+L702=0),NA(),0.25))","v":20},{"$f":"IF(graph!$E$2=0,20,IF(AND(B702<graph!$E$10+graph!$E$32,B702>graph!$E$10-graph!$E$32),0.25,NA()))","v":20},null,null,null,null,null,null,{"$f":"IF(graph!$E$20=0,0,IF(graph!$E$2=0,20,IF(AND(B702<graph!$E$20+graph!$E$32,B702>graph!$E$20-graph!$E$32),0.25,0)))","v":0},{"$f":"IF(graph!$E$22=0,0,IF(graph!$E$2=0,20,IF(AND(B702>graph!$E$22-graph!$E$32,B702<graph!$E$22+graph!$E$32),0.25,0)))","v":0}]
[null,{"$f":"IF(graph!$E$2=0,\"\",B702+graph!$E$32)","v":""},{"$f":"IF(graph!$E$2=0,20,IF(SUM(K703+L703=0),NA(),0.25))","v":20},{"$f":"IF(graph!$E$2=0,20,IF(AND(B703<graph!$E$10+graph!$E$32,B703>graph!$E$10-graph!$E$32),0.25,NA()))","v":20},null,null,null,null,null,null,{"$f":"IF(graph!$E$20=0,0,IF(graph!$E$2=0,20,IF(AND(B703<graph!$E$20+graph!$E$32,B703>graph!$E$20-graph!$E$32),0.25,0)))","v":0},{"$f":"IF(graph!$E$22=0,0,IF(graph!$E$2=0,20,IF(AND(B703>graph!$E$22-graph!$E$32,B703<graph!$E$22+graph!$E$32),0.25,0)))","v":0}]
[null,{"$f":"IF(graph!$E$2=0,\"\",B703+graph!$E$32)","v":""},{"$f":"IF(graph!$E$2=0,20,IF(SUM(K704+L704=0),NA(),0.25))","v":20},{"$f":"IF(graph!$E$2=0,20,IF(AND(B704<graph!$E$10+graph!$E$32,B704>graph!$E$10-graph!$E$32),0.25,NA()))","v":20},null,null,null,null,null,null,{"$f":"IF(graph!$E$20=0,0,IF(graph!$E$2=0,20,IF(AND(B704<graph!$E$20+graph!$E$32,B704>graph!$E$20-graph!$E$32),0.25,0)))","v":0},{"$f":"IF(graph!$E$22=0,0,IF(graph!$E$2=0,20,IF(AND(B704>graph!$E$22-graph!$E$32,B704<graph!$E$22+graph!$E$32),0.25,0)))","v":0}]
[null,{"$f":"IF(graph!$E$2=0,\"\",B704+graph!$E$32)","v":""},{"$f":"IF(graph!$E$2=0,20,IF(SUM(K705+L705=0),NA(),0.25))","v":20},{"$f":"IF(graph!$E$2=0,20,IF(AND(B705<graph!$E$10+graph!$E$32,B705>graph!$E$10-graph!$E$32),0.25,NA()))","v":20},null,null,null,null,null,null,{"$f":"IF(graph!$E$20=0,0,IF(graph!$E$2=0,20,IF(AND(B705<graph!$E$20+graph!$E$32,B705>graph!$E$20-graph!$E$32),0.25,0)))","v":0},{"$f":"IF(graph!$E$22=0,0,IF(graph!$E$2=0,20,IF(AND(B705>graph!$E$22-graph!$E$32,B705<graph!$E$22+graph!$E$32),0.25,0)))","v":0}]
[null,{"$f":"IF(graph!$E$2=0,\"\",B705+graph!$E$32)","v":""},{"$f":"IF(graph!$E$2=0,20,IF(SUM(K706+L706=0),NA(),0.25))","v":20},{"$f":"IF(graph!$E$2=0,20,IF(AND(B706<graph!$E$10+graph!$E$32,B706>graph!$E$10-graph!$E$32),0.25,NA()))","v":20},null,null,null,null,null,null,{"$f":"IF(graph!$E$20=0,0,IF(graph!$E$2=0,20,IF(AND(B706<graph!$E$20+graph!$E$32,B706>graph!$E$20-graph!$E$32),0.25,0)))","v":0},{"$f":"IF(graph!$E$22=0,0,IF(graph!$E$2=0,20,IF(AND(B706>graph!$E$22-graph!$E$32,B706<graph!$E$22+graph!$E$32),0.25,0)))","v":0}]
[null,{"$f":"IF(graph!$E$2=0,\"\",B706+graph!$E$32)","v":""},{"$f":"IF(graph!$E$2=0,20,IF(SUM(K707+L707=0),NA(),0.25))","v":20},{"$f":"IF(graph!$E$2=0,20,IF(AND(B707<graph!$E$10+graph!$E$32,B707>graph!$E$10-graph!$E$32),0.25,NA()))","v":20},null,null,null,null,null,null,{"$f":"IF(graph!$E$20=0,0,IF(graph!$E$2=0,20,IF(AND(B707<graph!$E$20+graph!$E$32,B707>graph!$E$20-graph!$E$32),0.25,0)))","v":0},{"$f":"IF(graph!$E$22=0,0,IF(graph!$E$2=0,20,IF(AND(B707>graph!$E$22-graph!$E$32,B707<graph!$E$22+graph!$E$32),0.25,0)))","v":0}]
[null,{"$f":"IF(graph!$E$2=0,\"\",B707+graph!$E$32)","v":""},{"$f":"IF(graph!$E$2=0,20,IF(SUM(K708+L708=0),NA(),0.25))","v":20},{"$f":"IF(graph!$E$2=0,20,IF(AND(B708<graph!$E$10+graph!$E$32,B708>graph!$E$10-graph!$E$32),0.25,NA()))","v":20},null,null,null,null,null,null,{"$f":"IF(graph!$E$20=0,0,IF(graph!$E$2=0,20,IF(AND(B708<graph!$E$20+graph!$E$32,B708>graph!$E$20-graph!$E$32),0.25,0)))","v":0},{"$f":"IF(graph!$E$22=0,0,IF(graph!$E$2=0,20,IF(AND(B708>graph!$E$22-graph!$E$32,B708<graph!$E$22+graph!$E$32),0.25,0)))","v":0}]
[null,{"$f":"IF(graph!$E$2=0,\"\",B708+graph!$E$32)","v":""},{"$f":"IF(graph!$E$2=0,20,IF(SUM(K709+L709=0),NA(),0.25))","v":20},{"$f":"IF(graph!$E$2=0,20,IF(AND(B709<graph!$E$10+graph!$E$32,B709>graph!$E$10-graph!$E$32),0.25,NA()))","v":20},null,null,null,null,null,null,{"$f":"IF(graph!$E$20=0,0,IF(graph!$E$2=0,20,IF(AND(B709<graph!$E$20+graph!$E$32,B709>graph!$E$20-graph!$E$32),0.25,0)))","v":0},{"$f":"IF(graph!$E$22=0,0,IF(graph!$E$2=0,20,IF(AND(B709>graph!$E$22-graph!$E$32,B709<graph!$E$22+graph!$E$32),0.25,0)))","v":0}]
[null,{"$f":"IF(graph!$E$2=0,\"\",B709+graph!$E$32)","v":""},{"$f":"IF(graph!$E$2=0,20,IF(SUM(K710+L710=0),NA(),0.25))","v":20},{"$f":"IF(graph!$E$2=0,20,IF(AND(B710<graph!$E$10+graph!$E$32,B710>graph!$E$10-graph!$E$32),0.25,NA()))","v":20},null,null,null,null,null,null,{"$f":"IF(graph!$E$20=0,0,IF(graph!$E$2=0,20,IF(AND(B710<graph!$E$20+graph!$E$32,B710>graph!$E$20-graph!$E$32),0.25,0)))","v":0},{"$f":"IF(graph!$E$22=0,0,IF(graph!$E$2=0,20,IF(AND(B710>graph!$E$22-graph!$E$32,B710<graph!$E$22+graph!$E$32),0.25,0)))","v":0}]
[null,{"$f":"IF(graph!$E$2=0,\"\",B710+graph!$E$32)","v":""},{"$f":"IF(graph!$E$2=0,20,IF(SUM(K711+L711=0),NA(),0.25))","v":20},{"$f":"IF(graph!$E$2=0,20,IF(AND(B711<graph!$E$10+graph!$E$32,B711>graph!$E$10-graph!$E$32),0.25,NA()))","v":20},null,null,null,null,null,null,{"$f":"IF(graph!$E$20=0,0,IF(graph!$E$2=0,20,IF(AND(B711<graph!$E$20+graph!$E$32,B711>graph!$E$20-graph!$E$32),0.25,0)))","v":0},{"$f":"IF(graph!$E$22=0,0,IF(graph!$E$2=0,20,IF(AND(B711>graph!$E$22-graph!$E$32,B711<graph!$E$22+graph!$E$32),0.25,0)))","v":0}]
[null,{"$f":"IF(graph!$E$2=0,\"\",B711+graph!$E$32)","v":""},{"$f":"IF(graph!$E$2=0,20,IF(SUM(K712+L712=0),NA(),0.25))","v":20},{"$f":"IF(graph!$E$2=0,20,IF(AND(B712<graph!$E$10+graph!$E$32,B712>graph!$E$10-graph!$E$32),0.25,NA()))","v":20},null,null,null,null,null,null,{"$f":"IF(graph!$E$20=0,0,IF(graph!$E$2=0,20,IF(AND(B712<graph!$E$20+graph!$E$32,B712>graph!$E$20-graph!$E$32),0.25,0)))","v":0},{"$f":"IF(graph!$E$22=0,0,IF(graph!$E$2=0,20,IF(AND(B712>graph!$E$22-graph!$E$32,B712<graph!$E$22+graph!$E$32),0.25,0)))","v":0}]
[null,{"$f":"IF(graph!$E$2=0,\"\",B712+graph!$E$32)","v":""},{"$f":"IF(graph!$E$2=0,20,IF(SUM(K713+L713=0),NA(),0.25))","v":20},{"$f":"IF(graph!$E$2=0,20,IF(AND(B713<graph!$E$10+graph!$E$32,B713>graph!$E$10-graph!$E$32),0.25,NA()))","v":20},null,null,null,null,null,null,{"$f":"IF(graph!$E$20=0,0,IF(graph!$E$2=0,20,IF(AND(B713<graph!$E$20+graph!$E$32,B713>graph!$E$20-graph!$E$32),0.25,0)))","v":0},{"$f":"IF(graph!$E$22=0,0,IF(graph!$E$2=0,20,IF(AND(B713>graph!$E$22-graph!$E$32,B713<graph!$E$22+graph!$E$32),0.25,0)))","v":0}]
[null,{"$f":"IF(graph!$E$2=0,\"\",B713+graph!$E$32)","v":""},{"$f":"IF(graph!$E$2=0,20,IF(SUM(K714+L714=0),NA(),0.25))","v":20},{"$f":"IF(graph!$E$2=0,20,IF(AND(B714<graph!$E$10+graph!$E$32,B714>graph!$E$10-graph!$E$32),0.25,NA()))","v":20},null,null,null,null,null,null,{"$f":"IF(graph!$E$20=0,0,IF(graph!$E$2=0,20,IF(AND(B714<graph!$E$20+graph!$E$32,B714>graph!$E$20-graph!$E$32),0.25,0)))","v":0},{"$f":"IF(graph!$E$22=0,0,IF(graph!$E$2=0,20,IF(AND(B714>graph!$E$22-graph!$E$32,B714<graph!$E$22+graph!$E$32),0.25,0)))","v":0}]
[null,{"$f":"IF(graph!$E$2=0,\"\",B714+graph!$E$32)","v":""},{"$f":"IF(graph!$E$2=0,20,IF(SUM(K715+L715=0),NA(),0.25))","v":20},{"$f":"IF(graph!$E$2=0,20,IF(AND(B715<graph!$E$10+graph!$E$32,B715>graph!$E$10-graph!$E$32),0.25,NA()))","v":20},null,null,null,null,null,null,{"$f":"IF(graph!$E$20=0,0,IF(graph!$E$2=0,20,IF(AND(B715<graph!$E$20+graph!$E$32,B715>graph!$E$20-graph!$E$32),0.25,0)))","v":0},{"$f":"IF(graph!$E$22=0,0,IF(graph!$E$2=0,20,IF(AND(B715>graph!$E$22-graph!$E$32,B715<graph!$E$22+graph!$E$32),0.25,0)))","v":0}]
[null,{"$f":"IF(graph!$E$2=0,\"\",B715+graph!$E$32)","v":""},{"$f":"IF(graph!$E$2=0,20,IF(SUM(K716+L716=0),NA(),0.25))","v":20},{"$f":"IF(graph!$E$2=0,20,IF(AND(B716<graph!$E$10+graph!$E$32,B716>graph!$E$10-graph!$E$32),0.25,NA()))","v":20},null,null,null,null,null,null,{"$f":"IF(graph!$E$20=0,0,IF(graph!$E$2=0,20,IF(AND(B716<graph!$E$20+graph!$E$32,B716>graph!$E$20-graph!$E$32),0.25,0)))","v":0},{"$f":"IF(graph!$E$22=0,0,IF(graph!$E$2=0,20,IF(AND(B716>graph!$E$22-graph!$E$32,B716<graph!$E$22+graph!$E$32),0.25,0)))","v":0}]
[null,{"$f":"IF(graph!$E$2=0,\"\",B716+graph!$E$32)","v":""},{"$f":"IF(graph!$E$2=0,20,IF(SUM(K717+L717=0),NA(),0.25))","v":20},{"$f":"IF(graph!$E$2=0,20,IF(AND(B717<graph!$E$10+graph!$E$32,B717>graph!$E$10-graph!$E$32),0.25,NA()))","v":20},null,null,null,null,null,null,{"$f":"IF(graph!$E$20=0,0,IF(graph!$E$2=0,20,IF(AND(B717<graph!$E$20+graph!$E$32,B717>graph!$E$20-graph!$E$32),0.25,0)))","v":0},{"$f":"IF(graph!$E$22=0,0,IF(graph!$E$2=0,20,IF(AND(B717>graph!$E$22-graph!$E$32,B717<graph!$E$22+graph!$E$32),0.25,0)))","v":0}]
[null,{"$f":"IF(graph!$E$2=0,\"\",B717+graph!$E$32)","v":""},{"$f":"IF(graph!$E$2=0,20,IF(SUM(K718+L718=0),NA(),0.25))","v":20},{"$f":"IF(graph!$E$2=0,20,IF(AND(B718<graph!$E$10+graph!$E$32,B718>graph!$E$10-graph!$E$32),0.25,NA()))","v":20},null,null,null,null,null,null,{"$f":"IF(graph!$E$20=0,0,IF(graph!$E$2=0,20,IF(AND(B718<graph!$E$20+graph!$E$32,B718>graph!$E$20-graph!$E$32),0.25,0)))","v":0},{"$f":"IF(graph!$E$22=0,0,IF(graph!$E$2=0,20,IF(AND(B718>graph!$E$22-graph!$E$32,B718<graph!$E$22+graph!$E$32),0.25,0)))","v":0}]
[null,{"$f":"IF(graph!$E$2=0,\"\",B718+graph!$E$32)","v":""},{"$f":"IF(graph!$E$2=0,20,IF(SUM(K719+L719=0),NA(),0.25))","v":20},{"$f":"IF(graph!$E$2=0,20,IF(AND(B719<graph!$E$10+graph!$E$32,B719>graph!$E$10-graph!$E$32),0.25,NA()))","v":20},null,null,null,null,null,null,{"$f":"IF(graph!$E$20=0,0,IF(graph!$E$2=0,20,IF(AND(B719<graph!$E$20+graph!$E$32,B719>graph!$E$20-graph!$E$32),0.25,0)))","v":0},{"$f":"IF(graph!$E$22=0,0,IF(graph!$E$2=0,20,IF(AND(B719>graph!$E$22-graph!$E$32,B719<graph!$E$22+graph!$E$32),0.25,0)))","v":0}]
[null,{"$f":"IF(graph!$E$2=0,\"\",B719+graph!$E$32)","v":""},{"$f":"IF(graph!$E$2=0,20,IF(SUM(K720+L720=0),NA(),0.25))","v":20},{"$f":"IF(graph!$E$2=0,20,IF(AND(B720<graph!$E$10+graph!$E$32,B720>graph!$E$10-graph!$E$32),0.25,NA()))","v":20},null,null,null,null,null,null,{"$f":"IF(graph!$E$20=0,0,IF(graph!$E$2=0,20,IF(AND(B720<graph!$E$20+graph!$E$32,B720>graph!$E$20-graph!$E$32),0.25,0)))","v":0},{"$f":"IF(graph!$E$22=0,0,IF(graph!$E$2=0,20,IF(AND(B720>graph!$E$22-graph!$E$32,B720<graph!$E$22+graph!$E$32),0.25,0)))","v":0}]
[null,{"$f":"IF(graph!$E$2=0,\"\",B720+graph!$E$32)","v":""},{"$f":"IF(graph!$E$2=0,20,IF(SUM(K721+L721=0),NA(),0.25))","v":20},{"$f":"IF(graph!$E$2=0,20,IF(AND(B721<graph!$E$10+graph!$E$32,B721>graph!$E$10-graph!$E$32),0.25,NA()))","v":20},null,null,null,null,null,null,{"$f":"IF(graph!$E$20=0,0,IF(graph!$E$2=0,20,IF(AND(B721<graph!$E$20+graph!$E$32,B721>graph!$E$20-graph!$E$32),0.25,0)))","v":0},{"$f":"IF(graph!$E$22=0,0,IF(graph!$E$2=0,20,IF(AND(B721>graph!$E$22-graph!$E$32,B721<graph!$E$22+graph!$E$32),0.25,0)))","v":0}]
[null,{"$f":"IF(graph!$E$2=0,\"\",B721+graph!$E$32)","v":""},{"$f":"IF(graph!$E$2=0,20,IF(SUM(K722+L722=0),NA(),0.25))","v":20},{"$f":"IF(graph!$E$2=0,20,IF(AND(B722<graph!$E$10+graph!$E$32,B722>graph!$E$10-graph!$E$32),0.25,NA()))","v":20},null,null,null,null,null,null,{"$f":"IF(graph!$E$20=0,0,IF(graph!$E$2=0,20,IF(AND(B722<graph!$E$20+graph!$E$32,B722>graph!$E$20-graph!$E$32),0.25,0)))","v":0},{"$f":"IF(graph!$E$22=0,0,IF(graph!$E$2=0,20,IF(AND(B722>graph!$E$22-graph!$E$32,B722<graph!$E$22+graph!$E$32),0.25,0)))","v":0}]
[null,{"$f":"IF(graph!$E$2=0,\"\",B722+graph!$E$32)","v":""},{"$f":"IF(graph!$E$2=0,20,IF(SUM(K723+L723=0),NA(),0.25))","v":20},{"$f":"IF(graph!$E$2=0,20,IF(AND(B723<graph!$E$10+graph!$E$32,B723>graph!$E$10-graph!$E$32),0.25,NA()))","v":20},null,null,null,null,null,null,{"$f":"IF(graph!$E$20=0,0,IF(graph!$E$2=0,20,IF(AND(B723<graph!$E$20+graph!$E$32,B723>graph!$E$20-graph!$E$32),0.25,0)))","v":0},{"$f":"IF(graph!$E$22=0,0,IF(graph!$E$2=0,20,IF(AND(B723>graph!$E$22-graph!$E$32,B723<graph!$E$22+graph!$E$32),0.25,0)))","v":0}]
[null,{"$f":"IF(graph!$E$2=0,\"\",B723+graph!$E$32)","v":""},{"$f":"IF(graph!$E$2=0,20,IF(SUM(K724+L724=0),NA(),0.25))","v":20},{"$f":"IF(graph!$E$2=0,20,IF(AND(B724<graph!$E$10+graph!$E$32,B724>graph!$E$10-graph!$E$32),0.25,NA()))","v":20},null,null,null,null,null,null,{"$f":"IF(graph!$E$20=0,0,IF(graph!$E$2=0,20,IF(AND(B724<graph!$E$20+graph!$E$32,B724>graph!$E$20-graph!$E$32),0.25,0)))","v":0},{"$f":"IF(graph!$E$22=0,0,IF(graph!$E$2=0,20,IF(AND(B724>graph!$E$22-graph!$E$32,B724<graph!$E$22+graph!$E$32),0.25,0)))","v":0}]
[null,{"$f":"IF(graph!$E$2=0,\"\",B724+graph!$E$32)","v":""},{"$f":"IF(graph!$E$2=0,20,IF(SUM(K725+L725=0),NA(),0.25))","v":20},{"$f":"IF(graph!$E$2=0,20,IF(AND(B725<graph!$E$10+graph!$E$32,B725>graph!$E$10-graph!$E$32),0.25,NA()))","v":20},null,null,null,null,null,null,{"$f":"IF(graph!$E$20=0,0,IF(graph!$E$2=0,20,IF(AND(B725<graph!$E$20+graph!$E$32,B725>graph!$E$20-graph!$E$32),0.25,0)))","v":0},{"$f":"IF(graph!$E$22=0,0,IF(graph!$E$2=0,20,IF(AND(B725>graph!$E$22-graph!$E$32,B725<graph!$E$22+graph!$E$32),0.25,0)))","v":0}]
[null,{"$f":"IF(graph!$E$2=0,\"\",B725+graph!$E$32)","v":""},{"$f":"IF(graph!$E$2=0,20,IF(SUM(K726+L726=0),NA(),0.25))","v":20},{"$f":"IF(graph!$E$2=0,20,IF(AND(B726<graph!$E$10+graph!$E$32,B726>graph!$E$10-graph!$E$32),0.25,NA()))","v":20},null,null,null,null,null,null,{"$f":"IF(graph!$E$20=0,0,IF(graph!$E$2=0,20,IF(AND(B726<graph!$E$20+graph!$E$32,B726>graph!$E$20-graph!$E$32),0.25,0)))","v":0},{"$f":"IF(graph!$E$22=0,0,IF(graph!$E$2=0,20,IF(AND(B726>graph!$E$22-graph!$E$32,B726<graph!$E$22+graph!$E$32),0.25,0)))","v":0}]
[null,{"$f":"IF(graph!$E$2=0,\"\",B726+graph!$E$32)","v":""},{"$f":"IF(graph!$E$2=0,20,IF(SUM(K727+L727=0),NA(),0.25))","v":20},{"$f":"IF(graph!$E$2=0,20,IF(AND(B727<graph!$E$10+graph!$E$32,B727>graph!$E$10-graph!$E$32),0.25,NA()))","v":20},null,null,null,null,null,null,{"$f":"IF(graph!$E$20=0,0,IF(graph!$E$2=0,20,IF(AND(B727<graph!$E$20+graph!$E$32,B727>graph!$E$20-graph!$E$32),0.25,0)))","v":0},{"$f":"IF(graph!$E$22=0,0,IF(graph!$E$2=0,20,IF(AND(B727>graph!$E$22-graph!$E$32,B727<graph!$E$22+graph!$E$32),0.25,0)))","v":0}]
[null,{"$f":"IF(graph!$E$2=0,\"\",B727+graph!$E$32)","v":""},{"$f":"IF(graph!$E$2=0,20,IF(SUM(K728+L728=0),NA(),0.25))","v":20},{"$f":"IF(graph!$E$2=0,20,IF(AND(B728<graph!$E$10+graph!$E$32,B728>graph!$E$10-graph!$E$32),0.25,NA()))","v":20},null,null,null,null,null,null,{"$f":"IF(graph!$E$20=0,0,IF(graph!$E$2=0,20,IF(AND(B728<graph!$E$20+graph!$E$32,B728>graph!$E$20-graph!$E$32),0.25,0)))","v":0},{"$f":"IF(graph!$E$22=0,0,IF(graph!$E$2=0,20,IF(AND(B728>graph!$E$22-graph!$E$32,B728<graph!$E$22+graph!$E$32),0.25,0)))","v":0}]
[null,{"$f":"IF(graph!$E$2=0,\"\",B728+graph!$E$32)","v":""},{"$f":"IF(graph!$E$2=0,20,IF(SUM(K729+L729=0),NA(),0.25))","v":20},{"$f":"IF(graph!$E$2=0,20,IF(AND(B729<graph!$E$10+graph!$E$32,B729>graph!$E$10-graph!$E$32),0.25,NA()))","v":20},null,null,null,null,null,null,{"$f":"IF(graph!$E$20=0,0,IF(graph!$E$2=0,20,IF(AND(B729<graph!$E$20+graph!$E$32,B729>graph!$E$20-graph!$E$32),0.25,0)))","v":0},{"$f":"IF(graph!$E$22=0,0,IF(graph!$E$2=0,20,IF(AND(B729>graph!$E$22-graph!$E$32,B729<graph!$E$22+graph!$E$32),0.25,0)))","v":0}]
[null,{"$f":"IF(graph!$E$2=0,\"\",B729+graph!$E$32)","v":""},{"$f":"IF(graph!$E$2=0,20,IF(SUM(K730+L730=0),NA(),0.25))","v":20},{"$f":"IF(graph!$E$2=0,20,IF(AND(B730<graph!$E$10+graph!$E$32,B730>graph!$E$10-graph!$E$32),0.25,NA()))","v":20},null,null,null,null,null,null,{"$f":"IF(graph!$E$20=0,0,IF(graph!$E$2=0,20,IF(AND(B730<graph!$E$20+graph!$E$32,B730>graph!$E$20-graph!$E$32),0.25,0)))","v":0},{"$f":"IF(graph!$E$22=0,0,IF(graph!$E$2=0,20,IF(AND(B730>graph!$E$22-graph!$E$32,B730<graph!$E$22+graph!$E$32),0.25,0)))","v":0}]
[null,{"$f":"IF(graph!$E$2=0,\"\",B730+graph!$E$32)","v":""},{"$f":"IF(graph!$E$2=0,20,IF(SUM(K731+L731=0),NA(),0.25))","v":20},{"$f":"IF(graph!$E$2=0,20,IF(AND(B731<graph!$E$10+graph!$E$32,B731>graph!$E$10-graph!$E$32),0.25,NA()))","v":20},null,null,null,null,null,null,{"$f":"IF(graph!$E$20=0,0,IF(graph!$E$2=0,20,IF(AND(B731<graph!$E$20+graph!$E$32,B731>graph!$E$20-graph!$E$32),0.25,0)))","v":0},{"$f":"IF(graph!$E$22=0,0,IF(graph!$E$2=0,20,IF(AND(B731>graph!$E$22-graph!$E$32,B731<graph!$E$22+graph!$E$32),0.25,0)))","v":0}]
[null,{"$f":"IF(graph!$E$2=0,\"\",B731+graph!$E$32)","v":""},{"$f":"IF(graph!$E$2=0,20,IF(SUM(K732+L732=0),NA(),0.25))","v":20},{"$f":"IF(graph!$E$2=0,20,IF(AND(B732<graph!$E$10+graph!$E$32,B732>graph!$E$10-graph!$E$32),0.25,NA()))","v":20},null,null,null,null,null,null,{"$f":"IF(graph!$E$20=0,0,IF(graph!$E$2=0,20,IF(AND(B732<graph!$E$20+graph!$E$32,B732>graph!$E$20-graph!$E$32),0.25,0)))","v":0},{"$f":"IF(graph!$E$22=0,0,IF(graph!$E$2=0,20,IF(AND(B732>graph!$E$22-graph!$E$32,B732<graph!$E$22+graph!$E$32),0.25,0)))","v":0}]
[null,{"$f":"IF(graph!$E$2=0,\"\",B732+graph!$E$32)","v":""},{"$f":"IF(graph!$E$2=0,20,IF(SUM(K733+L733=0),NA(),0.25))","v":20},{"$f":"IF(graph!$E$2=0,20,IF(AND(B733<graph!$E$10+graph!$E$32,B733>graph!$E$10-graph!$E$32),0.25,NA()))","v":20},null,null,null,null,null,null,{"$f":"IF(graph!$E$20=0,0,IF(graph!$E$2=0,20,IF(AND(B733<graph!$E$20+graph!$E$32,B733>graph!$E$20-graph!$E$32),0.25,0)))","v":0},{"$f":"IF(graph!$E$22=0,0,IF(graph!$E$2=0,20,IF(AND(B733>graph!$E$22-graph!$E$32,B733<graph!$E$22+graph!$E$32),0.25,0)))","v":0}]
[null,{"$f":"IF(graph!$E$2=0,\"\",B733+graph!$E$32)","v":""},{"$f":"IF(graph!$E$2=0,20,IF(SUM(K734+L734=0),NA(),0.25))","v":20},{"$f":"IF(graph!$E$2=0,20,IF(AND(B734<graph!$E$10+graph!$E$32,B734>graph!$E$10-graph!$E$32),0.25,NA()))","v":20},null,null,null,null,null,null,{"$f":"IF(graph!$E$20=0,0,IF(graph!$E$2=0,20,IF(AND(B734<graph!$E$20+graph!$E$32,B734>graph!$E$20-graph!$E$32),0.25,0)))","v":0},{"$f":"IF(graph!$E$22=0,0,IF(graph!$E$2=0,20,IF(AND(B734>graph!$E$22-graph!$E$32,B734<graph!$E$22+graph!$E$32),0.25,0)))","v":0}]
[null,{"$f":"IF(graph!$E$2=0,\"\",B734+graph!$E$32)","v":""},{"$f":"IF(graph!$E$2=0,20,IF(SUM(K735+L735=0),NA(),0.25))","v":20},{"$f":"IF(graph!$E$2=0,20,IF(AND(B735<graph!$E$10+graph!$E$32,B735>graph!$E$10-graph!$E$32),0.25,NA()))","v":20},null,null,null,null,null,null,{"$f":"IF(graph!$E$20=0,0,IF(graph!$E$2=0,20,IF(AND(B735<graph!$E$20+graph!$E$32,B735>graph!$E$20-graph!$E$32),0.25,0)))","v":0},{"$f":"IF(graph!$E$22=0,0,IF(graph!$E$2=0,20,IF(AND(B735>graph!$E$22-graph!$E$32,B735<graph!$E$22+graph!$E$32),0.25,0)))","v":0}]
[null,{"$f":"IF(graph!$E$2=0,\"\",B735+graph!$E$32)","v":""},{"$f":"IF(graph!$E$2=0,20,IF(SUM(K736+L736=0),NA(),0.25))","v":20},{"$f":"IF(graph!$E$2=0,20,IF(AND(B736<graph!$E$10+graph!$E$32,B736>graph!$E$10-graph!$E$32),0.25,NA()))","v":20},null,null,null,null,null,null,{"$f":"IF(graph!$E$20=0,0,IF(graph!$E$2=0,20,IF(AND(B736<graph!$E$20+graph!$E$32,B736>graph!$E$20-graph!$E$32),0.25,0)))","v":0},{"$f":"IF(graph!$E$22=0,0,IF(graph!$E$2=0,20,IF(AND(B736>graph!$E$22-graph!$E$32,B736<graph!$E$22+graph!$E$32),0.25,0)))","v":0}]
[null,{"$f":"IF(graph!$E$2=0,\"\",B736+graph!$E$32)","v":""},{"$f":"IF(graph!$E$2=0,20,IF(SUM(K737+L737=0),NA(),0.25))","v":20},{"$f":"IF(graph!$E$2=0,20,IF(AND(B737<graph!$E$10+graph!$E$32,B737>graph!$E$10-graph!$E$32),0.25,NA()))","v":20},null,null,null,null,null,null,{"$f":"IF(graph!$E$20=0,0,IF(graph!$E$2=0,20,IF(AND(B737<graph!$E$20+graph!$E$32,B737>graph!$E$20-graph!$E$32),0.25,0)))","v":0},{"$f":"IF(graph!$E$22=0,0,IF(graph!$E$2=0,20,IF(AND(B737>graph!$E$22-graph!$E$32,B737<graph!$E$22+graph!$E$32),0.25,0)))","v":0}]
[null,{"$f":"IF(graph!$E$2=0,\"\",B737+graph!$E$32)","v":""},{"$f":"IF(graph!$E$2=0,20,IF(SUM(K738+L738=0),NA(),0.25))","v":20},{"$f":"IF(graph!$E$2=0,20,IF(AND(B738<graph!$E$10+graph!$E$32,B738>graph!$E$10-graph!$E$32),0.25,NA()))","v":20},null,null,null,null,null,null,{"$f":"IF(graph!$E$20=0,0,IF(graph!$E$2=0,20,IF(AND(B738<graph!$E$20+graph!$E$32,B738>graph!$E$20-graph!$E$32),0.25,0)))","v":0},{"$f":"IF(graph!$E$22=0,0,IF(graph!$E$2=0,20,IF(AND(B738>graph!$E$22-graph!$E$32,B738<graph!$E$22+graph!$E$32),0.25,0)))","v":0}]
[null,{"$f":"IF(graph!$E$2=0,\"\",B738+graph!$E$32)","v":""},{"$f":"IF(graph!$E$2=0,20,IF(SUM(K739+L739=0),NA(),0.25))","v":20},{"$f":"IF(graph!$E$2=0,20,IF(AND(B739<graph!$E$10+graph!$E$32,B739>graph!$E$10-graph!$E$32),0.25,NA()))","v":20},null,null,null,null,null,null,{"$f":"IF(graph!$E$20=0,0,IF(graph!$E$2=0,20,IF(AND(B739<graph!$E$20+graph!$E$32,B739>graph!$E$20-graph!$E$32),0.25,0)))","v":0},{"$f":"IF(graph!$E$22=0,0,IF(graph!$E$2=0,20,IF(AND(B739>graph!$E$22-graph!$E$32,B739<graph!$E$22+graph!$E$32),0.25,0)))","v":0}]
[null,{"$f":"IF(graph!$E$2=0,\"\",B739+graph!$E$32)","v":""},{"$f":"IF(graph!$E$2=0,20,IF(SUM(K740+L740=0),NA(),0.25))","v":20},{"$f":"IF(graph!$E$2=0,20,IF(AND(B740<graph!$E$10+graph!$E$32,B740>graph!$E$10-graph!$E$32),0.25,NA()))","v":20},null,null,null,null,null,null,{"$f":"IF(graph!$E$20=0,0,IF(graph!$E$2=0,20,IF(AND(B740<graph!$E$20+graph!$E$32,B740>graph!$E$20-graph!$E$32),0.25,0)))","v":0},{"$f":"IF(graph!$E$22=0,0,IF(graph!$E$2=0,20,IF(AND(B740>graph!$E$22-graph!$E$32,B740<graph!$E$22+graph!$E$32),0.25,0)))","v":0}]
[null,{"$f":"IF(graph!$E$2=0,\"\",B740+graph!$E$32)","v":""},{"$f":"IF(graph!$E$2=0,20,IF(SUM(K741+L741=0),NA(),0.25))","v":20},{"$f":"IF(graph!$E$2=0,20,IF(AND(B741<graph!$E$10+graph!$E$32,B741>graph!$E$10-graph!$E$32),0.25,NA()))","v":20},null,null,null,null,null,null,{"$f":"IF(graph!$E$20=0,0,IF(graph!$E$2=0,20,IF(AND(B741<graph!$E$20+graph!$E$32,B741>graph!$E$20-graph!$E$32),0.25,0)))","v":0},{"$f":"IF(graph!$E$22=0,0,IF(graph!$E$2=0,20,IF(AND(B741>graph!$E$22-graph!$E$32,B741<graph!$E$22+graph!$E$32),0.25,0)))","v":0}]
[null,{"$f":"IF(graph!$E$2=0,\"\",B741+graph!$E$32)","v":""},{"$f":"IF(graph!$E$2=0,20,IF(SUM(K742+L742=0),NA(),0.25))","v":20},{"$f":"IF(graph!$E$2=0,20,IF(AND(B742<graph!$E$10+graph!$E$32,B742>graph!$E$10-graph!$E$32),0.25,NA()))","v":20},null,null,null,null,null,null,{"$f":"IF(graph!$E$20=0,0,IF(graph!$E$2=0,20,IF(AND(B742<graph!$E$20+graph!$E$32,B742>graph!$E$20-graph!$E$32),0.25,0)))","v":0},{"$f":"IF(graph!$E$22=0,0,IF(graph!$E$2=0,20,IF(AND(B742>graph!$E$22-graph!$E$32,B742<graph!$E$22+graph!$E$32),0.25,0)))","v":0}]
[null,{"$f":"IF(graph!$E$2=0,\"\",B742+graph!$E$32)","v":""},{"$f":"IF(graph!$E$2=0,20,IF(SUM(K743+L743=0),NA(),0.25))","v":20},{"$f":"IF(graph!$E$2=0,20,IF(AND(B743<graph!$E$10+graph!$E$32,B743>graph!$E$10-graph!$E$32),0.25,NA()))","v":20},null,null,null,null,null,null,{"$f":"IF(graph!$E$20=0,0,IF(graph!$E$2=0,20,IF(AND(B743<graph!$E$20+graph!$E$32,B743>graph!$E$20-graph!$E$32),0.25,0)))","v":0},{"$f":"IF(graph!$E$22=0,0,IF(graph!$E$2=0,20,IF(AND(B743>graph!$E$22-graph!$E$32,B743<graph!$E$22+graph!$E$32),0.25,0)))","v":0}]
[null,{"$f":"IF(graph!$E$2=0,\"\",B743+graph!$E$32)","v":""},{"$f":"IF(graph!$E$2=0,20,IF(SUM(K744+L744=0),NA(),0.25))","v":20},{"$f":"IF(graph!$E$2=0,20,IF(AND(B744<graph!$E$10+graph!$E$32,B744>graph!$E$10-graph!$E$32),0.25,NA()))","v":20},null,null,null,null,null,null,{"$f":"IF(graph!$E$20=0,0,IF(graph!$E$2=0,20,IF(AND(B744<graph!$E$20+graph!$E$32,B744>graph!$E$20-graph!$E$32),0.25,0)))","v":0},{"$f":"IF(graph!$E$22=0,0,IF(graph!$E$2=0,20,IF(AND(B744>graph!$E$22-graph!$E$32,B744<graph!$E$22+graph!$E$32),0.25,0)))","v":0}]
[null,{"$f":"IF(graph!$E$2=0,\"\",B744+graph!$E$32)","v":""},{"$f":"IF(graph!$E$2=0,20,IF(SUM(K745+L745=0),NA(),0.25))","v":20},{"$f":"IF(graph!$E$2=0,20,IF(AND(B745<graph!$E$10+graph!$E$32,B745>graph!$E$10-graph!$E$32),0.25,NA()))","v":20},null,null,null,null,null,null,{"$f":"IF(graph!$E$20=0,0,IF(graph!$E$2=0,20,IF(AND(B745<graph!$E$20+graph!$E$32,B745>graph!$E$20-graph!$E$32),0.25,0)))","v":0},{"$f":"IF(graph!$E$22=0,0,IF(graph!$E$2=0,20,IF(AND(B745>graph!$E$22-graph!$E$32,B745<graph!$E$22+graph!$E$32),0.25,0)))","v":0}]
[null,{"$f":"IF(graph!$E$2=0,\"\",B745+graph!$E$32)","v":""},{"$f":"IF(graph!$E$2=0,20,IF(SUM(K746+L746=0),NA(),0.25))","v":20},{"$f":"IF(graph!$E$2=0,20,IF(AND(B746<graph!$E$10+graph!$E$32,B746>graph!$E$10-graph!$E$32),0.25,NA()))","v":20},null,null,null,null,null,null,{"$f":"IF(graph!$E$20=0,0,IF(graph!$E$2=0,20,IF(AND(B746<graph!$E$20+graph!$E$32,B746>graph!$E$20-graph!$E$32),0.25,0)))","v":0},{"$f":"IF(graph!$E$22=0,0,IF(graph!$E$2=0,20,IF(AND(B746>graph!$E$22-graph!$E$32,B746<graph!$E$22+graph!$E$32),0.25,0)))","v":0}]
[null,{"$f":"IF(graph!$E$2=0,\"\",B746+graph!$E$32)","v":""},{"$f":"IF(graph!$E$2=0,20,IF(SUM(K747+L747=0),NA(),0.25))","v":20},{"$f":"IF(graph!$E$2=0,20,IF(AND(B747<graph!$E$10+graph!$E$32,B747>graph!$E$10-graph!$E$32),0.25,NA()))","v":20},null,null,null,null,null,null,{"$f":"IF(graph!$E$20=0,0,IF(graph!$E$2=0,20,IF(AND(B747<graph!$E$20+graph!$E$32,B747>graph!$E$20-graph!$E$32),0.25,0)))","v":0},{"$f":"IF(graph!$E$22=0,0,IF(graph!$E$2=0,20,IF(AND(B747>graph!$E$22-graph!$E$32,B747<graph!$E$22+graph!$E$32),0.25,0)))","v":0}]
[null,{"$f":"IF(graph!$E$2=0,\"\",B747+graph!$E$32)","v":""},{"$f":"IF(graph!$E$2=0,20,IF(SUM(K748+L748=0),NA(),0.25))","v":20},{"$f":"IF(graph!$E$2=0,20,IF(AND(B748<graph!$E$10+graph!$E$32,B748>graph!$E$10-graph!$E$32),0.25,NA()))","v":20},null,null,null,null,null,null,{"$f":"IF(graph!$E$20=0,0,IF(graph!$E$2=0,20,IF(AND(B748<graph!$E$20+graph!$E$32,B748>graph!$E$20-graph!$E$32),0.25,0)))","v":0},{"$f":"IF(graph!$E$22=0,0,IF(graph!$E$2=0,20,IF(AND(B748>graph!$E$22-graph!$E$32,B748<graph!$E$22+graph!$E$32),0.25,0)))","v":0}]
[null,{"$f":"IF(graph!$E$2=0,\"\",B748+graph!$E$32)","v":""},{"$f":"IF(graph!$E$2=0,20,IF(SUM(K749+L749=0),NA(),0.25))","v":20},{"$f":"IF(graph!$E$2=0,20,IF(AND(B749<graph!$E$10+graph!$E$32,B749>graph!$E$10-graph!$E$32),0.25,NA()))","v":20},null,null,null,null,null,null,{"$f":"IF(graph!$E$20=0,0,IF(graph!$E$2=0,20,IF(AND(B749<graph!$E$20+graph!$E$32,B749>graph!$E$20-graph!$E$32),0.25,0)))","v":0},{"$f":"IF(graph!$E$22=0,0,IF(graph!$E$2=0,20,IF(AND(B749>graph!$E$22-graph!$E$32,B749<graph!$E$22+graph!$E$32),0.25,0)))","v":0}]
[null,{"$f":"IF(graph!$E$2=0,\"\",B749+graph!$E$32)","v":""},{"$f":"IF(graph!$E$2=0,20,IF(SUM(K750+L750=0),NA(),0.25))","v":20},{"$f":"IF(graph!$E$2=0,20,IF(AND(B750<graph!$E$10+graph!$E$32,B750>graph!$E$10-graph!$E$32),0.25,NA()))","v":20},null,null,null,null,null,null,{"$f":"IF(graph!$E$20=0,0,IF(graph!$E$2=0,20,IF(AND(B750<graph!$E$20+graph!$E$32,B750>graph!$E$20-graph!$E$32),0.25,0)))","v":0},{"$f":"IF(graph!$E$22=0,0,IF(graph!$E$2=0,20,IF(AND(B750>graph!$E$22-graph!$E$32,B750<graph!$E$22+graph!$E$32),0.25,0)))","v":0}]
[null,{"$f":"IF(graph!$E$2=0,\"\",B750+graph!$E$32)","v":""},{"$f":"IF(graph!$E$2=0,20,IF(SUM(K751+L751=0),NA(),0.25))","v":20},{"$f":"IF(graph!$E$2=0,20,IF(AND(B751<graph!$E$10+graph!$E$32,B751>graph!$E$10-graph!$E$32),0.25,NA()))","v":20},null,null,null,null,null,null,{"$f":"IF(graph!$E$20=0,0,IF(graph!$E$2=0,20,IF(AND(B751<graph!$E$20+graph!$E$32,B751>graph!$E$20-graph!$E$32),0.25,0)))","v":0},{"$f":"IF(graph!$E$22=0,0,IF(graph!$E$2=0,20,IF(AND(B751>graph!$E$22-graph!$E$32,B751<graph!$E$22+graph!$E$32),0.25,0)))","v":0}]
[null,{"$f":"IF(graph!$E$2=0,\"\",B751+graph!$E$32)","v":""},{"$f":"IF(graph!$E$2=0,20,IF(SUM(K752+L752=0),NA(),0.25))","v":20},{"$f":"IF(graph!$E$2=0,20,IF(AND(B752<graph!$E$10+graph!$E$32,B752>graph!$E$10-graph!$E$32),0.25,NA()))","v":20},null,null,null,null,null,null,{"$f":"IF(graph!$E$20=0,0,IF(graph!$E$2=0,20,IF(AND(B752<graph!$E$20+graph!$E$32,B752>graph!$E$20-graph!$E$32),0.25,0)))","v":0},{"$f":"IF(graph!$E$22=0,0,IF(graph!$E$2=0,20,IF(AND(B752>graph!$E$22-graph!$E$32,B752<graph!$E$22+graph!$E$32),0.25,0)))","v":0}]
[null,{"$f":"IF(graph!$E$2=0,\"\",B752+graph!$E$32)","v":""},{"$f":"IF(graph!$E$2=0,20,IF(SUM(K753+L753=0),NA(),0.25))","v":20},{"$f":"IF(graph!$E$2=0,20,IF(AND(B753<graph!$E$10+graph!$E$32,B753>graph!$E$10-graph!$E$32),0.25,NA()))","v":20},null,null,null,null,null,null,{"$f":"IF(graph!$E$20=0,0,IF(graph!$E$2=0,20,IF(AND(B753<graph!$E$20+graph!$E$32,B753>graph!$E$20-graph!$E$32),0.25,0)))","v":0},{"$f":"IF(graph!$E$22=0,0,IF(graph!$E$2=0,20,IF(AND(B753>graph!$E$22-graph!$E$32,B753<graph!$E$22+graph!$E$32),0.25,0)))","v":0}]
[null,{"$f":"IF(graph!$E$2=0,\"\",B753+graph!$E$32)","v":""},{"$f":"IF(graph!$E$2=0,20,IF(SUM(K754+L754=0),NA(),0.25))","v":20},{"$f":"IF(graph!$E$2=0,20,IF(AND(B754<graph!$E$10+graph!$E$32,B754>graph!$E$10-graph!$E$32),0.25,NA()))","v":20},null,null,null,null,null,null,{"$f":"IF(graph!$E$20=0,0,IF(graph!$E$2=0,20,IF(AND(B754<graph!$E$20+graph!$E$32,B754>graph!$E$20-graph!$E$32),0.25,0)))","v":0},{"$f":"IF(graph!$E$22=0,0,IF(graph!$E$2=0,20,IF(AND(B754>graph!$E$22-graph!$E$32,B754<graph!$E$22+graph!$E$32),0.25,0)))","v":0}]
[null,{"$f":"IF(graph!$E$2=0,\"\",B754+graph!$E$32)","v":""},{"$f":"IF(graph!$E$2=0,20,IF(SUM(K755+L755=0),NA(),0.25))","v":20},{"$f":"IF(graph!$E$2=0,20,IF(AND(B755<graph!$E$10+graph!$E$32,B755>graph!$E$10-graph!$E$32),0.25,NA()))","v":20},null,null,null,null,null,null,{"$f":"IF(graph!$E$20=0,0,IF(graph!$E$2=0,20,IF(AND(B755<graph!$E$20+graph!$E$32,B755>graph!$E$20-graph!$E$32),0.25,0)))","v":0},{"$f":"IF(graph!$E$22=0,0,IF(graph!$E$2=0,20,IF(AND(B755>graph!$E$22-graph!$E$32,B755<graph!$E$22+graph!$E$32),0.25,0)))","v":0}]
[null,{"$f":"IF(graph!$E$2=0,\"\",B755+graph!$E$32)","v":""},{"$f":"IF(graph!$E$2=0,20,IF(SUM(K756+L756=0),NA(),0.25))","v":20},{"$f":"IF(graph!$E$2=0,20,IF(AND(B756<graph!$E$10+graph!$E$32,B756>graph!$E$10-graph!$E$32),0.25,NA()))","v":20},null,null,null,null,null,null,{"$f":"IF(graph!$E$20=0,0,IF(graph!$E$2=0,20,IF(AND(B756<graph!$E$20+graph!$E$32,B756>graph!$E$20-graph!$E$32),0.25,0)))","v":0},{"$f":"IF(graph!$E$22=0,0,IF(graph!$E$2=0,20,IF(AND(B756>graph!$E$22-graph!$E$32,B756<graph!$E$22+graph!$E$32),0.25,0)))","v":0}]
[null,{"$f":"IF(graph!$E$2=0,\"\",B756+graph!$E$32)","v":""},{"$f":"IF(graph!$E$2=0,20,IF(SUM(K757+L757=0),NA(),0.25))","v":20},{"$f":"IF(graph!$E$2=0,20,IF(AND(B757<graph!$E$10+graph!$E$32,B757>graph!$E$10-graph!$E$32),0.25,NA()))","v":20},null,null,null,null,null,null,{"$f":"IF(graph!$E$20=0,0,IF(graph!$E$2=0,20,IF(AND(B757<graph!$E$20+graph!$E$32,B757>graph!$E$20-graph!$E$32),0.25,0)))","v":0},{"$f":"IF(graph!$E$22=0,0,IF(graph!$E$2=0,20,IF(AND(B757>graph!$E$22-graph!$E$32,B757<graph!$E$22+graph!$E$32),0.25,0)))","v":0}]
[null,{"$f":"IF(graph!$E$2=0,\"\",B757+graph!$E$32)","v":""},{"$f":"IF(graph!$E$2=0,20,IF(SUM(K758+L758=0),NA(),0.25))","v":20},{"$f":"IF(graph!$E$2=0,20,IF(AND(B758<graph!$E$10+graph!$E$32,B758>graph!$E$10-graph!$E$32),0.25,NA()))","v":20},null,null,null,null,null,null,{"$f":"IF(graph!$E$20=0,0,IF(graph!$E$2=0,20,IF(AND(B758<graph!$E$20+graph!$E$32,B758>graph!$E$20-graph!$E$32),0.25,0)))","v":0},{"$f":"IF(graph!$E$22=0,0,IF(graph!$E$2=0,20,IF(AND(B758>graph!$E$22-graph!$E$32,B758<graph!$E$22+graph!$E$32),0.25,0)))","v":0}]
[null,{"$f":"IF(graph!$E$2=0,\"\",B758+graph!$E$32)","v":""},{"$f":"IF(graph!$E$2=0,20,IF(SUM(K759+L759=0),NA(),0.25))","v":20},{"$f":"IF(graph!$E$2=0,20,IF(AND(B759<graph!$E$10+graph!$E$32,B759>graph!$E$10-graph!$E$32),0.25,NA()))","v":20},null,null,null,null,null,null,{"$f":"IF(graph!$E$20=0,0,IF(graph!$E$2=0,20,IF(AND(B759<graph!$E$20+graph!$E$32,B759>graph!$E$20-graph!$E$32),0.25,0)))","v":0},{"$f":"IF(graph!$E$22=0,0,IF(graph!$E$2=0,20,IF(AND(B759>graph!$E$22-graph!$E$32,B759<graph!$E$22+graph!$E$32),0.25,0)))","v":0}]
[null,{"$f":"IF(graph!$E$2=0,\"\",B759+graph!$E$32)","v":""},{"$f":"IF(graph!$E$2=0,20,IF(SUM(K760+L760=0),NA(),0.25))","v":20},{"$f":"IF(graph!$E$2=0,20,IF(AND(B760<graph!$E$10+graph!$E$32,B760>graph!$E$10-graph!$E$32),0.25,NA()))","v":20},null,null,null,null,null,null,{"$f":"IF(graph!$E$20=0,0,IF(graph!$E$2=0,20,IF(AND(B760<graph!$E$20+graph!$E$32,B760>graph!$E$20-graph!$E$32),0.25,0)))","v":0},{"$f":"IF(graph!$E$22=0,0,IF(graph!$E$2=0,20,IF(AND(B760>graph!$E$22-graph!$E$32,B760<graph!$E$22+graph!$E$32),0.25,0)))","v":0}]
[null,{"$f":"IF(graph!$E$2=0,\"\",B760+graph!$E$32)","v":""},{"$f":"IF(graph!$E$2=0,20,IF(SUM(K761+L761=0),NA(),0.25))","v":20},{"$f":"IF(graph!$E$2=0,20,IF(AND(B761<graph!$E$10+graph!$E$32,B761>graph!$E$10-graph!$E$32),0.25,NA()))","v":20},null,null,null,null,null,null,{"$f":"IF(graph!$E$20=0,0,IF(graph!$E$2=0,20,IF(AND(B761<graph!$E$20+graph!$E$32,B761>graph!$E$20-graph!$E$32),0.25,0)))","v":0},{"$f":"IF(graph!$E$22=0,0,IF(graph!$E$2=0,20,IF(AND(B761>graph!$E$22-graph!$E$32,B761<graph!$E$22+graph!$E$32),0.25,0)))","v":0}]
[null,{"$f":"IF(graph!$E$2=0,\"\",B761+graph!$E$32)","v":""},{"$f":"IF(graph!$E$2=0,20,IF(SUM(K762+L762=0),NA(),0.25))","v":20},{"$f":"IF(graph!$E$2=0,20,IF(AND(B762<graph!$E$10+graph!$E$32,B762>graph!$E$10-graph!$E$32),0.25,NA()))","v":20},null,null,null,null,null,null,{"$f":"IF(graph!$E$20=0,0,IF(graph!$E$2=0,20,IF(AND(B762<graph!$E$20+graph!$E$32,B762>graph!$E$20-graph!$E$32),0.25,0)))","v":0},{"$f":"IF(graph!$E$22=0,0,IF(graph!$E$2=0,20,IF(AND(B762>graph!$E$22-graph!$E$32,B762<graph!$E$22+graph!$E$32),0.25,0)))","v":0}]
[null,{"$f":"IF(graph!$E$2=0,\"\",B762+graph!$E$32)","v":""},{"$f":"IF(graph!$E$2=0,20,IF(SUM(K763+L763=0),NA(),0.25))","v":20},{"$f":"IF(graph!$E$2=0,20,IF(AND(B763<graph!$E$10+graph!$E$32,B763>graph!$E$10-graph!$E$32),0.25,NA()))","v":20},null,null,null,null,null,null,{"$f":"IF(graph!$E$20=0,0,IF(graph!$E$2=0,20,IF(AND(B763<graph!$E$20+graph!$E$32,B763>graph!$E$20-graph!$E$32),0.25,0)))","v":0},{"$f":"IF(graph!$E$22=0,0,IF(graph!$E$2=0,20,IF(AND(B763>graph!$E$22-graph!$E$32,B763<graph!$E$22+graph!$E$32),0.25,0)))","v":0}]
[null,{"$f":"IF(graph!$E$2=0,\"\",B763+graph!$E$32)","v":""},{"$f":"IF(graph!$E$2=0,20,IF(SUM(K764+L764=0),NA(),0.25))","v":20},{"$f":"IF(graph!$E$2=0,20,IF(AND(B764<graph!$E$10+graph!$E$32,B764>graph!$E$10-graph!$E$32),0.25,NA()))","v":20},null,null,null,null,null,null,{"$f":"IF(graph!$E$20=0,0,IF(graph!$E$2=0,20,IF(AND(B764<graph!$E$20+graph!$E$32,B764>graph!$E$20-graph!$E$32),0.25,0)))","v":0},{"$f":"IF(graph!$E$22=0,0,IF(graph!$E$2=0,20,IF(AND(B764>graph!$E$22-graph!$E$32,B764<graph!$E$22+graph!$E$32),0.25,0)))","v":0}]
[null,{"$f":"IF(graph!$E$2=0,\"\",B764+graph!$E$32)","v":""},{"$f":"IF(graph!$E$2=0,20,IF(SUM(K765+L765=0),NA(),0.25))","v":20},{"$f":"IF(graph!$E$2=0,20,IF(AND(B765<graph!$E$10+graph!$E$32,B765>graph!$E$10-graph!$E$32),0.25,NA()))","v":20},null,null,null,null,null,null,{"$f":"IF(graph!$E$20=0,0,IF(graph!$E$2=0,20,IF(AND(B765<graph!$E$20+graph!$E$32,B765>graph!$E$20-graph!$E$32),0.25,0)))","v":0},{"$f":"IF(graph!$E$22=0,0,IF(graph!$E$2=0,20,IF(AND(B765>graph!$E$22-graph!$E$32,B765<graph!$E$22+graph!$E$32),0.25,0)))","v":0}]
[null,{"$f":"IF(graph!$E$2=0,\"\",B765+graph!$E$32)","v":""},{"$f":"IF(graph!$E$2=0,20,IF(SUM(K766+L766=0),NA(),0.25))","v":20},{"$f":"IF(graph!$E$2=0,20,IF(AND(B766<graph!$E$10+graph!$E$32,B766>graph!$E$10-graph!$E$32),0.25,NA()))","v":20},null,null,null,null,null,null,{"$f":"IF(graph!$E$20=0,0,IF(graph!$E$2=0,20,IF(AND(B766<graph!$E$20+graph!$E$32,B766>graph!$E$20-graph!$E$32),0.25,0)))","v":0},{"$f":"IF(graph!$E$22=0,0,IF(graph!$E$2=0,20,IF(AND(B766>graph!$E$22-graph!$E$32,B766<graph!$E$22+graph!$E$32),0.25,0)))","v":0}]
[null,{"$f":"IF(graph!$E$2=0,\"\",B766+graph!$E$32)","v":""},{"$f":"IF(graph!$E$2=0,20,IF(SUM(K767+L767=0),NA(),0.25))","v":20},{"$f":"IF(graph!$E$2=0,20,IF(AND(B767<graph!$E$10+graph!$E$32,B767>graph!$E$10-graph!$E$32),0.25,NA()))","v":20},null,null,null,null,null,null,{"$f":"IF(graph!$E$20=0,0,IF(graph!$E$2=0,20,IF(AND(B767<graph!$E$20+graph!$E$32,B767>graph!$E$20-graph!$E$32),0.25,0)))","v":0},{"$f":"IF(graph!$E$22=0,0,IF(graph!$E$2=0,20,IF(AND(B767>graph!$E$22-graph!$E$32,B767<graph!$E$22+graph!$E$32),0.25,0)))","v":0}]
[null,{"$f":"IF(graph!$E$2=0,\"\",B767+graph!$E$32)","v":""},{"$f":"IF(graph!$E$2=0,20,IF(SUM(K768+L768=0),NA(),0.25))","v":20},{"$f":"IF(graph!$E$2=0,20,IF(AND(B768<graph!$E$10+graph!$E$32,B768>graph!$E$10-graph!$E$32),0.25,NA()))","v":20},null,null,null,null,null,null,{"$f":"IF(graph!$E$20=0,0,IF(graph!$E$2=0,20,IF(AND(B768<graph!$E$20+graph!$E$32,B768>graph!$E$20-graph!$E$32),0.25,0)))","v":0},{"$f":"IF(graph!$E$22=0,0,IF(graph!$E$2=0,20,IF(AND(B768>graph!$E$22-graph!$E$32,B768<graph!$E$22+graph!$E$32),0.25,0)))","v":0}]
[null,{"$f":"IF(graph!$E$2=0,\"\",B768+graph!$E$32)","v":""},{"$f":"IF(graph!$E$2=0,20,IF(SUM(K769+L769=0),NA(),0.25))","v":20},{"$f":"IF(graph!$E$2=0,20,IF(AND(B769<graph!$E$10+graph!$E$32,B769>graph!$E$10-graph!$E$32),0.25,NA()))","v":20},null,null,null,null,null,null,{"$f":"IF(graph!$E$20=0,0,IF(graph!$E$2=0,20,IF(AND(B769<graph!$E$20+graph!$E$32,B769>graph!$E$20-graph!$E$32),0.25,0)))","v":0},{"$f":"IF(graph!$E$22=0,0,IF(graph!$E$2=0,20,IF(AND(B769>graph!$E$22-graph!$E$32,B769<graph!$E$22+graph!$E$32),0.25,0)))","v":0}]
[null,{"$f":"IF(graph!$E$2=0,\"\",B769+graph!$E$32)","v":""},{"$f":"IF(graph!$E$2=0,20,IF(SUM(K770+L770=0),NA(),0.25))","v":20},{"$f":"IF(graph!$E$2=0,20,IF(AND(B770<graph!$E$10+graph!$E$32,B770>graph!$E$10-graph!$E$32),0.25,NA()))","v":20},null,null,null,null,null,null,{"$f":"IF(graph!$E$20=0,0,IF(graph!$E$2=0,20,IF(AND(B770<graph!$E$20+graph!$E$32,B770>graph!$E$20-graph!$E$32),0.25,0)))","v":0},{"$f":"IF(graph!$E$22=0,0,IF(graph!$E$2=0,20,IF(AND(B770>graph!$E$22-graph!$E$32,B770<graph!$E$22+graph!$E$32),0.25,0)))","v":0}]
[null,{"$f":"IF(graph!$E$2=0,\"\",B770+graph!$E$32)","v":""},{"$f":"IF(graph!$E$2=0,20,IF(SUM(K771+L771=0),NA(),0.25))","v":20},{"$f":"IF(graph!$E$2=0,20,IF(AND(B771<graph!$E$10+graph!$E$32,B771>graph!$E$10-graph!$E$32),0.25,NA()))","v":20},null,null,null,null,null,null,{"$f":"IF(graph!$E$20=0,0,IF(graph!$E$2=0,20,IF(AND(B771<graph!$E$20+graph!$E$32,B771>graph!$E$20-graph!$E$32),0.25,0)))","v":0},{"$f":"IF(graph!$E$22=0,0,IF(graph!$E$2=0,20,IF(AND(B771>graph!$E$22-graph!$E$32,B771<graph!$E$22+graph!$E$32),0.25,0)))","v":0}]
[null,{"$f":"IF(graph!$E$2=0,\"\",B771+graph!$E$32)","v":""},{"$f":"IF(graph!$E$2=0,20,IF(SUM(K772+L772=0),NA(),0.25))","v":20},{"$f":"IF(graph!$E$2=0,20,IF(AND(B772<graph!$E$10+graph!$E$32,B772>graph!$E$10-graph!$E$32),0.25,NA()))","v":20},null,null,null,null,null,null,{"$f":"IF(graph!$E$20=0,0,IF(graph!$E$2=0,20,IF(AND(B772<graph!$E$20+graph!$E$32,B772>graph!$E$20-graph!$E$32),0.25,0)))","v":0},{"$f":"IF(graph!$E$22=0,0,IF(graph!$E$2=0,20,IF(AND(B772>graph!$E$22-graph!$E$32,B772<graph!$E$22+graph!$E$32),0.25,0)))","v":0}]
[null,{"$f":"IF(graph!$E$2=0,\"\",B772+graph!$E$32)","v":""},{"$f":"IF(graph!$E$2=0,20,IF(SUM(K773+L773=0),NA(),0.25))","v":20},{"$f":"IF(graph!$E$2=0,20,IF(AND(B773<graph!$E$10+graph!$E$32,B773>graph!$E$10-graph!$E$32),0.25,NA()))","v":20},null,null,null,null,null,null,{"$f":"IF(graph!$E$20=0,0,IF(graph!$E$2=0,20,IF(AND(B773<graph!$E$20+graph!$E$32,B773>graph!$E$20-graph!$E$32),0.25,0)))","v":0},{"$f":"IF(graph!$E$22=0,0,IF(graph!$E$2=0,20,IF(AND(B773>graph!$E$22-graph!$E$32,B773<graph!$E$22+graph!$E$32),0.25,0)))","v":0}]
[null,{"$f":"IF(graph!$E$2=0,\"\",B773+graph!$E$32)","v":""},{"$f":"IF(graph!$E$2=0,20,IF(SUM(K774+L774=0),NA(),0.25))","v":20},{"$f":"IF(graph!$E$2=0,20,IF(AND(B774<graph!$E$10+graph!$E$32,B774>graph!$E$10-graph!$E$32),0.25,NA()))","v":20},null,null,null,null,null,null,{"$f":"IF(graph!$E$20=0,0,IF(graph!$E$2=0,20,IF(AND(B774<graph!$E$20+graph!$E$32,B774>graph!$E$20-graph!$E$32),0.25,0)))","v":0},{"$f":"IF(graph!$E$22=0,0,IF(graph!$E$2=0,20,IF(AND(B774>graph!$E$22-graph!$E$32,B774<graph!$E$22+graph!$E$32),0.25,0)))","v":0}]
[null,{"$f":"IF(graph!$E$2=0,\"\",B774+graph!$E$32)","v":""},{"$f":"IF(graph!$E$2=0,20,IF(SUM(K775+L775=0),NA(),0.25))","v":20},{"$f":"IF(graph!$E$2=0,20,IF(AND(B775<graph!$E$10+graph!$E$32,B775>graph!$E$10-graph!$E$32),0.25,NA()))","v":20},null,null,null,null,null,null,{"$f":"IF(graph!$E$20=0,0,IF(graph!$E$2=0,20,IF(AND(B775<graph!$E$20+graph!$E$32,B775>graph!$E$20-graph!$E$32),0.25,0)))","v":0},{"$f":"IF(graph!$E$22=0,0,IF(graph!$E$2=0,20,IF(AND(B775>graph!$E$22-graph!$E$32,B775<graph!$E$22+graph!$E$32),0.25,0)))","v":0}]
[null,{"$f":"IF(graph!$E$2=0,\"\",B775+graph!$E$32)","v":""},{"$f":"IF(graph!$E$2=0,20,IF(SUM(K776+L776=0),NA(),0.25))","v":20},{"$f":"IF(graph!$E$2=0,20,IF(AND(B776<graph!$E$10+graph!$E$32,B776>graph!$E$10-graph!$E$32),0.25,NA()))","v":20},null,null,null,null,null,null,{"$f":"IF(graph!$E$20=0,0,IF(graph!$E$2=0,20,IF(AND(B776<graph!$E$20+graph!$E$32,B776>graph!$E$20-graph!$E$32),0.25,0)))","v":0},{"$f":"IF(graph!$E$22=0,0,IF(graph!$E$2=0,20,IF(AND(B776>graph!$E$22-graph!$E$32,B776<graph!$E$22+graph!$E$32),0.25,0)))","v":0}]
[null,{"$f":"IF(graph!$E$2=0,\"\",B776+graph!$E$32)","v":""},{"$f":"IF(graph!$E$2=0,20,IF(SUM(K777+L777=0),NA(),0.25))","v":20},{"$f":"IF(graph!$E$2=0,20,IF(AND(B777<graph!$E$10+graph!$E$32,B777>graph!$E$10-graph!$E$32),0.25,NA()))","v":20},null,null,null,null,null,null,{"$f":"IF(graph!$E$20=0,0,IF(graph!$E$2=0,20,IF(AND(B777<graph!$E$20+graph!$E$32,B777>graph!$E$20-graph!$E$32),0.25,0)))","v":0},{"$f":"IF(graph!$E$22=0,0,IF(graph!$E$2=0,20,IF(AND(B777>graph!$E$22-graph!$E$32,B777<graph!$E$22+graph!$E$32),0.25,0)))","v":0}]
[null,{"$f":"IF(graph!$E$2=0,\"\",B777+graph!$E$32)","v":""},{"$f":"IF(graph!$E$2=0,20,IF(SUM(K778+L778=0),NA(),0.25))","v":20},{"$f":"IF(graph!$E$2=0,20,IF(AND(B778<graph!$E$10+graph!$E$32,B778>graph!$E$10-graph!$E$32),0.25,NA()))","v":20},null,null,null,null,null,null,{"$f":"IF(graph!$E$20=0,0,IF(graph!$E$2=0,20,IF(AND(B778<graph!$E$20+graph!$E$32,B778>graph!$E$20-graph!$E$32),0.25,0)))","v":0},{"$f":"IF(graph!$E$22=0,0,IF(graph!$E$2=0,20,IF(AND(B778>graph!$E$22-graph!$E$32,B778<graph!$E$22+graph!$E$32),0.25,0)))","v":0}]
[null,{"$f":"IF(graph!$E$2=0,\"\",B778+graph!$E$32)","v":""},{"$f":"IF(graph!$E$2=0,20,IF(SUM(K779+L779=0),NA(),0.25))","v":20},{"$f":"IF(graph!$E$2=0,20,IF(AND(B779<graph!$E$10+graph!$E$32,B779>graph!$E$10-graph!$E$32),0.25,NA()))","v":20},null,null,null,null,null,null,{"$f":"IF(graph!$E$20=0,0,IF(graph!$E$2=0,20,IF(AND(B779<graph!$E$20+graph!$E$32,B779>graph!$E$20-graph!$E$32),0.25,0)))","v":0},{"$f":"IF(graph!$E$22=0,0,IF(graph!$E$2=0,20,IF(AND(B779>graph!$E$22-graph!$E$32,B779<graph!$E$22+graph!$E$32),0.25,0)))","v":0}]
[null,{"$f":"IF(graph!$E$2=0,\"\",B779+graph!$E$32)","v":""},{"$f":"IF(graph!$E$2=0,20,IF(SUM(K780+L780=0),NA(),0.25))","v":20},{"$f":"IF(graph!$E$2=0,20,IF(AND(B780<graph!$E$10+graph!$E$32,B780>graph!$E$10-graph!$E$32),0.25,NA()))","v":20},null,null,null,null,null,null,{"$f":"IF(graph!$E$20=0,0,IF(graph!$E$2=0,20,IF(AND(B780<graph!$E$20+graph!$E$32,B780>graph!$E$20-graph!$E$32),0.25,0)))","v":0},{"$f":"IF(graph!$E$22=0,0,IF(graph!$E$2=0,20,IF(AND(B780>graph!$E$22-graph!$E$32,B780<graph!$E$22+graph!$E$32),0.25,0)))","v":0}]
[null,{"$f":"IF(graph!$E$2=0,\"\",B780+graph!$E$32)","v":""},{"$f":"IF(graph!$E$2=0,20,IF(SUM(K781+L781=0),NA(),0.25))","v":20},{"$f":"IF(graph!$E$2=0,20,IF(AND(B781<graph!$E$10+graph!$E$32,B781>graph!$E$10-graph!$E$32),0.25,NA()))","v":20},null,null,null,null,null,null,{"$f":"IF(graph!$E$20=0,0,IF(graph!$E$2=0,20,IF(AND(B781<graph!$E$20+graph!$E$32,B781>graph!$E$20-graph!$E$32),0.25,0)))","v":0},{"$f":"IF(graph!$E$22=0,0,IF(graph!$E$2=0,20,IF(AND(B781>graph!$E$22-graph!$E$32,B781<graph!$E$22+graph!$E$32),0.25,0)))","v":0}]
[null,{"$f":"IF(graph!$E$2=0,\"\",B781+graph!$E$32)","v":""},{"$f":"IF(graph!$E$2=0,20,IF(SUM(K782+L782=0),NA(),0.25))","v":20},{"$f":"IF(graph!$E$2=0,20,IF(AND(B782<graph!$E$10+graph!$E$32,B782>graph!$E$10-graph!$E$32),0.25,NA()))","v":20},null,null,null,null,null,null,{"$f":"IF(graph!$E$20=0,0,IF(graph!$E$2=0,20,IF(AND(B782<graph!$E$20+graph!$E$32,B782>graph!$E$20-graph!$E$32),0.25,0)))","v":0},{"$f":"IF(graph!$E$22=0,0,IF(graph!$E$2=0,20,IF(AND(B782>graph!$E$22-graph!$E$32,B782<graph!$E$22+graph!$E$32),0.25,0)))","v":0}]
[null,{"$f":"IF(graph!$E$2=0,\"\",B782+graph!$E$32)","v":""},{"$f":"IF(graph!$E$2=0,20,IF(SUM(K783+L783=0),NA(),0.25))","v":20},{"$f":"IF(graph!$E$2=0,20,IF(AND(B783<graph!$E$10+graph!$E$32,B783>graph!$E$10-graph!$E$32),0.25,NA()))","v":20},null,null,null,null,null,null,{"$f":"IF(graph!$E$20=0,0,IF(graph!$E$2=0,20,IF(AND(B783<graph!$E$20+graph!$E$32,B783>graph!$E$20-graph!$E$32),0.25,0)))","v":0},{"$f":"IF(graph!$E$22=0,0,IF(graph!$E$2=0,20,IF(AND(B783>graph!$E$22-graph!$E$32,B783<graph!$E$22+graph!$E$32),0.25,0)))","v":0}]
[null,{"$f":"IF(graph!$E$2=0,\"\",B783+graph!$E$32)","v":""},{"$f":"IF(graph!$E$2=0,20,IF(SUM(K784+L784=0),NA(),0.25))","v":20},{"$f":"IF(graph!$E$2=0,20,IF(AND(B784<graph!$E$10+graph!$E$32,B784>graph!$E$10-graph!$E$32),0.25,NA()))","v":20},null,null,null,null,null,null,{"$f":"IF(graph!$E$20=0,0,IF(graph!$E$2=0,20,IF(AND(B784<graph!$E$20+graph!$E$32,B784>graph!$E$20-graph!$E$32),0.25,0)))","v":0},{"$f":"IF(graph!$E$22=0,0,IF(graph!$E$2=0,20,IF(AND(B784>graph!$E$22-graph!$E$32,B784<graph!$E$22+graph!$E$32),0.25,0)))","v":0}]
[null,{"$f":"IF(graph!$E$2=0,\"\",B784+graph!$E$32)","v":""},{"$f":"IF(graph!$E$2=0,20,IF(SUM(K785+L785=0),NA(),0.25))","v":20},{"$f":"IF(graph!$E$2=0,20,IF(AND(B785<graph!$E$10+graph!$E$32,B785>graph!$E$10-graph!$E$32),0.25,NA()))","v":20},null,null,null,null,null,null,{"$f":"IF(graph!$E$20=0,0,IF(graph!$E$2=0,20,IF(AND(B785<graph!$E$20+graph!$E$32,B785>graph!$E$20-graph!$E$32),0.25,0)))","v":0},{"$f":"IF(graph!$E$22=0,0,IF(graph!$E$2=0,20,IF(AND(B785>graph!$E$22-graph!$E$32,B785<graph!$E$22+graph!$E$32),0.25,0)))","v":0}]
[null,{"$f":"IF(graph!$E$2=0,\"\",B785+graph!$E$32)","v":""},{"$f":"IF(graph!$E$2=0,20,IF(SUM(K786+L786=0),NA(),0.25))","v":20},{"$f":"IF(graph!$E$2=0,20,IF(AND(B786<graph!$E$10+graph!$E$32,B786>graph!$E$10-graph!$E$32),0.25,NA()))","v":20},null,null,null,null,null,null,{"$f":"IF(graph!$E$20=0,0,IF(graph!$E$2=0,20,IF(AND(B786<graph!$E$20+graph!$E$32,B786>graph!$E$20-graph!$E$32),0.25,0)))","v":0},{"$f":"IF(graph!$E$22=0,0,IF(graph!$E$2=0,20,IF(AND(B786>graph!$E$22-graph!$E$32,B786<graph!$E$22+graph!$E$32),0.25,0)))","v":0}]
[null,{"$f":"IF(graph!$E$2=0,\"\",B786+graph!$E$32)","v":""},{"$f":"IF(graph!$E$2=0,20,IF(SUM(K787+L787=0),NA(),0.25))","v":20},{"$f":"IF(graph!$E$2=0,20,IF(AND(B787<graph!$E$10+graph!$E$32,B787>graph!$E$10-graph!$E$32),0.25,NA()))","v":20},null,null,null,null,null,null,{"$f":"IF(graph!$E$20=0,0,IF(graph!$E$2=0,20,IF(AND(B787<graph!$E$20+graph!$E$32,B787>graph!$E$20-graph!$E$32),0.25,0)))","v":0},{"$f":"IF(graph!$E$22=0,0,IF(graph!$E$2=0,20,IF(AND(B787>graph!$E$22-graph!$E$32,B787<graph!$E$22+graph!$E$32),0.25,0)))","v":0}]
[null,{"$f":"IF(graph!$E$2=0,\"\",B787+graph!$E$32)","v":""},{"$f":"IF(graph!$E$2=0,20,IF(SUM(K788+L788=0),NA(),0.25))","v":20},{"$f":"IF(graph!$E$2=0,20,IF(AND(B788<graph!$E$10+graph!$E$32,B788>graph!$E$10-graph!$E$32),0.25,NA()))","v":20},null,null,null,null,null,null,{"$f":"IF(graph!$E$20=0,0,IF(graph!$E$2=0,20,IF(AND(B788<graph!$E$20+graph!$E$32,B788>graph!$E$20-graph!$E$32),0.25,0)))","v":0},{"$f":"IF(graph!$E$22=0,0,IF(graph!$E$2=0,20,IF(AND(B788>graph!$E$22-graph!$E$32,B788<graph!$E$22+graph!$E$32),0.25,0)))","v":0}]
[null,{"$f":"IF(graph!$E$2=0,\"\",B788+graph!$E$32)","v":""},{"$f":"IF(graph!$E$2=0,20,IF(SUM(K789+L789=0),NA(),0.25))","v":20},{"$f":"IF(graph!$E$2=0,20,IF(AND(B789<graph!$E$10+graph!$E$32,B789>graph!$E$10-graph!$E$32),0.25,NA()))","v":20},null,null,null,null,null,null,{"$f":"IF(graph!$E$20=0,0,IF(graph!$E$2=0,20,IF(AND(B789<graph!$E$20+graph!$E$32,B789>graph!$E$20-graph!$E$32),0.25,0)))","v":0},{"$f":"IF(graph!$E$22=0,0,IF(graph!$E$2=0,20,IF(AND(B789>graph!$E$22-graph!$E$32,B789<graph!$E$22+graph!$E$32),0.25,0)))","v":0}]
[null,{"$f":"IF(graph!$E$2=0,\"\",B789+graph!$E$32)","v":""},{"$f":"IF(graph!$E$2=0,20,IF(SUM(K790+L790=0),NA(),0.25))","v":20},{"$f":"IF(graph!$E$2=0,20,IF(AND(B790<graph!$E$10+graph!$E$32,B790>graph!$E$10-graph!$E$32),0.25,NA()))","v":20},null,null,null,null,null,null,{"$f":"IF(graph!$E$20=0,0,IF(graph!$E$2=0,20,IF(AND(B790<graph!$E$20+graph!$E$32,B790>graph!$E$20-graph!$E$32),0.25,0)))","v":0},{"$f":"IF(graph!$E$22=0,0,IF(graph!$E$2=0,20,IF(AND(B790>graph!$E$22-graph!$E$32,B790<graph!$E$22+graph!$E$32),0.25,0)))","v":0}]
[null,{"$f":"IF(graph!$E$2=0,\"\",B790+graph!$E$32)","v":""},{"$f":"IF(graph!$E$2=0,20,IF(SUM(K791+L791=0),NA(),0.25))","v":20},{"$f":"IF(graph!$E$2=0,20,IF(AND(B791<graph!$E$10+graph!$E$32,B791>graph!$E$10-graph!$E$32),0.25,NA()))","v":20},null,null,null,null,null,null,{"$f":"IF(graph!$E$20=0,0,IF(graph!$E$2=0,20,IF(AND(B791<graph!$E$20+graph!$E$32,B791>graph!$E$20-graph!$E$32),0.25,0)))","v":0},{"$f":"IF(graph!$E$22=0,0,IF(graph!$E$2=0,20,IF(AND(B791>graph!$E$22-graph!$E$32,B791<graph!$E$22+graph!$E$32),0.25,0)))","v":0}]
[null,{"$f":"IF(graph!$E$2=0,\"\",B791+graph!$E$32)","v":""},{"$f":"IF(graph!$E$2=0,20,IF(SUM(K792+L792=0),NA(),0.25))","v":20},{"$f":"IF(graph!$E$2=0,20,IF(AND(B792<graph!$E$10+graph!$E$32,B792>graph!$E$10-graph!$E$32),0.25,NA()))","v":20},null,null,null,null,null,null,{"$f":"IF(graph!$E$20=0,0,IF(graph!$E$2=0,20,IF(AND(B792<graph!$E$20+graph!$E$32,B792>graph!$E$20-graph!$E$32),0.25,0)))","v":0},{"$f":"IF(graph!$E$22=0,0,IF(graph!$E$2=0,20,IF(AND(B792>graph!$E$22-graph!$E$32,B792<graph!$E$22+graph!$E$32),0.25,0)))","v":0}]
[null,{"$f":"IF(graph!$E$2=0,\"\",B792+graph!$E$32)","v":""},{"$f":"IF(graph!$E$2=0,20,IF(SUM(K793+L793=0),NA(),0.25))","v":20},{"$f":"IF(graph!$E$2=0,20,IF(AND(B793<graph!$E$10+graph!$E$32,B793>graph!$E$10-graph!$E$32),0.25,NA()))","v":20},null,null,null,null,null,null,{"$f":"IF(graph!$E$20=0,0,IF(graph!$E$2=0,20,IF(AND(B793<graph!$E$20+graph!$E$32,B793>graph!$E$20-graph!$E$32),0.25,0)))","v":0},{"$f":"IF(graph!$E$22=0,0,IF(graph!$E$2=0,20,IF(AND(B793>graph!$E$22-graph!$E$32,B793<graph!$E$22+graph!$E$32),0.25,0)))","v":0}]
[null,{"$f":"IF(graph!$E$2=0,\"\",B793+graph!$E$32)","v":""},{"$f":"IF(graph!$E$2=0,20,IF(SUM(K794+L794=0),NA(),0.25))","v":20},{"$f":"IF(graph!$E$2=0,20,IF(AND(B794<graph!$E$10+graph!$E$32,B794>graph!$E$10-graph!$E$32),0.25,NA()))","v":20},null,null,null,null,null,null,{"$f":"IF(graph!$E$20=0,0,IF(graph!$E$2=0,20,IF(AND(B794<graph!$E$20+graph!$E$32,B794>graph!$E$20-graph!$E$32),0.25,0)))","v":0},{"$f":"IF(graph!$E$22=0,0,IF(graph!$E$2=0,20,IF(AND(B794>graph!$E$22-graph!$E$32,B794<graph!$E$22+graph!$E$32),0.25,0)))","v":0}]
[null,{"$f":"IF(graph!$E$2=0,\"\",B794+graph!$E$32)","v":""},{"$f":"IF(graph!$E$2=0,20,IF(SUM(K795+L795=0),NA(),0.25))","v":20},{"$f":"IF(graph!$E$2=0,20,IF(AND(B795<graph!$E$10+graph!$E$32,B795>graph!$E$10-graph!$E$32),0.25,NA()))","v":20},null,null,null,null,null,null,{"$f":"IF(graph!$E$20=0,0,IF(graph!$E$2=0,20,IF(AND(B795<graph!$E$20+graph!$E$32,B795>graph!$E$20-graph!$E$32),0.25,0)))","v":0},{"$f":"IF(graph!$E$22=0,0,IF(graph!$E$2=0,20,IF(AND(B795>graph!$E$22-graph!$E$32,B795<graph!$E$22+graph!$E$32),0.25,0)))","v":0}]
[null,{"$f":"IF(graph!$E$2=0,\"\",B795+graph!$E$32)","v":""},{"$f":"IF(graph!$E$2=0,20,IF(SUM(K796+L796=0),NA(),0.25))","v":20},{"$f":"IF(graph!$E$2=0,20,IF(AND(B796<graph!$E$10+graph!$E$32,B796>graph!$E$10-graph!$E$32),0.25,NA()))","v":20},null,null,null,null,null,null,{"$f":"IF(graph!$E$20=0,0,IF(graph!$E$2=0,20,IF(AND(B796<graph!$E$20+graph!$E$32,B796>graph!$E$20-graph!$E$32),0.25,0)))","v":0},{"$f":"IF(graph!$E$22=0,0,IF(graph!$E$2=0,20,IF(AND(B796>graph!$E$22-graph!$E$32,B796<graph!$E$22+graph!$E$32),0.25,0)))","v":0}]
[null,{"$f":"IF(graph!$E$2=0,\"\",B796+graph!$E$32)","v":""},{"$f":"IF(graph!$E$2=0,20,IF(SUM(K797+L797=0),NA(),0.25))","v":20},{"$f":"IF(graph!$E$2=0,20,IF(AND(B797<graph!$E$10+graph!$E$32,B797>graph!$E$10-graph!$E$32),0.25,NA()))","v":20},null,null,null,null,null,null,{"$f":"IF(graph!$E$20=0,0,IF(graph!$E$2=0,20,IF(AND(B797<graph!$E$20+graph!$E$32,B797>graph!$E$20-graph!$E$32),0.25,0)))","v":0},{"$f":"IF(graph!$E$22=0,0,IF(graph!$E$2=0,20,IF(AND(B797>graph!$E$22-graph!$E$32,B797<graph!$E$22+graph!$E$32),0.25,0)))","v":0}]
[null,{"$f":"IF(graph!$E$2=0,\"\",B797+graph!$E$32)","v":""},{"$f":"IF(graph!$E$2=0,20,IF(SUM(K798+L798=0),NA(),0.25))","v":20},{"$f":"IF(graph!$E$2=0,20,IF(AND(B798<graph!$E$10+graph!$E$32,B798>graph!$E$10-graph!$E$32),0.25,NA()))","v":20},null,null,null,null,null,null,{"$f":"IF(graph!$E$20=0,0,IF(graph!$E$2=0,20,IF(AND(B798<graph!$E$20+graph!$E$32,B798>graph!$E$20-graph!$E$32),0.25,0)))","v":0},{"$f":"IF(graph!$E$22=0,0,IF(graph!$E$2=0,20,IF(AND(B798>graph!$E$22-graph!$E$32,B798<graph!$E$22+graph!$E$32),0.25,0)))","v":0}]
[null,{"$f":"IF(graph!$E$2=0,\"\",B798+graph!$E$32)","v":""},{"$f":"IF(graph!$E$2=0,20,IF(SUM(K799+L799=0),NA(),0.25))","v":20},{"$f":"IF(graph!$E$2=0,20,IF(AND(B799<graph!$E$10+graph!$E$32,B799>graph!$E$10-graph!$E$32),0.25,NA()))","v":20},null,null,null,null,null,null,{"$f":"IF(graph!$E$20=0,0,IF(graph!$E$2=0,20,IF(AND(B799<graph!$E$20+graph!$E$32,B799>graph!$E$20-graph!$E$32),0.25,0)))","v":0},{"$f":"IF(graph!$E$22=0,0,IF(graph!$E$2=0,20,IF(AND(B799>graph!$E$22-graph!$E$32,B799<graph!$E$22+graph!$E$32),0.25,0)))","v":0}]
[null,{"$f":"IF(graph!$E$2=0,\"\",B799+graph!$E$32)","v":""},{"$f":"IF(graph!$E$2=0,20,IF(SUM(K800+L800=0),NA(),0.25))","v":20},{"$f":"IF(graph!$E$2=0,20,IF(AND(B800<graph!$E$10+graph!$E$32,B800>graph!$E$10-graph!$E$32),0.25,NA()))","v":20},null,null,null,null,null,null,{"$f":"IF(graph!$E$20=0,0,IF(graph!$E$2=0,20,IF(AND(B800<graph!$E$20+graph!$E$32,B800>graph!$E$20-graph!$E$32),0.25,0)))","v":0},{"$f":"IF(graph!$E$22=0,0,IF(graph!$E$2=0,20,IF(AND(B800>graph!$E$22-graph!$E$32,B800<graph!$E$22+graph!$E$32),0.25,0)))","v":0}]
[null,{"$f":"IF(graph!$E$2=0,\"\",B800+graph!$E$32)","v":""},{"$f":"IF(graph!$E$2=0,20,IF(SUM(K801+L801=0),NA(),0.25))","v":20},{"$f":"IF(graph!$E$2=0,20,IF(AND(B801<graph!$E$10+graph!$E$32,B801>graph!$E$10-graph!$E$32),0.25,NA()))","v":20},null,null,null,null,null,null,{"$f":"IF(graph!$E$20=0,0,IF(graph!$E$2=0,20,IF(AND(B801<graph!$E$20+graph!$E$32,B801>graph!$E$20-graph!$E$32),0.25,0)))","v":0},{"$f":"IF(graph!$E$22=0,0,IF(graph!$E$2=0,20,IF(AND(B801>graph!$E$22-graph!$E$32,B801<graph!$E$22+graph!$E$32),0.25,0)))","v":0}]
[null,{"$f":"IF(graph!$E$2=0,\"\",B801+graph!$E$32)","v":""},{"$f":"IF(graph!$E$2=0,20,IF(SUM(K802+L802=0),NA(),0.25))","v":20},{"$f":"IF(graph!$E$2=0,20,IF(AND(B802<graph!$E$10+graph!$E$32,B802>graph!$E$10-graph!$E$32),0.25,NA()))","v":20},null,null,null,null,null,null,{"$f":"IF(graph!$E$20=0,0,IF(graph!$E$2=0,20,IF(AND(B802<graph!$E$20+graph!$E$32,B802>graph!$E$20-graph!$E$32),0.25,0)))","v":0},{"$f":"IF(graph!$E$22=0,0,IF(graph!$E$2=0,20,IF(AND(B802>graph!$E$22-graph!$E$32,B802<graph!$E$22+graph!$E$32),0.25,0)))","v":0}]
[null,{"$f":"IF(graph!$E$2=0,\"\",B802+graph!$E$32)","v":""},{"$f":"IF(graph!$E$2=0,20,IF(SUM(K803+L803=0),NA(),0.25))","v":20},{"$f":"IF(graph!$E$2=0,20,IF(AND(B803<graph!$E$10+graph!$E$32,B803>graph!$E$10-graph!$E$32),0.25,NA()))","v":20},null,null,null,null,null,null,{"$f":"IF(graph!$E$20=0,0,IF(graph!$E$2=0,20,IF(AND(B803<graph!$E$20+graph!$E$32,B803>graph!$E$20-graph!$E$32),0.25,0)))","v":0},{"$f":"IF(graph!$E$22=0,0,IF(graph!$E$2=0,20,IF(AND(B803>graph!$E$22-graph!$E$32,B803<graph!$E$22+graph!$E$32),0.25,0)))","v":0}]
[null,{"$f":"IF(graph!$E$2=0,\"\",B803+graph!$E$32)","v":""},{"$f":"IF(graph!$E$2=0,20,IF(SUM(K804+L804=0),NA(),0.25))","v":20},{"$f":"IF(graph!$E$2=0,20,IF(AND(B804<graph!$E$10+graph!$E$32,B804>graph!$E$10-graph!$E$32),0.25,NA()))","v":20},null,null,null,null,null,null,{"$f":"IF(graph!$E$20=0,0,IF(graph!$E$2=0,20,IF(AND(B804<graph!$E$20+graph!$E$32,B804>graph!$E$20-graph!$E$32),0.25,0)))","v":0},{"$f":"IF(graph!$E$22=0,0,IF(graph!$E$2=0,20,IF(AND(B804>graph!$E$22-graph!$E$32,B804<graph!$E$22+graph!$E$32),0.25,0)))","v":0}]
[null,{"$f":"IF(graph!$E$2=0,\"\",B804+graph!$E$32)","v":""},{"$f":"IF(graph!$E$2=0,20,IF(SUM(K805+L805=0),NA(),0.25))","v":20},{"$f":"IF(graph!$E$2=0,20,IF(AND(B805<graph!$E$10+graph!$E$32,B805>graph!$E$10-graph!$E$32),0.25,NA()))","v":20},null,null,null,null,null,null,{"$f":"IF(graph!$E$20=0,0,IF(graph!$E$2=0,20,IF(AND(B805<graph!$E$20+graph!$E$32,B805>graph!$E$20-graph!$E$32),0.25,0)))","v":0},{"$f":"IF(graph!$E$22=0,0,IF(graph!$E$2=0,20,IF(AND(B805>graph!$E$22-graph!$E$32,B805<graph!$E$22+graph!$E$32),0.25,0)))","v":0}]
[null,{"$f":"IF(graph!$E$2=0,\"\",B805+graph!$E$32)","v":""},{"$f":"IF(graph!$E$2=0,20,IF(SUM(K806+L806=0),NA(),0.25))","v":20},{"$f":"IF(graph!$E$2=0,20,IF(AND(B806<graph!$E$10+graph!$E$32,B806>graph!$E$10-graph!$E$32),0.25,NA()))","v":20},null,null,null,null,null,null,{"$f":"IF(graph!$E$20=0,0,IF(graph!$E$2=0,20,IF(AND(B806<graph!$E$20+graph!$E$32,B806>graph!$E$20-graph!$E$32),0.25,0)))","v":0},{"$f":"IF(graph!$E$22=0,0,IF(graph!$E$2=0,20,IF(AND(B806>graph!$E$22-graph!$E$32,B806<graph!$E$22+graph!$E$32),0.25,0)))","v":0}]
[null,{"$f":"IF(graph!$E$2=0,\"\",B806+graph!$E$32)","v":""},{"$f":"IF(graph!$E$2=0,20,IF(SUM(K807+L807=0),NA(),0.25))","v":20},{"$f":"IF(graph!$E$2=0,20,IF(AND(B807<graph!$E$10+graph!$E$32,B807>graph!$E$10-graph!$E$32),0.25,NA()))","v":20},null,null,null,null,null,null,{"$f":"IF(graph!$E$20=0,0,IF(graph!$E$2=0,20,IF(AND(B807<graph!$E$20+graph!$E$32,B807>graph!$E$20-graph!$E$32),0.25,0)))","v":0},{"$f":"IF(graph!$E$22=0,0,IF(graph!$E$2=0,20,IF(AND(B807>graph!$E$22-graph!$E$32,B807<graph!$E$22+graph!$E$32),0.25,0)))","v":0}]
[null,{"$f":"IF(graph!$E$2=0,\"\",B807+graph!$E$32)","v":""},{"$f":"IF(graph!$E$2=0,20,IF(SUM(K808+L808=0),NA(),0.25))","v":20},{"$f":"IF(graph!$E$2=0,20,IF(AND(B808<graph!$E$10+graph!$E$32,B808>graph!$E$10-graph!$E$32),0.25,NA()))","v":20},null,null,null,null,null,null,{"$f":"IF(graph!$E$20=0,0,IF(graph!$E$2=0,20,IF(AND(B808<graph!$E$20+graph!$E$32,B808>graph!$E$20-graph!$E$32),0.25,0)))","v":0},{"$f":"IF(graph!$E$22=0,0,IF(graph!$E$2=0,20,IF(AND(B808>graph!$E$22-graph!$E$32,B808<graph!$E$22+graph!$E$32),0.25,0)))","v":0}]
[null,{"$f":"IF(graph!$E$2=0,\"\",B808+graph!$E$32)","v":""},{"$f":"IF(graph!$E$2=0,20,IF(SUM(K809+L809=0),NA(),0.25))","v":20},{"$f":"IF(graph!$E$2=0,20,IF(AND(B809<graph!$E$10+graph!$E$32,B809>graph!$E$10-graph!$E$32),0.25,NA()))","v":20},null,null,null,null,null,null,{"$f":"IF(graph!$E$20=0,0,IF(graph!$E$2=0,20,IF(AND(B809<graph!$E$20+graph!$E$32,B809>graph!$E$20-graph!$E$32),0.25,0)))","v":0},{"$f":"IF(graph!$E$22=0,0,IF(graph!$E$2=0,20,IF(AND(B809>graph!$E$22-graph!$E$32,B809<graph!$E$22+graph!$E$32),0.25,0)))","v":0}]
[null,{"$f":"IF(graph!$E$2=0,\"\",B809+graph!$E$32)","v":""},{"$f":"IF(graph!$E$2=0,20,IF(SUM(K810+L810=0),NA(),0.25))","v":20},{"$f":"IF(graph!$E$2=0,20,IF(AND(B810<graph!$E$10+graph!$E$32,B810>graph!$E$10-graph!$E$32),0.25,NA()))","v":20},null,null,null,null,null,null,{"$f":"IF(graph!$E$20=0,0,IF(graph!$E$2=0,20,IF(AND(B810<graph!$E$20+graph!$E$32,B810>graph!$E$20-graph!$E$32),0.25,0)))","v":0},{"$f":"IF(graph!$E$22=0,0,IF(graph!$E$2=0,20,IF(AND(B810>graph!$E$22-graph!$E$32,B810<graph!$E$22+graph!$E$32),0.25,0)))","v":0}]
[null,{"$f":"IF(graph!$E$2=0,\"\",B810+graph!$E$32)","v":""},{"$f":"IF(graph!$E$2=0,20,IF(SUM(K811+L811=0),NA(),0.25))","v":20},{"$f":"IF(graph!$E$2=0,20,IF(AND(B811<graph!$E$10+graph!$E$32,B811>graph!$E$10-graph!$E$32),0.25,NA()))","v":20},null,null,null,null,null,null,{"$f":"IF(graph!$E$20=0,0,IF(graph!$E$2=0,20,IF(AND(B811<graph!$E$20+graph!$E$32,B811>graph!$E$20-graph!$E$32),0.25,0)))","v":0},{"$f":"IF(graph!$E$22=0,0,IF(graph!$E$2=0,20,IF(AND(B811>graph!$E$22-graph!$E$32,B811<graph!$E$22+graph!$E$32),0.25,0)))","v":0}]
[null,{"$f":"IF(graph!$E$2=0,\"\",B811+graph!$E$32)","v":""},{"$f":"IF(graph!$E$2=0,20,IF(SUM(K812+L812=0),NA(),0.25))","v":20},{"$f":"IF(graph!$E$2=0,20,IF(AND(B812<graph!$E$10+graph!$E$32,B812>graph!$E$10-graph!$E$32),0.25,NA()))","v":20},null,null,null,null,null,null,{"$f":"IF(graph!$E$20=0,0,IF(graph!$E$2=0,20,IF(AND(B812<graph!$E$20+graph!$E$32,B812>graph!$E$20-graph!$E$32),0.25,0)))","v":0},{"$f":"IF(graph!$E$22=0,0,IF(graph!$E$2=0,20,IF(AND(B812>graph!$E$22-graph!$E$32,B812<graph!$E$22+graph!$E$32),0.25,0)))","v":0}]
[null,{"$f":"IF(graph!$E$2=0,\"\",B812+graph!$E$32)","v":""},{"$f":"IF(graph!$E$2=0,20,IF(SUM(K813+L813=0),NA(),0.25))","v":20},{"$f":"IF(graph!$E$2=0,20,IF(AND(B813<graph!$E$10+graph!$E$32,B813>graph!$E$10-graph!$E$32),0.25,NA()))","v":20},null,null,null,null,null,null,{"$f":"IF(graph!$E$20=0,0,IF(graph!$E$2=0,20,IF(AND(B813<graph!$E$20+graph!$E$32,B813>graph!$E$20-graph!$E$32),0.25,0)))","v":0},{"$f":"IF(graph!$E$22=0,0,IF(graph!$E$2=0,20,IF(AND(B813>graph!$E$22-graph!$E$32,B813<graph!$E$22+graph!$E$32),0.25,0)))","v":0}]
[null,{"$f":"IF(graph!$E$2=0,\"\",B813+graph!$E$32)","v":""},{"$f":"IF(graph!$E$2=0,20,IF(SUM(K814+L814=0),NA(),0.25))","v":20},{"$f":"IF(graph!$E$2=0,20,IF(AND(B814<graph!$E$10+graph!$E$32,B814>graph!$E$10-graph!$E$32),0.25,NA()))","v":20},null,null,null,null,null,null,{"$f":"IF(graph!$E$20=0,0,IF(graph!$E$2=0,20,IF(AND(B814<graph!$E$20+graph!$E$32,B814>graph!$E$20-graph!$E$32),0.25,0)))","v":0},{"$f":"IF(graph!$E$22=0,0,IF(graph!$E$2=0,20,IF(AND(B814>graph!$E$22-graph!$E$32,B814<graph!$E$22+graph!$E$32),0.25,0)))","v":0}]
[null,{"$f":"IF(graph!$E$2=0,\"\",B814+graph!$E$32)","v":""},{"$f":"IF(graph!$E$2=0,20,IF(SUM(K815+L815=0),NA(),0.25))","v":20},{"$f":"IF(graph!$E$2=0,20,IF(AND(B815<graph!$E$10+graph!$E$32,B815>graph!$E$10-graph!$E$32),0.25,NA()))","v":20},null,null,null,null,null,null,{"$f":"IF(graph!$E$20=0,0,IF(graph!$E$2=0,20,IF(AND(B815<graph!$E$20+graph!$E$32,B815>graph!$E$20-graph!$E$32),0.25,0)))","v":0},{"$f":"IF(graph!$E$22=0,0,IF(graph!$E$2=0,20,IF(AND(B815>graph!$E$22-graph!$E$32,B815<graph!$E$22+graph!$E$32),0.25,0)))","v":0}]
[null,{"$f":"IF(graph!$E$2=0,\"\",B815+graph!$E$32)","v":""},{"$f":"IF(graph!$E$2=0,20,IF(SUM(K816+L816=0),NA(),0.25))","v":20},{"$f":"IF(graph!$E$2=0,20,IF(AND(B816<graph!$E$10+graph!$E$32,B816>graph!$E$10-graph!$E$32),0.25,NA()))","v":20},null,null,null,null,null,null,{"$f":"IF(graph!$E$20=0,0,IF(graph!$E$2=0,20,IF(AND(B816<graph!$E$20+graph!$E$32,B816>graph!$E$20-graph!$E$32),0.25,0)))","v":0},{"$f":"IF(graph!$E$22=0,0,IF(graph!$E$2=0,20,IF(AND(B816>graph!$E$22-graph!$E$32,B816<graph!$E$22+graph!$E$32),0.25,0)))","v":0}]
[null,{"$f":"IF(graph!$E$2=0,\"\",B816+graph!$E$32)","v":""},{"$f":"IF(graph!$E$2=0,20,IF(SUM(K817+L817=0),NA(),0.25))","v":20},{"$f":"IF(graph!$E$2=0,20,IF(AND(B817<graph!$E$10+graph!$E$32,B817>graph!$E$10-graph!$E$32),0.25,NA()))","v":20},null,null,null,null,null,null,{"$f":"IF(graph!$E$20=0,0,IF(graph!$E$2=0,20,IF(AND(B817<graph!$E$20+graph!$E$32,B817>graph!$E$20-graph!$E$32),0.25,0)))","v":0},{"$f":"IF(graph!$E$22=0,0,IF(graph!$E$2=0,20,IF(AND(B817>graph!$E$22-graph!$E$32,B817<graph!$E$22+graph!$E$32),0.25,0)))","v":0}]
[null,{"$f":"IF(graph!$E$2=0,\"\",B817+graph!$E$32)","v":""},{"$f":"IF(graph!$E$2=0,20,IF(SUM(K818+L818=0),NA(),0.25))","v":20},{"$f":"IF(graph!$E$2=0,20,IF(AND(B818<graph!$E$10+graph!$E$32,B818>graph!$E$10-graph!$E$32),0.25,NA()))","v":20},null,null,null,null,null,null,{"$f":"IF(graph!$E$20=0,0,IF(graph!$E$2=0,20,IF(AND(B818<graph!$E$20+graph!$E$32,B818>graph!$E$20-graph!$E$32),0.25,0)))","v":0},{"$f":"IF(graph!$E$22=0,0,IF(graph!$E$2=0,20,IF(AND(B818>graph!$E$22-graph!$E$32,B818<graph!$E$22+graph!$E$32),0.25,0)))","v":0}]
[null,{"$f":"IF(graph!$E$2=0,\"\",B818+graph!$E$32)","v":""},{"$f":"IF(graph!$E$2=0,20,IF(SUM(K819+L819=0),NA(),0.25))","v":20},{"$f":"IF(graph!$E$2=0,20,IF(AND(B819<graph!$E$10+graph!$E$32,B819>graph!$E$10-graph!$E$32),0.25,NA()))","v":20},null,null,null,null,null,null,{"$f":"IF(graph!$E$20=0,0,IF(graph!$E$2=0,20,IF(AND(B819<graph!$E$20+graph!$E$32,B819>graph!$E$20-graph!$E$32),0.25,0)))","v":0},{"$f":"IF(graph!$E$22=0,0,IF(graph!$E$2=0,20,IF(AND(B819>graph!$E$22-graph!$E$32,B819<graph!$E$22+graph!$E$32),0.25,0)))","v":0}]
[null,{"$f":"IF(graph!$E$2=0,\"\",B819+graph!$E$32)","v":""},{"$f":"IF(graph!$E$2=0,20,IF(SUM(K820+L820=0),NA(),0.25))","v":20},{"$f":"IF(graph!$E$2=0,20,IF(AND(B820<graph!$E$10+graph!$E$32,B820>graph!$E$10-graph!$E$32),0.25,NA()))","v":20},null,null,null,null,null,null,{"$f":"IF(graph!$E$20=0,0,IF(graph!$E$2=0,20,IF(AND(B820<graph!$E$20+graph!$E$32,B820>graph!$E$20-graph!$E$32),0.25,0)))","v":0},{"$f":"IF(graph!$E$22=0,0,IF(graph!$E$2=0,20,IF(AND(B820>graph!$E$22-graph!$E$32,B820<graph!$E$22+graph!$E$32),0.25,0)))","v":0}]
[null,{"$f":"IF(graph!$E$2=0,\"\",B820+graph!$E$32)","v":""},{"$f":"IF(graph!$E$2=0,20,IF(SUM(K821+L821=0),NA(),0.25))","v":20},{"$f":"IF(graph!$E$2=0,20,IF(AND(B821<graph!$E$10+graph!$E$32,B821>graph!$E$10-graph!$E$32),0.25,NA()))","v":20},null,null,null,null,null,null,{"$f":"IF(graph!$E$20=0,0,IF(graph!$E$2=0,20,IF(AND(B821<graph!$E$20+graph!$E$32,B821>graph!$E$20-graph!$E$32),0.25,0)))","v":0},{"$f":"IF(graph!$E$22=0,0,IF(graph!$E$2=0,20,IF(AND(B821>graph!$E$22-graph!$E$32,B821<graph!$E$22+graph!$E$32),0.25,0)))","v":0}]
[null,{"$f":"IF(graph!$E$2=0,\"\",B821+graph!$E$32)","v":""},{"$f":"IF(graph!$E$2=0,20,IF(SUM(K822+L822=0),NA(),0.25))","v":20},{"$f":"IF(graph!$E$2=0,20,IF(AND(B822<graph!$E$10+graph!$E$32,B822>graph!$E$10-graph!$E$32),0.25,NA()))","v":20},null,null,null,null,null,null,{"$f":"IF(graph!$E$20=0,0,IF(graph!$E$2=0,20,IF(AND(B822<graph!$E$20+graph!$E$32,B822>graph!$E$20-graph!$E$32),0.25,0)))","v":0},{"$f":"IF(graph!$E$22=0,0,IF(graph!$E$2=0,20,IF(AND(B822>graph!$E$22-graph!$E$32,B822<graph!$E$22+graph!$E$32),0.25,0)))","v":0}]
[null,{"$f":"IF(graph!$E$2=0,\"\",B822+graph!$E$32)","v":""},{"$f":"IF(graph!$E$2=0,20,IF(SUM(K823+L823=0),NA(),0.25))","v":20},{"$f":"IF(graph!$E$2=0,20,IF(AND(B823<graph!$E$10+graph!$E$32,B823>graph!$E$10-graph!$E$32),0.25,NA()))","v":20},null,null,null,null,null,null,{"$f":"IF(graph!$E$20=0,0,IF(graph!$E$2=0,20,IF(AND(B823<graph!$E$20+graph!$E$32,B823>graph!$E$20-graph!$E$32),0.25,0)))","v":0},{"$f":"IF(graph!$E$22=0,0,IF(graph!$E$2=0,20,IF(AND(B823>graph!$E$22-graph!$E$32,B823<graph!$E$22+graph!$E$32),0.25,0)))","v":0}]
[null,{"$f":"IF(graph!$E$2=0,\"\",B823+graph!$E$32)","v":""},{"$f":"IF(graph!$E$2=0,20,IF(SUM(K824+L824=0),NA(),0.25))","v":20},{"$f":"IF(graph!$E$2=0,20,IF(AND(B824<graph!$E$10+graph!$E$32,B824>graph!$E$10-graph!$E$32),0.25,NA()))","v":20},null,null,null,null,null,null,{"$f":"IF(graph!$E$20=0,0,IF(graph!$E$2=0,20,IF(AND(B824<graph!$E$20+graph!$E$32,B824>graph!$E$20-graph!$E$32),0.25,0)))","v":0},{"$f":"IF(graph!$E$22=0,0,IF(graph!$E$2=0,20,IF(AND(B824>graph!$E$22-graph!$E$32,B824<graph!$E$22+graph!$E$32),0.25,0)))","v":0}]
[null,{"$f":"IF(graph!$E$2=0,\"\",B824+graph!$E$32)","v":""},{"$f":"IF(graph!$E$2=0,20,IF(SUM(K825+L825=0),NA(),0.25))","v":20},{"$f":"IF(graph!$E$2=0,20,IF(AND(B825<graph!$E$10+graph!$E$32,B825>graph!$E$10-graph!$E$32),0.25,NA()))","v":20},null,null,null,null,null,null,{"$f":"IF(graph!$E$20=0,0,IF(graph!$E$2=0,20,IF(AND(B825<graph!$E$20+graph!$E$32,B825>graph!$E$20-graph!$E$32),0.25,0)))","v":0},{"$f":"IF(graph!$E$22=0,0,IF(graph!$E$2=0,20,IF(AND(B825>graph!$E$22-graph!$E$32,B825<graph!$E$22+graph!$E$32),0.25,0)))","v":0}]
[null,{"$f":"IF(graph!$E$2=0,\"\",B825+graph!$E$32)","v":""},{"$f":"IF(graph!$E$2=0,20,IF(SUM(K826+L826=0),NA(),0.25))","v":20},{"$f":"IF(graph!$E$2=0,20,IF(AND(B826<graph!$E$10+graph!$E$32,B826>graph!$E$10-graph!$E$32),0.25,NA()))","v":20},null,null,null,null,null,null,{"$f":"IF(graph!$E$20=0,0,IF(graph!$E$2=0,20,IF(AND(B826<graph!$E$20+graph!$E$32,B826>graph!$E$20-graph!$E$32),0.25,0)))","v":0},{"$f":"IF(graph!$E$22=0,0,IF(graph!$E$2=0,20,IF(AND(B826>graph!$E$22-graph!$E$32,B826<graph!$E$22+graph!$E$32),0.25,0)))","v":0}]
[null,{"$f":"IF(graph!$E$2=0,\"\",B826+graph!$E$32)","v":""},{"$f":"IF(graph!$E$2=0,20,IF(SUM(K827+L827=0),NA(),0.25))","v":20},{"$f":"IF(graph!$E$2=0,20,IF(AND(B827<graph!$E$10+graph!$E$32,B827>graph!$E$10-graph!$E$32),0.25,NA()))","v":20},null,null,null,null,null,null,{"$f":"IF(graph!$E$20=0,0,IF(graph!$E$2=0,20,IF(AND(B827<graph!$E$20+graph!$E$32,B827>graph!$E$20-graph!$E$32),0.25,0)))","v":0},{"$f":"IF(graph!$E$22=0,0,IF(graph!$E$2=0,20,IF(AND(B827>graph!$E$22-graph!$E$32,B827<graph!$E$22+graph!$E$32),0.25,0)))","v":0}]
[null,{"$f":"IF(graph!$E$2=0,\"\",B827+graph!$E$32)","v":""},{"$f":"IF(graph!$E$2=0,20,IF(SUM(K828+L828=0),NA(),0.25))","v":20},{"$f":"IF(graph!$E$2=0,20,IF(AND(B828<graph!$E$10+graph!$E$32,B828>graph!$E$10-graph!$E$32),0.25,NA()))","v":20},null,null,null,null,null,null,{"$f":"IF(graph!$E$20=0,0,IF(graph!$E$2=0,20,IF(AND(B828<graph!$E$20+graph!$E$32,B828>graph!$E$20-graph!$E$32),0.25,0)))","v":0},{"$f":"IF(graph!$E$22=0,0,IF(graph!$E$2=0,20,IF(AND(B828>graph!$E$22-graph!$E$32,B828<graph!$E$22+graph!$E$32),0.25,0)))","v":0}]
[null,{"$f":"IF(graph!$E$2=0,\"\",B828+graph!$E$32)","v":""},{"$f":"IF(graph!$E$2=0,20,IF(SUM(K829+L829=0),NA(),0.25))","v":20},{"$f":"IF(graph!$E$2=0,20,IF(AND(B829<graph!$E$10+graph!$E$32,B829>graph!$E$10-graph!$E$32),0.25,NA()))","v":20},null,null,null,null,null,null,{"$f":"IF(graph!$E$20=0,0,IF(graph!$E$2=0,20,IF(AND(B829<graph!$E$20+graph!$E$32,B829>graph!$E$20-graph!$E$32),0.25,0)))","v":0},{"$f":"IF(graph!$E$22=0,0,IF(graph!$E$2=0,20,IF(AND(B829>graph!$E$22-graph!$E$32,B829<graph!$E$22+graph!$E$32),0.25,0)))","v":0}]
[null,{"$f":"IF(graph!$E$2=0,\"\",B829+graph!$E$32)","v":""},{"$f":"IF(graph!$E$2=0,20,IF(SUM(K830+L830=0),NA(),0.25))","v":20},{"$f":"IF(graph!$E$2=0,20,IF(AND(B830<graph!$E$10+graph!$E$32,B830>graph!$E$10-graph!$E$32),0.25,NA()))","v":20},null,null,null,null,null,null,{"$f":"IF(graph!$E$20=0,0,IF(graph!$E$2=0,20,IF(AND(B830<graph!$E$20+graph!$E$32,B830>graph!$E$20-graph!$E$32),0.25,0)))","v":0},{"$f":"IF(graph!$E$22=0,0,IF(graph!$E$2=0,20,IF(AND(B830>graph!$E$22-graph!$E$32,B830<graph!$E$22+graph!$E$32),0.25,0)))","v":0}]
[null,{"$f":"IF(graph!$E$2=0,\"\",B830+graph!$E$32)","v":""},{"$f":"IF(graph!$E$2=0,20,IF(SUM(K831+L831=0),NA(),0.25))","v":20},{"$f":"IF(graph!$E$2=0,20,IF(AND(B831<graph!$E$10+graph!$E$32,B831>graph!$E$10-graph!$E$32),0.25,NA()))","v":20},null,null,null,null,null,null,{"$f":"IF(graph!$E$20=0,0,IF(graph!$E$2=0,20,IF(AND(B831<graph!$E$20+graph!$E$32,B831>graph!$E$20-graph!$E$32),0.25,0)))","v":0},{"$f":"IF(graph!$E$22=0,0,IF(graph!$E$2=0,20,IF(AND(B831>graph!$E$22-graph!$E$32,B831<graph!$E$22+graph!$E$32),0.25,0)))","v":0}]
[null,{"$f":"IF(graph!$E$2=0,\"\",B831+graph!$E$32)","v":""},{"$f":"IF(graph!$E$2=0,20,IF(SUM(K832+L832=0),NA(),0.25))","v":20},{"$f":"IF(graph!$E$2=0,20,IF(AND(B832<graph!$E$10+graph!$E$32,B832>graph!$E$10-graph!$E$32),0.25,NA()))","v":20},null,null,null,null,null,null,{"$f":"IF(graph!$E$20=0,0,IF(graph!$E$2=0,20,IF(AND(B832<graph!$E$20+graph!$E$32,B832>graph!$E$20-graph!$E$32),0.25,0)))","v":0},{"$f":"IF(graph!$E$22=0,0,IF(graph!$E$2=0,20,IF(AND(B832>graph!$E$22-graph!$E$32,B832<graph!$E$22+graph!$E$32),0.25,0)))","v":0}]
[null,{"$f":"IF(graph!$E$2=0,\"\",B832+graph!$E$32)","v":""},{"$f":"IF(graph!$E$2=0,20,IF(SUM(K833+L833=0),NA(),0.25))","v":20},{"$f":"IF(graph!$E$2=0,20,IF(AND(B833<graph!$E$10+graph!$E$32,B833>graph!$E$10-graph!$E$32),0.25,NA()))","v":20},null,null,null,null,null,null,{"$f":"IF(graph!$E$20=0,0,IF(graph!$E$2=0,20,IF(AND(B833<graph!$E$20+graph!$E$32,B833>graph!$E$20-graph!$E$32),0.25,0)))","v":0},{"$f":"IF(graph!$E$22=0,0,IF(graph!$E$2=0,20,IF(AND(B833>graph!$E$22-graph!$E$32,B833<graph!$E$22+graph!$E$32),0.25,0)))","v":0}]
[null,{"$f":"IF(graph!$E$2=0,\"\",B833+graph!$E$32)","v":""},{"$f":"IF(graph!$E$2=0,20,IF(SUM(K834+L834=0),NA(),0.25))","v":20},{"$f":"IF(graph!$E$2=0,20,IF(AND(B834<graph!$E$10+graph!$E$32,B834>graph!$E$10-graph!$E$32),0.25,NA()))","v":20},null,null,null,null,null,null,{"$f":"IF(graph!$E$20=0,0,IF(graph!$E$2=0,20,IF(AND(B834<graph!$E$20+graph!$E$32,B834>graph!$E$20-graph!$E$32),0.25,0)))","v":0},{"$f":"IF(graph!$E$22=0,0,IF(graph!$E$2=0,20,IF(AND(B834>graph!$E$22-graph!$E$32,B834<graph!$E$22+graph!$E$32),0.25,0)))","v":0}]
[null,{"$f":"IF(graph!$E$2=0,\"\",B834+graph!$E$32)","v":""},{"$f":"IF(graph!$E$2=0,20,IF(SUM(K835+L835=0),NA(),0.25))","v":20},{"$f":"IF(graph!$E$2=0,20,IF(AND(B835<graph!$E$10+graph!$E$32,B835>graph!$E$10-graph!$E$32),0.25,NA()))","v":20},null,null,null,null,null,null,{"$f":"IF(graph!$E$20=0,0,IF(graph!$E$2=0,20,IF(AND(B835<graph!$E$20+graph!$E$32,B835>graph!$E$20-graph!$E$32),0.25,0)))","v":0},{"$f":"IF(graph!$E$22=0,0,IF(graph!$E$2=0,20,IF(AND(B835>graph!$E$22-graph!$E$32,B835<graph!$E$22+graph!$E$32),0.25,0)))","v":0}]
[null,{"$f":"IF(graph!$E$2=0,\"\",B835+graph!$E$32)","v":""},{"$f":"IF(graph!$E$2=0,20,IF(SUM(K836+L836=0),NA(),0.25))","v":20},{"$f":"IF(graph!$E$2=0,20,IF(AND(B836<graph!$E$10+graph!$E$32,B836>graph!$E$10-graph!$E$32),0.25,NA()))","v":20},null,null,null,null,null,null,{"$f":"IF(graph!$E$20=0,0,IF(graph!$E$2=0,20,IF(AND(B836<graph!$E$20+graph!$E$32,B836>graph!$E$20-graph!$E$32),0.25,0)))","v":0},{"$f":"IF(graph!$E$22=0,0,IF(graph!$E$2=0,20,IF(AND(B836>graph!$E$22-graph!$E$32,B836<graph!$E$22+graph!$E$32),0.25,0)))","v":0}]
[null,{"$f":"IF(graph!$E$2=0,\"\",B836+graph!$E$32)","v":""},{"$f":"IF(graph!$E$2=0,20,IF(SUM(K837+L837=0),NA(),0.25))","v":20},{"$f":"IF(graph!$E$2=0,20,IF(AND(B837<graph!$E$10+graph!$E$32,B837>graph!$E$10-graph!$E$32),0.25,NA()))","v":20},null,null,null,null,null,null,{"$f":"IF(graph!$E$20=0,0,IF(graph!$E$2=0,20,IF(AND(B837<graph!$E$20+graph!$E$32,B837>graph!$E$20-graph!$E$32),0.25,0)))","v":0},{"$f":"IF(graph!$E$22=0,0,IF(graph!$E$2=0,20,IF(AND(B837>graph!$E$22-graph!$E$32,B837<graph!$E$22+graph!$E$32),0.25,0)))","v":0}]
[null,{"$f":"IF(graph!$E$2=0,\"\",B837+graph!$E$32)","v":""},{"$f":"IF(graph!$E$2=0,20,IF(SUM(K838+L838=0),NA(),0.25))","v":20},{"$f":"IF(graph!$E$2=0,20,IF(AND(B838<graph!$E$10+graph!$E$32,B838>graph!$E$10-graph!$E$32),0.25,NA()))","v":20},null,null,null,null,null,null,{"$f":"IF(graph!$E$20=0,0,IF(graph!$E$2=0,20,IF(AND(B838<graph!$E$20+graph!$E$32,B838>graph!$E$20-graph!$E$32),0.25,0)))","v":0},{"$f":"IF(graph!$E$22=0,0,IF(graph!$E$2=0,20,IF(AND(B838>graph!$E$22-graph!$E$32,B838<graph!$E$22+graph!$E$32),0.25,0)))","v":0}]
[null,{"$f":"IF(graph!$E$2=0,\"\",B838+graph!$E$32)","v":""},{"$f":"IF(graph!$E$2=0,20,IF(SUM(K839+L839=0),NA(),0.25))","v":20},{"$f":"IF(graph!$E$2=0,20,IF(AND(B839<graph!$E$10+graph!$E$32,B839>graph!$E$10-graph!$E$32),0.25,NA()))","v":20},null,null,null,null,null,null,{"$f":"IF(graph!$E$20=0,0,IF(graph!$E$2=0,20,IF(AND(B839<graph!$E$20+graph!$E$32,B839>graph!$E$20-graph!$E$32),0.25,0)))","v":0},{"$f":"IF(graph!$E$22=0,0,IF(graph!$E$2=0,20,IF(AND(B839>graph!$E$22-graph!$E$32,B839<graph!$E$22+graph!$E$32),0.25,0)))","v":0}]
[null,{"$f":"IF(graph!$E$2=0,\"\",B839+graph!$E$32)","v":""},{"$f":"IF(graph!$E$2=0,20,IF(SUM(K840+L840=0),NA(),0.25))","v":20},{"$f":"IF(graph!$E$2=0,20,IF(AND(B840<graph!$E$10+graph!$E$32,B840>graph!$E$10-graph!$E$32),0.25,NA()))","v":20},null,null,null,null,null,null,{"$f":"IF(graph!$E$20=0,0,IF(graph!$E$2=0,20,IF(AND(B840<graph!$E$20+graph!$E$32,B840>graph!$E$20-graph!$E$32),0.25,0)))","v":0},{"$f":"IF(graph!$E$22=0,0,IF(graph!$E$2=0,20,IF(AND(B840>graph!$E$22-graph!$E$32,B840<graph!$E$22+graph!$E$32),0.25,0)))","v":0}]
[null,{"$f":"IF(graph!$E$2=0,\"\",B840+graph!$E$32)","v":""},{"$f":"IF(graph!$E$2=0,20,IF(SUM(K841+L841=0),NA(),0.25))","v":20},{"$f":"IF(graph!$E$2=0,20,IF(AND(B841<graph!$E$10+graph!$E$32,B841>graph!$E$10-graph!$E$32),0.25,NA()))","v":20},null,null,null,null,null,null,{"$f":"IF(graph!$E$20=0,0,IF(graph!$E$2=0,20,IF(AND(B841<graph!$E$20+graph!$E$32,B841>graph!$E$20-graph!$E$32),0.25,0)))","v":0},{"$f":"IF(graph!$E$22=0,0,IF(graph!$E$2=0,20,IF(AND(B841>graph!$E$22-graph!$E$32,B841<graph!$E$22+graph!$E$32),0.25,0)))","v":0}]
[null,{"$f":"IF(graph!$E$2=0,\"\",B841+graph!$E$32)","v":""},{"$f":"IF(graph!$E$2=0,20,IF(SUM(K842+L842=0),NA(),0.25))","v":20},{"$f":"IF(graph!$E$2=0,20,IF(AND(B842<graph!$E$10+graph!$E$32,B842>graph!$E$10-graph!$E$32),0.25,NA()))","v":20},null,null,null,null,null,null,{"$f":"IF(graph!$E$20=0,0,IF(graph!$E$2=0,20,IF(AND(B842<graph!$E$20+graph!$E$32,B842>graph!$E$20-graph!$E$32),0.25,0)))","v":0},{"$f":"IF(graph!$E$22=0,0,IF(graph!$E$2=0,20,IF(AND(B842>graph!$E$22-graph!$E$32,B842<graph!$E$22+graph!$E$32),0.25,0)))","v":0}]
[null,{"$f":"IF(graph!$E$2=0,\"\",B842+graph!$E$32)","v":""},{"$f":"IF(graph!$E$2=0,20,IF(SUM(K843+L843=0),NA(),0.25))","v":20},{"$f":"IF(graph!$E$2=0,20,IF(AND(B843<graph!$E$10+graph!$E$32,B843>graph!$E$10-graph!$E$32),0.25,NA()))","v":20},null,null,null,null,null,null,{"$f":"IF(graph!$E$20=0,0,IF(graph!$E$2=0,20,IF(AND(B843<graph!$E$20+graph!$E$32,B843>graph!$E$20-graph!$E$32),0.25,0)))","v":0},{"$f":"IF(graph!$E$22=0,0,IF(graph!$E$2=0,20,IF(AND(B843>graph!$E$22-graph!$E$32,B843<graph!$E$22+graph!$E$32),0.25,0)))","v":0}]
[null,{"$f":"IF(graph!$E$2=0,\"\",B843+graph!$E$32)","v":""},{"$f":"IF(graph!$E$2=0,20,IF(SUM(K844+L844=0),NA(),0.25))","v":20},{"$f":"IF(graph!$E$2=0,20,IF(AND(B844<graph!$E$10+graph!$E$32,B844>graph!$E$10-graph!$E$32),0.25,NA()))","v":20},null,null,null,null,null,null,{"$f":"IF(graph!$E$20=0,0,IF(graph!$E$2=0,20,IF(AND(B844<graph!$E$20+graph!$E$32,B844>graph!$E$20-graph!$E$32),0.25,0)))","v":0},{"$f":"IF(graph!$E$22=0,0,IF(graph!$E$2=0,20,IF(AND(B844>graph!$E$22-graph!$E$32,B844<graph!$E$22+graph!$E$32),0.25,0)))","v":0}]
[null,{"$f":"IF(graph!$E$2=0,\"\",B844+graph!$E$32)","v":""},{"$f":"IF(graph!$E$2=0,20,IF(SUM(K845+L845=0),NA(),0.25))","v":20},{"$f":"IF(graph!$E$2=0,20,IF(AND(B845<graph!$E$10+graph!$E$32,B845>graph!$E$10-graph!$E$32),0.25,NA()))","v":20},null,null,null,null,null,null,{"$f":"IF(graph!$E$20=0,0,IF(graph!$E$2=0,20,IF(AND(B845<graph!$E$20+graph!$E$32,B845>graph!$E$20-graph!$E$32),0.25,0)))","v":0},{"$f":"IF(graph!$E$22=0,0,IF(graph!$E$2=0,20,IF(AND(B845>graph!$E$22-graph!$E$32,B845<graph!$E$22+graph!$E$32),0.25,0)))","v":0}]
[null,{"$f":"IF(graph!$E$2=0,\"\",B845+graph!$E$32)","v":""},{"$f":"IF(graph!$E$2=0,20,IF(SUM(K846+L846=0),NA(),0.25))","v":20},{"$f":"IF(graph!$E$2=0,20,IF(AND(B846<graph!$E$10+graph!$E$32,B846>graph!$E$10-graph!$E$32),0.25,NA()))","v":20},null,null,null,null,null,null,{"$f":"IF(graph!$E$20=0,0,IF(graph!$E$2=0,20,IF(AND(B846<graph!$E$20+graph!$E$32,B846>graph!$E$20-graph!$E$32),0.25,0)))","v":0},{"$f":"IF(graph!$E$22=0,0,IF(graph!$E$2=0,20,IF(AND(B846>graph!$E$22-graph!$E$32,B846<graph!$E$22+graph!$E$32),0.25,0)))","v":0}]
[null,{"$f":"IF(graph!$E$2=0,\"\",B846+graph!$E$32)","v":""},{"$f":"IF(graph!$E$2=0,20,IF(SUM(K847+L847=0),NA(),0.25))","v":20},{"$f":"IF(graph!$E$2=0,20,IF(AND(B847<graph!$E$10+graph!$E$32,B847>graph!$E$10-graph!$E$32),0.25,NA()))","v":20},null,null,null,null,null,null,{"$f":"IF(graph!$E$20=0,0,IF(graph!$E$2=0,20,IF(AND(B847<graph!$E$20+graph!$E$32,B847>graph!$E$20-graph!$E$32),0.25,0)))","v":0},{"$f":"IF(graph!$E$22=0,0,IF(graph!$E$2=0,20,IF(AND(B847>graph!$E$22-graph!$E$32,B847<graph!$E$22+graph!$E$32),0.25,0)))","v":0}]
[null,{"$f":"IF(graph!$E$2=0,\"\",B847+graph!$E$32)","v":""},{"$f":"IF(graph!$E$2=0,20,IF(SUM(K848+L848=0),NA(),0.25))","v":20},{"$f":"IF(graph!$E$2=0,20,IF(AND(B848<graph!$E$10+graph!$E$32,B848>graph!$E$10-graph!$E$32),0.25,NA()))","v":20},null,null,null,null,null,null,{"$f":"IF(graph!$E$20=0,0,IF(graph!$E$2=0,20,IF(AND(B848<graph!$E$20+graph!$E$32,B848>graph!$E$20-graph!$E$32),0.25,0)))","v":0},{"$f":"IF(graph!$E$22=0,0,IF(graph!$E$2=0,20,IF(AND(B848>graph!$E$22-graph!$E$32,B848<graph!$E$22+graph!$E$32),0.25,0)))","v":0}]
[null,{"$f":"IF(graph!$E$2=0,\"\",B848+graph!$E$32)","v":""},{"$f":"IF(graph!$E$2=0,20,IF(SUM(K849+L849=0),NA(),0.25))","v":20},{"$f":"IF(graph!$E$2=0,20,IF(AND(B849<graph!$E$10+graph!$E$32,B849>graph!$E$10-graph!$E$32),0.25,NA()))","v":20},null,null,null,null,null,null,{"$f":"IF(graph!$E$20=0,0,IF(graph!$E$2=0,20,IF(AND(B849<graph!$E$20+graph!$E$32,B849>graph!$E$20-graph!$E$32),0.25,0)))","v":0},{"$f":"IF(graph!$E$22=0,0,IF(graph!$E$2=0,20,IF(AND(B849>graph!$E$22-graph!$E$32,B849<graph!$E$22+graph!$E$32),0.25,0)))","v":0}]
[null,{"$f":"IF(graph!$E$2=0,\"\",B849+graph!$E$32)","v":""},{"$f":"IF(graph!$E$2=0,20,IF(SUM(K850+L850=0),NA(),0.25))","v":20},{"$f":"IF(graph!$E$2=0,20,IF(AND(B850<graph!$E$10+graph!$E$32,B850>graph!$E$10-graph!$E$32),0.25,NA()))","v":20},null,null,null,null,null,null,{"$f":"IF(graph!$E$20=0,0,IF(graph!$E$2=0,20,IF(AND(B850<graph!$E$20+graph!$E$32,B850>graph!$E$20-graph!$E$32),0.25,0)))","v":0},{"$f":"IF(graph!$E$22=0,0,IF(graph!$E$2=0,20,IF(AND(B850>graph!$E$22-graph!$E$32,B850<graph!$E$22+graph!$E$32),0.25,0)))","v":0}]
[null,{"$f":"IF(graph!$E$2=0,\"\",B850+graph!$E$32)","v":""},{"$f":"IF(graph!$E$2=0,20,IF(SUM(K851+L851=0),NA(),0.25))","v":20},{"$f":"IF(graph!$E$2=0,20,IF(AND(B851<graph!$E$10+graph!$E$32,B851>graph!$E$10-graph!$E$32),0.25,NA()))","v":20},null,null,null,null,null,null,{"$f":"IF(graph!$E$20=0,0,IF(graph!$E$2=0,20,IF(AND(B851<graph!$E$20+graph!$E$32,B851>graph!$E$20-graph!$E$32),0.25,0)))","v":0},{"$f":"IF(graph!$E$22=0,0,IF(graph!$E$2=0,20,IF(AND(B851>graph!$E$22-graph!$E$32,B851<graph!$E$22+graph!$E$32),0.25,0)))","v":0}]
[null,{"$f":"IF(graph!$E$2=0,\"\",B851+graph!$E$32)","v":""},{"$f":"IF(graph!$E$2=0,20,IF(SUM(K852+L852=0),NA(),0.25))","v":20},{"$f":"IF(graph!$E$2=0,20,IF(AND(B852<graph!$E$10+graph!$E$32,B852>graph!$E$10-graph!$E$32),0.25,NA()))","v":20},null,null,null,null,null,null,{"$f":"IF(graph!$E$20=0,0,IF(graph!$E$2=0,20,IF(AND(B852<graph!$E$20+graph!$E$32,B852>graph!$E$20-graph!$E$32),0.25,0)))","v":0},{"$f":"IF(graph!$E$22=0,0,IF(graph!$E$2=0,20,IF(AND(B852>graph!$E$22-graph!$E$32,B852<graph!$E$22+graph!$E$32),0.25,0)))","v":0}]
[null,{"$f":"IF(graph!$E$2=0,\"\",B852+graph!$E$32)","v":""},{"$f":"IF(graph!$E$2=0,20,IF(SUM(K853+L853=0),NA(),0.25))","v":20},{"$f":"IF(graph!$E$2=0,20,IF(AND(B853<graph!$E$10+graph!$E$32,B853>graph!$E$10-graph!$E$32),0.25,NA()))","v":20},null,null,null,null,null,null,{"$f":"IF(graph!$E$20=0,0,IF(graph!$E$2=0,20,IF(AND(B853<graph!$E$20+graph!$E$32,B853>graph!$E$20-graph!$E$32),0.25,0)))","v":0},{"$f":"IF(graph!$E$22=0,0,IF(graph!$E$2=0,20,IF(AND(B853>graph!$E$22-graph!$E$32,B853<graph!$E$22+graph!$E$32),0.25,0)))","v":0}]
[null,{"$f":"IF(graph!$E$2=0,\"\",B853+graph!$E$32)","v":""},{"$f":"IF(graph!$E$2=0,20,IF(SUM(K854+L854=0),NA(),0.25))","v":20},{"$f":"IF(graph!$E$2=0,20,IF(AND(B854<graph!$E$10+graph!$E$32,B854>graph!$E$10-graph!$E$32),0.25,NA()))","v":20},null,null,null,null,null,null,{"$f":"IF(graph!$E$20=0,0,IF(graph!$E$2=0,20,IF(AND(B854<graph!$E$20+graph!$E$32,B854>graph!$E$20-graph!$E$32),0.25,0)))","v":0},{"$f":"IF(graph!$E$22=0,0,IF(graph!$E$2=0,20,IF(AND(B854>graph!$E$22-graph!$E$32,B854<graph!$E$22+graph!$E$32),0.25,0)))","v":0}]
[null,{"$f":"IF(graph!$E$2=0,\"\",B854+graph!$E$32)","v":""},{"$f":"IF(graph!$E$2=0,20,IF(SUM(K855+L855=0),NA(),0.25))","v":20},{"$f":"IF(graph!$E$2=0,20,IF(AND(B855<graph!$E$10+graph!$E$32,B855>graph!$E$10-graph!$E$32),0.25,NA()))","v":20},null,null,null,null,null,null,{"$f":"IF(graph!$E$20=0,0,IF(graph!$E$2=0,20,IF(AND(B855<graph!$E$20+graph!$E$32,B855>graph!$E$20-graph!$E$32),0.25,0)))","v":0},{"$f":"IF(graph!$E$22=0,0,IF(graph!$E$2=0,20,IF(AND(B855>graph!$E$22-graph!$E$32,B855<graph!$E$22+graph!$E$32),0.25,0)))","v":0}]
[null,{"$f":"IF(graph!$E$2=0,\"\",B855+graph!$E$32)","v":""},{"$f":"IF(graph!$E$2=0,20,IF(SUM(K856+L856=0),NA(),0.25))","v":20},{"$f":"IF(graph!$E$2=0,20,IF(AND(B856<graph!$E$10+graph!$E$32,B856>graph!$E$10-graph!$E$32),0.25,NA()))","v":20},null,null,null,null,null,null,{"$f":"IF(graph!$E$20=0,0,IF(graph!$E$2=0,20,IF(AND(B856<graph!$E$20+graph!$E$32,B856>graph!$E$20-graph!$E$32),0.25,0)))","v":0},{"$f":"IF(graph!$E$22=0,0,IF(graph!$E$2=0,20,IF(AND(B856>graph!$E$22-graph!$E$32,B856<graph!$E$22+graph!$E$32),0.25,0)))","v":0}]
[null,{"$f":"IF(graph!$E$2=0,\"\",B856+graph!$E$32)","v":""},{"$f":"IF(graph!$E$2=0,20,IF(SUM(K857+L857=0),NA(),0.25))","v":20},{"$f":"IF(graph!$E$2=0,20,IF(AND(B857<graph!$E$10+graph!$E$32,B857>graph!$E$10-graph!$E$32),0.25,NA()))","v":20},null,null,null,null,null,null,{"$f":"IF(graph!$E$20=0,0,IF(graph!$E$2=0,20,IF(AND(B857<graph!$E$20+graph!$E$32,B857>graph!$E$20-graph!$E$32),0.25,0)))","v":0},{"$f":"IF(graph!$E$22=0,0,IF(graph!$E$2=0,20,IF(AND(B857>graph!$E$22-graph!$E$32,B857<graph!$E$22+graph!$E$32),0.25,0)))","v":0}]
[null,{"$f":"IF(graph!$E$2=0,\"\",B857+graph!$E$32)","v":""},{"$f":"IF(graph!$E$2=0,20,IF(SUM(K858+L858=0),NA(),0.25))","v":20},{"$f":"IF(graph!$E$2=0,20,IF(AND(B858<graph!$E$10+graph!$E$32,B858>graph!$E$10-graph!$E$32),0.25,NA()))","v":20},null,null,null,null,null,null,{"$f":"IF(graph!$E$20=0,0,IF(graph!$E$2=0,20,IF(AND(B858<graph!$E$20+graph!$E$32,B858>graph!$E$20-graph!$E$32),0.25,0)))","v":0},{"$f":"IF(graph!$E$22=0,0,IF(graph!$E$2=0,20,IF(AND(B858>graph!$E$22-graph!$E$32,B858<graph!$E$22+graph!$E$32),0.25,0)))","v":0}]
[null,{"$f":"IF(graph!$E$2=0,\"\",B858+graph!$E$32)","v":""},{"$f":"IF(graph!$E$2=0,20,IF(SUM(K859+L859=0),NA(),0.25))","v":20},{"$f":"IF(graph!$E$2=0,20,IF(AND(B859<graph!$E$10+graph!$E$32,B859>graph!$E$10-graph!$E$32),0.25,NA()))","v":20},null,null,null,null,null,null,{"$f":"IF(graph!$E$20=0,0,IF(graph!$E$2=0,20,IF(AND(B859<graph!$E$20+graph!$E$32,B859>graph!$E$20-graph!$E$32),0.25,0)))","v":0},{"$f":"IF(graph!$E$22=0,0,IF(graph!$E$2=0,20,IF(AND(B859>graph!$E$22-graph!$E$32,B859<graph!$E$22+graph!$E$32),0.25,0)))","v":0}]
[null,{"$f":"IF(graph!$E$2=0,\"\",B859+graph!$E$32)","v":""},{"$f":"IF(graph!$E$2=0,20,IF(SUM(K860+L860=0),NA(),0.25))","v":20},{"$f":"IF(graph!$E$2=0,20,IF(AND(B860<graph!$E$10+graph!$E$32,B860>graph!$E$10-graph!$E$32),0.25,NA()))","v":20},null,null,null,null,null,null,{"$f":"IF(graph!$E$20=0,0,IF(graph!$E$2=0,20,IF(AND(B860<graph!$E$20+graph!$E$32,B860>graph!$E$20-graph!$E$32),0.25,0)))","v":0},{"$f":"IF(graph!$E$22=0,0,IF(graph!$E$2=0,20,IF(AND(B860>graph!$E$22-graph!$E$32,B860<graph!$E$22+graph!$E$32),0.25,0)))","v":0}]
[null,{"$f":"IF(graph!$E$2=0,\"\",B860+graph!$E$32)","v":""},{"$f":"IF(graph!$E$2=0,20,IF(SUM(K861+L861=0),NA(),0.25))","v":20},{"$f":"IF(graph!$E$2=0,20,IF(AND(B861<graph!$E$10+graph!$E$32,B861>graph!$E$10-graph!$E$32),0.25,NA()))","v":20},null,null,null,null,null,null,{"$f":"IF(graph!$E$20=0,0,IF(graph!$E$2=0,20,IF(AND(B861<graph!$E$20+graph!$E$32,B861>graph!$E$20-graph!$E$32),0.25,0)))","v":0},{"$f":"IF(graph!$E$22=0,0,IF(graph!$E$2=0,20,IF(AND(B861>graph!$E$22-graph!$E$32,B861<graph!$E$22+graph!$E$32),0.25,0)))","v":0}]
[null,{"$f":"IF(graph!$E$2=0,\"\",B861+graph!$E$32)","v":""},{"$f":"IF(graph!$E$2=0,20,IF(SUM(K862+L862=0),NA(),0.25))","v":20},{"$f":"IF(graph!$E$2=0,20,IF(AND(B862<graph!$E$10+graph!$E$32,B862>graph!$E$10-graph!$E$32),0.25,NA()))","v":20},null,null,null,null,null,null,{"$f":"IF(graph!$E$20=0,0,IF(graph!$E$2=0,20,IF(AND(B862<graph!$E$20+graph!$E$32,B862>graph!$E$20-graph!$E$32),0.25,0)))","v":0},{"$f":"IF(graph!$E$22=0,0,IF(graph!$E$2=0,20,IF(AND(B862>graph!$E$22-graph!$E$32,B862<graph!$E$22+graph!$E$32),0.25,0)))","v":0}]
[null,{"$f":"IF(graph!$E$2=0,\"\",B862+graph!$E$32)","v":""},{"$f":"IF(graph!$E$2=0,20,IF(SUM(K863+L863=0),NA(),0.25))","v":20},{"$f":"IF(graph!$E$2=0,20,IF(AND(B863<graph!$E$10+graph!$E$32,B863>graph!$E$10-graph!$E$32),0.25,NA()))","v":20},null,null,null,null,null,null,{"$f":"IF(graph!$E$20=0,0,IF(graph!$E$2=0,20,IF(AND(B863<graph!$E$20+graph!$E$32,B863>graph!$E$20-graph!$E$32),0.25,0)))","v":0},{"$f":"IF(graph!$E$22=0,0,IF(graph!$E$2=0,20,IF(AND(B863>graph!$E$22-graph!$E$32,B863<graph!$E$22+graph!$E$32),0.25,0)))","v":0}]
[null,{"$f":"IF(graph!$E$2=0,\"\",B863+graph!$E$32)","v":""},{"$f":"IF(graph!$E$2=0,20,IF(SUM(K864+L864=0),NA(),0.25))","v":20},{"$f":"IF(graph!$E$2=0,20,IF(AND(B864<graph!$E$10+graph!$E$32,B864>graph!$E$10-graph!$E$32),0.25,NA()))","v":20},null,null,null,null,null,null,{"$f":"IF(graph!$E$20=0,0,IF(graph!$E$2=0,20,IF(AND(B864<graph!$E$20+graph!$E$32,B864>graph!$E$20-graph!$E$32),0.25,0)))","v":0},{"$f":"IF(graph!$E$22=0,0,IF(graph!$E$2=0,20,IF(AND(B864>graph!$E$22-graph!$E$32,B864<graph!$E$22+graph!$E$32),0.25,0)))","v":0}]
[null,{"$f":"IF(graph!$E$2=0,\"\",B864+graph!$E$32)","v":""},{"$f":"IF(graph!$E$2=0,20,IF(SUM(K865+L865=0),NA(),0.25))","v":20},{"$f":"IF(graph!$E$2=0,20,IF(AND(B865<graph!$E$10+graph!$E$32,B865>graph!$E$10-graph!$E$32),0.25,NA()))","v":20},null,null,null,null,null,null,{"$f":"IF(graph!$E$20=0,0,IF(graph!$E$2=0,20,IF(AND(B865<graph!$E$20+graph!$E$32,B865>graph!$E$20-graph!$E$32),0.25,0)))","v":0},{"$f":"IF(graph!$E$22=0,0,IF(graph!$E$2=0,20,IF(AND(B865>graph!$E$22-graph!$E$32,B865<graph!$E$22+graph!$E$32),0.25,0)))","v":0}]
[null,{"$f":"IF(graph!$E$2=0,\"\",B865+graph!$E$32)","v":""},{"$f":"IF(graph!$E$2=0,20,IF(SUM(K866+L866=0),NA(),0.25))","v":20},{"$f":"IF(graph!$E$2=0,20,IF(AND(B866<graph!$E$10+graph!$E$32,B866>graph!$E$10-graph!$E$32),0.25,NA()))","v":20},null,null,null,null,null,null,{"$f":"IF(graph!$E$20=0,0,IF(graph!$E$2=0,20,IF(AND(B866<graph!$E$20+graph!$E$32,B866>graph!$E$20-graph!$E$32),0.25,0)))","v":0},{"$f":"IF(graph!$E$22=0,0,IF(graph!$E$2=0,20,IF(AND(B866>graph!$E$22-graph!$E$32,B866<graph!$E$22+graph!$E$32),0.25,0)))","v":0}]
[null,{"$f":"IF(graph!$E$2=0,\"\",B866+graph!$E$32)","v":""},{"$f":"IF(graph!$E$2=0,20,IF(SUM(K867+L867=0),NA(),0.25))","v":20},{"$f":"IF(graph!$E$2=0,20,IF(AND(B867<graph!$E$10+graph!$E$32,B867>graph!$E$10-graph!$E$32),0.25,NA()))","v":20},null,null,null,null,null,null,{"$f":"IF(graph!$E$20=0,0,IF(graph!$E$2=0,20,IF(AND(B867<graph!$E$20+graph!$E$32,B867>graph!$E$20-graph!$E$32),0.25,0)))","v":0},{"$f":"IF(graph!$E$22=0,0,IF(graph!$E$2=0,20,IF(AND(B867>graph!$E$22-graph!$E$32,B867<graph!$E$22+graph!$E$32),0.25,0)))","v":0}]
[null,{"$f":"IF(graph!$E$2=0,\"\",B867+graph!$E$32)","v":""},{"$f":"IF(graph!$E$2=0,20,IF(SUM(K868+L868=0),NA(),0.25))","v":20},{"$f":"IF(graph!$E$2=0,20,IF(AND(B868<graph!$E$10+graph!$E$32,B868>graph!$E$10-graph!$E$32),0.25,NA()))","v":20},null,null,null,null,null,null,{"$f":"IF(graph!$E$20=0,0,IF(graph!$E$2=0,20,IF(AND(B868<graph!$E$20+graph!$E$32,B868>graph!$E$20-graph!$E$32),0.25,0)))","v":0},{"$f":"IF(graph!$E$22=0,0,IF(graph!$E$2=0,20,IF(AND(B868>graph!$E$22-graph!$E$32,B868<graph!$E$22+graph!$E$32),0.25,0)))","v":0}]
[null,{"$f":"IF(graph!$E$2=0,\"\",B868+graph!$E$32)","v":""},{"$f":"IF(graph!$E$2=0,20,IF(SUM(K869+L869=0),NA(),0.25))","v":20},{"$f":"IF(graph!$E$2=0,20,IF(AND(B869<graph!$E$10+graph!$E$32,B869>graph!$E$10-graph!$E$32),0.25,NA()))","v":20},null,null,null,null,null,null,{"$f":"IF(graph!$E$20=0,0,IF(graph!$E$2=0,20,IF(AND(B869<graph!$E$20+graph!$E$32,B869>graph!$E$20-graph!$E$32),0.25,0)))","v":0},{"$f":"IF(graph!$E$22=0,0,IF(graph!$E$2=0,20,IF(AND(B869>graph!$E$22-graph!$E$32,B869<graph!$E$22+graph!$E$32),0.25,0)))","v":0}]
[null,{"$f":"IF(graph!$E$2=0,\"\",B869+graph!$E$32)","v":""},{"$f":"IF(graph!$E$2=0,20,IF(SUM(K870+L870=0),NA(),0.25))","v":20},{"$f":"IF(graph!$E$2=0,20,IF(AND(B870<graph!$E$10+graph!$E$32,B870>graph!$E$10-graph!$E$32),0.25,NA()))","v":20},null,null,null,null,null,null,{"$f":"IF(graph!$E$20=0,0,IF(graph!$E$2=0,20,IF(AND(B870<graph!$E$20+graph!$E$32,B870>graph!$E$20-graph!$E$32),0.25,0)))","v":0},{"$f":"IF(graph!$E$22=0,0,IF(graph!$E$2=0,20,IF(AND(B870>graph!$E$22-graph!$E$32,B870<graph!$E$22+graph!$E$32),0.25,0)))","v":0}]
[null,{"$f":"IF(graph!$E$2=0,\"\",B870+graph!$E$32)","v":""},{"$f":"IF(graph!$E$2=0,20,IF(SUM(K871+L871=0),NA(),0.25))","v":20},{"$f":"IF(graph!$E$2=0,20,IF(AND(B871<graph!$E$10+graph!$E$32,B871>graph!$E$10-graph!$E$32),0.25,NA()))","v":20},null,null,null,null,null,null,{"$f":"IF(graph!$E$20=0,0,IF(graph!$E$2=0,20,IF(AND(B871<graph!$E$20+graph!$E$32,B871>graph!$E$20-graph!$E$32),0.25,0)))","v":0},{"$f":"IF(graph!$E$22=0,0,IF(graph!$E$2=0,20,IF(AND(B871>graph!$E$22-graph!$E$32,B871<graph!$E$22+graph!$E$32),0.25,0)))","v":0}]
[null,{"$f":"IF(graph!$E$2=0,\"\",B871+graph!$E$32)","v":""},{"$f":"IF(graph!$E$2=0,20,IF(SUM(K872+L872=0),NA(),0.25))","v":20},{"$f":"IF(graph!$E$2=0,20,IF(AND(B872<graph!$E$10+graph!$E$32,B872>graph!$E$10-graph!$E$32),0.25,NA()))","v":20},null,null,null,null,null,null,{"$f":"IF(graph!$E$20=0,0,IF(graph!$E$2=0,20,IF(AND(B872<graph!$E$20+graph!$E$32,B872>graph!$E$20-graph!$E$32),0.25,0)))","v":0},{"$f":"IF(graph!$E$22=0,0,IF(graph!$E$2=0,20,IF(AND(B872>graph!$E$22-graph!$E$32,B872<graph!$E$22+graph!$E$32),0.25,0)))","v":0}]
[null,{"$f":"IF(graph!$E$2=0,\"\",B872+graph!$E$32)","v":""},{"$f":"IF(graph!$E$2=0,20,IF(SUM(K873+L873=0),NA(),0.25))","v":20},{"$f":"IF(graph!$E$2=0,20,IF(AND(B873<graph!$E$10+graph!$E$32,B873>graph!$E$10-graph!$E$32),0.25,NA()))","v":20},null,null,null,null,null,null,{"$f":"IF(graph!$E$20=0,0,IF(graph!$E$2=0,20,IF(AND(B873<graph!$E$20+graph!$E$32,B873>graph!$E$20-graph!$E$32),0.25,0)))","v":0},{"$f":"IF(graph!$E$22=0,0,IF(graph!$E$2=0,20,IF(AND(B873>graph!$E$22-graph!$E$32,B873<graph!$E$22+graph!$E$32),0.25,0)))","v":0}]
[null,{"$f":"IF(graph!$E$2=0,\"\",B873+graph!$E$32)","v":""},{"$f":"IF(graph!$E$2=0,20,IF(SUM(K874+L874=0),NA(),0.25))","v":20},{"$f":"IF(graph!$E$2=0,20,IF(AND(B874<graph!$E$10+graph!$E$32,B874>graph!$E$10-graph!$E$32),0.25,NA()))","v":20},null,null,null,null,null,null,{"$f":"IF(graph!$E$20=0,0,IF(graph!$E$2=0,20,IF(AND(B874<graph!$E$20+graph!$E$32,B874>graph!$E$20-graph!$E$32),0.25,0)))","v":0},{"$f":"IF(graph!$E$22=0,0,IF(graph!$E$2=0,20,IF(AND(B874>graph!$E$22-graph!$E$32,B874<graph!$E$22+graph!$E$32),0.25,0)))","v":0}]
[null,{"$f":"IF(graph!$E$2=0,\"\",B874+graph!$E$32)","v":""},{"$f":"IF(graph!$E$2=0,20,IF(SUM(K875+L875=0),NA(),0.25))","v":20},{"$f":"IF(graph!$E$2=0,20,IF(AND(B875<graph!$E$10+graph!$E$32,B875>graph!$E$10-graph!$E$32),0.25,NA()))","v":20},null,null,null,null,null,null,{"$f":"IF(graph!$E$20=0,0,IF(graph!$E$2=0,20,IF(AND(B875<graph!$E$20+graph!$E$32,B875>graph!$E$20-graph!$E$32),0.25,0)))","v":0},{"$f":"IF(graph!$E$22=0,0,IF(graph!$E$2=0,20,IF(AND(B875>graph!$E$22-graph!$E$32,B875<graph!$E$22+graph!$E$32),0.25,0)))","v":0}]
[null,{"$f":"IF(graph!$E$2=0,\"\",B875+graph!$E$32)","v":""},{"$f":"IF(graph!$E$2=0,20,IF(SUM(K876+L876=0),NA(),0.25))","v":20},{"$f":"IF(graph!$E$2=0,20,IF(AND(B876<graph!$E$10+graph!$E$32,B876>graph!$E$10-graph!$E$32),0.25,NA()))","v":20},null,null,null,null,null,null,{"$f":"IF(graph!$E$20=0,0,IF(graph!$E$2=0,20,IF(AND(B876<graph!$E$20+graph!$E$32,B876>graph!$E$20-graph!$E$32),0.25,0)))","v":0},{"$f":"IF(graph!$E$22=0,0,IF(graph!$E$2=0,20,IF(AND(B876>graph!$E$22-graph!$E$32,B876<graph!$E$22+graph!$E$32),0.25,0)))","v":0}]
[null,{"$f":"IF(graph!$E$2=0,\"\",B876+graph!$E$32)","v":""},{"$f":"IF(graph!$E$2=0,20,IF(SUM(K877+L877=0),NA(),0.25))","v":20},{"$f":"IF(graph!$E$2=0,20,IF(AND(B877<graph!$E$10+graph!$E$32,B877>graph!$E$10-graph!$E$32),0.25,NA()))","v":20},null,null,null,null,null,null,{"$f":"IF(graph!$E$20=0,0,IF(graph!$E$2=0,20,IF(AND(B877<graph!$E$20+graph!$E$32,B877>graph!$E$20-graph!$E$32),0.25,0)))","v":0},{"$f":"IF(graph!$E$22=0,0,IF(graph!$E$2=0,20,IF(AND(B877>graph!$E$22-graph!$E$32,B877<graph!$E$22+graph!$E$32),0.25,0)))","v":0}]
[null,{"$f":"IF(graph!$E$2=0,\"\",B877+graph!$E$32)","v":""},{"$f":"IF(graph!$E$2=0,20,IF(SUM(K878+L878=0),NA(),0.25))","v":20},{"$f":"IF(graph!$E$2=0,20,IF(AND(B878<graph!$E$10+graph!$E$32,B878>graph!$E$10-graph!$E$32),0.25,NA()))","v":20},null,null,null,null,null,null,{"$f":"IF(graph!$E$20=0,0,IF(graph!$E$2=0,20,IF(AND(B878<graph!$E$20+graph!$E$32,B878>graph!$E$20-graph!$E$32),0.25,0)))","v":0},{"$f":"IF(graph!$E$22=0,0,IF(graph!$E$2=0,20,IF(AND(B878>graph!$E$22-graph!$E$32,B878<graph!$E$22+graph!$E$32),0.25,0)))","v":0}]
[null,{"$f":"IF(graph!$E$2=0,\"\",B878+graph!$E$32)","v":""},{"$f":"IF(graph!$E$2=0,20,IF(SUM(K879+L879=0),NA(),0.25))","v":20},{"$f":"IF(graph!$E$2=0,20,IF(AND(B879<graph!$E$10+graph!$E$32,B879>graph!$E$10-graph!$E$32),0.25,NA()))","v":20},null,null,null,null,null,null,{"$f":"IF(graph!$E$20=0,0,IF(graph!$E$2=0,20,IF(AND(B879<graph!$E$20+graph!$E$32,B879>graph!$E$20-graph!$E$32),0.25,0)))","v":0},{"$f":"IF(graph!$E$22=0,0,IF(graph!$E$2=0,20,IF(AND(B879>graph!$E$22-graph!$E$32,B879<graph!$E$22+graph!$E$32),0.25,0)))","v":0}]
[null,{"$f":"IF(graph!$E$2=0,\"\",B879+graph!$E$32)","v":""},{"$f":"IF(graph!$E$2=0,20,IF(SUM(K880+L880=0),NA(),0.25))","v":20},{"$f":"IF(graph!$E$2=0,20,IF(AND(B880<graph!$E$10+graph!$E$32,B880>graph!$E$10-graph!$E$32),0.25,NA()))","v":20},null,null,null,null,null,null,{"$f":"IF(graph!$E$20=0,0,IF(graph!$E$2=0,20,IF(AND(B880<graph!$E$20+graph!$E$32,B880>graph!$E$20-graph!$E$32),0.25,0)))","v":0},{"$f":"IF(graph!$E$22=0,0,IF(graph!$E$2=0,20,IF(AND(B880>graph!$E$22-graph!$E$32,B880<graph!$E$22+graph!$E$32),0.25,0)))","v":0}]
[null,{"$f":"IF(graph!$E$2=0,\"\",B880+graph!$E$32)","v":""},{"$f":"IF(graph!$E$2=0,20,IF(SUM(K881+L881=0),NA(),0.25))","v":20},{"$f":"IF(graph!$E$2=0,20,IF(AND(B881<graph!$E$10+graph!$E$32,B881>graph!$E$10-graph!$E$32),0.25,NA()))","v":20},null,null,null,null,null,null,{"$f":"IF(graph!$E$20=0,0,IF(graph!$E$2=0,20,IF(AND(B881<graph!$E$20+graph!$E$32,B881>graph!$E$20-graph!$E$32),0.25,0)))","v":0},{"$f":"IF(graph!$E$22=0,0,IF(graph!$E$2=0,20,IF(AND(B881>graph!$E$22-graph!$E$32,B881<graph!$E$22+graph!$E$32),0.25,0)))","v":0}]
[null,{"$f":"IF(graph!$E$2=0,\"\",B881+graph!$E$32)","v":""},{"$f":"IF(graph!$E$2=0,20,IF(SUM(K882+L882=0),NA(),0.25))","v":20},{"$f":"IF(graph!$E$2=0,20,IF(AND(B882<graph!$E$10+graph!$E$32,B882>graph!$E$10-graph!$E$32),0.25,NA()))","v":20},null,null,null,null,null,null,{"$f":"IF(graph!$E$20=0,0,IF(graph!$E$2=0,20,IF(AND(B882<graph!$E$20+graph!$E$32,B882>graph!$E$20-graph!$E$32),0.25,0)))","v":0},{"$f":"IF(graph!$E$22=0,0,IF(graph!$E$2=0,20,IF(AND(B882>graph!$E$22-graph!$E$32,B882<graph!$E$22+graph!$E$32),0.25,0)))","v":0}]
[null,{"$f":"IF(graph!$E$2=0,\"\",B882+graph!$E$32)","v":""},{"$f":"IF(graph!$E$2=0,20,IF(SUM(K883+L883=0),NA(),0.25))","v":20},{"$f":"IF(graph!$E$2=0,20,IF(AND(B883<graph!$E$10+graph!$E$32,B883>graph!$E$10-graph!$E$32),0.25,NA()))","v":20},null,null,null,null,null,null,{"$f":"IF(graph!$E$20=0,0,IF(graph!$E$2=0,20,IF(AND(B883<graph!$E$20+graph!$E$32,B883>graph!$E$20-graph!$E$32),0.25,0)))","v":0},{"$f":"IF(graph!$E$22=0,0,IF(graph!$E$2=0,20,IF(AND(B883>graph!$E$22-graph!$E$32,B883<graph!$E$22+graph!$E$32),0.25,0)))","v":0}]
[null,{"$f":"IF(graph!$E$2=0,\"\",B883+graph!$E$32)","v":""},{"$f":"IF(graph!$E$2=0,20,IF(SUM(K884+L884=0),NA(),0.25))","v":20},{"$f":"IF(graph!$E$2=0,20,IF(AND(B884<graph!$E$10+graph!$E$32,B884>graph!$E$10-graph!$E$32),0.25,NA()))","v":20},null,null,null,null,null,null,{"$f":"IF(graph!$E$20=0,0,IF(graph!$E$2=0,20,IF(AND(B884<graph!$E$20+graph!$E$32,B884>graph!$E$20-graph!$E$32),0.25,0)))","v":0},{"$f":"IF(graph!$E$22=0,0,IF(graph!$E$2=0,20,IF(AND(B884>graph!$E$22-graph!$E$32,B884<graph!$E$22+graph!$E$32),0.25,0)))","v":0}]
[null,{"$f":"IF(graph!$E$2=0,\"\",B884+graph!$E$32)","v":""},{"$f":"IF(graph!$E$2=0,20,IF(SUM(K885+L885=0),NA(),0.25))","v":20},{"$f":"IF(graph!$E$2=0,20,IF(AND(B885<graph!$E$10+graph!$E$32,B885>graph!$E$10-graph!$E$32),0.25,NA()))","v":20},null,null,null,null,null,null,{"$f":"IF(graph!$E$20=0,0,IF(graph!$E$2=0,20,IF(AND(B885<graph!$E$20+graph!$E$32,B885>graph!$E$20-graph!$E$32),0.25,0)))","v":0},{"$f":"IF(graph!$E$22=0,0,IF(graph!$E$2=0,20,IF(AND(B885>graph!$E$22-graph!$E$32,B885<graph!$E$22+graph!$E$32),0.25,0)))","v":0}]
[null,{"$f":"IF(graph!$E$2=0,\"\",B885+graph!$E$32)","v":""},{"$f":"IF(graph!$E$2=0,20,IF(SUM(K886+L886=0),NA(),0.25))","v":20},{"$f":"IF(graph!$E$2=0,20,IF(AND(B886<graph!$E$10+graph!$E$32,B886>graph!$E$10-graph!$E$32),0.25,NA()))","v":20},null,null,null,null,null,null,{"$f":"IF(graph!$E$20=0,0,IF(graph!$E$2=0,20,IF(AND(B886<graph!$E$20+graph!$E$32,B886>graph!$E$20-graph!$E$32),0.25,0)))","v":0},{"$f":"IF(graph!$E$22=0,0,IF(graph!$E$2=0,20,IF(AND(B886>graph!$E$22-graph!$E$32,B886<graph!$E$22+graph!$E$32),0.25,0)))","v":0}]
[null,{"$f":"IF(graph!$E$2=0,\"\",B886+graph!$E$32)","v":""},{"$f":"IF(graph!$E$2=0,20,IF(SUM(K887+L887=0),NA(),0.25))","v":20},{"$f":"IF(graph!$E$2=0,20,IF(AND(B887<graph!$E$10+graph!$E$32,B887>graph!$E$10-graph!$E$32),0.25,NA()))","v":20},null,null,null,null,null,null,{"$f":"IF(graph!$E$20=0,0,IF(graph!$E$2=0,20,IF(AND(B887<graph!$E$20+graph!$E$32,B887>graph!$E$20-graph!$E$32),0.25,0)))","v":0},{"$f":"IF(graph!$E$22=0,0,IF(graph!$E$2=0,20,IF(AND(B887>graph!$E$22-graph!$E$32,B887<graph!$E$22+graph!$E$32),0.25,0)))","v":0}]
[null,{"$f":"IF(graph!$E$2=0,\"\",B887+graph!$E$32)","v":""},{"$f":"IF(graph!$E$2=0,20,IF(SUM(K888+L888=0),NA(),0.25))","v":20},{"$f":"IF(graph!$E$2=0,20,IF(AND(B888<graph!$E$10+graph!$E$32,B888>graph!$E$10-graph!$E$32),0.25,NA()))","v":20},null,null,null,null,null,null,{"$f":"IF(graph!$E$20=0,0,IF(graph!$E$2=0,20,IF(AND(B888<graph!$E$20+graph!$E$32,B888>graph!$E$20-graph!$E$32),0.25,0)))","v":0},{"$f":"IF(graph!$E$22=0,0,IF(graph!$E$2=0,20,IF(AND(B888>graph!$E$22-graph!$E$32,B888<graph!$E$22+graph!$E$32),0.25,0)))","v":0}]
[null,{"$f":"IF(graph!$E$2=0,\"\",B888+graph!$E$32)","v":""},{"$f":"IF(graph!$E$2=0,20,IF(SUM(K889+L889=0),NA(),0.25))","v":20},{"$f":"IF(graph!$E$2=0,20,IF(AND(B889<graph!$E$10+graph!$E$32,B889>graph!$E$10-graph!$E$32),0.25,NA()))","v":20},null,null,null,null,null,null,{"$f":"IF(graph!$E$20=0,0,IF(graph!$E$2=0,20,IF(AND(B889<graph!$E$20+graph!$E$32,B889>graph!$E$20-graph!$E$32),0.25,0)))","v":0},{"$f":"IF(graph!$E$22=0,0,IF(graph!$E$2=0,20,IF(AND(B889>graph!$E$22-graph!$E$32,B889<graph!$E$22+graph!$E$32),0.25,0)))","v":0}]
[null,{"$f":"IF(graph!$E$2=0,\"\",B889+graph!$E$32)","v":""},{"$f":"IF(graph!$E$2=0,20,IF(SUM(K890+L890=0),NA(),0.25))","v":20},{"$f":"IF(graph!$E$2=0,20,IF(AND(B890<graph!$E$10+graph!$E$32,B890>graph!$E$10-graph!$E$32),0.25,NA()))","v":20},null,null,null,null,null,null,{"$f":"IF(graph!$E$20=0,0,IF(graph!$E$2=0,20,IF(AND(B890<graph!$E$20+graph!$E$32,B890>graph!$E$20-graph!$E$32),0.25,0)))","v":0},{"$f":"IF(graph!$E$22=0,0,IF(graph!$E$2=0,20,IF(AND(B890>graph!$E$22-graph!$E$32,B890<graph!$E$22+graph!$E$32),0.25,0)))","v":0}]
[null,{"$f":"IF(graph!$E$2=0,\"\",B890+graph!$E$32)","v":""},{"$f":"IF(graph!$E$2=0,20,IF(SUM(K891+L891=0),NA(),0.25))","v":20},{"$f":"IF(graph!$E$2=0,20,IF(AND(B891<graph!$E$10+graph!$E$32,B891>graph!$E$10-graph!$E$32),0.25,NA()))","v":20},null,null,null,null,null,null,{"$f":"IF(graph!$E$20=0,0,IF(graph!$E$2=0,20,IF(AND(B891<graph!$E$20+graph!$E$32,B891>graph!$E$20-graph!$E$32),0.25,0)))","v":0},{"$f":"IF(graph!$E$22=0,0,IF(graph!$E$2=0,20,IF(AND(B891>graph!$E$22-graph!$E$32,B891<graph!$E$22+graph!$E$32),0.25,0)))","v":0}]
[null,{"$f":"IF(graph!$E$2=0,\"\",B891+graph!$E$32)","v":""},{"$f":"IF(graph!$E$2=0,20,IF(SUM(K892+L892=0),NA(),0.25))","v":20},{"$f":"IF(graph!$E$2=0,20,IF(AND(B892<graph!$E$10+graph!$E$32,B892>graph!$E$10-graph!$E$32),0.25,NA()))","v":20},null,null,null,null,null,null,{"$f":"IF(graph!$E$20=0,0,IF(graph!$E$2=0,20,IF(AND(B892<graph!$E$20+graph!$E$32,B892>graph!$E$20-graph!$E$32),0.25,0)))","v":0},{"$f":"IF(graph!$E$22=0,0,IF(graph!$E$2=0,20,IF(AND(B892>graph!$E$22-graph!$E$32,B892<graph!$E$22+graph!$E$32),0.25,0)))","v":0}]
[null,{"$f":"IF(graph!$E$2=0,\"\",B892+graph!$E$32)","v":""},{"$f":"IF(graph!$E$2=0,20,IF(SUM(K893+L893=0),NA(),0.25))","v":20},{"$f":"IF(graph!$E$2=0,20,IF(AND(B893<graph!$E$10+graph!$E$32,B893>graph!$E$10-graph!$E$32),0.25,NA()))","v":20},null,null,null,null,null,null,{"$f":"IF(graph!$E$20=0,0,IF(graph!$E$2=0,20,IF(AND(B893<graph!$E$20+graph!$E$32,B893>graph!$E$20-graph!$E$32),0.25,0)))","v":0},{"$f":"IF(graph!$E$22=0,0,IF(graph!$E$2=0,20,IF(AND(B893>graph!$E$22-graph!$E$32,B893<graph!$E$22+graph!$E$32),0.25,0)))","v":0}]
[null,{"$f":"IF(graph!$E$2=0,\"\",B893+graph!$E$32)","v":""},{"$f":"IF(graph!$E$2=0,20,IF(SUM(K894+L894=0),NA(),0.25))","v":20},{"$f":"IF(graph!$E$2=0,20,IF(AND(B894<graph!$E$10+graph!$E$32,B894>graph!$E$10-graph!$E$32),0.25,NA()))","v":20},null,null,null,null,null,null,{"$f":"IF(graph!$E$20=0,0,IF(graph!$E$2=0,20,IF(AND(B894<graph!$E$20+graph!$E$32,B894>graph!$E$20-graph!$E$32),0.25,0)))","v":0},{"$f":"IF(graph!$E$22=0,0,IF(graph!$E$2=0,20,IF(AND(B894>graph!$E$22-graph!$E$32,B894<graph!$E$22+graph!$E$32),0.25,0)))","v":0}]
[null,{"$f":"IF(graph!$E$2=0,\"\",B894+graph!$E$32)","v":""},{"$f":"IF(graph!$E$2=0,20,IF(SUM(K895+L895=0),NA(),0.25))","v":20},{"$f":"IF(graph!$E$2=0,20,IF(AND(B895<graph!$E$10+graph!$E$32,B895>graph!$E$10-graph!$E$32),0.25,NA()))","v":20},null,null,null,null,null,null,{"$f":"IF(graph!$E$20=0,0,IF(graph!$E$2=0,20,IF(AND(B895<graph!$E$20+graph!$E$32,B895>graph!$E$20-graph!$E$32),0.25,0)))","v":0},{"$f":"IF(graph!$E$22=0,0,IF(graph!$E$2=0,20,IF(AND(B895>graph!$E$22-graph!$E$32,B895<graph!$E$22+graph!$E$32),0.25,0)))","v":0}]
[null,{"$f":"IF(graph!$E$2=0,\"\",B895+graph!$E$32)","v":""},{"$f":"IF(graph!$E$2=0,20,IF(SUM(K896+L896=0),NA(),0.25))","v":20},{"$f":"IF(graph!$E$2=0,20,IF(AND(B896<graph!$E$10+graph!$E$32,B896>graph!$E$10-graph!$E$32),0.25,NA()))","v":20},null,null,null,null,null,null,{"$f":"IF(graph!$E$20=0,0,IF(graph!$E$2=0,20,IF(AND(B896<graph!$E$20+graph!$E$32,B896>graph!$E$20-graph!$E$32),0.25,0)))","v":0},{"$f":"IF(graph!$E$22=0,0,IF(graph!$E$2=0,20,IF(AND(B896>graph!$E$22-graph!$E$32,B896<graph!$E$22+graph!$E$32),0.25,0)))","v":0}]
[null,{"$f":"IF(graph!$E$2=0,\"\",B896+graph!$E$32)","v":""},{"$f":"IF(graph!$E$2=0,20,IF(SUM(K897+L897=0),NA(),0.25))","v":20},{"$f":"IF(graph!$E$2=0,20,IF(AND(B897<graph!$E$10+graph!$E$32,B897>graph!$E$10-graph!$E$32),0.25,NA()))","v":20},null,null,null,null,null,null,{"$f":"IF(graph!$E$20=0,0,IF(graph!$E$2=0,20,IF(AND(B897<graph!$E$20+graph!$E$32,B897>graph!$E$20-graph!$E$32),0.25,0)))","v":0},{"$f":"IF(graph!$E$22=0,0,IF(graph!$E$2=0,20,IF(AND(B897>graph!$E$22-graph!$E$32,B897<graph!$E$22+graph!$E$32),0.25,0)))","v":0}]
[null,{"$f":"IF(graph!$E$2=0,\"\",B897+graph!$E$32)","v":""},{"$f":"IF(graph!$E$2=0,20,IF(SUM(K898+L898=0),NA(),0.25))","v":20},{"$f":"IF(graph!$E$2=0,20,IF(AND(B898<graph!$E$10+graph!$E$32,B898>graph!$E$10-graph!$E$32),0.25,NA()))","v":20},null,null,null,null,null,null,{"$f":"IF(graph!$E$20=0,0,IF(graph!$E$2=0,20,IF(AND(B898<graph!$E$20+graph!$E$32,B898>graph!$E$20-graph!$E$32),0.25,0)))","v":0},{"$f":"IF(graph!$E$22=0,0,IF(graph!$E$2=0,20,IF(AND(B898>graph!$E$22-graph!$E$32,B898<graph!$E$22+graph!$E$32),0.25,0)))","v":0}]
[null,{"$f":"IF(graph!$E$2=0,\"\",B898+graph!$E$32)","v":""},{"$f":"IF(graph!$E$2=0,20,IF(SUM(K899+L899=0),NA(),0.25))","v":20},{"$f":"IF(graph!$E$2=0,20,IF(AND(B899<graph!$E$10+graph!$E$32,B899>graph!$E$10-graph!$E$32),0.25,NA()))","v":20},null,null,null,null,null,null,{"$f":"IF(graph!$E$20=0,0,IF(graph!$E$2=0,20,IF(AND(B899<graph!$E$20+graph!$E$32,B899>graph!$E$20-graph!$E$32),0.25,0)))","v":0},{"$f":"IF(graph!$E$22=0,0,IF(graph!$E$2=0,20,IF(AND(B899>graph!$E$22-graph!$E$32,B899<graph!$E$22+graph!$E$32),0.25,0)))","v":0}]
[null,{"$f":"IF(graph!$E$2=0,\"\",B899+graph!$E$32)","v":""},{"$f":"IF(graph!$E$2=0,20,IF(SUM(K900+L900=0),NA(),0.25))","v":20},{"$f":"IF(graph!$E$2=0,20,IF(AND(B900<graph!$E$10+graph!$E$32,B900>graph!$E$10-graph!$E$32),0.25,NA()))","v":20},null,null,null,null,null,null,{"$f":"IF(graph!$E$20=0,0,IF(graph!$E$2=0,20,IF(AND(B900<graph!$E$20+graph!$E$32,B900>graph!$E$20-graph!$E$32),0.25,0)))","v":0},{"$f":"IF(graph!$E$22=0,0,IF(graph!$E$2=0,20,IF(AND(B900>graph!$E$22-graph!$E$32,B900<graph!$E$22+graph!$E$32),0.25,0)))","v":0}]
[null,{"$f":"IF(graph!$E$2=0,\"\",B900+graph!$E$32)","v":""},{"$f":"IF(graph!$E$2=0,20,IF(SUM(K901+L901=0),NA(),0.25))","v":20},{"$f":"IF(graph!$E$2=0,20,IF(AND(B901<graph!$E$10+graph!$E$32,B901>graph!$E$10-graph!$E$32),0.25,NA()))","v":20},null,null,null,null,null,null,{"$f":"IF(graph!$E$20=0,0,IF(graph!$E$2=0,20,IF(AND(B901<graph!$E$20+graph!$E$32,B901>graph!$E$20-graph!$E$32),0.25,0)))","v":0},{"$f":"IF(graph!$E$22=0,0,IF(graph!$E$2=0,20,IF(AND(B901>graph!$E$22-graph!$E$32,B901<graph!$E$22+graph!$E$32),0.25,0)))","v":0}]
[null,{"$f":"IF(graph!$E$2=0,\"\",B901+graph!$E$32)","v":""},{"$f":"IF(graph!$E$2=0,20,IF(SUM(K902+L902=0),NA(),0.25))","v":20},{"$f":"IF(graph!$E$2=0,20,IF(AND(B902<graph!$E$10+graph!$E$32,B902>graph!$E$10-graph!$E$32),0.25,NA()))","v":20},null,null,null,null,null,null,{"$f":"IF(graph!$E$20=0,0,IF(graph!$E$2=0,20,IF(AND(B902<graph!$E$20+graph!$E$32,B902>graph!$E$20-graph!$E$32),0.25,0)))","v":0},{"$f":"IF(graph!$E$22=0,0,IF(graph!$E$2=0,20,IF(AND(B902>graph!$E$22-graph!$E$32,B902<graph!$E$22+graph!$E$32),0.25,0)))","v":0}]
[null,{"$f":"IF(graph!$E$2=0,\"\",B902+graph!$E$32)","v":""},{"$f":"IF(graph!$E$2=0,20,IF(SUM(K903+L903=0),NA(),0.25))","v":20},{"$f":"IF(graph!$E$2=0,20,IF(AND(B903<graph!$E$10+graph!$E$32,B903>graph!$E$10-graph!$E$32),0.25,NA()))","v":20},null,null,null,null,null,null,{"$f":"IF(graph!$E$20=0,0,IF(graph!$E$2=0,20,IF(AND(B903<graph!$E$20+graph!$E$32,B903>graph!$E$20-graph!$E$32),0.25,0)))","v":0},{"$f":"IF(graph!$E$22=0,0,IF(graph!$E$2=0,20,IF(AND(B903>graph!$E$22-graph!$E$32,B903<graph!$E$22+graph!$E$32),0.25,0)))","v":0}]
[null,{"$f":"IF(graph!$E$2=0,\"\",B903+graph!$E$32)","v":""},{"$f":"IF(graph!$E$2=0,20,IF(SUM(K904+L904=0),NA(),0.25))","v":20},{"$f":"IF(graph!$E$2=0,20,IF(AND(B904<graph!$E$10+graph!$E$32,B904>graph!$E$10-graph!$E$32),0.25,NA()))","v":20},null,null,null,null,null,null,{"$f":"IF(graph!$E$20=0,0,IF(graph!$E$2=0,20,IF(AND(B904<graph!$E$20+graph!$E$32,B904>graph!$E$20-graph!$E$32),0.25,0)))","v":0},{"$f":"IF(graph!$E$22=0,0,IF(graph!$E$2=0,20,IF(AND(B904>graph!$E$22-graph!$E$32,B904<graph!$E$22+graph!$E$32),0.25,0)))","v":0}]
[null,{"$f":"IF(graph!$E$2=0,\"\",B904+graph!$E$32)","v":""},{"$f":"IF(graph!$E$2=0,20,IF(SUM(K905+L905=0),NA(),0.25))","v":20},{"$f":"IF(graph!$E$2=0,20,IF(AND(B905<graph!$E$10+graph!$E$32,B905>graph!$E$10-graph!$E$32),0.25,NA()))","v":20},null,null,null,null,null,null,{"$f":"IF(graph!$E$20=0,0,IF(graph!$E$2=0,20,IF(AND(B905<graph!$E$20+graph!$E$32,B905>graph!$E$20-graph!$E$32),0.25,0)))","v":0},{"$f":"IF(graph!$E$22=0,0,IF(graph!$E$2=0,20,IF(AND(B905>graph!$E$22-graph!$E$32,B905<graph!$E$22+graph!$E$32),0.25,0)))","v":0}]
[null,{"$f":"IF(graph!$E$2=0,\"\",B905+graph!$E$32)","v":""},{"$f":"IF(graph!$E$2=0,20,IF(SUM(K906+L906=0),NA(),0.25))","v":20},{"$f":"IF(graph!$E$2=0,20,IF(AND(B906<graph!$E$10+graph!$E$32,B906>graph!$E$10-graph!$E$32),0.25,NA()))","v":20},null,null,null,null,null,null,{"$f":"IF(graph!$E$20=0,0,IF(graph!$E$2=0,20,IF(AND(B906<graph!$E$20+graph!$E$32,B906>graph!$E$20-graph!$E$32),0.25,0)))","v":0},{"$f":"IF(graph!$E$22=0,0,IF(graph!$E$2=0,20,IF(AND(B906>graph!$E$22-graph!$E$32,B906<graph!$E$22+graph!$E$32),0.25,0)))","v":0}]
[null,{"$f":"IF(graph!$E$2=0,\"\",B906+graph!$E$32)","v":""},{"$f":"IF(graph!$E$2=0,20,IF(SUM(K907+L907=0),NA(),0.25))","v":20},{"$f":"IF(graph!$E$2=0,20,IF(AND(B907<graph!$E$10+graph!$E$32,B907>graph!$E$10-graph!$E$32),0.25,NA()))","v":20},null,null,null,null,null,null,{"$f":"IF(graph!$E$20=0,0,IF(graph!$E$2=0,20,IF(AND(B907<graph!$E$20+graph!$E$32,B907>graph!$E$20-graph!$E$32),0.25,0)))","v":0},{"$f":"IF(graph!$E$22=0,0,IF(graph!$E$2=0,20,IF(AND(B907>graph!$E$22-graph!$E$32,B907<graph!$E$22+graph!$E$32),0.25,0)))","v":0}]
[null,{"$f":"IF(graph!$E$2=0,\"\",B907+graph!$E$32)","v":""},{"$f":"IF(graph!$E$2=0,20,IF(SUM(K908+L908=0),NA(),0.25))","v":20},{"$f":"IF(graph!$E$2=0,20,IF(AND(B908<graph!$E$10+graph!$E$32,B908>graph!$E$10-graph!$E$32),0.25,NA()))","v":20},null,null,null,null,null,null,{"$f":"IF(graph!$E$20=0,0,IF(graph!$E$2=0,20,IF(AND(B908<graph!$E$20+graph!$E$32,B908>graph!$E$20-graph!$E$32),0.25,0)))","v":0},{"$f":"IF(graph!$E$22=0,0,IF(graph!$E$2=0,20,IF(AND(B908>graph!$E$22-graph!$E$32,B908<graph!$E$22+graph!$E$32),0.25,0)))","v":0}]
[null,{"$f":"IF(graph!$E$2=0,\"\",B908+graph!$E$32)","v":""},{"$f":"IF(graph!$E$2=0,20,IF(SUM(K909+L909=0),NA(),0.25))","v":20},{"$f":"IF(graph!$E$2=0,20,IF(AND(B909<graph!$E$10+graph!$E$32,B909>graph!$E$10-graph!$E$32),0.25,NA()))","v":20},null,null,null,null,null,null,{"$f":"IF(graph!$E$20=0,0,IF(graph!$E$2=0,20,IF(AND(B909<graph!$E$20+graph!$E$32,B909>graph!$E$20-graph!$E$32),0.25,0)))","v":0},{"$f":"IF(graph!$E$22=0,0,IF(graph!$E$2=0,20,IF(AND(B909>graph!$E$22-graph!$E$32,B909<graph!$E$22+graph!$E$32),0.25,0)))","v":0}]
[null,{"$f":"IF(graph!$E$2=0,\"\",B909+graph!$E$32)","v":""},{"$f":"IF(graph!$E$2=0,20,IF(SUM(K910+L910=0),NA(),0.25))","v":20},{"$f":"IF(graph!$E$2=0,20,IF(AND(B910<graph!$E$10+graph!$E$32,B910>graph!$E$10-graph!$E$32),0.25,NA()))","v":20},null,null,null,null,null,null,{"$f":"IF(graph!$E$20=0,0,IF(graph!$E$2=0,20,IF(AND(B910<graph!$E$20+graph!$E$32,B910>graph!$E$20-graph!$E$32),0.25,0)))","v":0},{"$f":"IF(graph!$E$22=0,0,IF(graph!$E$2=0,20,IF(AND(B910>graph!$E$22-graph!$E$32,B910<graph!$E$22+graph!$E$32),0.25,0)))","v":0}]
[null,{"$f":"IF(graph!$E$2=0,\"\",B910+graph!$E$32)","v":""},{"$f":"IF(graph!$E$2=0,20,IF(SUM(K911+L911=0),NA(),0.25))","v":20},{"$f":"IF(graph!$E$2=0,20,IF(AND(B911<graph!$E$10+graph!$E$32,B911>graph!$E$10-graph!$E$32),0.25,NA()))","v":20},null,null,null,null,null,null,{"$f":"IF(graph!$E$20=0,0,IF(graph!$E$2=0,20,IF(AND(B911<graph!$E$20+graph!$E$32,B911>graph!$E$20-graph!$E$32),0.25,0)))","v":0},{"$f":"IF(graph!$E$22=0,0,IF(graph!$E$2=0,20,IF(AND(B911>graph!$E$22-graph!$E$32,B911<graph!$E$22+graph!$E$32),0.25,0)))","v":0}]
[null,{"$f":"IF(graph!$E$2=0,\"\",B911+graph!$E$32)","v":""},{"$f":"IF(graph!$E$2=0,20,IF(SUM(K912+L912=0),NA(),0.25))","v":20},{"$f":"IF(graph!$E$2=0,20,IF(AND(B912<graph!$E$10+graph!$E$32,B912>graph!$E$10-graph!$E$32),0.25,NA()))","v":20},null,null,null,null,null,null,{"$f":"IF(graph!$E$20=0,0,IF(graph!$E$2=0,20,IF(AND(B912<graph!$E$20+graph!$E$32,B912>graph!$E$20-graph!$E$32),0.25,0)))","v":0},{"$f":"IF(graph!$E$22=0,0,IF(graph!$E$2=0,20,IF(AND(B912>graph!$E$22-graph!$E$32,B912<graph!$E$22+graph!$E$32),0.25,0)))","v":0}]
[null,{"$f":"IF(graph!$E$2=0,\"\",B912+graph!$E$32)","v":""},{"$f":"IF(graph!$E$2=0,20,IF(SUM(K913+L913=0),NA(),0.25))","v":20},{"$f":"IF(graph!$E$2=0,20,IF(AND(B913<graph!$E$10+graph!$E$32,B913>graph!$E$10-graph!$E$32),0.25,NA()))","v":20},null,null,null,null,null,null,{"$f":"IF(graph!$E$20=0,0,IF(graph!$E$2=0,20,IF(AND(B913<graph!$E$20+graph!$E$32,B913>graph!$E$20-graph!$E$32),0.25,0)))","v":0},{"$f":"IF(graph!$E$22=0,0,IF(graph!$E$2=0,20,IF(AND(B913>graph!$E$22-graph!$E$32,B913<graph!$E$22+graph!$E$32),0.25,0)))","v":0}]
[null,{"$f":"IF(graph!$E$2=0,\"\",B913+graph!$E$32)","v":""},{"$f":"IF(graph!$E$2=0,20,IF(SUM(K914+L914=0),NA(),0.25))","v":20},{"$f":"IF(graph!$E$2=0,20,IF(AND(B914<graph!$E$10+graph!$E$32,B914>graph!$E$10-graph!$E$32),0.25,NA()))","v":20},null,null,null,null,null,null,{"$f":"IF(graph!$E$20=0,0,IF(graph!$E$2=0,20,IF(AND(B914<graph!$E$20+graph!$E$32,B914>graph!$E$20-graph!$E$32),0.25,0)))","v":0},{"$f":"IF(graph!$E$22=0,0,IF(graph!$E$2=0,20,IF(AND(B914>graph!$E$22-graph!$E$32,B914<graph!$E$22+graph!$E$32),0.25,0)))","v":0}]
[null,{"$f":"IF(graph!$E$2=0,\"\",B914+graph!$E$32)","v":""},{"$f":"IF(graph!$E$2=0,20,IF(SUM(K915+L915=0),NA(),0.25))","v":20},{"$f":"IF(graph!$E$2=0,20,IF(AND(B915<graph!$E$10+graph!$E$32,B915>graph!$E$10-graph!$E$32),0.25,NA()))","v":20},null,null,null,null,null,null,{"$f":"IF(graph!$E$20=0,0,IF(graph!$E$2=0,20,IF(AND(B915<graph!$E$20+graph!$E$32,B915>graph!$E$20-graph!$E$32),0.25,0)))","v":0},{"$f":"IF(graph!$E$22=0,0,IF(graph!$E$2=0,20,IF(AND(B915>graph!$E$22-graph!$E$32,B915<graph!$E$22+graph!$E$32),0.25,0)))","v":0}]
[null,{"$f":"IF(graph!$E$2=0,\"\",B915+graph!$E$32)","v":""},{"$f":"IF(graph!$E$2=0,20,IF(SUM(K916+L916=0),NA(),0.25))","v":20},{"$f":"IF(graph!$E$2=0,20,IF(AND(B916<graph!$E$10+graph!$E$32,B916>graph!$E$10-graph!$E$32),0.25,NA()))","v":20},null,null,null,null,null,null,{"$f":"IF(graph!$E$20=0,0,IF(graph!$E$2=0,20,IF(AND(B916<graph!$E$20+graph!$E$32,B916>graph!$E$20-graph!$E$32),0.25,0)))","v":0},{"$f":"IF(graph!$E$22=0,0,IF(graph!$E$2=0,20,IF(AND(B916>graph!$E$22-graph!$E$32,B916<graph!$E$22+graph!$E$32),0.25,0)))","v":0}]
[null,{"$f":"IF(graph!$E$2=0,\"\",B916+graph!$E$32)","v":""},{"$f":"IF(graph!$E$2=0,20,IF(SUM(K917+L917=0),NA(),0.25))","v":20},{"$f":"IF(graph!$E$2=0,20,IF(AND(B917<graph!$E$10+graph!$E$32,B917>graph!$E$10-graph!$E$32),0.25,NA()))","v":20},null,null,null,null,null,null,{"$f":"IF(graph!$E$20=0,0,IF(graph!$E$2=0,20,IF(AND(B917<graph!$E$20+graph!$E$32,B917>graph!$E$20-graph!$E$32),0.25,0)))","v":0},{"$f":"IF(graph!$E$22=0,0,IF(graph!$E$2=0,20,IF(AND(B917>graph!$E$22-graph!$E$32,B917<graph!$E$22+graph!$E$32),0.25,0)))","v":0}]
[null,{"$f":"IF(graph!$E$2=0,\"\",B917+graph!$E$32)","v":""},{"$f":"IF(graph!$E$2=0,20,IF(SUM(K918+L918=0),NA(),0.25))","v":20},{"$f":"IF(graph!$E$2=0,20,IF(AND(B918<graph!$E$10+graph!$E$32,B918>graph!$E$10-graph!$E$32),0.25,NA()))","v":20},null,null,null,null,null,null,{"$f":"IF(graph!$E$20=0,0,IF(graph!$E$2=0,20,IF(AND(B918<graph!$E$20+graph!$E$32,B918>graph!$E$20-graph!$E$32),0.25,0)))","v":0},{"$f":"IF(graph!$E$22=0,0,IF(graph!$E$2=0,20,IF(AND(B918>graph!$E$22-graph!$E$32,B918<graph!$E$22+graph!$E$32),0.25,0)))","v":0}]
[null,{"$f":"IF(graph!$E$2=0,\"\",B918+graph!$E$32)","v":""},{"$f":"IF(graph!$E$2=0,20,IF(SUM(K919+L919=0),NA(),0.25))","v":20},{"$f":"IF(graph!$E$2=0,20,IF(AND(B919<graph!$E$10+graph!$E$32,B919>graph!$E$10-graph!$E$32),0.25,NA()))","v":20},null,null,null,null,null,null,{"$f":"IF(graph!$E$20=0,0,IF(graph!$E$2=0,20,IF(AND(B919<graph!$E$20+graph!$E$32,B919>graph!$E$20-graph!$E$32),0.25,0)))","v":0},{"$f":"IF(graph!$E$22=0,0,IF(graph!$E$2=0,20,IF(AND(B919>graph!$E$22-graph!$E$32,B919<graph!$E$22+graph!$E$32),0.25,0)))","v":0}]
[null,{"$f":"IF(graph!$E$2=0,\"\",B919+graph!$E$32)","v":""},{"$f":"IF(graph!$E$2=0,20,IF(SUM(K920+L920=0),NA(),0.25))","v":20},{"$f":"IF(graph!$E$2=0,20,IF(AND(B920<graph!$E$10+graph!$E$32,B920>graph!$E$10-graph!$E$32),0.25,NA()))","v":20},null,null,null,null,null,null,{"$f":"IF(graph!$E$20=0,0,IF(graph!$E$2=0,20,IF(AND(B920<graph!$E$20+graph!$E$32,B920>graph!$E$20-graph!$E$32),0.25,0)))","v":0},{"$f":"IF(graph!$E$22=0,0,IF(graph!$E$2=0,20,IF(AND(B920>graph!$E$22-graph!$E$32,B920<graph!$E$22+graph!$E$32),0.25,0)))","v":0}]
[null,{"$f":"IF(graph!$E$2=0,\"\",B920+graph!$E$32)","v":""},{"$f":"IF(graph!$E$2=0,20,IF(SUM(K921+L921=0),NA(),0.25))","v":20},{"$f":"IF(graph!$E$2=0,20,IF(AND(B921<graph!$E$10+graph!$E$32,B921>graph!$E$10-graph!$E$32),0.25,NA()))","v":20},null,null,null,null,null,null,{"$f":"IF(graph!$E$20=0,0,IF(graph!$E$2=0,20,IF(AND(B921<graph!$E$20+graph!$E$32,B921>graph!$E$20-graph!$E$32),0.25,0)))","v":0},{"$f":"IF(graph!$E$22=0,0,IF(graph!$E$2=0,20,IF(AND(B921>graph!$E$22-graph!$E$32,B921<graph!$E$22+graph!$E$32),0.25,0)))","v":0}]
[null,{"$f":"IF(graph!$E$2=0,\"\",B921+graph!$E$32)","v":""},{"$f":"IF(graph!$E$2=0,20,IF(SUM(K922+L922=0),NA(),0.25))","v":20},{"$f":"IF(graph!$E$2=0,20,IF(AND(B922<graph!$E$10+graph!$E$32,B922>graph!$E$10-graph!$E$32),0.25,NA()))","v":20},null,null,null,null,null,null,{"$f":"IF(graph!$E$20=0,0,IF(graph!$E$2=0,20,IF(AND(B922<graph!$E$20+graph!$E$32,B922>graph!$E$20-graph!$E$32),0.25,0)))","v":0},{"$f":"IF(graph!$E$22=0,0,IF(graph!$E$2=0,20,IF(AND(B922>graph!$E$22-graph!$E$32,B922<graph!$E$22+graph!$E$32),0.25,0)))","v":0}]
[null,{"$f":"IF(graph!$E$2=0,\"\",B922+graph!$E$32)","v":""},{"$f":"IF(graph!$E$2=0,20,IF(SUM(K923+L923=0),NA(),0.25))","v":20},{"$f":"IF(graph!$E$2=0,20,IF(AND(B923<graph!$E$10+graph!$E$32,B923>graph!$E$10-graph!$E$32),0.25,NA()))","v":20},null,null,null,null,null,null,{"$f":"IF(graph!$E$20=0,0,IF(graph!$E$2=0,20,IF(AND(B923<graph!$E$20+graph!$E$32,B923>graph!$E$20-graph!$E$32),0.25,0)))","v":0},{"$f":"IF(graph!$E$22=0,0,IF(graph!$E$2=0,20,IF(AND(B923>graph!$E$22-graph!$E$32,B923<graph!$E$22+graph!$E$32),0.25,0)))","v":0}]
[null,{"$f":"IF(graph!$E$2=0,\"\",B923+graph!$E$32)","v":""},{"$f":"IF(graph!$E$2=0,20,IF(SUM(K924+L924=0),NA(),0.25))","v":20},{"$f":"IF(graph!$E$2=0,20,IF(AND(B924<graph!$E$10+graph!$E$32,B924>graph!$E$10-graph!$E$32),0.25,NA()))","v":20},null,null,null,null,null,null,{"$f":"IF(graph!$E$20=0,0,IF(graph!$E$2=0,20,IF(AND(B924<graph!$E$20+graph!$E$32,B924>graph!$E$20-graph!$E$32),0.25,0)))","v":0},{"$f":"IF(graph!$E$22=0,0,IF(graph!$E$2=0,20,IF(AND(B924>graph!$E$22-graph!$E$32,B924<graph!$E$22+graph!$E$32),0.25,0)))","v":0}]
[null,{"$f":"IF(graph!$E$2=0,\"\",B924+graph!$E$32)","v":""},{"$f":"IF(graph!$E$2=0,20,IF(SUM(K925+L925=0),NA(),0.25))","v":20},{"$f":"IF(graph!$E$2=0,20,IF(AND(B925<graph!$E$10+graph!$E$32,B925>graph!$E$10-graph!$E$32),0.25,NA()))","v":20},null,null,null,null,null,null,{"$f":"IF(graph!$E$20=0,0,IF(graph!$E$2=0,20,IF(AND(B925<graph!$E$20+graph!$E$32,B925>graph!$E$20-graph!$E$32),0.25,0)))","v":0},{"$f":"IF(graph!$E$22=0,0,IF(graph!$E$2=0,20,IF(AND(B925>graph!$E$22-graph!$E$32,B925<graph!$E$22+graph!$E$32),0.25,0)))","v":0}]
[null,{"$f":"IF(graph!$E$2=0,\"\",B925+graph!$E$32)","v":""},{"$f":"IF(graph!$E$2=0,20,IF(SUM(K926+L926=0),NA(),0.25))","v":20},{"$f":"IF(graph!$E$2=0,20,IF(AND(B926<graph!$E$10+graph!$E$32,B926>graph!$E$10-graph!$E$32),0.25,NA()))","v":20},null,null,null,null,null,null,{"$f":"IF(graph!$E$20=0,0,IF(graph!$E$2=0,20,IF(AND(B926<graph!$E$20+graph!$E$32,B926>graph!$E$20-graph!$E$32),0.25,0)))","v":0},{"$f":"IF(graph!$E$22=0,0,IF(graph!$E$2=0,20,IF(AND(B926>graph!$E$22-graph!$E$32,B926<graph!$E$22+graph!$E$32),0.25,0)))","v":0}]
[null,{"$f":"IF(graph!$E$2=0,\"\",B926+graph!$E$32)","v":""},{"$f":"IF(graph!$E$2=0,20,IF(SUM(K927+L927=0),NA(),0.25))","v":20},{"$f":"IF(graph!$E$2=0,20,IF(AND(B927<graph!$E$10+graph!$E$32,B927>graph!$E$10-graph!$E$32),0.25,NA()))","v":20},null,null,null,null,null,null,{"$f":"IF(graph!$E$20=0,0,IF(graph!$E$2=0,20,IF(AND(B927<graph!$E$20+graph!$E$32,B927>graph!$E$20-graph!$E$32),0.25,0)))","v":0},{"$f":"IF(graph!$E$22=0,0,IF(graph!$E$2=0,20,IF(AND(B927>graph!$E$22-graph!$E$32,B927<graph!$E$22+graph!$E$32),0.25,0)))","v":0}]
[null,{"$f":"IF(graph!$E$2=0,\"\",B927+graph!$E$32)","v":""},{"$f":"IF(graph!$E$2=0,20,IF(SUM(K928+L928=0),NA(),0.25))","v":20},{"$f":"IF(graph!$E$2=0,20,IF(AND(B928<graph!$E$10+graph!$E$32,B928>graph!$E$10-graph!$E$32),0.25,NA()))","v":20},null,null,null,null,null,null,{"$f":"IF(graph!$E$20=0,0,IF(graph!$E$2=0,20,IF(AND(B928<graph!$E$20+graph!$E$32,B928>graph!$E$20-graph!$E$32),0.25,0)))","v":0},{"$f":"IF(graph!$E$22=0,0,IF(graph!$E$2=0,20,IF(AND(B928>graph!$E$22-graph!$E$32,B928<graph!$E$22+graph!$E$32),0.25,0)))","v":0}]
[null,{"$f":"IF(graph!$E$2=0,\"\",B928+graph!$E$32)","v":""},{"$f":"IF(graph!$E$2=0,20,IF(SUM(K929+L929=0),NA(),0.25))","v":20},{"$f":"IF(graph!$E$2=0,20,IF(AND(B929<graph!$E$10+graph!$E$32,B929>graph!$E$10-graph!$E$32),0.25,NA()))","v":20},null,null,null,null,null,null,{"$f":"IF(graph!$E$20=0,0,IF(graph!$E$2=0,20,IF(AND(B929<graph!$E$20+graph!$E$32,B929>graph!$E$20-graph!$E$32),0.25,0)))","v":0},{"$f":"IF(graph!$E$22=0,0,IF(graph!$E$2=0,20,IF(AND(B929>graph!$E$22-graph!$E$32,B929<graph!$E$22+graph!$E$32),0.25,0)))","v":0}]
[null,{"$f":"IF(graph!$E$2=0,\"\",B929+graph!$E$32)","v":""},{"$f":"IF(graph!$E$2=0,20,IF(SUM(K930+L930=0),NA(),0.25))","v":20},{"$f":"IF(graph!$E$2=0,20,IF(AND(B930<graph!$E$10+graph!$E$32,B930>graph!$E$10-graph!$E$32),0.25,NA()))","v":20},null,null,null,null,null,null,{"$f":"IF(graph!$E$20=0,0,IF(graph!$E$2=0,20,IF(AND(B930<graph!$E$20+graph!$E$32,B930>graph!$E$20-graph!$E$32),0.25,0)))","v":0},{"$f":"IF(graph!$E$22=0,0,IF(graph!$E$2=0,20,IF(AND(B930>graph!$E$22-graph!$E$32,B930<graph!$E$22+graph!$E$32),0.25,0)))","v":0}]
[null,{"$f":"IF(graph!$E$2=0,\"\",B930+graph!$E$32)","v":""},{"$f":"IF(graph!$E$2=0,20,IF(SUM(K931+L931=0),NA(),0.25))","v":20},{"$f":"IF(graph!$E$2=0,20,IF(AND(B931<graph!$E$10+graph!$E$32,B931>graph!$E$10-graph!$E$32),0.25,NA()))","v":20},null,null,null,null,null,null,{"$f":"IF(graph!$E$20=0,0,IF(graph!$E$2=0,20,IF(AND(B931<graph!$E$20+graph!$E$32,B931>graph!$E$20-graph!$E$32),0.25,0)))","v":0},{"$f":"IF(graph!$E$22=0,0,IF(graph!$E$2=0,20,IF(AND(B931>graph!$E$22-graph!$E$32,B931<graph!$E$22+graph!$E$32),0.25,0)))","v":0}]
[null,{"$f":"IF(graph!$E$2=0,\"\",B931+graph!$E$32)","v":""},{"$f":"IF(graph!$E$2=0,20,IF(SUM(K932+L932=0),NA(),0.25))","v":20},{"$f":"IF(graph!$E$2=0,20,IF(AND(B932<graph!$E$10+graph!$E$32,B932>graph!$E$10-graph!$E$32),0.25,NA()))","v":20},null,null,null,null,null,null,{"$f":"IF(graph!$E$20=0,0,IF(graph!$E$2=0,20,IF(AND(B932<graph!$E$20+graph!$E$32,B932>graph!$E$20-graph!$E$32),0.25,0)))","v":0},{"$f":"IF(graph!$E$22=0,0,IF(graph!$E$2=0,20,IF(AND(B932>graph!$E$22-graph!$E$32,B932<graph!$E$22+graph!$E$32),0.25,0)))","v":0}]
[null,{"$f":"IF(graph!$E$2=0,\"\",B932+graph!$E$32)","v":""},{"$f":"IF(graph!$E$2=0,20,IF(SUM(K933+L933=0),NA(),0.25))","v":20},{"$f":"IF(graph!$E$2=0,20,IF(AND(B933<graph!$E$10+graph!$E$32,B933>graph!$E$10-graph!$E$32),0.25,NA()))","v":20},null,null,null,null,null,null,{"$f":"IF(graph!$E$20=0,0,IF(graph!$E$2=0,20,IF(AND(B933<graph!$E$20+graph!$E$32,B933>graph!$E$20-graph!$E$32),0.25,0)))","v":0},{"$f":"IF(graph!$E$22=0,0,IF(graph!$E$2=0,20,IF(AND(B933>graph!$E$22-graph!$E$32,B933<graph!$E$22+graph!$E$32),0.25,0)))","v":0}]
[null,{"$f":"IF(graph!$E$2=0,\"\",B933+graph!$E$32)","v":""},{"$f":"IF(graph!$E$2=0,20,IF(SUM(K934+L934=0),NA(),0.25))","v":20},{"$f":"IF(graph!$E$2=0,20,IF(AND(B934<graph!$E$10+graph!$E$32,B934>graph!$E$10-graph!$E$32),0.25,NA()))","v":20},null,null,null,null,null,null,{"$f":"IF(graph!$E$20=0,0,IF(graph!$E$2=0,20,IF(AND(B934<graph!$E$20+graph!$E$32,B934>graph!$E$20-graph!$E$32),0.25,0)))","v":0},{"$f":"IF(graph!$E$22=0,0,IF(graph!$E$2=0,20,IF(AND(B934>graph!$E$22-graph!$E$32,B934<graph!$E$22+graph!$E$32),0.25,0)))","v":0}]
[null,{"$f":"IF(graph!$E$2=0,\"\",B934+graph!$E$32)","v":""},{"$f":"IF(graph!$E$2=0,20,IF(SUM(K935+L935=0),NA(),0.25))","v":20},{"$f":"IF(graph!$E$2=0,20,IF(AND(B935<graph!$E$10+graph!$E$32,B935>graph!$E$10-graph!$E$32),0.25,NA()))","v":20},null,null,null,null,null,null,{"$f":"IF(graph!$E$20=0,0,IF(graph!$E$2=0,20,IF(AND(B935<graph!$E$20+graph!$E$32,B935>graph!$E$20-graph!$E$32),0.25,0)))","v":0},{"$f":"IF(graph!$E$22=0,0,IF(graph!$E$2=0,20,IF(AND(B935>graph!$E$22-graph!$E$32,B935<graph!$E$22+graph!$E$32),0.25,0)))","v":0}]
[null,{"$f":"IF(graph!$E$2=0,\"\",B935+graph!$E$32)","v":""},{"$f":"IF(graph!$E$2=0,20,IF(SUM(K936+L936=0),NA(),0.25))","v":20},{"$f":"IF(graph!$E$2=0,20,IF(AND(B936<graph!$E$10+graph!$E$32,B936>graph!$E$10-graph!$E$32),0.25,NA()))","v":20},null,null,null,null,null,null,{"$f":"IF(graph!$E$20=0,0,IF(graph!$E$2=0,20,IF(AND(B936<graph!$E$20+graph!$E$32,B936>graph!$E$20-graph!$E$32),0.25,0)))","v":0},{"$f":"IF(graph!$E$22=0,0,IF(graph!$E$2=0,20,IF(AND(B936>graph!$E$22-graph!$E$32,B936<graph!$E$22+graph!$E$32),0.25,0)))","v":0}]
[null,{"$f":"IF(graph!$E$2=0,\"\",B936+graph!$E$32)","v":""},{"$f":"IF(graph!$E$2=0,20,IF(SUM(K937+L937=0),NA(),0.25))","v":20},{"$f":"IF(graph!$E$2=0,20,IF(AND(B937<graph!$E$10+graph!$E$32,B937>graph!$E$10-graph!$E$32),0.25,NA()))","v":20},null,null,null,null,null,null,{"$f":"IF(graph!$E$20=0,0,IF(graph!$E$2=0,20,IF(AND(B937<graph!$E$20+graph!$E$32,B937>graph!$E$20-graph!$E$32),0.25,0)))","v":0},{"$f":"IF(graph!$E$22=0,0,IF(graph!$E$2=0,20,IF(AND(B937>graph!$E$22-graph!$E$32,B937<graph!$E$22+graph!$E$32),0.25,0)))","v":0}]
[null,{"$f":"IF(graph!$E$2=0,\"\",B937+graph!$E$32)","v":""},{"$f":"IF(graph!$E$2=0,20,IF(SUM(K938+L938=0),NA(),0.25))","v":20},{"$f":"IF(graph!$E$2=0,20,IF(AND(B938<graph!$E$10+graph!$E$32,B938>graph!$E$10-graph!$E$32),0.25,NA()))","v":20},null,null,null,null,null,null,{"$f":"IF(graph!$E$20=0,0,IF(graph!$E$2=0,20,IF(AND(B938<graph!$E$20+graph!$E$32,B938>graph!$E$20-graph!$E$32),0.25,0)))","v":0},{"$f":"IF(graph!$E$22=0,0,IF(graph!$E$2=0,20,IF(AND(B938>graph!$E$22-graph!$E$32,B938<graph!$E$22+graph!$E$32),0.25,0)))","v":0}]
[null,{"$f":"IF(graph!$E$2=0,\"\",B938+graph!$E$32)","v":""},{"$f":"IF(graph!$E$2=0,20,IF(SUM(K939+L939=0),NA(),0.25))","v":20},{"$f":"IF(graph!$E$2=0,20,IF(AND(B939<graph!$E$10+graph!$E$32,B939>graph!$E$10-graph!$E$32),0.25,NA()))","v":20},null,null,null,null,null,null,{"$f":"IF(graph!$E$20=0,0,IF(graph!$E$2=0,20,IF(AND(B939<graph!$E$20+graph!$E$32,B939>graph!$E$20-graph!$E$32),0.25,0)))","v":0},{"$f":"IF(graph!$E$22=0,0,IF(graph!$E$2=0,20,IF(AND(B939>graph!$E$22-graph!$E$32,B939<graph!$E$22+graph!$E$32),0.25,0)))","v":0}]
[null,{"$f":"IF(graph!$E$2=0,\"\",B939+graph!$E$32)","v":""},{"$f":"IF(graph!$E$2=0,20,IF(SUM(K940+L940=0),NA(),0.25))","v":20},{"$f":"IF(graph!$E$2=0,20,IF(AND(B940<graph!$E$10+graph!$E$32,B940>graph!$E$10-graph!$E$32),0.25,NA()))","v":20},null,null,null,null,null,null,{"$f":"IF(graph!$E$20=0,0,IF(graph!$E$2=0,20,IF(AND(B940<graph!$E$20+graph!$E$32,B940>graph!$E$20-graph!$E$32),0.25,0)))","v":0},{"$f":"IF(graph!$E$22=0,0,IF(graph!$E$2=0,20,IF(AND(B940>graph!$E$22-graph!$E$32,B940<graph!$E$22+graph!$E$32),0.25,0)))","v":0}]
[null,{"$f":"IF(graph!$E$2=0,\"\",B940+graph!$E$32)","v":""},{"$f":"IF(graph!$E$2=0,20,IF(SUM(K941+L941=0),NA(),0.25))","v":20},{"$f":"IF(graph!$E$2=0,20,IF(AND(B941<graph!$E$10+graph!$E$32,B941>graph!$E$10-graph!$E$32),0.25,NA()))","v":20},null,null,null,null,null,null,{"$f":"IF(graph!$E$20=0,0,IF(graph!$E$2=0,20,IF(AND(B941<graph!$E$20+graph!$E$32,B941>graph!$E$20-graph!$E$32),0.25,0)))","v":0},{"$f":"IF(graph!$E$22=0,0,IF(graph!$E$2=0,20,IF(AND(B941>graph!$E$22-graph!$E$32,B941<graph!$E$22+graph!$E$32),0.25,0)))","v":0}]
[null,{"$f":"IF(graph!$E$2=0,\"\",B941+graph!$E$32)","v":""},{"$f":"IF(graph!$E$2=0,20,IF(SUM(K942+L942=0),NA(),0.25))","v":20},{"$f":"IF(graph!$E$2=0,20,IF(AND(B942<graph!$E$10+graph!$E$32,B942>graph!$E$10-graph!$E$32),0.25,NA()))","v":20},null,null,null,null,null,null,{"$f":"IF(graph!$E$20=0,0,IF(graph!$E$2=0,20,IF(AND(B942<graph!$E$20+graph!$E$32,B942>graph!$E$20-graph!$E$32),0.25,0)))","v":0},{"$f":"IF(graph!$E$22=0,0,IF(graph!$E$2=0,20,IF(AND(B942>graph!$E$22-graph!$E$32,B942<graph!$E$22+graph!$E$32),0.25,0)))","v":0}]
[null,{"$f":"IF(graph!$E$2=0,\"\",B942+graph!$E$32)","v":""},{"$f":"IF(graph!$E$2=0,20,IF(SUM(K943+L943=0),NA(),0.25))","v":20},{"$f":"IF(graph!$E$2=0,20,IF(AND(B943<graph!$E$10+graph!$E$32,B943>graph!$E$10-graph!$E$32),0.25,NA()))","v":20},null,null,null,null,null,null,{"$f":"IF(graph!$E$20=0,0,IF(graph!$E$2=0,20,IF(AND(B943<graph!$E$20+graph!$E$32,B943>graph!$E$20-graph!$E$32),0.25,0)))","v":0},{"$f":"IF(graph!$E$22=0,0,IF(graph!$E$2=0,20,IF(AND(B943>graph!$E$22-graph!$E$32,B943<graph!$E$22+graph!$E$32),0.25,0)))","v":0}]
[null,{"$f":"IF(graph!$E$2=0,\"\",B943+graph!$E$32)","v":""},{"$f":"IF(graph!$E$2=0,20,IF(SUM(K944+L944=0),NA(),0.25))","v":20},{"$f":"IF(graph!$E$2=0,20,IF(AND(B944<graph!$E$10+graph!$E$32,B944>graph!$E$10-graph!$E$32),0.25,NA()))","v":20},null,null,null,null,null,null,{"$f":"IF(graph!$E$20=0,0,IF(graph!$E$2=0,20,IF(AND(B944<graph!$E$20+graph!$E$32,B944>graph!$E$20-graph!$E$32),0.25,0)))","v":0},{"$f":"IF(graph!$E$22=0,0,IF(graph!$E$2=0,20,IF(AND(B944>graph!$E$22-graph!$E$32,B944<graph!$E$22+graph!$E$32),0.25,0)))","v":0}]
[null,{"$f":"IF(graph!$E$2=0,\"\",B944+graph!$E$32)","v":""},{"$f":"IF(graph!$E$2=0,20,IF(SUM(K945+L945=0),NA(),0.25))","v":20},{"$f":"IF(graph!$E$2=0,20,IF(AND(B945<graph!$E$10+graph!$E$32,B945>graph!$E$10-graph!$E$32),0.25,NA()))","v":20},null,null,null,null,null,null,{"$f":"IF(graph!$E$20=0,0,IF(graph!$E$2=0,20,IF(AND(B945<graph!$E$20+graph!$E$32,B945>graph!$E$20-graph!$E$32),0.25,0)))","v":0},{"$f":"IF(graph!$E$22=0,0,IF(graph!$E$2=0,20,IF(AND(B945>graph!$E$22-graph!$E$32,B945<graph!$E$22+graph!$E$32),0.25,0)))","v":0}]
[null,{"$f":"IF(graph!$E$2=0,\"\",B945+graph!$E$32)","v":""},{"$f":"IF(graph!$E$2=0,20,IF(SUM(K946+L946=0),NA(),0.25))","v":20},{"$f":"IF(graph!$E$2=0,20,IF(AND(B946<graph!$E$10+graph!$E$32,B946>graph!$E$10-graph!$E$32),0.25,NA()))","v":20},null,null,null,null,null,null,{"$f":"IF(graph!$E$20=0,0,IF(graph!$E$2=0,20,IF(AND(B946<graph!$E$20+graph!$E$32,B946>graph!$E$20-graph!$E$32),0.25,0)))","v":0},{"$f":"IF(graph!$E$22=0,0,IF(graph!$E$2=0,20,IF(AND(B946>graph!$E$22-graph!$E$32,B946<graph!$E$22+graph!$E$32),0.25,0)))","v":0}]
[null,{"$f":"IF(graph!$E$2=0,\"\",B946+graph!$E$32)","v":""},{"$f":"IF(graph!$E$2=0,20,IF(SUM(K947+L947=0),NA(),0.25))","v":20},{"$f":"IF(graph!$E$2=0,20,IF(AND(B947<graph!$E$10+graph!$E$32,B947>graph!$E$10-graph!$E$32),0.25,NA()))","v":20},null,null,null,null,null,null,{"$f":"IF(graph!$E$20=0,0,IF(graph!$E$2=0,20,IF(AND(B947<graph!$E$20+graph!$E$32,B947>graph!$E$20-graph!$E$32),0.25,0)))","v":0},{"$f":"IF(graph!$E$22=0,0,IF(graph!$E$2=0,20,IF(AND(B947>graph!$E$22-graph!$E$32,B947<graph!$E$22+graph!$E$32),0.25,0)))","v":0}]
[null,{"$f":"IF(graph!$E$2=0,\"\",B947+graph!$E$32)","v":""},{"$f":"IF(graph!$E$2=0,20,IF(SUM(K948+L948=0),NA(),0.25))","v":20},{"$f":"IF(graph!$E$2=0,20,IF(AND(B948<graph!$E$10+graph!$E$32,B948>graph!$E$10-graph!$E$32),0.25,NA()))","v":20},null,null,null,null,null,null,{"$f":"IF(graph!$E$20=0,0,IF(graph!$E$2=0,20,IF(AND(B948<graph!$E$20+graph!$E$32,B948>graph!$E$20-graph!$E$32),0.25,0)))","v":0},{"$f":"IF(graph!$E$22=0,0,IF(graph!$E$2=0,20,IF(AND(B948>graph!$E$22-graph!$E$32,B948<graph!$E$22+graph!$E$32),0.25,0)))","v":0}]
[null,{"$f":"IF(graph!$E$2=0,\"\",B948+graph!$E$32)","v":""},{"$f":"IF(graph!$E$2=0,20,IF(SUM(K949+L949=0),NA(),0.25))","v":20},{"$f":"IF(graph!$E$2=0,20,IF(AND(B949<graph!$E$10+graph!$E$32,B949>graph!$E$10-graph!$E$32),0.25,NA()))","v":20},null,null,null,null,null,null,{"$f":"IF(graph!$E$20=0,0,IF(graph!$E$2=0,20,IF(AND(B949<graph!$E$20+graph!$E$32,B949>graph!$E$20-graph!$E$32),0.25,0)))","v":0},{"$f":"IF(graph!$E$22=0,0,IF(graph!$E$2=0,20,IF(AND(B949>graph!$E$22-graph!$E$32,B949<graph!$E$22+graph!$E$32),0.25,0)))","v":0}]
[null,{"$f":"IF(graph!$E$2=0,\"\",B949+graph!$E$32)","v":""},{"$f":"IF(graph!$E$2=0,20,IF(SUM(K950+L950=0),NA(),0.25))","v":20},{"$f":"IF(graph!$E$2=0,20,IF(AND(B950<graph!$E$10+graph!$E$32,B950>graph!$E$10-graph!$E$32),0.25,NA()))","v":20},null,null,null,null,null,null,{"$f":"IF(graph!$E$20=0,0,IF(graph!$E$2=0,20,IF(AND(B950<graph!$E$20+graph!$E$32,B950>graph!$E$20-graph!$E$32),0.25,0)))","v":0},{"$f":"IF(graph!$E$22=0,0,IF(graph!$E$2=0,20,IF(AND(B950>graph!$E$22-graph!$E$32,B950<graph!$E$22+graph!$E$32),0.25,0)))","v":0}]
[null,{"$f":"IF(graph!$E$2=0,\"\",B950+graph!$E$32)","v":""},{"$f":"IF(graph!$E$2=0,20,IF(SUM(K951+L951=0),NA(),0.25))","v":20},{"$f":"IF(graph!$E$2=0,20,IF(AND(B951<graph!$E$10+graph!$E$32,B951>graph!$E$10-graph!$E$32),0.25,NA()))","v":20},null,null,null,null,null,null,{"$f":"IF(graph!$E$20=0,0,IF(graph!$E$2=0,20,IF(AND(B951<graph!$E$20+graph!$E$32,B951>graph!$E$20-graph!$E$32),0.25,0)))","v":0},{"$f":"IF(graph!$E$22=0,0,IF(graph!$E$2=0,20,IF(AND(B951>graph!$E$22-graph!$E$32,B951<graph!$E$22+graph!$E$32),0.25,0)))","v":0}]
[null,{"$f":"IF(graph!$E$2=0,\"\",B951+graph!$E$32)","v":""},{"$f":"IF(graph!$E$2=0,20,IF(SUM(K952+L952=0),NA(),0.25))","v":20},{"$f":"IF(graph!$E$2=0,20,IF(AND(B952<graph!$E$10+graph!$E$32,B952>graph!$E$10-graph!$E$32),0.25,NA()))","v":20},null,null,null,null,null,null,{"$f":"IF(graph!$E$20=0,0,IF(graph!$E$2=0,20,IF(AND(B952<graph!$E$20+graph!$E$32,B952>graph!$E$20-graph!$E$32),0.25,0)))","v":0},{"$f":"IF(graph!$E$22=0,0,IF(graph!$E$2=0,20,IF(AND(B952>graph!$E$22-graph!$E$32,B952<graph!$E$22+graph!$E$32),0.25,0)))","v":0}]
[null,{"$f":"IF(graph!$E$2=0,\"\",B952+graph!$E$32)","v":""},{"$f":"IF(graph!$E$2=0,20,IF(SUM(K953+L953=0),NA(),0.25))","v":20},{"$f":"IF(graph!$E$2=0,20,IF(AND(B953<graph!$E$10+graph!$E$32,B953>graph!$E$10-graph!$E$32),0.25,NA()))","v":20},null,null,null,null,null,null,{"$f":"IF(graph!$E$20=0,0,IF(graph!$E$2=0,20,IF(AND(B953<graph!$E$20+graph!$E$32,B953>graph!$E$20-graph!$E$32),0.25,0)))","v":0},{"$f":"IF(graph!$E$22=0,0,IF(graph!$E$2=0,20,IF(AND(B953>graph!$E$22-graph!$E$32,B953<graph!$E$22+graph!$E$32),0.25,0)))","v":0}]
[null,{"$f":"IF(graph!$E$2=0,\"\",B953+graph!$E$32)","v":""},{"$f":"IF(graph!$E$2=0,20,IF(SUM(K954+L954=0),NA(),0.25))","v":20},{"$f":"IF(graph!$E$2=0,20,IF(AND(B954<graph!$E$10+graph!$E$32,B954>graph!$E$10-graph!$E$32),0.25,NA()))","v":20},null,null,null,null,null,null,{"$f":"IF(graph!$E$20=0,0,IF(graph!$E$2=0,20,IF(AND(B954<graph!$E$20+graph!$E$32,B954>graph!$E$20-graph!$E$32),0.25,0)))","v":0},{"$f":"IF(graph!$E$22=0,0,IF(graph!$E$2=0,20,IF(AND(B954>graph!$E$22-graph!$E$32,B954<graph!$E$22+graph!$E$32),0.25,0)))","v":0}]
[null,{"$f":"IF(graph!$E$2=0,\"\",B954+graph!$E$32)","v":""},{"$f":"IF(graph!$E$2=0,20,IF(SUM(K955+L955=0),NA(),0.25))","v":20},{"$f":"IF(graph!$E$2=0,20,IF(AND(B955<graph!$E$10+graph!$E$32,B955>graph!$E$10-graph!$E$32),0.25,NA()))","v":20},null,null,null,null,null,null,{"$f":"IF(graph!$E$20=0,0,IF(graph!$E$2=0,20,IF(AND(B955<graph!$E$20+graph!$E$32,B955>graph!$E$20-graph!$E$32),0.25,0)))","v":0},{"$f":"IF(graph!$E$22=0,0,IF(graph!$E$2=0,20,IF(AND(B955>graph!$E$22-graph!$E$32,B955<graph!$E$22+graph!$E$32),0.25,0)))","v":0}]
[null,{"$f":"IF(graph!$E$2=0,\"\",B955+graph!$E$32)","v":""},{"$f":"IF(graph!$E$2=0,20,IF(SUM(K956+L956=0),NA(),0.25))","v":20},{"$f":"IF(graph!$E$2=0,20,IF(AND(B956<graph!$E$10+graph!$E$32,B956>graph!$E$10-graph!$E$32),0.25,NA()))","v":20},null,null,null,null,null,null,{"$f":"IF(graph!$E$20=0,0,IF(graph!$E$2=0,20,IF(AND(B956<graph!$E$20+graph!$E$32,B956>graph!$E$20-graph!$E$32),0.25,0)))","v":0},{"$f":"IF(graph!$E$22=0,0,IF(graph!$E$2=0,20,IF(AND(B956>graph!$E$22-graph!$E$32,B956<graph!$E$22+graph!$E$32),0.25,0)))","v":0}]
[null,{"$f":"IF(graph!$E$2=0,\"\",B956+graph!$E$32)","v":""},{"$f":"IF(graph!$E$2=0,20,IF(SUM(K957+L957=0),NA(),0.25))","v":20},{"$f":"IF(graph!$E$2=0,20,IF(AND(B957<graph!$E$10+graph!$E$32,B957>graph!$E$10-graph!$E$32),0.25,NA()))","v":20},null,null,null,null,null,null,{"$f":"IF(graph!$E$20=0,0,IF(graph!$E$2=0,20,IF(AND(B957<graph!$E$20+graph!$E$32,B957>graph!$E$20-graph!$E$32),0.25,0)))","v":0},{"$f":"IF(graph!$E$22=0,0,IF(graph!$E$2=0,20,IF(AND(B957>graph!$E$22-graph!$E$32,B957<graph!$E$22+graph!$E$32),0.25,0)))","v":0}]
[null,{"$f":"IF(graph!$E$2=0,\"\",B957+graph!$E$32)","v":""},{"$f":"IF(graph!$E$2=0,20,IF(SUM(K958+L958=0),NA(),0.25))","v":20},{"$f":"IF(graph!$E$2=0,20,IF(AND(B958<graph!$E$10+graph!$E$32,B958>graph!$E$10-graph!$E$32),0.25,NA()))","v":20},null,null,null,null,null,null,{"$f":"IF(graph!$E$20=0,0,IF(graph!$E$2=0,20,IF(AND(B958<graph!$E$20+graph!$E$32,B958>graph!$E$20-graph!$E$32),0.25,0)))","v":0},{"$f":"IF(graph!$E$22=0,0,IF(graph!$E$2=0,20,IF(AND(B958>graph!$E$22-graph!$E$32,B958<graph!$E$22+graph!$E$32),0.25,0)))","v":0}]
[null,{"$f":"IF(graph!$E$2=0,\"\",B958+graph!$E$32)","v":""},{"$f":"IF(graph!$E$2=0,20,IF(SUM(K959+L959=0),NA(),0.25))","v":20},{"$f":"IF(graph!$E$2=0,20,IF(AND(B959<graph!$E$10+graph!$E$32,B959>graph!$E$10-graph!$E$32),0.25,NA()))","v":20},null,null,null,null,null,null,{"$f":"IF(graph!$E$20=0,0,IF(graph!$E$2=0,20,IF(AND(B959<graph!$E$20+graph!$E$32,B959>graph!$E$20-graph!$E$32),0.25,0)))","v":0},{"$f":"IF(graph!$E$22=0,0,IF(graph!$E$2=0,20,IF(AND(B959>graph!$E$22-graph!$E$32,B959<graph!$E$22+graph!$E$32),0.25,0)))","v":0}]
[null,{"$f":"IF(graph!$E$2=0,\"\",B959+graph!$E$32)","v":""},{"$f":"IF(graph!$E$2=0,20,IF(SUM(K960+L960=0),NA(),0.25))","v":20},{"$f":"IF(graph!$E$2=0,20,IF(AND(B960<graph!$E$10+graph!$E$32,B960>graph!$E$10-graph!$E$32),0.25,NA()))","v":20},null,null,null,null,null,null,{"$f":"IF(graph!$E$20=0,0,IF(graph!$E$2=0,20,IF(AND(B960<graph!$E$20+graph!$E$32,B960>graph!$E$20-graph!$E$32),0.25,0)))","v":0},{"$f":"IF(graph!$E$22=0,0,IF(graph!$E$2=0,20,IF(AND(B960>graph!$E$22-graph!$E$32,B960<graph!$E$22+graph!$E$32),0.25,0)))","v":0}]
[null,{"$f":"IF(graph!$E$2=0,\"\",B960+graph!$E$32)","v":""},{"$f":"IF(graph!$E$2=0,20,IF(SUM(K961+L961=0),NA(),0.25))","v":20},{"$f":"IF(graph!$E$2=0,20,IF(AND(B961<graph!$E$10+graph!$E$32,B961>graph!$E$10-graph!$E$32),0.25,NA()))","v":20},null,null,null,null,null,null,{"$f":"IF(graph!$E$20=0,0,IF(graph!$E$2=0,20,IF(AND(B961<graph!$E$20+graph!$E$32,B961>graph!$E$20-graph!$E$32),0.25,0)))","v":0},{"$f":"IF(graph!$E$22=0,0,IF(graph!$E$2=0,20,IF(AND(B961>graph!$E$22-graph!$E$32,B961<graph!$E$22+graph!$E$32),0.25,0)))","v":0}]
[null,{"$f":"IF(graph!$E$2=0,\"\",B961+graph!$E$32)","v":""},{"$f":"IF(graph!$E$2=0,20,IF(SUM(K962+L962=0),NA(),0.25))","v":20},{"$f":"IF(graph!$E$2=0,20,IF(AND(B962<graph!$E$10+graph!$E$32,B962>graph!$E$10-graph!$E$32),0.25,NA()))","v":20},null,null,null,null,null,null,{"$f":"IF(graph!$E$20=0,0,IF(graph!$E$2=0,20,IF(AND(B962<graph!$E$20+graph!$E$32,B962>graph!$E$20-graph!$E$32),0.25,0)))","v":0},{"$f":"IF(graph!$E$22=0,0,IF(graph!$E$2=0,20,IF(AND(B962>graph!$E$22-graph!$E$32,B962<graph!$E$22+graph!$E$32),0.25,0)))","v":0}]
[null,{"$f":"IF(graph!$E$2=0,\"\",B962+graph!$E$32)","v":""},{"$f":"IF(graph!$E$2=0,20,IF(SUM(K963+L963=0),NA(),0.25))","v":20},{"$f":"IF(graph!$E$2=0,20,IF(AND(B963<graph!$E$10+graph!$E$32,B963>graph!$E$10-graph!$E$32),0.25,NA()))","v":20},null,null,null,null,null,null,{"$f":"IF(graph!$E$20=0,0,IF(graph!$E$2=0,20,IF(AND(B963<graph!$E$20+graph!$E$32,B963>graph!$E$20-graph!$E$32),0.25,0)))","v":0},{"$f":"IF(graph!$E$22=0,0,IF(graph!$E$2=0,20,IF(AND(B963>graph!$E$22-graph!$E$32,B963<graph!$E$22+graph!$E$32),0.25,0)))","v":0}]
[null,{"$f":"IF(graph!$E$2=0,\"\",B963+graph!$E$32)","v":""},{"$f":"IF(graph!$E$2=0,20,IF(SUM(K964+L964=0),NA(),0.25))","v":20},{"$f":"IF(graph!$E$2=0,20,IF(AND(B964<graph!$E$10+graph!$E$32,B964>graph!$E$10-graph!$E$32),0.25,NA()))","v":20},null,null,null,null,null,null,{"$f":"IF(graph!$E$20=0,0,IF(graph!$E$2=0,20,IF(AND(B964<graph!$E$20+graph!$E$32,B964>graph!$E$20-graph!$E$32),0.25,0)))","v":0},{"$f":"IF(graph!$E$22=0,0,IF(graph!$E$2=0,20,IF(AND(B964>graph!$E$22-graph!$E$32,B964<graph!$E$22+graph!$E$32),0.25,0)))","v":0}]
[null,{"$f":"IF(graph!$E$2=0,\"\",B964+graph!$E$32)","v":""},{"$f":"IF(graph!$E$2=0,20,IF(SUM(K965+L965=0),NA(),0.25))","v":20},{"$f":"IF(graph!$E$2=0,20,IF(AND(B965<graph!$E$10+graph!$E$32,B965>graph!$E$10-graph!$E$32),0.25,NA()))","v":20},null,null,null,null,null,null,{"$f":"IF(graph!$E$20=0,0,IF(graph!$E$2=0,20,IF(AND(B965<graph!$E$20+graph!$E$32,B965>graph!$E$20-graph!$E$32),0.25,0)))","v":0},{"$f":"IF(graph!$E$22=0,0,IF(graph!$E$2=0,20,IF(AND(B965>graph!$E$22-graph!$E$32,B965<graph!$E$22+graph!$E$32),0.25,0)))","v":0}]
[null,{"$f":"IF(graph!$E$2=0,\"\",B965+graph!$E$32)","v":""},{"$f":"IF(graph!$E$2=0,20,IF(SUM(K966+L966=0),NA(),0.25))","v":20},{"$f":"IF(graph!$E$2=0,20,IF(AND(B966<graph!$E$10+graph!$E$32,B966>graph!$E$10-graph!$E$32),0.25,NA()))","v":20},null,null,null,null,null,null,{"$f":"IF(graph!$E$20=0,0,IF(graph!$E$2=0,20,IF(AND(B966<graph!$E$20+graph!$E$32,B966>graph!$E$20-graph!$E$32),0.25,0)))","v":0},{"$f":"IF(graph!$E$22=0,0,IF(graph!$E$2=0,20,IF(AND(B966>graph!$E$22-graph!$E$32,B966<graph!$E$22+graph!$E$32),0.25,0)))","v":0}]
[null,{"$f":"IF(graph!$E$2=0,\"\",B966+graph!$E$32)","v":""},{"$f":"IF(graph!$E$2=0,20,IF(SUM(K967+L967=0),NA(),0.25))","v":20},{"$f":"IF(graph!$E$2=0,20,IF(AND(B967<graph!$E$10+graph!$E$32,B967>graph!$E$10-graph!$E$32),0.25,NA()))","v":20},null,null,null,null,null,null,{"$f":"IF(graph!$E$20=0,0,IF(graph!$E$2=0,20,IF(AND(B967<graph!$E$20+graph!$E$32,B967>graph!$E$20-graph!$E$32),0.25,0)))","v":0},{"$f":"IF(graph!$E$22=0,0,IF(graph!$E$2=0,20,IF(AND(B967>graph!$E$22-graph!$E$32,B967<graph!$E$22+graph!$E$32),0.25,0)))","v":0}]
[null,{"$f":"IF(graph!$E$2=0,\"\",B967+graph!$E$32)","v":""},{"$f":"IF(graph!$E$2=0,20,IF(SUM(K968+L968=0),NA(),0.25))","v":20},{"$f":"IF(graph!$E$2=0,20,IF(AND(B968<graph!$E$10+graph!$E$32,B968>graph!$E$10-graph!$E$32),0.25,NA()))","v":20},null,null,null,null,null,null,{"$f":"IF(graph!$E$20=0,0,IF(graph!$E$2=0,20,IF(AND(B968<graph!$E$20+graph!$E$32,B968>graph!$E$20-graph!$E$32),0.25,0)))","v":0},{"$f":"IF(graph!$E$22=0,0,IF(graph!$E$2=0,20,IF(AND(B968>graph!$E$22-graph!$E$32,B968<graph!$E$22+graph!$E$32),0.25,0)))","v":0}]
[null,{"$f":"IF(graph!$E$2=0,\"\",B968+graph!$E$32)","v":""},{"$f":"IF(graph!$E$2=0,20,IF(SUM(K969+L969=0),NA(),0.25))","v":20},{"$f":"IF(graph!$E$2=0,20,IF(AND(B969<graph!$E$10+graph!$E$32,B969>graph!$E$10-graph!$E$32),0.25,NA()))","v":20},null,null,null,null,null,null,{"$f":"IF(graph!$E$20=0,0,IF(graph!$E$2=0,20,IF(AND(B969<graph!$E$20+graph!$E$32,B969>graph!$E$20-graph!$E$32),0.25,0)))","v":0},{"$f":"IF(graph!$E$22=0,0,IF(graph!$E$2=0,20,IF(AND(B969>graph!$E$22-graph!$E$32,B969<graph!$E$22+graph!$E$32),0.25,0)))","v":0}]
[null,{"$f":"IF(graph!$E$2=0,\"\",B969+graph!$E$32)","v":""},{"$f":"IF(graph!$E$2=0,20,IF(SUM(K970+L970=0),NA(),0.25))","v":20},{"$f":"IF(graph!$E$2=0,20,IF(AND(B970<graph!$E$10+graph!$E$32,B970>graph!$E$10-graph!$E$32),0.25,NA()))","v":20},null,null,null,null,null,null,{"$f":"IF(graph!$E$20=0,0,IF(graph!$E$2=0,20,IF(AND(B970<graph!$E$20+graph!$E$32,B970>graph!$E$20-graph!$E$32),0.25,0)))","v":0},{"$f":"IF(graph!$E$22=0,0,IF(graph!$E$2=0,20,IF(AND(B970>graph!$E$22-graph!$E$32,B970<graph!$E$22+graph!$E$32),0.25,0)))","v":0}]
[null,{"$f":"IF(graph!$E$2=0,\"\",B970+graph!$E$32)","v":""},{"$f":"IF(graph!$E$2=0,20,IF(SUM(K971+L971=0),NA(),0.25))","v":20},{"$f":"IF(graph!$E$2=0,20,IF(AND(B971<graph!$E$10+graph!$E$32,B971>graph!$E$10-graph!$E$32),0.25,NA()))","v":20},null,null,null,null,null,null,{"$f":"IF(graph!$E$20=0,0,IF(graph!$E$2=0,20,IF(AND(B971<graph!$E$20+graph!$E$32,B971>graph!$E$20-graph!$E$32),0.25,0)))","v":0},{"$f":"IF(graph!$E$22=0,0,IF(graph!$E$2=0,20,IF(AND(B971>graph!$E$22-graph!$E$32,B971<graph!$E$22+graph!$E$32),0.25,0)))","v":0}]
[null,{"$f":"IF(graph!$E$2=0,\"\",B971+graph!$E$32)","v":""},{"$f":"IF(graph!$E$2=0,20,IF(SUM(K972+L972=0),NA(),0.25))","v":20},{"$f":"IF(graph!$E$2=0,20,IF(AND(B972<graph!$E$10+graph!$E$32,B972>graph!$E$10-graph!$E$32),0.25,NA()))","v":20},null,null,null,null,null,null,{"$f":"IF(graph!$E$20=0,0,IF(graph!$E$2=0,20,IF(AND(B972<graph!$E$20+graph!$E$32,B972>graph!$E$20-graph!$E$32),0.25,0)))","v":0},{"$f":"IF(graph!$E$22=0,0,IF(graph!$E$2=0,20,IF(AND(B972>graph!$E$22-graph!$E$32,B972<graph!$E$22+graph!$E$32),0.25,0)))","v":0}]
[null,{"$f":"IF(graph!$E$2=0,\"\",B972+graph!$E$32)","v":""},{"$f":"IF(graph!$E$2=0,20,IF(SUM(K973+L973=0),NA(),0.25))","v":20},{"$f":"IF(graph!$E$2=0,20,IF(AND(B973<graph!$E$10+graph!$E$32,B973>graph!$E$10-graph!$E$32),0.25,NA()))","v":20},null,null,null,null,null,null,{"$f":"IF(graph!$E$20=0,0,IF(graph!$E$2=0,20,IF(AND(B973<graph!$E$20+graph!$E$32,B973>graph!$E$20-graph!$E$32),0.25,0)))","v":0},{"$f":"IF(graph!$E$22=0,0,IF(graph!$E$2=0,20,IF(AND(B973>graph!$E$22-graph!$E$32,B973<graph!$E$22+graph!$E$32),0.25,0)))","v":0}]
[null,{"$f":"IF(graph!$E$2=0,\"\",B973+graph!$E$32)","v":""},{"$f":"IF(graph!$E$2=0,20,IF(SUM(K974+L974=0),NA(),0.25))","v":20},{"$f":"IF(graph!$E$2=0,20,IF(AND(B974<graph!$E$10+graph!$E$32,B974>graph!$E$10-graph!$E$32),0.25,NA()))","v":20},null,null,null,null,null,null,{"$f":"IF(graph!$E$20=0,0,IF(graph!$E$2=0,20,IF(AND(B974<graph!$E$20+graph!$E$32,B974>graph!$E$20-graph!$E$32),0.25,0)))","v":0},{"$f":"IF(graph!$E$22=0,0,IF(graph!$E$2=0,20,IF(AND(B974>graph!$E$22-graph!$E$32,B974<graph!$E$22+graph!$E$32),0.25,0)))","v":0}]
[null,{"$f":"IF(graph!$E$2=0,\"\",B974+graph!$E$32)","v":""},{"$f":"IF(graph!$E$2=0,20,IF(SUM(K975+L975=0),NA(),0.25))","v":20},{"$f":"IF(graph!$E$2=0,20,IF(AND(B975<graph!$E$10+graph!$E$32,B975>graph!$E$10-graph!$E$32),0.25,NA()))","v":20},null,null,null,null,null,null,{"$f":"IF(graph!$E$20=0,0,IF(graph!$E$2=0,20,IF(AND(B975<graph!$E$20+graph!$E$32,B975>graph!$E$20-graph!$E$32),0.25,0)))","v":0},{"$f":"IF(graph!$E$22=0,0,IF(graph!$E$2=0,20,IF(AND(B975>graph!$E$22-graph!$E$32,B975<graph!$E$22+graph!$E$32),0.25,0)))","v":0}]
[null,{"$f":"IF(graph!$E$2=0,\"\",B975+graph!$E$32)","v":""},{"$f":"IF(graph!$E$2=0,20,IF(SUM(K976+L976=0),NA(),0.25))","v":20},{"$f":"IF(graph!$E$2=0,20,IF(AND(B976<graph!$E$10+graph!$E$32,B976>graph!$E$10-graph!$E$32),0.25,NA()))","v":20},null,null,null,null,null,null,{"$f":"IF(graph!$E$20=0,0,IF(graph!$E$2=0,20,IF(AND(B976<graph!$E$20+graph!$E$32,B976>graph!$E$20-graph!$E$32),0.25,0)))","v":0},{"$f":"IF(graph!$E$22=0,0,IF(graph!$E$2=0,20,IF(AND(B976>graph!$E$22-graph!$E$32,B976<graph!$E$22+graph!$E$32),0.25,0)))","v":0}]
[null,{"$f":"IF(graph!$E$2=0,\"\",B976+graph!$E$32)","v":""},{"$f":"IF(graph!$E$2=0,20,IF(SUM(K977+L977=0),NA(),0.25))","v":20},{"$f":"IF(graph!$E$2=0,20,IF(AND(B977<graph!$E$10+graph!$E$32,B977>graph!$E$10-graph!$E$32),0.25,NA()))","v":20},null,null,null,null,null,null,{"$f":"IF(graph!$E$20=0,0,IF(graph!$E$2=0,20,IF(AND(B977<graph!$E$20+graph!$E$32,B977>graph!$E$20-graph!$E$32),0.25,0)))","v":0},{"$f":"IF(graph!$E$22=0,0,IF(graph!$E$2=0,20,IF(AND(B977>graph!$E$22-graph!$E$32,B977<graph!$E$22+graph!$E$32),0.25,0)))","v":0}]
[null,{"$f":"IF(graph!$E$2=0,\"\",B977+graph!$E$32)","v":""},{"$f":"IF(graph!$E$2=0,20,IF(SUM(K978+L978=0),NA(),0.25))","v":20},{"$f":"IF(graph!$E$2=0,20,IF(AND(B978<graph!$E$10+graph!$E$32,B978>graph!$E$10-graph!$E$32),0.25,NA()))","v":20},null,null,null,null,null,null,{"$f":"IF(graph!$E$20=0,0,IF(graph!$E$2=0,20,IF(AND(B978<graph!$E$20+graph!$E$32,B978>graph!$E$20-graph!$E$32),0.25,0)))","v":0},{"$f":"IF(graph!$E$22=0,0,IF(graph!$E$2=0,20,IF(AND(B978>graph!$E$22-graph!$E$32,B978<graph!$E$22+graph!$E$32),0.25,0)))","v":0}]
[null,{"$f":"IF(graph!$E$2=0,\"\",B978+graph!$E$32)","v":""},{"$f":"IF(graph!$E$2=0,20,IF(SUM(K979+L979=0),NA(),0.25))","v":20},{"$f":"IF(graph!$E$2=0,20,IF(AND(B979<graph!$E$10+graph!$E$32,B979>graph!$E$10-graph!$E$32),0.25,NA()))","v":20},null,null,null,null,null,null,{"$f":"IF(graph!$E$20=0,0,IF(graph!$E$2=0,20,IF(AND(B979<graph!$E$20+graph!$E$32,B979>graph!$E$20-graph!$E$32),0.25,0)))","v":0},{"$f":"IF(graph!$E$22=0,0,IF(graph!$E$2=0,20,IF(AND(B979>graph!$E$22-graph!$E$32,B979<graph!$E$22+graph!$E$32),0.25,0)))","v":0}]
[null,{"$f":"IF(graph!$E$2=0,\"\",B979+graph!$E$32)","v":""},{"$f":"IF(graph!$E$2=0,20,IF(SUM(K980+L980=0),NA(),0.25))","v":20},{"$f":"IF(graph!$E$2=0,20,IF(AND(B980<graph!$E$10+graph!$E$32,B980>graph!$E$10-graph!$E$32),0.25,NA()))","v":20},null,null,null,null,null,null,{"$f":"IF(graph!$E$20=0,0,IF(graph!$E$2=0,20,IF(AND(B980<graph!$E$20+graph!$E$32,B980>graph!$E$20-graph!$E$32),0.25,0)))","v":0},{"$f":"IF(graph!$E$22=0,0,IF(graph!$E$2=0,20,IF(AND(B980>graph!$E$22-graph!$E$32,B980<graph!$E$22+graph!$E$32),0.25,0)))","v":0}]
[null,{"$f":"IF(graph!$E$2=0,\"\",B980+graph!$E$32)","v":""},{"$f":"IF(graph!$E$2=0,20,IF(SUM(K981+L981=0),NA(),0.25))","v":20},{"$f":"IF(graph!$E$2=0,20,IF(AND(B981<graph!$E$10+graph!$E$32,B981>graph!$E$10-graph!$E$32),0.25,NA()))","v":20},null,null,null,null,null,null,{"$f":"IF(graph!$E$20=0,0,IF(graph!$E$2=0,20,IF(AND(B981<graph!$E$20+graph!$E$32,B981>graph!$E$20-graph!$E$32),0.25,0)))","v":0},{"$f":"IF(graph!$E$22=0,0,IF(graph!$E$2=0,20,IF(AND(B981>graph!$E$22-graph!$E$32,B981<graph!$E$22+graph!$E$32),0.25,0)))","v":0}]
[null,{"$f":"IF(graph!$E$2=0,\"\",B981+graph!$E$32)","v":""},{"$f":"IF(graph!$E$2=0,20,IF(SUM(K982+L982=0),NA(),0.25))","v":20},{"$f":"IF(graph!$E$2=0,20,IF(AND(B982<graph!$E$10+graph!$E$32,B982>graph!$E$10-graph!$E$32),0.25,NA()))","v":20},null,null,null,null,null,null,{"$f":"IF(graph!$E$20=0,0,IF(graph!$E$2=0,20,IF(AND(B982<graph!$E$20+graph!$E$32,B982>graph!$E$20-graph!$E$32),0.25,0)))","v":0},{"$f":"IF(graph!$E$22=0,0,IF(graph!$E$2=0,20,IF(AND(B982>graph!$E$22-graph!$E$32,B982<graph!$E$22+graph!$E$32),0.25,0)))","v":0}]
[null,{"$f":"IF(graph!$E$2=0,\"\",B982+graph!$E$32)","v":""},{"$f":"IF(graph!$E$2=0,20,IF(SUM(K983+L983=0),NA(),0.25))","v":20},{"$f":"IF(graph!$E$2=0,20,IF(AND(B983<graph!$E$10+graph!$E$32,B983>graph!$E$10-graph!$E$32),0.25,NA()))","v":20},null,null,null,null,null,null,{"$f":"IF(graph!$E$20=0,0,IF(graph!$E$2=0,20,IF(AND(B983<graph!$E$20+graph!$E$32,B983>graph!$E$20-graph!$E$32),0.25,0)))","v":0},{"$f":"IF(graph!$E$22=0,0,IF(graph!$E$2=0,20,IF(AND(B983>graph!$E$22-graph!$E$32,B983<graph!$E$22+graph!$E$32),0.25,0)))","v":0}]
[null,{"$f":"IF(graph!$E$2=0,\"\",B983+graph!$E$32)","v":""},{"$f":"IF(graph!$E$2=0,20,IF(SUM(K984+L984=0),NA(),0.25))","v":20},{"$f":"IF(graph!$E$2=0,20,IF(AND(B984<graph!$E$10+graph!$E$32,B984>graph!$E$10-graph!$E$32),0.25,NA()))","v":20},null,null,null,null,null,null,{"$f":"IF(graph!$E$20=0,0,IF(graph!$E$2=0,20,IF(AND(B984<graph!$E$20+graph!$E$32,B984>graph!$E$20-graph!$E$32),0.25,0)))","v":0},{"$f":"IF(graph!$E$22=0,0,IF(graph!$E$2=0,20,IF(AND(B984>graph!$E$22-graph!$E$32,B984<graph!$E$22+graph!$E$32),0.25,0)))","v":0}]
[null,{"$f":"IF(graph!$E$2=0,\"\",B984+graph!$E$32)","v":""},{"$f":"IF(graph!$E$2=0,20,IF(SUM(K985+L985=0),NA(),0.25))","v":20},{"$f":"IF(graph!$E$2=0,20,IF(AND(B985<graph!$E$10+graph!$E$32,B985>graph!$E$10-graph!$E$32),0.25,NA()))","v":20},null,null,null,null,null,null,{"$f":"IF(graph!$E$20=0,0,IF(graph!$E$2=0,20,IF(AND(B985<graph!$E$20+graph!$E$32,B985>graph!$E$20-graph!$E$32),0.25,0)))","v":0},{"$f":"IF(graph!$E$22=0,0,IF(graph!$E$2=0,20,IF(AND(B985>graph!$E$22-graph!$E$32,B985<graph!$E$22+graph!$E$32),0.25,0)))","v":0}]
[null,{"$f":"IF(graph!$E$2=0,\"\",B985+graph!$E$32)","v":""},{"$f":"IF(graph!$E$2=0,20,IF(SUM(K986+L986=0),NA(),0.25))","v":20},{"$f":"IF(graph!$E$2=0,20,IF(AND(B986<graph!$E$10+graph!$E$32,B986>graph!$E$10-graph!$E$32),0.25,NA()))","v":20},null,null,null,null,null,null,{"$f":"IF(graph!$E$20=0,0,IF(graph!$E$2=0,20,IF(AND(B986<graph!$E$20+graph!$E$32,B986>graph!$E$20-graph!$E$32),0.25,0)))","v":0},{"$f":"IF(graph!$E$22=0,0,IF(graph!$E$2=0,20,IF(AND(B986>graph!$E$22-graph!$E$32,B986<graph!$E$22+graph!$E$32),0.25,0)))","v":0}]
[null,{"$f":"IF(graph!$E$2=0,\"\",B986+graph!$E$32)","v":""},{"$f":"IF(graph!$E$2=0,20,IF(SUM(K987+L987=0),NA(),0.25))","v":20},{"$f":"IF(graph!$E$2=0,20,IF(AND(B987<graph!$E$10+graph!$E$32,B987>graph!$E$10-graph!$E$32),0.25,NA()))","v":20},null,null,null,null,null,null,{"$f":"IF(graph!$E$20=0,0,IF(graph!$E$2=0,20,IF(AND(B987<graph!$E$20+graph!$E$32,B987>graph!$E$20-graph!$E$32),0.25,0)))","v":0},{"$f":"IF(graph!$E$22=0,0,IF(graph!$E$2=0,20,IF(AND(B987>graph!$E$22-graph!$E$32,B987<graph!$E$22+graph!$E$32),0.25,0)))","v":0}]
[null,{"$f":"IF(graph!$E$2=0,\"\",B987+graph!$E$32)","v":""},{"$f":"IF(graph!$E$2=0,20,IF(SUM(K988+L988=0),NA(),0.25))","v":20},{"$f":"IF(graph!$E$2=0,20,IF(AND(B988<graph!$E$10+graph!$E$32,B988>graph!$E$10-graph!$E$32),0.25,NA()))","v":20},null,null,null,null,null,null,{"$f":"IF(graph!$E$20=0,0,IF(graph!$E$2=0,20,IF(AND(B988<graph!$E$20+graph!$E$32,B988>graph!$E$20-graph!$E$32),0.25,0)))","v":0},{"$f":"IF(graph!$E$22=0,0,IF(graph!$E$2=0,20,IF(AND(B988>graph!$E$22-graph!$E$32,B988<graph!$E$22+graph!$E$32),0.25,0)))","v":0}]
[null,{"$f":"IF(graph!$E$2=0,\"\",B988+graph!$E$32)","v":""},{"$f":"IF(graph!$E$2=0,20,IF(SUM(K989+L989=0),NA(),0.25))","v":20},{"$f":"IF(graph!$E$2=0,20,IF(AND(B989<graph!$E$10+graph!$E$32,B989>graph!$E$10-graph!$E$32),0.25,NA()))","v":20},null,null,null,null,null,null,{"$f":"IF(graph!$E$20=0,0,IF(graph!$E$2=0,20,IF(AND(B989<graph!$E$20+graph!$E$32,B989>graph!$E$20-graph!$E$32),0.25,0)))","v":0},{"$f":"IF(graph!$E$22=0,0,IF(graph!$E$2=0,20,IF(AND(B989>graph!$E$22-graph!$E$32,B989<graph!$E$22+graph!$E$32),0.25,0)))","v":0}]
[null,{"$f":"IF(graph!$E$2=0,\"\",B989+graph!$E$32)","v":""},{"$f":"IF(graph!$E$2=0,20,IF(SUM(K990+L990=0),NA(),0.25))","v":20},{"$f":"IF(graph!$E$2=0,20,IF(AND(B990<graph!$E$10+graph!$E$32,B990>graph!$E$10-graph!$E$32),0.25,NA()))","v":20},null,null,null,null,null,null,{"$f":"IF(graph!$E$20=0,0,IF(graph!$E$2=0,20,IF(AND(B990<graph!$E$20+graph!$E$32,B990>graph!$E$20-graph!$E$32),0.25,0)))","v":0},{"$f":"IF(graph!$E$22=0,0,IF(graph!$E$2=0,20,IF(AND(B990>graph!$E$22-graph!$E$32,B990<graph!$E$22+graph!$E$32),0.25,0)))","v":0}]
[null,{"$f":"IF(graph!$E$2=0,\"\",B990+graph!$E$32)","v":""},{"$f":"IF(graph!$E$2=0,20,IF(SUM(K991+L991=0),NA(),0.25))","v":20},{"$f":"IF(graph!$E$2=0,20,IF(AND(B991<graph!$E$10+graph!$E$32,B991>graph!$E$10-graph!$E$32),0.25,NA()))","v":20},null,null,null,null,null,null,{"$f":"IF(graph!$E$20=0,0,IF(graph!$E$2=0,20,IF(AND(B991<graph!$E$20+graph!$E$32,B991>graph!$E$20-graph!$E$32),0.25,0)))","v":0},{"$f":"IF(graph!$E$22=0,0,IF(graph!$E$2=0,20,IF(AND(B991>graph!$E$22-graph!$E$32,B991<graph!$E$22+graph!$E$32),0.25,0)))","v":0}]
[null,{"$f":"IF(graph!$E$2=0,\"\",B991+graph!$E$32)","v":""},{"$f":"IF(graph!$E$2=0,20,IF(SUM(K992+L992=0),NA(),0.25))","v":20},{"$f":"IF(graph!$E$2=0,20,IF(AND(B992<graph!$E$10+graph!$E$32,B992>graph!$E$10-graph!$E$32),0.25,NA()))","v":20},null,null,null,null,null,null,{"$f":"IF(graph!$E$20=0,0,IF(graph!$E$2=0,20,IF(AND(B992<graph!$E$20+graph!$E$32,B992>graph!$E$20-graph!$E$32),0.25,0)))","v":0},{"$f":"IF(graph!$E$22=0,0,IF(graph!$E$2=0,20,IF(AND(B992>graph!$E$22-graph!$E$32,B992<graph!$E$22+graph!$E$32),0.25,0)))","v":0}]
[null,{"$f":"IF(graph!$E$2=0,\"\",B992+graph!$E$32)","v":""},{"$f":"IF(graph!$E$2=0,20,IF(SUM(K993+L993=0),NA(),0.25))","v":20},{"$f":"IF(graph!$E$2=0,20,IF(AND(B993<graph!$E$10+graph!$E$32,B993>graph!$E$10-graph!$E$32),0.25,NA()))","v":20},null,null,null,null,null,null,{"$f":"IF(graph!$E$20=0,0,IF(graph!$E$2=0,20,IF(AND(B993<graph!$E$20+graph!$E$32,B993>graph!$E$20-graph!$E$32),0.25,0)))","v":0},{"$f":"IF(graph!$E$22=0,0,IF(graph!$E$2=0,20,IF(AND(B993>graph!$E$22-graph!$E$32,B993<graph!$E$22+graph!$E$32),0.25,0)))","v":0}]
[null,{"$f":"IF(graph!$E$2=0,\"\",B993+graph!$E$32)","v":""},{"$f":"IF(graph!$E$2=0,20,IF(SUM(K994+L994=0),NA(),0.25))","v":20},{"$f":"IF(graph!$E$2=0,20,IF(AND(B994<graph!$E$10+graph!$E$32,B994>graph!$E$10-graph!$E$32),0.25,NA()))","v":20},null,null,null,null,null,null,{"$f":"IF(graph!$E$20=0,0,IF(graph!$E$2=0,20,IF(AND(B994<graph!$E$20+graph!$E$32,B994>graph!$E$20-graph!$E$32),0.25,0)))","v":0},{"$f":"IF(graph!$E$22=0,0,IF(graph!$E$2=0,20,IF(AND(B994>graph!$E$22-graph!$E$32,B994<graph!$E$22+graph!$E$32),0.25,0)))","v":0}]
[null,{"$f":"IF(graph!$E$2=0,\"\",B994+graph!$E$32)","v":""},{"$f":"IF(graph!$E$2=0,20,IF(SUM(K995+L995=0),NA(),0.25))","v":20},{"$f":"IF(graph!$E$2=0,20,IF(AND(B995<graph!$E$10+graph!$E$32,B995>graph!$E$10-graph!$E$32),0.25,NA()))","v":20},null,null,null,null,null,null,{"$f":"IF(graph!$E$20=0,0,IF(graph!$E$2=0,20,IF(AND(B995<graph!$E$20+graph!$E$32,B995>graph!$E$20-graph!$E$32),0.25,0)))","v":0},{"$f":"IF(graph!$E$22=0,0,IF(graph!$E$2=0,20,IF(AND(B995>graph!$E$22-graph!$E$32,B995<graph!$E$22+graph!$E$32),0.25,0)))","v":0}]
[null,{"$f":"IF(graph!$E$2=0,\"\",B995+graph!$E$32)","v":""},{"$f":"IF(graph!$E$2=0,20,IF(SUM(K996+L996=0),NA(),0.25))","v":20},{"$f":"IF(graph!$E$2=0,20,IF(AND(B996<graph!$E$10+graph!$E$32,B996>graph!$E$10-graph!$E$32),0.25,NA()))","v":20},null,null,null,null,null,null,{"$f":"IF(graph!$E$20=0,0,IF(graph!$E$2=0,20,IF(AND(B996<graph!$E$20+graph!$E$32,B996>graph!$E$20-graph!$E$32),0.25,0)))","v":0},{"$f":"IF(graph!$E$22=0,0,IF(graph!$E$2=0,20,IF(AND(B996>graph!$E$22-graph!$E$32,B996<graph!$E$22+graph!$E$32),0.25,0)))","v":0}]
[null,{"$f":"IF(graph!$E$2=0,\"\",B996+graph!$E$32)","v":""},{"$f":"IF(graph!$E$2=0,20,IF(SUM(K997+L997=0),NA(),0.25))","v":20},{"$f":"IF(graph!$E$2=0,20,IF(AND(B997<graph!$E$10+graph!$E$32,B997>graph!$E$10-graph!$E$32),0.25,NA()))","v":20},null,null,null,null,null,null,{"$f":"IF(graph!$E$20=0,0,IF(graph!$E$2=0,20,IF(AND(B997<graph!$E$20+graph!$E$32,B997>graph!$E$20-graph!$E$32),0.25,0)))","v":0},{"$f":"IF(graph!$E$22=0,0,IF(graph!$E$2=0,20,IF(AND(B997>graph!$E$22-graph!$E$32,B997<graph!$E$22+graph!$E$32),0.25,0)))","v":0}]
[null,{"$f":"IF(graph!$E$2=0,\"\",B997+graph!$E$32)","v":""},{"$f":"IF(graph!$E$2=0,20,IF(SUM(K998+L998=0),NA(),0.25))","v":20},{"$f":"IF(graph!$E$2=0,20,IF(AND(B998<graph!$E$10+graph!$E$32,B998>graph!$E$10-graph!$E$32),0.25,NA()))","v":20},null,null,null,null,null,null,{"$f":"IF(graph!$E$20=0,0,IF(graph!$E$2=0,20,IF(AND(B998<graph!$E$20+graph!$E$32,B998>graph!$E$20-graph!$E$32),0.25,0)))","v":0},{"$f":"IF(graph!$E$22=0,0,IF(graph!$E$2=0,20,IF(AND(B998>graph!$E$22-graph!$E$32,B998<graph!$E$22+graph!$E$32),0.25,0)))","v":0}]
[null,{"$f":"IF(graph!$E$2=0,\"\",B998+graph!$E$32)","v":""},{"$f":"IF(graph!$E$2=0,20,IF(SUM(K999+L999=0),NA(),0.25))","v":20},{"$f":"IF(graph!$E$2=0,20,IF(AND(B999<graph!$E$10+graph!$E$32,B999>graph!$E$10-graph!$E$32),0.25,NA()))","v":20},null,null,null,null,null,null,{"$f":"IF(graph!$E$20=0,0,IF(graph!$E$2=0,20,IF(AND(B999<graph!$E$20+graph!$E$32,B999>graph!$E$20-graph!$E$32),0.25,0)))","v":0},{"$f":"IF(graph!$E$22=0,0,IF(graph!$E$2=0,20,IF(AND(B999>graph!$E$22-graph!$E$32,B999<graph!$E$22+graph!$E$32),0.25,0)))","v":0}]
[null,{"$f":"IF(graph!$E$2=0,\"\",B999+graph!$E$32)","v":""},{"$f":"IF(graph!$E$2=0,20,IF(SUM(K1000+L1000=0),NA(),0.25))","v":20},{"$f":"IF(graph!$E$2=0,20,IF(AND(B1000<graph!$E$10+graph!$E$32,B1000>graph!$E$10-graph!$E$32),0.25,NA()))","v":20},null,null,null,null,null,null,{"$f":"IF(graph!$E$20=0,0,IF(graph!$E$2=0,20,IF(AND(B1000<graph!$E$20+graph!$E$32,B1000>graph!$E$20-graph!$E$32),0.25,0)))","v":0},{"$f":"IF(graph!$E$22=0,0,IF(graph!$E$2=0,20,IF(AND(B1000>graph!$E$22-graph!$E$32,B1000<graph!$E$22+graph!$E$32),0.25,0)))","v":0}]
[null,{"$f":"IF(graph!$E$2=0,\"\",B1000+graph!$E$32)","v":""},{"$f":"IF(graph!$E$2=0,20,IF(SUM(K1001+L1001=0),NA(),0.25))","v":20},{"$f":"IF(graph!$E$2=0,20,IF(AND(B1001<graph!$E$10+graph!$E$32,B1001>graph!$E$10-graph!$E$32),0.25,NA()))","v":20},null,null,null,null,null,null,{"$f":"IF(graph!$E$20=0,0,IF(graph!$E$2=0,20,IF(AND(B1001<graph!$E$20+graph!$E$32,B1001>graph!$E$20-graph!$E$32),0.25,0)))","v":0},{"$f":"IF(graph!$E$22=0,0,IF(graph!$E$2=0,20,IF(AND(B1001>graph!$E$22-graph!$E$32,B1001<graph!$E$22+graph!$E$32),0.25,0)))","v":0}]
[null,{"$f":"IF(graph!$E$2=0,\"\",B1001+graph!$E$32)","v":""},{"$f":"IF(graph!$E$2=0,20,IF(SUM(K1002+L1002=0),NA(),0.25))","v":20},{"$f":"IF(graph!$E$2=0,20,IF(AND(B1002<graph!$E$10+graph!$E$32,B1002>graph!$E$10-graph!$E$32),0.25,NA()))","v":20},null,null,null,null,null,null,{"$f":"IF(graph!$E$20=0,0,IF(graph!$E$2=0,20,IF(AND(B1002<graph!$E$20+graph!$E$32,B1002>graph!$E$20-graph!$E$32),0.25,0)))","v":0},{"$f":"IF(graph!$E$22=0,0,IF(graph!$E$2=0,20,IF(AND(B1002>graph!$E$22-graph!$E$32,B1002<graph!$E$22+graph!$E$32),0.25,0)))","v":0}]
[null,{"$f":"IF(graph!$E$2=0,\"\",B1002+graph!$E$32)","v":""},{"$f":"IF(graph!$E$2=0,20,IF(SUM(K1003+L1003=0),NA(),0.25))","v":20},{"$f":"IF(graph!$E$2=0,20,IF(AND(B1003<graph!$E$10+graph!$E$32,B1003>graph!$E$10-graph!$E$32),0.25,NA()))","v":20},null,null,null,null,null,null,{"$f":"IF(graph!$E$20=0,0,IF(graph!$E$2=0,20,IF(AND(B1003<graph!$E$20+graph!$E$32,B1003>graph!$E$20-graph!$E$32),0.25,0)))","v":0},{"$f":"IF(graph!$E$22=0,0,IF(graph!$E$2=0,20,IF(AND(B1003>graph!$E$22-graph!$E$32,B1003<graph!$E$22+graph!$E$32),0.25,0)))","v":0}]
[null,{"$f":"IF(graph!$E$2=0,\"\",B1003+graph!$E$32)","v":""},{"$f":"IF(graph!$E$2=0,20,IF(SUM(K1004+L1004=0),NA(),0.25))","v":20},{"$f":"IF(graph!$E$2=0,20,IF(AND(B1004<graph!$E$10+graph!$E$32,B1004>graph!$E$10-graph!$E$32),0.25,NA()))","v":20},null,null,null,null,null,null,{"$f":"IF(graph!$E$20=0,0,IF(graph!$E$2=0,20,IF(AND(B1004<graph!$E$20+graph!$E$32,B1004>graph!$E$20-graph!$E$32),0.25,0)))","v":0},{"$f":"IF(graph!$E$22=0,0,IF(graph!$E$2=0,20,IF(AND(B1004>graph!$E$22-graph!$E$32,B1004<graph!$E$22+graph!$E$32),0.25,0)))","v":0}]
[null,{"$f":"IF(graph!$E$2=0,\"\",B1004+graph!$E$32)","v":""},{"$f":"IF(graph!$E$2=0,20,IF(SUM(K1005+L1005=0),NA(),0.25))","v":20},{"$f":"IF(graph!$E$2=0,20,IF(AND(B1005<graph!$E$10+graph!$E$32,B1005>graph!$E$10-graph!$E$32),0.25,NA()))","v":20},null,null,null,null,null,null,{"$f":"IF(graph!$E$20=0,0,IF(graph!$E$2=0,20,IF(AND(B1005<graph!$E$20+graph!$E$32,B1005>graph!$E$20-graph!$E$32),0.25,0)))","v":0},{"$f":"IF(graph!$E$22=0,0,IF(graph!$E$2=0,20,IF(AND(B1005>graph!$E$22-graph!$E$32,B1005<graph!$E$22+graph!$E$32),0.25,0)))","v":0}]
[null,{"$f":"IF(graph!$E$2=0,\"\",B1005+graph!$E$32)","v":""},{"$f":"IF(graph!$E$2=0,20,IF(SUM(K1006+L1006=0),NA(),0.25))","v":20},{"$f":"IF(graph!$E$2=0,20,IF(AND(B1006<graph!$E$10+graph!$E$32,B1006>graph!$E$10-graph!$E$32),0.25,NA()))","v":20},null,null,null,null,null,null,{"$f":"IF(graph!$E$20=0,0,IF(graph!$E$2=0,20,IF(AND(B1006<graph!$E$20+graph!$E$32,B1006>graph!$E$20-graph!$E$32),0.25,0)))","v":0},{"$f":"IF(graph!$E$22=0,0,IF(graph!$E$2=0,20,IF(AND(B1006>graph!$E$22-graph!$E$32,B1006<graph!$E$22+graph!$E$32),0.25,0)))","v":0}]
[null,{"$f":"IF(graph!$E$2=0,\"\",B1006+graph!$E$32)","v":""},{"$f":"IF(graph!$E$2=0,20,IF(SUM(K1007+L1007=0),NA(),0.25))","v":20},{"$f":"IF(graph!$E$2=0,20,IF(AND(B1007<graph!$E$10+graph!$E$32,B1007>graph!$E$10-graph!$E$32),0.25,NA()))","v":20},null,null,null,null,null,null,{"$f":"IF(graph!$E$20=0,0,IF(graph!$E$2=0,20,IF(AND(B1007<graph!$E$20+graph!$E$32,B1007>graph!$E$20-graph!$E$32),0.25,0)))","v":0},{"$f":"IF(graph!$E$22=0,0,IF(graph!$E$2=0,20,IF(AND(B1007>graph!$E$22-graph!$E$32,B1007<graph!$E$22+graph!$E$32),0.25,0)))","v":0}]
[null,{"$f":"IF(graph!$E$2=0,\"\",B1007+graph!$E$32)","v":""},{"$f":"IF(graph!$E$2=0,20,IF(SUM(K1008+L1008=0),NA(),0.25))","v":20},{"$f":"IF(graph!$E$2=0,20,IF(AND(B1008<graph!$E$10+graph!$E$32,B1008>graph!$E$10-graph!$E$32),0.25,NA()))","v":20},null,null,null,null,null,null,{"$f":"IF(graph!$E$20=0,0,IF(graph!$E$2=0,20,IF(AND(B1008<graph!$E$20+graph!$E$32,B1008>graph!$E$20-graph!$E$32),0.25,0)))","v":0},{"$f":"IF(graph!$E$22=0,0,IF(graph!$E$2=0,20,IF(AND(B1008>graph!$E$22-graph!$E$32,B1008<graph!$E$22+graph!$E$32),0.25,0)))","v":0}]
[null,{"$f":"IF(graph!$E$2=0,\"\",B1008+graph!$E$32)","v":""},{"$f":"IF(graph!$E$2=0,20,IF(SUM(K1009+L1009=0),NA(),0.25))","v":20},{"$f":"IF(graph!$E$2=0,20,IF(AND(B1009<graph!$E$10+graph!$E$32,B1009>graph!$E$10-graph!$E$32),0.25,NA()))","v":20},null,null,null,null,null,null,{"$f":"IF(graph!$E$20=0,0,IF(graph!$E$2=0,20,IF(AND(B1009<graph!$E$20+graph!$E$32,B1009>graph!$E$20-graph!$E$32),0.25,0)))","v":0},{"$f":"IF(graph!$E$22=0,0,IF(graph!$E$2=0,20,IF(AND(B1009>graph!$E$22-graph!$E$32,B1009<graph!$E$22+graph!$E$32),0.25,0)))","v":0}]
[null,{"$f":"IF(graph!$E$2=0,\"\",B1009+graph!$E$32)","v":""},{"$f":"IF(graph!$E$2=0,20,IF(SUM(K1010+L1010=0),NA(),0.25))","v":20},{"$f":"IF(graph!$E$2=0,20,IF(AND(B1010<graph!$E$10+graph!$E$32,B1010>graph!$E$10-graph!$E$32),0.25,NA()))","v":20},null,null,null,null,null,null,{"$f":"IF(graph!$E$20=0,0,IF(graph!$E$2=0,20,IF(AND(B1010<graph!$E$20+graph!$E$32,B1010>graph!$E$20-graph!$E$32),0.25,0)))","v":0},{"$f":"IF(graph!$E$22=0,0,IF(graph!$E$2=0,20,IF(AND(B1010>graph!$E$22-graph!$E$32,B1010<graph!$E$22+graph!$E$32),0.25,0)))","v":0}]
[null,{"$f":"IF(graph!$E$2=0,\"\",B1010+graph!$E$32)","v":""},{"$f":"IF(graph!$E$2=0,20,IF(SUM(K1011+L1011=0),NA(),0.25))","v":20},{"$f":"IF(graph!$E$2=0,20,IF(AND(B1011<graph!$E$10+graph!$E$32,B1011>graph!$E$10-graph!$E$32),0.25,NA()))","v":20},null,null,null,null,null,null,{"$f":"IF(graph!$E$20=0,0,IF(graph!$E$2=0,20,IF(AND(B1011<graph!$E$20+graph!$E$32,B1011>graph!$E$20-graph!$E$32),0.25,0)))","v":0},{"$f":"IF(graph!$E$22=0,0,IF(graph!$E$2=0,20,IF(AND(B1011>graph!$E$22-graph!$E$32,B1011<graph!$E$22+graph!$E$32),0.25,0)))","v":0}]
[null,{"$f":"IF(graph!$E$2=0,\"\",B1011+graph!$E$32)","v":""},{"$f":"IF(graph!$E$2=0,20,IF(SUM(K1012+L1012=0),NA(),0.25))","v":20},{"$f":"IF(graph!$E$2=0,20,IF(AND(B1012<graph!$E$10+graph!$E$32,B1012>graph!$E$10-graph!$E$32),0.25,NA()))","v":20},null,null,null,null,null,null,{"$f":"IF(graph!$E$20=0,0,IF(graph!$E$2=0,20,IF(AND(B1012<graph!$E$20+graph!$E$32,B1012>graph!$E$20-graph!$E$32),0.25,0)))","v":0},{"$f":"IF(graph!$E$22=0,0,IF(graph!$E$2=0,20,IF(AND(B1012>graph!$E$22-graph!$E$32,B1012<graph!$E$22+graph!$E$32),0.25,0)))","v":0}]
[null,{"$f":"IF(graph!$E$2=0,\"\",B1012+graph!$E$32)","v":""},{"$f":"IF(graph!$E$2=0,20,IF(SUM(K1013+L1013=0),NA(),0.25))","v":20},{"$f":"IF(graph!$E$2=0,20,IF(AND(B1013<graph!$E$10+graph!$E$32,B1013>graph!$E$10-graph!$E$32),0.25,NA()))","v":20},null,null,null,null,null,null,{"$f":"IF(graph!$E$20=0,0,IF(graph!$E$2=0,20,IF(AND(B1013<graph!$E$20+graph!$E$32,B1013>graph!$E$20-graph!$E$32),0.25,0)))","v":0},{"$f":"IF(graph!$E$22=0,0,IF(graph!$E$2=0,20,IF(AND(B1013>graph!$E$22-graph!$E$32,B1013<graph!$E$22+graph!$E$32),0.25,0)))","v":0}]
[null,{"$f":"IF(graph!$E$2=0,\"\",B1013+graph!$E$32)","v":""},{"$f":"IF(graph!$E$2=0,20,IF(SUM(K1014+L1014=0),NA(),0.25))","v":20},{"$f":"IF(graph!$E$2=0,20,IF(AND(B1014<graph!$E$10+graph!$E$32,B1014>graph!$E$10-graph!$E$32),0.25,NA()))","v":20},null,null,null,null,null,null,{"$f":"IF(graph!$E$20=0,0,IF(graph!$E$2=0,20,IF(AND(B1014<graph!$E$20+graph!$E$32,B1014>graph!$E$20-graph!$E$32),0.25,0)))","v":0},{"$f":"IF(graph!$E$22=0,0,IF(graph!$E$2=0,20,IF(AND(B1014>graph!$E$22-graph!$E$32,B1014<graph!$E$22+graph!$E$32),0.25,0)))","v":0}]
[null,{"$f":"IF(graph!$E$2=0,\"\",B1014+graph!$E$32)","v":""},{"$f":"IF(graph!$E$2=0,20,IF(SUM(K1015+L1015=0),NA(),0.25))","v":20},{"$f":"IF(graph!$E$2=0,20,IF(AND(B1015<graph!$E$10+graph!$E$32,B1015>graph!$E$10-graph!$E$32),0.25,NA()))","v":20},null,null,null,null,null,null,{"$f":"IF(graph!$E$20=0,0,IF(graph!$E$2=0,20,IF(AND(B1015<graph!$E$20+graph!$E$32,B1015>graph!$E$20-graph!$E$32),0.25,0)))","v":0},{"$f":"IF(graph!$E$22=0,0,IF(graph!$E$2=0,20,IF(AND(B1015>graph!$E$22-graph!$E$32,B1015<graph!$E$22+graph!$E$32),0.25,0)))","v":0}]
[null,{"$f":"IF(graph!$E$2=0,\"\",B1015+graph!$E$32)","v":""},{"$f":"IF(graph!$E$2=0,20,IF(SUM(K1016+L1016=0),NA(),0.25))","v":20},{"$f":"IF(graph!$E$2=0,20,IF(AND(B1016<graph!$E$10+graph!$E$32,B1016>graph!$E$10-graph!$E$32),0.25,NA()))","v":20},null,null,null,null,null,null,{"$f":"IF(graph!$E$20=0,0,IF(graph!$E$2=0,20,IF(AND(B1016<graph!$E$20+graph!$E$32,B1016>graph!$E$20-graph!$E$32),0.25,0)))","v":0},{"$f":"IF(graph!$E$22=0,0,IF(graph!$E$2=0,20,IF(AND(B1016>graph!$E$22-graph!$E$32,B1016<graph!$E$22+graph!$E$32),0.25,0)))","v":0}]
[null,{"$f":"IF(graph!$E$2=0,\"\",B1016+graph!$E$32)","v":""},{"$f":"IF(graph!$E$2=0,20,IF(SUM(K1017+L1017=0),NA(),0.25))","v":20},{"$f":"IF(graph!$E$2=0,20,IF(AND(B1017<graph!$E$10+graph!$E$32,B1017>graph!$E$10-graph!$E$32),0.25,NA()))","v":20},null,null,null,null,null,null,{"$f":"IF(graph!$E$20=0,0,IF(graph!$E$2=0,20,IF(AND(B1017<graph!$E$20+graph!$E$32,B1017>graph!$E$20-graph!$E$32),0.25,0)))","v":0},{"$f":"IF(graph!$E$22=0,0,IF(graph!$E$2=0,20,IF(AND(B1017>graph!$E$22-graph!$E$32,B1017<graph!$E$22+graph!$E$32),0.25,0)))","v":0}]
[null,{"$f":"IF(graph!$E$2=0,\"\",B1017+graph!$E$32)","v":""},{"$f":"IF(graph!$E$2=0,20,IF(SUM(K1018+L1018=0),NA(),0.25))","v":20},{"$f":"IF(graph!$E$2=0,20,IF(AND(B1018<graph!$E$10+graph!$E$32,B1018>graph!$E$10-graph!$E$32),0.25,NA()))","v":20},null,null,null,null,null,null,{"$f":"IF(graph!$E$20=0,0,IF(graph!$E$2=0,20,IF(AND(B1018<graph!$E$20+graph!$E$32,B1018>graph!$E$20-graph!$E$32),0.25,0)))","v":0},{"$f":"IF(graph!$E$22=0,0,IF(graph!$E$2=0,20,IF(AND(B1018>graph!$E$22-graph!$E$32,B1018<graph!$E$22+graph!$E$32),0.25,0)))","v":0}]
[null,{"$f":"IF(graph!$E$2=0,\"\",B1018+graph!$E$32)","v":""},{"$f":"IF(graph!$E$2=0,20,IF(SUM(K1019+L1019=0),NA(),0.25))","v":20},{"$f":"IF(graph!$E$2=0,20,IF(AND(B1019<graph!$E$10+graph!$E$32,B1019>graph!$E$10-graph!$E$32),0.25,NA()))","v":20},null,null,null,null,null,null,{"$f":"IF(graph!$E$20=0,0,IF(graph!$E$2=0,20,IF(AND(B1019<graph!$E$20+graph!$E$32,B1019>graph!$E$20-graph!$E$32),0.25,0)))","v":0},{"$f":"IF(graph!$E$22=0,0,IF(graph!$E$2=0,20,IF(AND(B1019>graph!$E$22-graph!$E$32,B1019<graph!$E$22+graph!$E$32),0.25,0)))","v":0}]
[null,{"$f":"IF(graph!$E$2=0,\"\",B1019+graph!$E$32)","v":""},{"$f":"IF(graph!$E$2=0,20,IF(SUM(K1020+L1020=0),NA(),0.25))","v":20},{"$f":"IF(graph!$E$2=0,20,IF(AND(B1020<graph!$E$10+graph!$E$32,B1020>graph!$E$10-graph!$E$32),0.25,NA()))","v":20},null,null,null,null,null,null,{"$f":"IF(graph!$E$20=0,0,IF(graph!$E$2=0,20,IF(AND(B1020<graph!$E$20+graph!$E$32,B1020>graph!$E$20-graph!$E$32),0.25,0)))","v":0},{"$f":"IF(graph!$E$22=0,0,IF(graph!$E$2=0,20,IF(AND(B1020>graph!$E$22-graph!$E$32,B1020<graph!$E$22+graph!$E$32),0.25,0)))","v":0}]
[null,{"$f":"IF(graph!$E$2=0,\"\",B1020+graph!$E$32)","v":""},{"$f":"IF(graph!$E$2=0,20,IF(SUM(K1021+L1021=0),NA(),0.25))","v":20},{"$f":"IF(graph!$E$2=0,20,IF(AND(B1021<graph!$E$10+graph!$E$32,B1021>graph!$E$10-graph!$E$32),0.25,NA()))","v":20},null,null,null,null,null,null,{"$f":"IF(graph!$E$20=0,0,IF(graph!$E$2=0,20,IF(AND(B1021<graph!$E$20+graph!$E$32,B1021>graph!$E$20-graph!$E$32),0.25,0)))","v":0},{"$f":"IF(graph!$E$22=0,0,IF(graph!$E$2=0,20,IF(AND(B1021>graph!$E$22-graph!$E$32,B1021<graph!$E$22+graph!$E$32),0.25,0)))","v":0}]
[null,{"$f":"IF(graph!$E$2=0,\"\",B1021+graph!$E$32)","v":""},{"$f":"IF(graph!$E$2=0,20,IF(SUM(K1022+L1022=0),NA(),0.25))","v":20},{"$f":"IF(graph!$E$2=0,20,IF(AND(B1022<graph!$E$10+graph!$E$32,B1022>graph!$E$10-graph!$E$32),0.25,NA()))","v":20},null,null,null,null,null,null,{"$f":"IF(graph!$E$20=0,0,IF(graph!$E$2=0,20,IF(AND(B1022<graph!$E$20+graph!$E$32,B1022>graph!$E$20-graph!$E$32),0.25,0)))","v":0},{"$f":"IF(graph!$E$22=0,0,IF(graph!$E$2=0,20,IF(AND(B1022>graph!$E$22-graph!$E$32,B1022<graph!$E$22+graph!$E$32),0.25,0)))","v":0}]
[null,{"$f":"IF(graph!$E$2=0,\"\",B1022+graph!$E$32)","v":""},{"$f":"IF(graph!$E$2=0,20,IF(SUM(K1023+L1023=0),NA(),0.25))","v":20},{"$f":"IF(graph!$E$2=0,20,IF(AND(B1023<graph!$E$10+graph!$E$32,B1023>graph!$E$10-graph!$E$32),0.25,NA()))","v":20},null,null,null,null,null,null,{"$f":"IF(graph!$E$20=0,0,IF(graph!$E$2=0,20,IF(AND(B1023<graph!$E$20+graph!$E$32,B1023>graph!$E$20-graph!$E$32),0.25,0)))","v":0},{"$f":"IF(graph!$E$22=0,0,IF(graph!$E$2=0,20,IF(AND(B1023>graph!$E$22-graph!$E$32,B1023<graph!$E$22+graph!$E$32),0.25,0)))","v":0}]
[null,{"$f":"IF(graph!$E$2=0,\"\",B1023+graph!$E$32)","v":""},{"$f":"IF(graph!$E$2=0,20,IF(SUM(K1024+L1024=0),NA(),0.25))","v":20},{"$f":"IF(graph!$E$2=0,20,IF(AND(B1024<graph!$E$10+graph!$E$32,B1024>graph!$E$10-graph!$E$32),0.25,NA()))","v":20},null,null,null,null,null,null,{"$f":"IF(graph!$E$20=0,0,IF(graph!$E$2=0,20,IF(AND(B1024<graph!$E$20+graph!$E$32,B1024>graph!$E$20-graph!$E$32),0.25,0)))","v":0},{"$f":"IF(graph!$E$22=0,0,IF(graph!$E$2=0,20,IF(AND(B1024>graph!$E$22-graph!$E$32,B1024<graph!$E$22+graph!$E$32),0.25,0)))","v":0}]
[null,{"$f":"IF(graph!$E$2=0,\"\",B1024+graph!$E$32)","v":""},{"$f":"IF(graph!$E$2=0,20,IF(SUM(K1025+L1025=0),NA(),0.25))","v":20},{"$f":"IF(graph!$E$2=0,20,IF(AND(B1025<graph!$E$10+graph!$E$32,B1025>graph!$E$10-graph!$E$32),0.25,NA()))","v":20},null,null,null,null,null,null,{"$f":"IF(graph!$E$20=0,0,IF(graph!$E$2=0,20,IF(AND(B1025<graph!$E$20+graph!$E$32,B1025>graph!$E$20-graph!$E$32),0.25,0)))","v":0},{"$f":"IF(graph!$E$22=0,0,IF(graph!$E$2=0,20,IF(AND(B1025>graph!$E$22-graph!$E$32,B1025<graph!$E$22+graph!$E$32),0.25,0)))","v":0}]
[null,{"$f":"IF(graph!$E$2=0,\"\",B1025+graph!$E$32)","v":""},{"$f":"IF(graph!$E$2=0,20,IF(SUM(K1026+L1026=0),NA(),0.25))","v":20},{"$f":"IF(graph!$E$2=0,20,IF(AND(B1026<graph!$E$10+graph!$E$32,B1026>graph!$E$10-graph!$E$32),0.25,NA()))","v":20},null,null,null,null,null,null,{"$f":"IF(graph!$E$20=0,0,IF(graph!$E$2=0,20,IF(AND(B1026<graph!$E$20+graph!$E$32,B1026>graph!$E$20-graph!$E$32),0.25,0)))","v":0},{"$f":"IF(graph!$E$22=0,0,IF(graph!$E$2=0,20,IF(AND(B1026>graph!$E$22-graph!$E$32,B1026<graph!$E$22+graph!$E$32),0.25,0)))","v":0}]
[null,{"$f":"IF(graph!$E$2=0,\"\",B1026+graph!$E$32)","v":""},{"$f":"IF(graph!$E$2=0,20,IF(SUM(K1027+L1027=0),NA(),0.25))","v":20},{"$f":"IF(graph!$E$2=0,20,IF(AND(B1027<graph!$E$10+graph!$E$32,B1027>graph!$E$10-graph!$E$32),0.25,NA()))","v":20},null,null,null,null,null,null,{"$f":"IF(graph!$E$20=0,0,IF(graph!$E$2=0,20,IF(AND(B1027<graph!$E$20+graph!$E$32,B1027>graph!$E$20-graph!$E$32),0.25,0)))","v":0},{"$f":"IF(graph!$E$22=0,0,IF(graph!$E$2=0,20,IF(AND(B1027>graph!$E$22-graph!$E$32,B1027<graph!$E$22+graph!$E$32),0.25,0)))","v":0}]
[null,{"$f":"IF(graph!$E$2=0,\"\",B1027+graph!$E$32)","v":""},{"$f":"IF(graph!$E$2=0,20,IF(SUM(K1028+L1028=0),NA(),0.25))","v":20},{"$f":"IF(graph!$E$2=0,20,IF(AND(B1028<graph!$E$10+graph!$E$32,B1028>graph!$E$10-graph!$E$32),0.25,NA()))","v":20},null,null,null,null,null,null,{"$f":"IF(graph!$E$20=0,0,IF(graph!$E$2=0,20,IF(AND(B1028<graph!$E$20+graph!$E$32,B1028>graph!$E$20-graph!$E$32),0.25,0)))","v":0},{"$f":"IF(graph!$E$22=0,0,IF(graph!$E$2=0,20,IF(AND(B1028>graph!$E$22-graph!$E$32,B1028<graph!$E$22+graph!$E$32),0.25,0)))","v":0}]
[null,{"$f":"IF(graph!$E$2=0,\"\",B1028+graph!$E$32)","v":""},{"$f":"IF(graph!$E$2=0,20,IF(SUM(K1029+L1029=0),NA(),0.25))","v":20},{"$f":"IF(graph!$E$2=0,20,IF(AND(B1029<graph!$E$10+graph!$E$32,B1029>graph!$E$10-graph!$E$32),0.25,NA()))","v":20},null,null,null,null,null,null,{"$f":"IF(graph!$E$20=0,0,IF(graph!$E$2=0,20,IF(AND(B1029<graph!$E$20+graph!$E$32,B1029>graph!$E$20-graph!$E$32),0.25,0)))","v":0},{"$f":"IF(graph!$E$22=0,0,IF(graph!$E$2=0,20,IF(AND(B1029>graph!$E$22-graph!$E$32,B1029<graph!$E$22+graph!$E$32),0.25,0)))","v":0}]
[null,{"$f":"IF(graph!$E$2=0,\"\",B1029+graph!$E$32)","v":""},{"$f":"IF(graph!$E$2=0,20,IF(SUM(K1030+L1030=0),NA(),0.25))","v":20},{"$f":"IF(graph!$E$2=0,20,IF(AND(B1030<graph!$E$10+graph!$E$32,B1030>graph!$E$10-graph!$E$32),0.25,NA()))","v":20},null,null,null,null,null,null,{"$f":"IF(graph!$E$20=0,0,IF(graph!$E$2=0,20,IF(AND(B1030<graph!$E$20+graph!$E$32,B1030>graph!$E$20-graph!$E$32),0.25,0)))","v":0},{"$f":"IF(graph!$E$22=0,0,IF(graph!$E$2=0,20,IF(AND(B1030>graph!$E$22-graph!$E$32,B1030<graph!$E$22+graph!$E$32),0.25,0)))","v":0}]
[null,{"$f":"IF(graph!$E$2=0,\"\",B1030+graph!$E$32)","v":""},{"$f":"IF(graph!$E$2=0,20,IF(SUM(K1031+L1031=0),NA(),0.25))","v":20},{"$f":"IF(graph!$E$2=0,20,IF(AND(B1031<graph!$E$10+graph!$E$32,B1031>graph!$E$10-graph!$E$32),0.25,NA()))","v":20},null,null,null,null,null,null,{"$f":"IF(graph!$E$20=0,0,IF(graph!$E$2=0,20,IF(AND(B1031<graph!$E$20+graph!$E$32,B1031>graph!$E$20-graph!$E$32),0.25,0)))","v":0},{"$f":"IF(graph!$E$22=0,0,IF(graph!$E$2=0,20,IF(AND(B1031>graph!$E$22-graph!$E$32,B1031<graph!$E$22+graph!$E$32),0.25,0)))","v":0}]
[null,{"$f":"IF(graph!$E$2=0,\"\",B1031+graph!$E$32)","v":""},{"$f":"IF(graph!$E$2=0,20,IF(SUM(K1032+L1032=0),NA(),0.25))","v":20},{"$f":"IF(graph!$E$2=0,20,IF(AND(B1032<graph!$E$10+graph!$E$32,B1032>graph!$E$10-graph!$E$32),0.25,NA()))","v":20},null,null,null,null,null,null,{"$f":"IF(graph!$E$20=0,0,IF(graph!$E$2=0,20,IF(AND(B1032<graph!$E$20+graph!$E$32,B1032>graph!$E$20-graph!$E$32),0.25,0)))","v":0},{"$f":"IF(graph!$E$22=0,0,IF(graph!$E$2=0,20,IF(AND(B1032>graph!$E$22-graph!$E$32,B1032<graph!$E$22+graph!$E$32),0.25,0)))","v":0}]
[null,{"$f":"IF(graph!$E$2=0,\"\",B1032+graph!$E$32)","v":""},{"$f":"IF(graph!$E$2=0,20,IF(SUM(K1033+L1033=0),NA(),0.25))","v":20},{"$f":"IF(graph!$E$2=0,20,IF(AND(B1033<graph!$E$10+graph!$E$32,B1033>graph!$E$10-graph!$E$32),0.25,NA()))","v":20},null,null,null,null,null,null,{"$f":"IF(graph!$E$20=0,0,IF(graph!$E$2=0,20,IF(AND(B1033<graph!$E$20+graph!$E$32,B1033>graph!$E$20-graph!$E$32),0.25,0)))","v":0},{"$f":"IF(graph!$E$22=0,0,IF(graph!$E$2=0,20,IF(AND(B1033>graph!$E$22-graph!$E$32,B1033<graph!$E$22+graph!$E$32),0.25,0)))","v":0}]
[null,{"$f":"IF(graph!$E$2=0,\"\",B1033+graph!$E$32)","v":""},{"$f":"IF(graph!$E$2=0,20,IF(SUM(K1034+L1034=0),NA(),0.25))","v":20},{"$f":"IF(graph!$E$2=0,20,IF(AND(B1034<graph!$E$10+graph!$E$32,B1034>graph!$E$10-graph!$E$32),0.25,NA()))","v":20},null,null,null,null,null,null,{"$f":"IF(graph!$E$20=0,0,IF(graph!$E$2=0,20,IF(AND(B1034<graph!$E$20+graph!$E$32,B1034>graph!$E$20-graph!$E$32),0.25,0)))","v":0},{"$f":"IF(graph!$E$22=0,0,IF(graph!$E$2=0,20,IF(AND(B1034>graph!$E$22-graph!$E$32,B1034<graph!$E$22+graph!$E$32),0.25,0)))","v":0}]
[null,{"$f":"IF(graph!$E$2=0,\"\",B1034+graph!$E$32)","v":""},{"$f":"IF(graph!$E$2=0,20,IF(SUM(K1035+L1035=0),NA(),0.25))","v":20},{"$f":"IF(graph!$E$2=0,20,IF(AND(B1035<graph!$E$10+graph!$E$32,B1035>graph!$E$10-graph!$E$32),0.25,NA()))","v":20},null,null,null,null,null,null,{"$f":"IF(graph!$E$20=0,0,IF(graph!$E$2=0,20,IF(AND(B1035<graph!$E$20+graph!$E$32,B1035>graph!$E$20-graph!$E$32),0.25,0)))","v":0},{"$f":"IF(graph!$E$22=0,0,IF(graph!$E$2=0,20,IF(AND(B1035>graph!$E$22-graph!$E$32,B1035<graph!$E$22+graph!$E$32),0.25,0)))","v":0}]
[null,{"$f":"IF(graph!$E$2=0,\"\",B1035+graph!$E$32)","v":""},{"$f":"IF(graph!$E$2=0,20,IF(SUM(K1036+L1036=0),NA(),0.25))","v":20},{"$f":"IF(graph!$E$2=0,20,IF(AND(B1036<graph!$E$10+graph!$E$32,B1036>graph!$E$10-graph!$E$32),0.25,NA()))","v":20},null,null,null,null,null,null,{"$f":"IF(graph!$E$20=0,0,IF(graph!$E$2=0,20,IF(AND(B1036<graph!$E$20+graph!$E$32,B1036>graph!$E$20-graph!$E$32),0.25,0)))","v":0},{"$f":"IF(graph!$E$22=0,0,IF(graph!$E$2=0,20,IF(AND(B1036>graph!$E$22-graph!$E$32,B1036<graph!$E$22+graph!$E$32),0.25,0)))","v":0}]
[null,{"$f":"IF(graph!$E$2=0,\"\",B1036+graph!$E$32)","v":""},{"$f":"IF(graph!$E$2=0,20,IF(SUM(K1037+L1037=0),NA(),0.25))","v":20},{"$f":"IF(graph!$E$2=0,20,IF(AND(B1037<graph!$E$10+graph!$E$32,B1037>graph!$E$10-graph!$E$32),0.25,NA()))","v":20},null,null,null,null,null,null,{"$f":"IF(graph!$E$20=0,0,IF(graph!$E$2=0,20,IF(AND(B1037<graph!$E$20+graph!$E$32,B1037>graph!$E$20-graph!$E$32),0.25,0)))","v":0},{"$f":"IF(graph!$E$22=0,0,IF(graph!$E$2=0,20,IF(AND(B1037>graph!$E$22-graph!$E$32,B1037<graph!$E$22+graph!$E$32),0.25,0)))","v":0}]
[null,{"$f":"IF(graph!$E$2=0,\"\",B1037+graph!$E$32)","v":""},{"$f":"IF(graph!$E$2=0,20,IF(SUM(K1038+L1038=0),NA(),0.25))","v":20},{"$f":"IF(graph!$E$2=0,20,IF(AND(B1038<graph!$E$10+graph!$E$32,B1038>graph!$E$10-graph!$E$32),0.25,NA()))","v":20},null,null,null,null,null,null,{"$f":"IF(graph!$E$20=0,0,IF(graph!$E$2=0,20,IF(AND(B1038<graph!$E$20+graph!$E$32,B1038>graph!$E$20-graph!$E$32),0.25,0)))","v":0},{"$f":"IF(graph!$E$22=0,0,IF(graph!$E$2=0,20,IF(AND(B1038>graph!$E$22-graph!$E$32,B1038<graph!$E$22+graph!$E$32),0.25,0)))","v":0}]
[null,{"$f":"IF(graph!$E$2=0,\"\",B1038+graph!$E$32)","v":""},{"$f":"IF(graph!$E$2=0,20,IF(SUM(K1039+L1039=0),NA(),0.25))","v":20},{"$f":"IF(graph!$E$2=0,20,IF(AND(B1039<graph!$E$10+graph!$E$32,B1039>graph!$E$10-graph!$E$32),0.25,NA()))","v":20},null,null,null,null,null,null,{"$f":"IF(graph!$E$20=0,0,IF(graph!$E$2=0,20,IF(AND(B1039<graph!$E$20+graph!$E$32,B1039>graph!$E$20-graph!$E$32),0.25,0)))","v":0},{"$f":"IF(graph!$E$22=0,0,IF(graph!$E$2=0,20,IF(AND(B1039>graph!$E$22-graph!$E$32,B1039<graph!$E$22+graph!$E$32),0.25,0)))","v":0}]
[null,{"$f":"IF(graph!$E$2=0,\"\",B1039+graph!$E$32)","v":""},{"$f":"IF(graph!$E$2=0,20,IF(SUM(K1040+L1040=0),NA(),0.25))","v":20},{"$f":"IF(graph!$E$2=0,20,IF(AND(B1040<graph!$E$10+graph!$E$32,B1040>graph!$E$10-graph!$E$32),0.25,NA()))","v":20},null,null,null,null,null,null,{"$f":"IF(graph!$E$20=0,0,IF(graph!$E$2=0,20,IF(AND(B1040<graph!$E$20+graph!$E$32,B1040>graph!$E$20-graph!$E$32),0.25,0)))","v":0},{"$f":"IF(graph!$E$22=0,0,IF(graph!$E$2=0,20,IF(AND(B1040>graph!$E$22-graph!$E$32,B1040<graph!$E$22+graph!$E$32),0.25,0)))","v":0}]
[null,{"$f":"IF(graph!$E$2=0,\"\",B1040+graph!$E$32)","v":""},{"$f":"IF(graph!$E$2=0,20,IF(SUM(K1041+L1041=0),NA(),0.25))","v":20},{"$f":"IF(graph!$E$2=0,20,IF(AND(B1041<graph!$E$10+graph!$E$32,B1041>graph!$E$10-graph!$E$32),0.25,NA()))","v":20},null,null,null,null,null,null,{"$f":"IF(graph!$E$20=0,0,IF(graph!$E$2=0,20,IF(AND(B1041<graph!$E$20+graph!$E$32,B1041>graph!$E$20-graph!$E$32),0.25,0)))","v":0},{"$f":"IF(graph!$E$22=0,0,IF(graph!$E$2=0,20,IF(AND(B1041>graph!$E$22-graph!$E$32,B1041<graph!$E$22+graph!$E$32),0.25,0)))","v":0}]
[null,{"$f":"IF(graph!$E$2=0,\"\",B1041+graph!$E$32)","v":""},{"$f":"IF(graph!$E$2=0,20,IF(SUM(K1042+L1042=0),NA(),0.25))","v":20},{"$f":"IF(graph!$E$2=0,20,IF(AND(B1042<graph!$E$10+graph!$E$32,B1042>graph!$E$10-graph!$E$32),0.25,NA()))","v":20},null,null,null,null,null,null,{"$f":"IF(graph!$E$20=0,0,IF(graph!$E$2=0,20,IF(AND(B1042<graph!$E$20+graph!$E$32,B1042>graph!$E$20-graph!$E$32),0.25,0)))","v":0},{"$f":"IF(graph!$E$22=0,0,IF(graph!$E$2=0,20,IF(AND(B1042>graph!$E$22-graph!$E$32,B1042<graph!$E$22+graph!$E$32),0.25,0)))","v":0}]
[null,{"$f":"IF(graph!$E$2=0,\"\",B1042+graph!$E$32)","v":""},{"$f":"IF(graph!$E$2=0,20,IF(SUM(K1043+L1043=0),NA(),0.25))","v":20},{"$f":"IF(graph!$E$2=0,20,IF(AND(B1043<graph!$E$10+graph!$E$32,B1043>graph!$E$10-graph!$E$32),0.25,NA()))","v":20},null,null,null,null,null,null,{"$f":"IF(graph!$E$20=0,0,IF(graph!$E$2=0,20,IF(AND(B1043<graph!$E$20+graph!$E$32,B1043>graph!$E$20-graph!$E$32),0.25,0)))","v":0},{"$f":"IF(graph!$E$22=0,0,IF(graph!$E$2=0,20,IF(AND(B1043>graph!$E$22-graph!$E$32,B1043<graph!$E$22+graph!$E$32),0.25,0)))","v":0}]
[null,{"$f":"IF(graph!$E$2=0,\"\",B1043+graph!$E$32)","v":""},{"$f":"IF(graph!$E$2=0,20,IF(SUM(K1044+L1044=0),NA(),0.25))","v":20},{"$f":"IF(graph!$E$2=0,20,IF(AND(B1044<graph!$E$10+graph!$E$32,B1044>graph!$E$10-graph!$E$32),0.25,NA()))","v":20},null,null,null,null,null,null,{"$f":"IF(graph!$E$20=0,0,IF(graph!$E$2=0,20,IF(AND(B1044<graph!$E$20+graph!$E$32,B1044>graph!$E$20-graph!$E$32),0.25,0)))","v":0},{"$f":"IF(graph!$E$22=0,0,IF(graph!$E$2=0,20,IF(AND(B1044>graph!$E$22-graph!$E$32,B1044<graph!$E$22+graph!$E$32),0.25,0)))","v":0}]
[null,{"$f":"IF(graph!$E$2=0,\"\",B1044+graph!$E$32)","v":""},{"$f":"IF(graph!$E$2=0,20,IF(SUM(K1045+L1045=0),NA(),0.25))","v":20},{"$f":"IF(graph!$E$2=0,20,IF(AND(B1045<graph!$E$10+graph!$E$32,B1045>graph!$E$10-graph!$E$32),0.25,NA()))","v":20},null,null,null,null,null,null,{"$f":"IF(graph!$E$20=0,0,IF(graph!$E$2=0,20,IF(AND(B1045<graph!$E$20+graph!$E$32,B1045>graph!$E$20-graph!$E$32),0.25,0)))","v":0},{"$f":"IF(graph!$E$22=0,0,IF(graph!$E$2=0,20,IF(AND(B1045>graph!$E$22-graph!$E$32,B1045<graph!$E$22+graph!$E$32),0.25,0)))","v":0}]
[null,{"$f":"IF(graph!$E$2=0,\"\",B1045+graph!$E$32)","v":""},{"$f":"IF(graph!$E$2=0,20,IF(SUM(K1046+L1046=0),NA(),0.25))","v":20},{"$f":"IF(graph!$E$2=0,20,IF(AND(B1046<graph!$E$10+graph!$E$32,B1046>graph!$E$10-graph!$E$32),0.25,NA()))","v":20},null,null,null,null,null,null,{"$f":"IF(graph!$E$20=0,0,IF(graph!$E$2=0,20,IF(AND(B1046<graph!$E$20+graph!$E$32,B1046>graph!$E$20-graph!$E$32),0.25,0)))","v":0},{"$f":"IF(graph!$E$22=0,0,IF(graph!$E$2=0,20,IF(AND(B1046>graph!$E$22-graph!$E$32,B1046<graph!$E$22+graph!$E$32),0.25,0)))","v":0}]
[null,{"$f":"IF(graph!$E$2=0,\"\",B1046+graph!$E$32)","v":""},{"$f":"IF(graph!$E$2=0,20,IF(SUM(K1047+L1047=0),NA(),0.25))","v":20},{"$f":"IF(graph!$E$2=0,20,IF(AND(B1047<graph!$E$10+graph!$E$32,B1047>graph!$E$10-graph!$E$32),0.25,NA()))","v":20},null,null,null,null,null,null,{"$f":"IF(graph!$E$20=0,0,IF(graph!$E$2=0,20,IF(AND(B1047<graph!$E$20+graph!$E$32,B1047>graph!$E$20-graph!$E$32),0.25,0)))","v":0},{"$f":"IF(graph!$E$22=0,0,IF(graph!$E$2=0,20,IF(AND(B1047>graph!$E$22-graph!$E$32,B1047<graph!$E$22+graph!$E$32),0.25,0)))","v":0}]
[null,{"$f":"IF(graph!$E$2=0,\"\",B1047+graph!$E$32)","v":""},{"$f":"IF(graph!$E$2=0,20,IF(SUM(K1048+L1048=0),NA(),0.25))","v":20},{"$f":"IF(graph!$E$2=0,20,IF(AND(B1048<graph!$E$10+graph!$E$32,B1048>graph!$E$10-graph!$E$32),0.25,NA()))","v":20},null,null,null,null,null,null,{"$f":"IF(graph!$E$20=0,0,IF(graph!$E$2=0,20,IF(AND(B1048<graph!$E$20+graph!$E$32,B1048>graph!$E$20-graph!$E$32),0.25,0)))","v":0},{"$f":"IF(graph!$E$22=0,0,IF(graph!$E$2=0,20,IF(AND(B1048>graph!$E$22-graph!$E$32,B1048<graph!$E$22+graph!$E$32),0.25,0)))","v":0}]
[null,{"$f":"IF(graph!$E$2=0,\"\",B1048+graph!$E$32)","v":""},{"$f":"IF(graph!$E$2=0,20,IF(SUM(K1049+L1049=0),NA(),0.25))","v":20},{"$f":"IF(graph!$E$2=0,20,IF(AND(B1049<graph!$E$10+graph!$E$32,B1049>graph!$E$10-graph!$E$32),0.25,NA()))","v":20},null,null,null,null,null,null,{"$f":"IF(graph!$E$20=0,0,IF(graph!$E$2=0,20,IF(AND(B1049<graph!$E$20+graph!$E$32,B1049>graph!$E$20-graph!$E$32),0.25,0)))","v":0},{"$f":"IF(graph!$E$22=0,0,IF(graph!$E$2=0,20,IF(AND(B1049>graph!$E$22-graph!$E$32,B1049<graph!$E$22+graph!$E$32),0.25,0)))","v":0}]
[null,{"$f":"IF(graph!$E$2=0,\"\",B1049+graph!$E$32)","v":""},{"$f":"IF(graph!$E$2=0,20,IF(SUM(K1050+L1050=0),NA(),0.25))","v":20},{"$f":"IF(graph!$E$2=0,20,IF(AND(B1050<graph!$E$10+graph!$E$32,B1050>graph!$E$10-graph!$E$32),0.25,NA()))","v":20},null,null,null,null,null,null,{"$f":"IF(graph!$E$20=0,0,IF(graph!$E$2=0,20,IF(AND(B1050<graph!$E$20+graph!$E$32,B1050>graph!$E$20-graph!$E$32),0.25,0)))","v":0},{"$f":"IF(graph!$E$22=0,0,IF(graph!$E$2=0,20,IF(AND(B1050>graph!$E$22-graph!$E$32,B1050<graph!$E$22+graph!$E$32),0.25,0)))","v":0}]
[null,{"$f":"IF(graph!$E$2=0,\"\",B1050+graph!$E$32)","v":""},{"$f":"IF(graph!$E$2=0,20,IF(SUM(K1051+L1051=0),NA(),0.25))","v":20},{"$f":"IF(graph!$E$2=0,20,IF(AND(B1051<graph!$E$10+graph!$E$32,B1051>graph!$E$10-graph!$E$32),0.25,NA()))","v":20},null,null,null,null,null,null,{"$f":"IF(graph!$E$20=0,0,IF(graph!$E$2=0,20,IF(AND(B1051<graph!$E$20+graph!$E$32,B1051>graph!$E$20-graph!$E$32),0.25,0)))","v":0},{"$f":"IF(graph!$E$22=0,0,IF(graph!$E$2=0,20,IF(AND(B1051>graph!$E$22-graph!$E$32,B1051<graph!$E$22+graph!$E$32),0.25,0)))","v":0}]
[null,{"$f":"IF(graph!$E$2=0,\"\",B1051+graph!$E$32)","v":""},{"$f":"IF(graph!$E$2=0,20,IF(SUM(K1052+L1052=0),NA(),0.25))","v":20},{"$f":"IF(graph!$E$2=0,20,IF(AND(B1052<graph!$E$10+graph!$E$32,B1052>graph!$E$10-graph!$E$32),0.25,NA()))","v":20},null,null,null,null,null,null,{"$f":"IF(graph!$E$20=0,0,IF(graph!$E$2=0,20,IF(AND(B1052<graph!$E$20+graph!$E$32,B1052>graph!$E$20-graph!$E$32),0.25,0)))","v":0},{"$f":"IF(graph!$E$22=0,0,IF(graph!$E$2=0,20,IF(AND(B1052>graph!$E$22-graph!$E$32,B1052<graph!$E$22+graph!$E$32),0.25,0)))","v":0}]
[null,{"$f":"IF(graph!$E$2=0,\"\",B1052+graph!$E$32)","v":""},{"$f":"IF(graph!$E$2=0,20,IF(SUM(K1053+L1053=0),NA(),0.25))","v":20},{"$f":"IF(graph!$E$2=0,20,IF(AND(B1053<graph!$E$10+graph!$E$32,B1053>graph!$E$10-graph!$E$32),0.25,NA()))","v":20},null,null,null,null,null,null,{"$f":"IF(graph!$E$20=0,0,IF(graph!$E$2=0,20,IF(AND(B1053<graph!$E$20+graph!$E$32,B1053>graph!$E$20-graph!$E$32),0.25,0)))","v":0},{"$f":"IF(graph!$E$22=0,0,IF(graph!$E$2=0,20,IF(AND(B1053>graph!$E$22-graph!$E$32,B1053<graph!$E$22+graph!$E$32),0.25,0)))","v":0}]
[null,{"$f":"IF(graph!$E$2=0,\"\",B1053+graph!$E$32)","v":""},{"$f":"IF(graph!$E$2=0,20,IF(SUM(K1054+L1054=0),NA(),0.25))","v":20},{"$f":"IF(graph!$E$2=0,20,IF(AND(B1054<graph!$E$10+graph!$E$32,B1054>graph!$E$10-graph!$E$32),0.25,NA()))","v":20},null,null,null,null,null,null,{"$f":"IF(graph!$E$20=0,0,IF(graph!$E$2=0,20,IF(AND(B1054<graph!$E$20+graph!$E$32,B1054>graph!$E$20-graph!$E$32),0.25,0)))","v":0},{"$f":"IF(graph!$E$22=0,0,IF(graph!$E$2=0,20,IF(AND(B1054>graph!$E$22-graph!$E$32,B1054<graph!$E$22+graph!$E$32),0.25,0)))","v":0}]
[null,{"$f":"IF(graph!$E$2=0,\"\",B1054+graph!$E$32)","v":""},{"$f":"IF(graph!$E$2=0,20,IF(SUM(K1055+L1055=0),NA(),0.25))","v":20},{"$f":"IF(graph!$E$2=0,20,IF(AND(B1055<graph!$E$10+graph!$E$32,B1055>graph!$E$10-graph!$E$32),0.25,NA()))","v":20},null,null,null,null,null,null,{"$f":"IF(graph!$E$20=0,0,IF(graph!$E$2=0,20,IF(AND(B1055<graph!$E$20+graph!$E$32,B1055>graph!$E$20-graph!$E$32),0.25,0)))","v":0},{"$f":"IF(graph!$E$22=0,0,IF(graph!$E$2=0,20,IF(AND(B1055>graph!$E$22-graph!$E$32,B1055<graph!$E$22+graph!$E$32),0.25,0)))","v":0}]
[null,{"$f":"IF(graph!$E$2=0,\"\",B1055+graph!$E$32)","v":""},{"$f":"IF(graph!$E$2=0,20,IF(SUM(K1056+L1056=0),NA(),0.25))","v":20},{"$f":"IF(graph!$E$2=0,20,IF(AND(B1056<graph!$E$10+graph!$E$32,B1056>graph!$E$10-graph!$E$32),0.25,NA()))","v":20},null,null,null,null,null,null,{"$f":"IF(graph!$E$20=0,0,IF(graph!$E$2=0,20,IF(AND(B1056<graph!$E$20+graph!$E$32,B1056>graph!$E$20-graph!$E$32),0.25,0)))","v":0},{"$f":"IF(graph!$E$22=0,0,IF(graph!$E$2=0,20,IF(AND(B1056>graph!$E$22-graph!$E$32,B1056<graph!$E$22+graph!$E$32),0.25,0)))","v":0}]
[null,{"$f":"IF(graph!$E$2=0,\"\",B1056+graph!$E$32)","v":""},{"$f":"IF(graph!$E$2=0,20,IF(SUM(K1057+L1057=0),NA(),0.25))","v":20},{"$f":"IF(graph!$E$2=0,20,IF(AND(B1057<graph!$E$10+graph!$E$32,B1057>graph!$E$10-graph!$E$32),0.25,NA()))","v":20},null,null,null,null,null,null,{"$f":"IF(graph!$E$20=0,0,IF(graph!$E$2=0,20,IF(AND(B1057<graph!$E$20+graph!$E$32,B1057>graph!$E$20-graph!$E$32),0.25,0)))","v":0},{"$f":"IF(graph!$E$22=0,0,IF(graph!$E$2=0,20,IF(AND(B1057>graph!$E$22-graph!$E$32,B1057<graph!$E$22+graph!$E$32),0.25,0)))","v":0}]
[null,{"$f":"IF(graph!$E$2=0,\"\",B1057+graph!$E$32)","v":""},{"$f":"IF(graph!$E$2=0,20,IF(SUM(K1058+L1058=0),NA(),0.25))","v":20},{"$f":"IF(graph!$E$2=0,20,IF(AND(B1058<graph!$E$10+graph!$E$32,B1058>graph!$E$10-graph!$E$32),0.25,NA()))","v":20},null,null,null,null,null,null,{"$f":"IF(graph!$E$20=0,0,IF(graph!$E$2=0,20,IF(AND(B1058<graph!$E$20+graph!$E$32,B1058>graph!$E$20-graph!$E$32),0.25,0)))","v":0},{"$f":"IF(graph!$E$22=0,0,IF(graph!$E$2=0,20,IF(AND(B1058>graph!$E$22-graph!$E$32,B1058<graph!$E$22+graph!$E$32),0.25,0)))","v":0}]
[null,{"$f":"IF(graph!$E$2=0,\"\",B1058+graph!$E$32)","v":""},{"$f":"IF(graph!$E$2=0,20,IF(SUM(K1059+L1059=0),NA(),0.25))","v":20},{"$f":"IF(graph!$E$2=0,20,IF(AND(B1059<graph!$E$10+graph!$E$32,B1059>graph!$E$10-graph!$E$32),0.25,NA()))","v":20},null,null,null,null,null,null,{"$f":"IF(graph!$E$20=0,0,IF(graph!$E$2=0,20,IF(AND(B1059<graph!$E$20+graph!$E$32,B1059>graph!$E$20-graph!$E$32),0.25,0)))","v":0},{"$f":"IF(graph!$E$22=0,0,IF(graph!$E$2=0,20,IF(AND(B1059>graph!$E$22-graph!$E$32,B1059<graph!$E$22+graph!$E$32),0.25,0)))","v":0}]
[null,{"$f":"IF(graph!$E$2=0,\"\",B1059+graph!$E$32)","v":""},{"$f":"IF(graph!$E$2=0,20,IF(SUM(K1060+L1060=0),NA(),0.25))","v":20},{"$f":"IF(graph!$E$2=0,20,IF(AND(B1060<graph!$E$10+graph!$E$32,B1060>graph!$E$10-graph!$E$32),0.25,NA()))","v":20},null,null,null,null,null,null,{"$f":"IF(graph!$E$20=0,0,IF(graph!$E$2=0,20,IF(AND(B1060<graph!$E$20+graph!$E$32,B1060>graph!$E$20-graph!$E$32),0.25,0)))","v":0},{"$f":"IF(graph!$E$22=0,0,IF(graph!$E$2=0,20,IF(AND(B1060>graph!$E$22-graph!$E$32,B1060<graph!$E$22+graph!$E$32),0.25,0)))","v":0}]
[null,{"$f":"IF(graph!$E$2=0,\"\",B1060+graph!$E$32)","v":""},{"$f":"IF(graph!$E$2=0,20,IF(SUM(K1061+L1061=0),NA(),0.25))","v":20},{"$f":"IF(graph!$E$2=0,20,IF(AND(B1061<graph!$E$10+graph!$E$32,B1061>graph!$E$10-graph!$E$32),0.25,NA()))","v":20},null,null,null,null,null,null,{"$f":"IF(graph!$E$20=0,0,IF(graph!$E$2=0,20,IF(AND(B1061<graph!$E$20+graph!$E$32,B1061>graph!$E$20-graph!$E$32),0.25,0)))","v":0},{"$f":"IF(graph!$E$22=0,0,IF(graph!$E$2=0,20,IF(AND(B1061>graph!$E$22-graph!$E$32,B1061<graph!$E$22+graph!$E$32),0.25,0)))","v":0}]
[null,{"$f":"IF(graph!$E$2=0,\"\",B1061+graph!$E$32)","v":""},{"$f":"IF(graph!$E$2=0,20,IF(SUM(K1062+L1062=0),NA(),0.25))","v":20},{"$f":"IF(graph!$E$2=0,20,IF(AND(B1062<graph!$E$10+graph!$E$32,B1062>graph!$E$10-graph!$E$32),0.25,NA()))","v":20},null,null,null,null,null,null,{"$f":"IF(graph!$E$20=0,0,IF(graph!$E$2=0,20,IF(AND(B1062<graph!$E$20+graph!$E$32,B1062>graph!$E$20-graph!$E$32),0.25,0)))","v":0},{"$f":"IF(graph!$E$22=0,0,IF(graph!$E$2=0,20,IF(AND(B1062>graph!$E$22-graph!$E$32,B1062<graph!$E$22+graph!$E$32),0.25,0)))","v":0}]
[null,{"$f":"IF(graph!$E$2=0,\"\",B1062+graph!$E$32)","v":""},{"$f":"IF(graph!$E$2=0,20,IF(SUM(K1063+L1063=0),NA(),0.25))","v":20},{"$f":"IF(graph!$E$2=0,20,IF(AND(B1063<graph!$E$10+graph!$E$32,B1063>graph!$E$10-graph!$E$32),0.25,NA()))","v":20},null,null,null,null,null,null,{"$f":"IF(graph!$E$20=0,0,IF(graph!$E$2=0,20,IF(AND(B1063<graph!$E$20+graph!$E$32,B1063>graph!$E$20-graph!$E$32),0.25,0)))","v":0},{"$f":"IF(graph!$E$22=0,0,IF(graph!$E$2=0,20,IF(AND(B1063>graph!$E$22-graph!$E$32,B1063<graph!$E$22+graph!$E$32),0.25,0)))","v":0}]
[null,{"$f":"IF(graph!$E$2=0,\"\",B1063+graph!$E$32)","v":""},{"$f":"IF(graph!$E$2=0,20,IF(SUM(K1064+L1064=0),NA(),0.25))","v":20},{"$f":"IF(graph!$E$2=0,20,IF(AND(B1064<graph!$E$10+graph!$E$32,B1064>graph!$E$10-graph!$E$32),0.25,NA()))","v":20},null,null,null,null,null,null,{"$f":"IF(graph!$E$20=0,0,IF(graph!$E$2=0,20,IF(AND(B1064<graph!$E$20+graph!$E$32,B1064>graph!$E$20-graph!$E$32),0.25,0)))","v":0},{"$f":"IF(graph!$E$22=0,0,IF(graph!$E$2=0,20,IF(AND(B1064>graph!$E$22-graph!$E$32,B1064<graph!$E$22+graph!$E$32),0.25,0)))","v":0}]
[null,{"$f":"IF(graph!$E$2=0,\"\",B1064+graph!$E$32)","v":""},{"$f":"IF(graph!$E$2=0,20,IF(SUM(K1065+L1065=0),NA(),0.25))","v":20},{"$f":"IF(graph!$E$2=0,20,IF(AND(B1065<graph!$E$10+graph!$E$32,B1065>graph!$E$10-graph!$E$32),0.25,NA()))","v":20},null,null,null,null,null,null,{"$f":"IF(graph!$E$20=0,0,IF(graph!$E$2=0,20,IF(AND(B1065<graph!$E$20+graph!$E$32,B1065>graph!$E$20-graph!$E$32),0.25,0)))","v":0},{"$f":"IF(graph!$E$22=0,0,IF(graph!$E$2=0,20,IF(AND(B1065>graph!$E$22-graph!$E$32,B1065<graph!$E$22+graph!$E$32),0.25,0)))","v":0}]
[null,{"$f":"IF(graph!$E$2=0,\"\",B1065+graph!$E$32)","v":""},{"$f":"IF(graph!$E$2=0,20,IF(SUM(K1066+L1066=0),NA(),0.25))","v":20},{"$f":"IF(graph!$E$2=0,20,IF(AND(B1066<graph!$E$10+graph!$E$32,B1066>graph!$E$10-graph!$E$32),0.25,NA()))","v":20},null,null,null,null,null,null,{"$f":"IF(graph!$E$20=0,0,IF(graph!$E$2=0,20,IF(AND(B1066<graph!$E$20+graph!$E$32,B1066>graph!$E$20-graph!$E$32),0.25,0)))","v":0},{"$f":"IF(graph!$E$22=0,0,IF(graph!$E$2=0,20,IF(AND(B1066>graph!$E$22-graph!$E$32,B1066<graph!$E$22+graph!$E$32),0.25,0)))","v":0}]
[null,{"$f":"IF(graph!$E$2=0,\"\",B1066+graph!$E$32)","v":""},{"$f":"IF(graph!$E$2=0,20,IF(SUM(K1067+L1067=0),NA(),0.25))","v":20},{"$f":"IF(graph!$E$2=0,20,IF(AND(B1067<graph!$E$10+graph!$E$32,B1067>graph!$E$10-graph!$E$32),0.25,NA()))","v":20},null,null,null,null,null,null,{"$f":"IF(graph!$E$20=0,0,IF(graph!$E$2=0,20,IF(AND(B1067<graph!$E$20+graph!$E$32,B1067>graph!$E$20-graph!$E$32),0.25,0)))","v":0},{"$f":"IF(graph!$E$22=0,0,IF(graph!$E$2=0,20,IF(AND(B1067>graph!$E$22-graph!$E$32,B1067<graph!$E$22+graph!$E$32),0.25,0)))","v":0}]
[null,{"$f":"IF(graph!$E$2=0,\"\",B1067+graph!$E$32)","v":""},{"$f":"IF(graph!$E$2=0,20,IF(SUM(K1068+L1068=0),NA(),0.25))","v":20},{"$f":"IF(graph!$E$2=0,20,IF(AND(B1068<graph!$E$10+graph!$E$32,B1068>graph!$E$10-graph!$E$32),0.25,NA()))","v":20},null,null,null,null,null,null,{"$f":"IF(graph!$E$20=0,0,IF(graph!$E$2=0,20,IF(AND(B1068<graph!$E$20+graph!$E$32,B1068>graph!$E$20-graph!$E$32),0.25,0)))","v":0},{"$f":"IF(graph!$E$22=0,0,IF(graph!$E$2=0,20,IF(AND(B1068>graph!$E$22-graph!$E$32,B1068<graph!$E$22+graph!$E$32),0.25,0)))","v":0}]
[null,{"$f":"IF(graph!$E$2=0,\"\",B1068+graph!$E$32)","v":""},{"$f":"IF(graph!$E$2=0,20,IF(SUM(K1069+L1069=0),NA(),0.25))","v":20},{"$f":"IF(graph!$E$2=0,20,IF(AND(B1069<graph!$E$10+graph!$E$32,B1069>graph!$E$10-graph!$E$32),0.25,NA()))","v":20},null,null,null,null,null,null,{"$f":"IF(graph!$E$20=0,0,IF(graph!$E$2=0,20,IF(AND(B1069<graph!$E$20+graph!$E$32,B1069>graph!$E$20-graph!$E$32),0.25,0)))","v":0},{"$f":"IF(graph!$E$22=0,0,IF(graph!$E$2=0,20,IF(AND(B1069>graph!$E$22-graph!$E$32,B1069<graph!$E$22+graph!$E$32),0.25,0)))","v":0}]
[null,{"$f":"IF(graph!$E$2=0,\"\",B1069+graph!$E$32)","v":""},{"$f":"IF(graph!$E$2=0,20,IF(SUM(K1070+L1070=0),NA(),0.25))","v":20},{"$f":"IF(graph!$E$2=0,20,IF(AND(B1070<graph!$E$10+graph!$E$32,B1070>graph!$E$10-graph!$E$32),0.25,NA()))","v":20},null,null,null,null,null,null,{"$f":"IF(graph!$E$20=0,0,IF(graph!$E$2=0,20,IF(AND(B1070<graph!$E$20+graph!$E$32,B1070>graph!$E$20-graph!$E$32),0.25,0)))","v":0},{"$f":"IF(graph!$E$22=0,0,IF(graph!$E$2=0,20,IF(AND(B1070>graph!$E$22-graph!$E$32,B1070<graph!$E$22+graph!$E$32),0.25,0)))","v":0}]
[null,{"$f":"IF(graph!$E$2=0,\"\",B1070+graph!$E$32)","v":""},{"$f":"IF(graph!$E$2=0,20,IF(SUM(K1071+L1071=0),NA(),0.25))","v":20},{"$f":"IF(graph!$E$2=0,20,IF(AND(B1071<graph!$E$10+graph!$E$32,B1071>graph!$E$10-graph!$E$32),0.25,NA()))","v":20},null,null,null,null,null,null,{"$f":"IF(graph!$E$20=0,0,IF(graph!$E$2=0,20,IF(AND(B1071<graph!$E$20+graph!$E$32,B1071>graph!$E$20-graph!$E$32),0.25,0)))","v":0},{"$f":"IF(graph!$E$22=0,0,IF(graph!$E$2=0,20,IF(AND(B1071>graph!$E$22-graph!$E$32,B1071<graph!$E$22+graph!$E$32),0.25,0)))","v":0}]
[null,{"$f":"IF(graph!$E$2=0,\"\",B1071+graph!$E$32)","v":""},{"$f":"IF(graph!$E$2=0,20,IF(SUM(K1072+L1072=0),NA(),0.25))","v":20},{"$f":"IF(graph!$E$2=0,20,IF(AND(B1072<graph!$E$10+graph!$E$32,B1072>graph!$E$10-graph!$E$32),0.25,NA()))","v":20},null,null,null,null,null,null,{"$f":"IF(graph!$E$20=0,0,IF(graph!$E$2=0,20,IF(AND(B1072<graph!$E$20+graph!$E$32,B1072>graph!$E$20-graph!$E$32),0.25,0)))","v":0},{"$f":"IF(graph!$E$22=0,0,IF(graph!$E$2=0,20,IF(AND(B1072>graph!$E$22-graph!$E$32,B1072<graph!$E$22+graph!$E$32),0.25,0)))","v":0}]
[null,{"$f":"IF(graph!$E$2=0,\"\",B1072+graph!$E$32)","v":""},{"$f":"IF(graph!$E$2=0,20,IF(SUM(K1073+L1073=0),NA(),0.25))","v":20},{"$f":"IF(graph!$E$2=0,20,IF(AND(B1073<graph!$E$10+graph!$E$32,B1073>graph!$E$10-graph!$E$32),0.25,NA()))","v":20},null,null,null,null,null,null,{"$f":"IF(graph!$E$20=0,0,IF(graph!$E$2=0,20,IF(AND(B1073<graph!$E$20+graph!$E$32,B1073>graph!$E$20-graph!$E$32),0.25,0)))","v":0},{"$f":"IF(graph!$E$22=0,0,IF(graph!$E$2=0,20,IF(AND(B1073>graph!$E$22-graph!$E$32,B1073<graph!$E$22+graph!$E$32),0.25,0)))","v":0}]
[null,{"$f":"IF(graph!$E$2=0,\"\",B1073+graph!$E$32)","v":""},{"$f":"IF(graph!$E$2=0,20,IF(SUM(K1074+L1074=0),NA(),0.25))","v":20},{"$f":"IF(graph!$E$2=0,20,IF(AND(B1074<graph!$E$10+graph!$E$32,B1074>graph!$E$10-graph!$E$32),0.25,NA()))","v":20},null,null,null,null,null,null,{"$f":"IF(graph!$E$20=0,0,IF(graph!$E$2=0,20,IF(AND(B1074<graph!$E$20+graph!$E$32,B1074>graph!$E$20-graph!$E$32),0.25,0)))","v":0},{"$f":"IF(graph!$E$22=0,0,IF(graph!$E$2=0,20,IF(AND(B1074>graph!$E$22-graph!$E$32,B1074<graph!$E$22+graph!$E$32),0.25,0)))","v":0}]
[null,{"$f":"IF(graph!$E$2=0,\"\",B1074+graph!$E$32)","v":""},{"$f":"IF(graph!$E$2=0,20,IF(SUM(K1075+L1075=0),NA(),0.25))","v":20},{"$f":"IF(graph!$E$2=0,20,IF(AND(B1075<graph!$E$10+graph!$E$32,B1075>graph!$E$10-graph!$E$32),0.25,NA()))","v":20},null,null,null,null,null,null,{"$f":"IF(graph!$E$20=0,0,IF(graph!$E$2=0,20,IF(AND(B1075<graph!$E$20+graph!$E$32,B1075>graph!$E$20-graph!$E$32),0.25,0)))","v":0},{"$f":"IF(graph!$E$22=0,0,IF(graph!$E$2=0,20,IF(AND(B1075>graph!$E$22-graph!$E$32,B1075<graph!$E$22+graph!$E$32),0.25,0)))","v":0}]
[null,{"$f":"IF(graph!$E$2=0,\"\",B1075+graph!$E$32)","v":""},{"$f":"IF(graph!$E$2=0,20,IF(SUM(K1076+L1076=0),NA(),0.25))","v":20},{"$f":"IF(graph!$E$2=0,20,IF(AND(B1076<graph!$E$10+graph!$E$32,B1076>graph!$E$10-graph!$E$32),0.25,NA()))","v":20},null,null,null,null,null,null,{"$f":"IF(graph!$E$20=0,0,IF(graph!$E$2=0,20,IF(AND(B1076<graph!$E$20+graph!$E$32,B1076>graph!$E$20-graph!$E$32),0.25,0)))","v":0},{"$f":"IF(graph!$E$22=0,0,IF(graph!$E$2=0,20,IF(AND(B1076>graph!$E$22-graph!$E$32,B1076<graph!$E$22+graph!$E$32),0.25,0)))","v":0}]
[null,{"$f":"IF(graph!$E$2=0,\"\",B1076+graph!$E$32)","v":""},{"$f":"IF(graph!$E$2=0,20,IF(SUM(K1077+L1077=0),NA(),0.25))","v":20},{"$f":"IF(graph!$E$2=0,20,IF(AND(B1077<graph!$E$10+graph!$E$32,B1077>graph!$E$10-graph!$E$32),0.25,NA()))","v":20},null,null,null,null,null,null,{"$f":"IF(graph!$E$20=0,0,IF(graph!$E$2=0,20,IF(AND(B1077<graph!$E$20+graph!$E$32,B1077>graph!$E$20-graph!$E$32),0.25,0)))","v":0},{"$f":"IF(graph!$E$22=0,0,IF(graph!$E$2=0,20,IF(AND(B1077>graph!$E$22-graph!$E$32,B1077<graph!$E$22+graph!$E$32),0.25,0)))","v":0}]
[null,{"$f":"IF(graph!$E$2=0,\"\",B1077+graph!$E$32)","v":""},{"$f":"IF(graph!$E$2=0,20,IF(SUM(K1078+L1078=0),NA(),0.25))","v":20},{"$f":"IF(graph!$E$2=0,20,IF(AND(B1078<graph!$E$10+graph!$E$32,B1078>graph!$E$10-graph!$E$32),0.25,NA()))","v":20},null,null,null,null,null,null,{"$f":"IF(graph!$E$20=0,0,IF(graph!$E$2=0,20,IF(AND(B1078<graph!$E$20+graph!$E$32,B1078>graph!$E$20-graph!$E$32),0.25,0)))","v":0},{"$f":"IF(graph!$E$22=0,0,IF(graph!$E$2=0,20,IF(AND(B1078>graph!$E$22-graph!$E$32,B1078<graph!$E$22+graph!$E$32),0.25,0)))","v":0}]
[null,{"$f":"IF(graph!$E$2=0,\"\",B1078+graph!$E$32)","v":""},{"$f":"IF(graph!$E$2=0,20,IF(SUM(K1079+L1079=0),NA(),0.25))","v":20},{"$f":"IF(graph!$E$2=0,20,IF(AND(B1079<graph!$E$10+graph!$E$32,B1079>graph!$E$10-graph!$E$32),0.25,NA()))","v":20},null,null,null,null,null,null,{"$f":"IF(graph!$E$20=0,0,IF(graph!$E$2=0,20,IF(AND(B1079<graph!$E$20+graph!$E$32,B1079>graph!$E$20-graph!$E$32),0.25,0)))","v":0},{"$f":"IF(graph!$E$22=0,0,IF(graph!$E$2=0,20,IF(AND(B1079>graph!$E$22-graph!$E$32,B1079<graph!$E$22+graph!$E$32),0.25,0)))","v":0}]
[null,{"$f":"IF(graph!$E$2=0,\"\",B1079+graph!$E$32)","v":""},{"$f":"IF(graph!$E$2=0,20,IF(SUM(K1080+L1080=0),NA(),0.25))","v":20},{"$f":"IF(graph!$E$2=0,20,IF(AND(B1080<graph!$E$10+graph!$E$32,B1080>graph!$E$10-graph!$E$32),0.25,NA()))","v":20},null,null,null,null,null,null,{"$f":"IF(graph!$E$20=0,0,IF(graph!$E$2=0,20,IF(AND(B1080<graph!$E$20+graph!$E$32,B1080>graph!$E$20-graph!$E$32),0.25,0)))","v":0},{"$f":"IF(graph!$E$22=0,0,IF(graph!$E$2=0,20,IF(AND(B1080>graph!$E$22-graph!$E$32,B1080<graph!$E$22+graph!$E$32),0.25,0)))","v":0}]

{"sheet":"Qual. Lab. Doc.","index":22,"n_rows":8,"n_cols":6,"rows_kept":8,"cut":false,"hidden":false,"merged":[[1,0,1,8]]}
[null,"Cover sheet"]
["Qualified Laboratory Documentation"]
[]
[null,"Attach the document in column \"Certificate Attachment\""]
[null,"Duplicate table if more than one laboratory"]
["Laboratory Name:"]
[]
["No.","Devices Name","Devices Purpose","Accredition","Validity Period","Certificate Attachment"]

{"sheet":"Appearance approval","index":23,"n_rows":4,"n_cols":2,"rows_kept":4,"cut":false,"hidden":false,"merged":[[1,0,1,8]]}
[null,"Cover sheet"]
["Appearance Approval Report"]
[]
[null,"Attach the document in this sheet"]

{"sheet":"Sample prod. part (Run@rate)","index":24,"n_rows":7,"n_cols":2,"rows_kept":7,"cut":false,"hidden":false,"merged":[[1,0,1,8]]}
[null,"Cover sheet"]
["Sample Production Parts"]
[]
["The PPAP Submission samples must be produced during a full speed mass production run,"]
[" with the final industrial set up."]
["Use the following \"Data Entry\" to fill in all your data from the pilot run."]
["including; location of the master samples, quantities and identification"]

{"sheet":"Data Entry","index":25,"n_rows":119,"n_cols":9,"rows_kept":119,"cut":false,"hidden":false,"merged":[[117,1,118,2],[117,3,118,4],[117,5,118,5],[117,7,117,8],[118,7,118,8],[109,2,109,8],[111,4,111,5],[111,6,111,8],[112,4,112,5],[113,4,113,5],[114,1,115,2],[114,3,115,4],[114,5,115,5],[114,7,114,8],[115,7,115,8],[64,7,64,8],[65,7,65,8],[66,7,66,8],[70,6,70,7],[104,0,104,2],[104,4,104,6],[63,7,63,8],[52,7,52,8],[53,7,53,8],[54,7,54,8],[55,7,55,8],[56,7,56,8],[57,7,57,8],[58,7,58,8],[59,7,59,8],[60,7,60,8],[61,7,61,8],[62,1,62,8],[50,7,51,8],[7,1,7,2],[7,7,7,8],[12,1,12,2],[13,1,13,2],[14,1,14,2],[19,1,19,3],[20,1,20,2],[21,1,21,3],[50,4,51,4],[50,5,51,5],[50,6,51,6],[0,0,0,7],[0,8,0,9],[5,1,5,2],[5,7,5,8],[6,1,6,2],[6,7,6,8]]}
["P R O D U C T I O N  T R I A L  R U N  R E C O R D  S H E E T"]
[null,"I. Key Information"]
[]
[null,"Product ",null,null,null,"  Trial Run"]
[]
[null,"Astra Line",null,null,"Project Name","   Date of Trial",null,"2016-07-25"]
[null,"1, 2, 4 Feet",null,null,"Product descrip.","   Production Order # "]
[null,"919215850488, 569, 486, 487, 570, 548, 549, 571, 550",null,null,"Philips 12NC","   Philips Assessor Name/Title"]
[]
[]
[null,"Supplier / Manufacturing Site",null,null,null,"  Customer Production "]
[]
[null,"Elin Electronics Limited,",null,null,"Supplier Name","  X  Cust. Demand / Week (without Service Parts)",null,null,25000]
[null,"Ghaziabad",null,null,"Site Location","  Y  Number of days customer/supplier works/week",null,null,6]
[null,91000682,null,null,"Vendor Code","  Z  Customer Demand per Day (DPV)",null,null,{"$f":"IF(I13=0,\"-\",I13/I14)","v":4166.666666666667}]
[]
[]
[null,"II. Capacity Planning",null,null," "," "," "]
[]
[null,"Operating pattern for the specific product",null,null,"Process 1","Process 2","Process 3","Process 4","Process 5"]
[null,"Process description",null,null,"SMT","Driver","Moulding","Assembly","Soaking"]
[null,"Dedicated or Shared process"]
[null,"A","Shifts/day",null,2,2,2,1,2]
[null,"B","Total hours/shift",null,12,12,12,10.5,10.3]
[null,"C","Personal breaks: lunch, breaks (minutes/shift)",null,30,30,30,30,30]
[null," ","Planned Maintenance (minutes / shift)",null,15,15,15,15,15]
[null,"D","Days/week",null,6,6,6,6,6]
[null,"E","Net available time \n(production hours / week)  \n[A*(B-(C/60))*D]"," ",{"$f":"(E23*(E24-(E25+E26)/60))*E27","v":135},{"$f":"(F23*(F24-(F25+F26)/60))*F27","v":135},135,58.5,114.60000000000001]
[]
[null,"Projected Downtime"]
[null,"F","Tool / Variant / Consumable Tools changeover (minutes)",null,35,35,30,40,40]
[null,"G","Changeovers per shift",null,2,2,2,1,1]
[null,"H","Inspections of facilities per shift (minutes)",null,25,25,30,20,10]
[null,"I","Breakdowns per shift  (unscheduled downtime) (minutes)",null,0,0,0,0,0]
[null,"J","Total projected downtime/week (hours) [(FxG+H)/60xAxD]",null,{"$f":"(E31*E32+E33+E34)*E23*E27/60","v":19},{"$f":"(F31*F32+F33+F34)*F23*F27/60","v":19},{"$f":"(G31*G32+G33+G34)*G23*G27/60","v":18},{"$f":"(H31*H32+H33+H34)*H23*H27/60","v":6},{"$f":"(I31*I32+I33+I34)*I23*I27/60","v":10}]
[null,"K","Equipment Availability   [(E-J)/E]",null,{"$f":"IF(E28=0,\"-\",(E28-E35)/E28)","v":0.85925925925925928},{"$f":"IF(F28=0,\"-\",(F28-F35)/F28)","v":0.85925925925925928},0.8666666666666667,0.89743589743589747,0.91273996509598609]
[]
[null,"Projected Quality Rate (%)"]
[null,null,"Projected percent of parts scrap & rework (%)",null,0.01,0.01,0.01,0.01,0.01]
[null,"L","Projected Quality Rate (%)",null,{"$f":"IF(E39=0,\"-\",(1-E39))","v":0.99},{"$f":"IF(F39=\"\",\"-\",(1-F39))","v":0.99},0.99,0.99,0.99]
[null,null,null,null,null," "]
[null,"Planned Cycle time / Capacity"]
[null,null,"Required Cycle time needed to cover exact customer demand  (sec/part)\n[E*3600*K/ X*L]",null,{"$f":"IF(E28=0,\"-\",E28*3600*E36 /$I$13 *E40)","v":16.536960000000001},{"$f":"IF(F28=0,\"-\",F28*3600*F36 /$I$13 *F40)","v":16.536960000000001},{"$f":"IF(G28=0,\"-\",G28*3600*G36 /$I$13 *G40)","v":16.67952},{"$f":"IF(H28=0,\"-\",H28*3600*H36 /$I$13 *H40)","v":7.4843999999999999},{"$f":"IF(I28=0,\"-\",I28*3600*I36 /$I$13 *I40)","v":14.911776000000001}]
[]
[null,"M","Planned ideal cycle time (sec/part)",null,7.05,7.05,8,3.6,3.6]
[null," ","Planned production capacity / week\n[(E-J)*3600/M*L]"," ",{"$f":"IF(E45=0,\"\",(E28-E35)*3600/E45*E40)","v":58641.70212765957},{"$f":"IF(F45=0,\"\",(F28-F35)*3600/F45*F40)","v":58641.70212765957},{"$f":"IF(G45=0,\"\",(G28-G35)*3600/G45*G40)","v":52123.5},{"$f":"IF(H45=0,\"\",(H28-H35)*3600/H45*H40)","v":51975},{"$f":"IF(I45=0,\"\",(I28-I35)*3600/I45*I40)","v":103554.00000000001}]
[null," ","Planned production capacity / day \n[(E-J)*3600/M*L/D]"," ",{"$f":"IF(E45=0,\"\",(E28-E35)*3600/E45*E40/E27)","v":9773.6170212765956},{"$f":"IF(F45=0,\" \",(F28-F35)*3600/F45*F40/F27)","v":9773.6170212765956},{"$f":"IF(G45=0,\" \",(G28-G35)*3600/G45*G40/G27)","v":8687.25},{"$f":"IF(H45=0,\" \",(H28-H35)*3600/H45*H40/H27)","v":8662.5},{"$f":"IF(I45=0,\" \",(I28-I35)*3600/I45*I40/I27)","v":17259.000000000004}]
[]
[]
[null,"III. Process Governing Documents (any discrepancy should be explained)"]
[null,null,null,null,"Availability","Sufficiency/Content","Adherence","Comments"]
[null,"PPAP deliverables:"]
[null,null,"Ramp-up Plan"]
[null,null,"Subsupplier control/capacity data"]
[null,null,"Tool capacity information"]
[null,null,"Process flow chart"]
[null,null,"PFMEA"]
[null,null,"Packaging / labeling plan"]
[null,null,"Operator/Work Instructions"]
[null,null,"Visual aids"]
[null,null,"Limit/border/golden samples"]
[null,null,"Control Plan"]
[]
[null,"Line sharing information"]
[null,"Maintenance Plans"]
[null,"Prototype / pilot concerns (PR/R's)"]
[null,"Other (please specify) _______________________________"]
[]
[]
[null,"IV. Production Run"]
[]
[null,"Duration data of production run"]
[null,"N","Total duration of production run (minutes)",null,720,720,720,630,720]
[null,"O1","Planned downtime (lunch, breaks, planned maintenance) (minutes)",null,30,30,30,30,30]
[null,"O2","Planned downtime (changeovers, set-ups, inspections) (minutes)",null,10,10,10,10,10]
[null,"P","Total unplanned downtime (i.e. breakdowns, unscheduled adjustments, unscheduled setups, etc.) (minutes)",null,10,10,10,10,10]
[]
[null,"Part quantity data of production run"]
[null,"Q","Total parts run",null,5660,5680,4900,4500,4420]
[null,"R","Total rejected parts (including the ones which can be re-processed or reworked)",null,20,21,50,10,80]
[null,"S","Total good parts (first time through only- do not include parts that were rejected, re-processed or reworked)",null,{"$f":"IF(E79=0,\"-\",E79-E80)","v":5640},{"$f":"IF(F79=0,\"-\",F79-F80)","v":5659},4850,4490,4340]
[null,"T","FOR rate (%)",null,{"$f":"IF(E79=\"\", \"\",1-E81/E79)","v":3.5335689045936647E-3},{"$f":"IF(F79=\"\", \"\",1-F81/F79)","v":3.6971830985915721E-3},{"$f":"IF(G79=\"\", \"\",1-G81/G79)","v":1.0204081632653073E-2},{"$f":"IF(H79=\"\", \"\",1-H81/H79)","v":2.2222222222222365E-3},{"$f":"IF(I79=\"\", \"\",1-I81/I79)","v":1.8099547511312264E-2}]
[null,null,"Reasons for rejected parts"]
[null,"U","Process total actual cycle time (sec/part) [(N-O1-O2-P) x 60 / Q]"," ",{"$f":"IF(E79=0,\"-\",(E73-E74-E75-E76)*60/E79)","v":7.1024734982332154},{"$f":"IF(F79=0,\"-\",(F73-F74-F75-F76)*60/F79)","v":7.077464788732394},{"$f":"IF(G79=0,\"-\",(G73-G74-G75-G76)*60/G79)","v":8.204081632653061},{"$f":"IF(H79=0,\"-\",(H73-H74-H75-H76)*60/H79)","v":7.7333333333333334},{"$f":"IF(I79=0,\"-\",(I73-I74-I75-I76)*60/I79)","v":9.0950226244343888}]
[]
[]
[null,"V. Capacity Calculation"]
[null,"V","Weekly Parts Available for Shipment\n[E*3600 / ((N-O)*60/S)]"," ",{"$f":"IF(E84=\"-\",\"-\",E28*3600/((E73-E74-E75)*60/E81))","v":67182.352941176476},{"$f":"IF(F84=\"-\",\"-\",F28*3600/((F73-F74-F75)*60/F81))","v":67408.676470588238},{"$f":"IF(G84=\"-\",\"-\",G28*3600/((G73-G74-G75)*60/G81))","v":57772.058823529413},{"$f":"IF(H84=\"-\",\"-\",H28*3600/((H73-H74-H75)*60/H81))","v":26711.694915254237},{"$f":"IF(I84=\"-\",\"-\",I28*3600/((I73-I74-I75)*60/I81))","v":43885.05882352942}]
[null,"W","Daily Parts Available for Shipment        [V/Y]"," ",{"$f":"IF(E88=\"-\",\"-\",E88/$I$14)","v":11197.058823529413},{"$f":"IF(F88=\"-\",\"-\",F88/$I$14)","v":11234.779411764706},{"$f":"IF(G88=\"-\",\"-\",G88/$I$14)","v":9628.676470588236},{"$f":"IF(H88=\"-\",\"-\",H88/$I$14)","v":4451.9491525423728},{"$f":"IF(I88=\"-\",\"-\",I88/$I$14)","v":7314.176470588237}]
[null,"Z","DPV",null,{"$f":"$I$15","v":4166.666666666667},{"$f":"$I$15","v":4166.666666666667},{"$f":"$I$15","v":4166.666666666667},{"$f":"$I$15","v":4166.666666666667},{"$f":"$I$15","v":4166.666666666667}]
[null,"AA","Percent above/below DPV                     [W/Z]"," ",{"$f":"IF(E89=\"-\",\"-\",(E89/E90)-1)","v":1.6872941176470588},{"$f":"IF(F89=\"-\",\"-\",(F89/F90)-1)","v":1.6963470588235294},1.3108823529411766,6.846779661016944E-2,0.75540235294117664]
[null,null,null,null,"Process 1","Process 2","Process 3","Process 4","Process 5"]
[null,null,null,null,{"$f":"E21","v":"SMT"},{"$f":"F21","v":"Driver"},{"$f":"G21","v":"Moulding"},{"$f":"H21","v":"Assembly"},{"$f":"I21","v":"Soaking"}]
[]
[]
[null,"VI. Overall Equipment Effectiveness"]
[null," ","Equipment Availability        [(N-O1-O2-P)/(N-O1)]"," ",{"$f":"IF(E73=0,\"-\",(E73-E74-E75-E76)/(E73-E74))","v":0.97101449275362317},{"$f":"IF(F73=0,\"-\",(F73-F74-F75-F76)/(F73-F74))","v":0.97101449275362317},{"$f":"IF(G73=0,\"-\",(G73-G74-G75-G76)/(G73-G74))","v":0.97101449275362317},{"$f":"IF(H73=0,\"-\",(H73-H74-H75-H76)/(H73-H74))","v":0.96666666666666667},{"$f":"IF(I73=0,\"-\",(I73-I74-I75-I76)/(I73-I74))","v":0.97101449275362317}]
[null," ","Performance Efficiency      [(M*Q)/(N-O1)]"," ",{"$f":"IF(E73=0,\"-\",(E45*E79)/((E73-E74-E75-E76)*60))","v":0.99261194029850741},{"$f":"IF(F73=0,\"-\",(F45*F79)/((F73-F74-F75-F76)*60))","v":0.99611940298507462},{"$f":"IF(G73=0,\"-\",(G45*G79)/((G73-G74-G75-G76)*60))","v":0.97512437810945274},{"$f":"IF(H73=0,\"-\",(H45*H79)/((H73-H74-H75-H76)*60))","v":0.46551724137931033},{"$f":"IF(I73=0,\"-\",(I45*I79)/((I73-I74-I75-I76)*60))","v":0.39582089552238808}]
[null," ","Quality Rate                          [S/Q]",null,{"$f":"IF(E79=0,\"-\",(E81/E79))","v":0.99646643109540634},{"$f":"IF(F79=0,\"-\",(F81/F79))","v":0.99630281690140843},{"$f":"IF(G79=0,\"-\",(G81/G79))","v":0.98979591836734693},{"$f":"IF(H79=0,\"-\",(H81/H79))","v":0.99777777777777776},{"$f":"IF(I79=0,\"-\",(I81/I79))","v":0.98190045248868774}]
[null," ","OEE"," ",{"$f":"IF(OR(E97=\"-\",E98=\"-\",E99=\"-\"),\"-\",E97*E98*E99)","v":0.96043478260869553},{"$f":"IF(OR(F97=\"-\",F98=\"-\",F99=\"-\"),\"-\",F97*F98*F99)","v":0.96367028985507242},0.93719806763285018,0.44900000000000001,0.37739130434782608]
[]
[null,"DEDICATED"]
[null,"VII. Manufacturing Bottleneck"]
[]
["Process ",null,null,null,{"$f":"IF(E91:I91=\"-\", \"\",HLOOKUP(MIN(E91:I93),E91:I93,2,FALSE)&\" - \"&HLOOKUP(MIN(E91:I93),E91:I93,3,FALSE))","v":"Process 4 - Assembly"},null,null,"% above DPV",{"$f":"IF(MIN(E91:I91)=0,\"\",MIN(E91:I91))","v":6.846779661016944E-2}]
[]
[]
[null,"VIII. Summary / Conclusion"]
[]
[null,null," "]
[null,null,"PASS","     "]
[null,null,"OPEN",null,"RE-RUN DATE (DD/MM/YYYY)"]
[null,null,"FAIL"]
[]
[null,"Philips CL Supply Quality:\n<Name>",null,"Signature:",null,null,"Job Title:       "]
[null,null,null,null,null,null,"Date:  DD/MM/YYYY"]
[]
[null,"Philips CL Name (if required):\n<Name>",null,"Signature:",null,null,"Job Title:       "]
[null,"<Name>",null,null,null,null,"Date:  DD/MM/YYYY"]

{"sheet":"Master Sample","index":26,"n_rows":5,"n_cols":2,"rows_kept":5,"cut":false,"hidden":false,"merged":[[1,0,1,8]]}
[null,"Cover sheet"]
["Master Sample"]
[]
[null,"Attach the document with the full list of Master Samples in this sheet"]
[null,"including; location of the master samples, quantities and identification"]

{"sheet":"Checking Aids","index":27,"n_rows":23,"n_cols":7,"rows_kept":23,"cut":false,"hidden":false,"merged":[[1,0,1,8]]}
["Cover sheet"]
["Checking Aids"]
[]
[null,"List the overview of test equipment used in case not mentioned into;"]
[null,"* control plan"]
[null,"* dimensional results (Suppliers inspection report)"]
[]
[]
[]
[null,"Part Name: ",null,null,"Customer :  "]
[null,"Part No: ",null,null,"Date: "]
[null,"Rev. No/Date: "]
[null,"Sl. No","Gauge / Instrument","Availability of Gauge/ Instrument","Calibrated On","Calibration Due","Calibration Status"]
[]
[]
[]
[]
[]
[]
[]
[null,"Prepared By :",null,null,null,"Approved By :"]
[]
[null,"Signature :",null,null,null,"Signature :"]

{"sheet":"Customer Specific","index":28,"n_rows":4,"n_cols":2,"rows_kept":4,"cut":false,"hidden":false,"merged":[[1,0,1,8]]}
[null,"Cover sheet"]
["Customer Specific Requirements"]
[]
[null,"Attach …."]

{"sheet":"Others","index":29,"n_rows":1,"n_cols":1,"rows_kept":1,"cut":false,"hidden":false,"merged":[]}
["Back to PSW"]